{"text_format":"1","workbook":"xlsx","n_sheets":18,"sheets":["Carátula","Datos Previos","NO-DATOS PREVIOS (2)","Localizaciones","Actuaciones","Reparto Gastos Actuaciones","Presupuesto","Intensidades","Cálculos Anticipos","Comprobación de Presupuesto","POBLACIÓN MUNICIPIOS (INE 2021)","Hitos o Indicadores","Resumen","tabla de competencias","TABLAS","importes maximos","indicadores","intensidades maximas"],"not_rendered":{"charts":0,"images":3,"macros":1,"external_links":1,"defined_names":139,"comments":0,"pivot_tables":0},"unopened":[],"bounds":{"document_bytes":16777216,"sheet_cells":100000,"rows_first":2000,"rows_last":500,"rows_between":2000,"halvings":0,"cell_chars":16384,"cell_head_chars":4096},"cells_cut":0,"cells_raw":0,"read":"whole","date_system":"1900"}

{"sheet":"Carátula","index":0,"n_rows":15,"n_cols":2,"rows_kept":15,"cut":false,"hidden":false,"merged":[[13,1,13,6],[14,1,14,6],[10,1,10,6],[3,0,3,6],[1,0,1,6],[2,0,2,6],[11,1,11,6],[12,1,12,6],[9,1,9,6],[8,1,8,6],[7,1,7,6],[6,1,6,6],[4,0,4,6]]}
[]
[]
[]
["Tercera convocatoria de subvenciones (2024) en concurrencia competitiva\nde proyectos de mejora de la eficiencia del ciclo urbano del agua \n(PERTE digitalización del ciclo del agua), en el marco del \nPlan de Recuperación, Transformación y Resiliencia"]
["EXCEL AUXILIAR PRESENTACIÓN SOLICITUD"]
[]
["TÍTULO:",{"$f":"+'Datos Previos'!E6","v":0}]
["TIPO DE SOLICITANTE:",{"$f":"+'Datos Previos'!J12","v":"Individual "}]
["SOLICITANTE:",{"$f":"+'Datos Previos'!E14","v":0}]
["NIF SOLICITANTE:",{"$f":"+'Datos Previos'!E15","v":0}]
["COMUNIDAD AUTÓNOMA:",{"$f":"+'Datos Previos'!E24","v":0}]
["PRESUPUESTO TOTAL:",{"$f":"+Resumen!C12","v":0}]
["PRESUPUESTO SUBVENCIONABLE:",{"$f":"+Resumen!C13","v":0}]
["AYUDA SOLICITADA:",{"$f":"+Resumen!C14","v":0}]
["ANTICIPO PREVISTO",{"$f":"+Resumen!C15","v":0}]

{"sheet":"Datos Previos","index":1,"n_rows":485,"n_cols":10,"rows_kept":485,"cut":false,"hidden":false,"merged":[[51,2,52,2],[28,4,28,9],[4,2,4,9],[15,4,15,9],[7,2,7,3],[11,2,11,3],[13,4,13,9],[14,4,14,9],[15,2,18,2],[5,4,5,9],[16,4,16,9],[18,4,18,9],[13,2,14,2],[17,4,17,9],[19,2,25,2],[27,2,27,3],[28,2,28,3],[30,2,30,3],[32,2,32,3],[26,2,26,3],[49,2,50,2],[48,2,48,3],[33,2,34,2],[45,2,45,3],[46,2,46,3],[47,2,47,3],[35,2,38,2],[39,2,44,2]]}
[]
[]
[]
[]
[null,null,"Tercera convocatoria de subvenciones (2024) en concurrencia competitiva\nde proyectos de mejora de la eficiencia del ciclo urbano del agua \n(PERTE digitalización del ciclo del agua), en el marco del \nPlan de Recuperación, Transformación y Resiliencia"]
[null,null,"Título del proyecto"]
[]
["QUE",null,"INFORMACIÓN GENÉRICA"]
[]
[]
["QUIEN"]
[null,null,"TIPO DE SOLICITANTE",null,null,null,null,null,null,"Individual "]
[]
[null,null,"DATOS SOLICITANTE","RAZÓN SOCIAL/NOMBRE DE LA AGRUPACIÓN"]
[null,null,null,"NIF"]
[null,null,"REPRESENTANTE DE LA ENTIDAD","Nombre "]
[null,null,null,"Apellido 1"]
[null,null,null,"Apellido 2"]
[null,null,null,"DNI"]
[null,null,"Dirección de contacto","Calle"]
[null,null,null,"Número"]
[null,null,null,"Piso"]
[null,null,null,"Código postal"]
[null,null,null,"Comunidad Autónoma"]
[null,null,null,"Provincia"]
[null,null,null,"Municipio"]
[null,null,"Teléfono de contacto"]
[null,null,"Correo electrónico de contacto"]
[null,null,"NÚMERO MIEMBROS DE LA AGRUPACIÓN",null,2]
[]
[null,null,"INFORMACIÓN DEL/DE LOS SOLICITANTE/S"]
[null,null,null,null,"ENTIDAD 1"]
[null,null,"Tipo de entidad"]
[null,null,"DATOS ENTIDAD","RAZÓN SOCIAL "]
[null,null,null,"NIF"]
[null,null,"Representante","Nombre "]
[null,null,null,"Apellido 1"]
[null,null,null,"Apellido 2"]
[null,null,null,"DNI"]
[null,null,"Domicilio fiscal","Calle"]
[null,null,null,"Número"]
[null,null,null,"Piso"]
[null,null,null,"Comunidad Autónoma"]
[null,null,null,"Provincia"]
[null,null,null,"Municipio"]
[null,null,"Teléfono de contacto"]
[null,null,"Correo electrónico de contacto"]
[null,null,"Composición de la entidad (reparto de socios en % o socio mayoritario)"]
[null,null,"NÚMERO MIEMBROS DE LA U.T.E."]
[null,null,"MIEMBRO UTE 1","RAZON SOCIAL "]
[null,null,null,"NIF"]
[null,null,"MIEMBRO UTE 2","RAZON SOCIAL "]
[null,null,null,"NIF"]
[]
[]
[]
[]
[]
[]
[]
[]
[]
[]
[]
[]
[]
[]
[]
[]
[]
[]
[]
[]
[]
[]
[]
[]
[]
[]
[]
[]
[]
[]
[]
[]
[]
[]
[]
[]
[]
[]
[]
[]
[]
[]
[]
[]
[]
[]
[]
[]
[]
[]
[]
[]
[]
[]
[]
[]
[]
[]
[]
[]
[]
[]
[]
[]
[]
[]
[]
[]
[]
[]
[]
[]
[]
[]
[]
[]
[]
[]
[]
[]
[]
[]
[]
[]
[]
[]
[]
[]
[]
[]
[]
[]
[]
[]
[]
[]
[]
[]
[]
[]
[]
[]
[]
[]
[]
[]
[]
[]
[]
[]
[]
[]
[]
[]
[]
[]
[]
[]
[]
[]
["DOC ADMIN ADICIONAL"]
[]
[]
[]
[]
[]
[]
[]
[]
[]
[]
[]
["ficha de competencias"]
[]
["declaración entrega"]
[]
["HITOS"]
[]
[]
[]
[]
[]
[]
[]
[]
[]
[]
[]
[]
[]
[]
[]
[]
[]
[]
[]
[]
[]
[]
[]
[]
[]
[]
[]
[]
[]
[]
[]
[]
[]
[]
[]
[]
[]
[]
[]
[]
[]
[]
[]
[]
[]
[]
[]
[]
[]
[]
[]
[]
[]
[]
[]
[]
[]
[]
[]
[]
[]
[]
[]
[]
[]
[]
[]
[]
[]
[]
[]
[]
[]
[]
[]
[]
[]
[]
[]
[]
[]
[]
[]
[]
[]
[]
[]
[]
[]
[]
[]
[]
[]
[]
[]
[]
[]
[]
[]
[]
[]
[]
[]
[]
[]
[]
[]
[]
[]
[]
[]
[]
[]
[]
[]
[]
[]
[]
[]
[]
[]
[]
[]
[]
[]
[]
[]
[]
[]
[]
[]
[]
[]
[]
[]
[]
[]
[]
[]
[]
[]
[]
[]
[]
[]
[]
[]
[]
[]
[]
[]
[]
[]
[]
[]
[]
[]
[]
[]
[]
[]
[]
[]
[]
[]
[]
[]
[]
[]
[]
[]
[]
[]
[]
[]
[]
[]
[]
[]
[]
[]
[]
[]
[]
[]
[]
[]
[]
[]
[]
[]
[]
[]
[]
[]
[]
[]
[]
[]
[]
[]
[]
[]
[]
[]
[]
[]
[]
[]
[]
[]
[]
[]
[]
[]
[]
[]
[]
[]
[]
[]
[]
[]
[]
[]
[]
[]
[]
[]
[]
[]
[]
[]
[]
[]
[]
[]
[]
[]
[]
[]
[]
[]
[]
[]
[]
[]
[]
[]
[]
[]
[]
[]
[]
[]
[]
[]
[]
[]
[]
[]
[]
[]
[]
[]
[null,null,"INDICADOR"]
[]
[]
[]
[null,null,"CID_0\nNº Habitantes que sirve la EDAR"]
[null,null,"CID_1 \nNúmero de EDAR mejoradas con el proyecto"]
[null,null,"CID_2\nMejora de la eficiencia en el uso del agua"]
[null,null,"CID_3\nMejora en la seguridad de presas y embalses"]
[null,null,"CID_4\nHabitantes asociados a las actuaciones"]
[null,null,"ANEXO III\n2.1\nVolumen de agua total anual (m3) captada en cada ámbito territorial del proyecto."]
[null,null,"ANEXO III\n2.2\nVolumen de agua total anual captada (m3) en cada ámbito territorial del proyecto con información registrada en los sistemas de información de las administraciones hidráulicas correspondientes."]
[null,null,"ANEXO III\n2.3 \nPorcentaje de agua no registrada y pérdidas cada ámbito territorial establecido en el proyecto."]
[null,null,"ANEXO III\n2.4\nPorcentaje de telelectura en contadores instalados cada ámbito territorial establecido en el proyecto."]
[null,null,"ANEXO III \n2.5\nNúmero de actividades formativas realizadas durante el proyecto y número total de participantes."]
[null,null,"ANEXO III\n2.6\nNúmero de actuaciones dentro del proyecto con consideración de I+D+i y presupuesto asociado."]
[null,null,"ANEXO III\n2.7\nNúmero de empleos directos e indirectos generados por el proyecto."]
[null,null,"ANEXO III\n2.8\nNúmero de herramientas informáticas elaboradas o mejoradas incluidas en el proyecto."]
[null,null,"ANEXO III\n1.g)\nla reducción media del consumo de energía"]
[null,null,"Número de EDAR mejoradas con el proyecto"]
[null,null,"Mejora en la eficiencia en el uso del agua, "]
[null,null,"Mejora de la seguridad de presas y embalses"]
[null,null,"Habitantes asociados a partir de las acciones incluidas en el proyecto"]
[null,null,"Numero de habitantes beneficiados por la mejora de las edar"]
[null,null,"Volumen de agua total anual (m3) captada en cada ámbito territorial del proyecto."]
[null,null,"Volumen de agua total anual captada (m3) en cada ámbito territorial del proyecto con información registrada en los sistemas de información de las administraciones hidráulicas correspondientes."]
[null,null,"Porcentaje de agua no registrada y pérdidas cada ámbito territorial establecido en el proyecto."]
[null,null,"Porcentaje de telelectura en contadores instalados cada ámbito territorial establecido en el proyecto."]
[null,null,"Número de actividades formativas realizadas durante el proyecto y número total de participantes."]
[null,null,"Número de actuaciones dentro del proyecto con consideración de I+D+i y presupuesto asociado."]
[null,null,"Número de empleos directos e indirectos generados por el proyecto."]

{"sheet":"NO-DATOS PREVIOS (2)","index":2,"n_rows":230,"n_cols":15,"rows_kept":230,"cut":false,"hidden":true,"merged":[[20,4,20,6],[4,2,4,19],[5,6,5,18],[7,2,7,3],[11,2,11,3],[13,4,13,6],[14,4,14,6],[15,4,15,6],[16,4,16,6],[17,4,17,6],[18,4,18,6],[19,4,19,6],[34,2,34,3],[21,4,21,6],[22,4,22,6],[23,4,23,6],[24,4,24,6],[25,4,25,6],[26,4,26,6],[28,2,28,3],[30,2,30,3],[31,2,31,3],[32,2,32,3],[33,2,33,3],[79,2,79,3],[35,2,41,2],[42,2,42,3],[43,2,43,3],[44,2,47,2],[48,2,53,2],[54,2,54,3],[55,2,55,3],[57,2,57,3],[59,2,59,3],[69,2,69,3],[71,2,71,3]]}
[]
[]
[]
[]
[null,null,"Segunda convocatoria de subvenciones (2023) en concurrencia competitiva\nde proyectos de mejora de la eficiencia del ciclo urbano del agua (PERTE\ndigitalización del ciclo del agua), en el marco del Plan de Recuperación,\nTransformación y Resiliencia\n"]
[null,null,"Título del proyecto",null,null,null,"TEXTO"]
[]
["QUE",null,"INFORMACION GENERICA"]
[]
[]
["QUIEN"]
[null,null,"TIPO DE SOLICITANTE",null,null,null,"Desplegable","desplegable","Individual (Persona Juridica)","Individual (Union Temporal de Empresas)","Agrupacion","COMPROBACION"]
[]
[null,null,"DATOS SOLICITANTE","Nombre ",{"$f":"+H14","v":"texto"},null,null,"texto","Nombre y apellidos","Nombre y apellidos","Nombre y apellidos"]
[null,null,null,"Apellido 1","texto",null,null,"texto"]
[null,null,null,"Apellido 2","texto",null,null,"texto"]
[null,null,null,"NIF","Alfanumérico",null,null,"Alfanumérico","NIF","NIF","NIF","Comprobar que tiene estructura NIF"]
[null,null,"APODERADO DE LA AGRUPACIÓN ","Nombre ","texto",null,null,"texto","se oculta casilla","se oculta casilla","Nombre y apellidos"]
[null,null,null,"Apellido 1","texto",null,null,"texto"]
[null,null,null,"Apellido 2","texto",null,null,"texto"]
[null,null,null,"NIF","Alfanumérico",null,null,"Alfanumérico","se oculta casilla","se oculta casilla","NIF","Comprobar que tiene estructura NIF"]
[null,null,"GERENTE DE LA UTE","Nombre y apellidos","texto",null,null,"texto","se oculta casilla","Nombre y apellidos","se oculta casilla"]
[null,null,null,"Apellido 1","texto",null,null,"texto"]
[null,null,null,"Apellido 2","texto",null,null,"texto"]
[null,null,null,"NIF","Alfanumérico",null,null,"Alfanumérico","se oculta casilla","NIF","se oculta casilla","Comprobar que tiene estructura NIF"]
[null,null,"NÚMERO MIEMBROS DE LA U.T.E.",null,"número entero sin decimales",null,null,"número entero sin decimales","se oculta casilla","el número que se introduzca abrirá un numero de columnas para los miembros ","se oculta casilla",null,"maximo 100"]
[null,null,"NÚMERO MIEMBROS DE LA AGRUPACIÓN",null,"número entero sin decimales",null,null,"número entero sin decimales","se oculta casilla","se oculta casilla","el número que se introduzca abrirá un numero de columnas para los miembros ",null,"maximo 1.000"]
[]
[null,null,"INFORMACIÓN DEL/DE LOS SOLICITANTE/S"]
[null,null,null,null,"ENTIDAD 1","ENTIDAD 2"]
[null,null,"Tipo de persona juridica",null,{"$f":"+H31","v":"Desplegable"},{"$f":"+E31","v":"Desplegable"},null,"Desplegable","Persona juridica/Union Temporal de Empresas"]
[null,null,"Tipo de entidad",null,{"$f":"+H32","v":"desplegable"},{"$f":"+E32","v":"desplegable"},null,"desplegable","Ayuntamiento/Mancomunidades/Consorcio/Diputaciones/Comunidades Autónomas uniprovinciales/ Cabildos/ Consejos insulares/Entidad Local/Entidad Pública/Empresa publica/Empresa municipal/Empresa mixta/Empresa privada"]
[null,null,"Composicion de la entidad",null,"Texto","Texto",null,"Texto"]
[null,null,"Tipo de gestion",null,"desplegable","desplegable",null,"desplegable","directa por la propia entidad local/directa por Organismo autonomo local/Directa por Sociedad Mercantil Local/Indirecta por concesion/Indirecta por Arrendamiento/Indirecta por concierto."]
[null,null,"Funciones",null,"desplegable","desplegable",null,"desplegable","Titular/Operador/Con competencias/Diputacion"]
[null,null,"Campo de competencias","Captación","booleano","booleano",null,"booleano"]
[null,null,null,"Depuración Agua Potable","booleano","booleano",null,"booleano"]
[null,null,null,"Distribucion en Alta","booleano","booleano",null,"booleano"]
[null,null,null,"Distribucion en Baja","booleano","booleano",null,"booleano"]
[null,null,null,"Saneamiento","booleano","booleano",null,"booleano"]
[null,null,null,"Depuracion Aguas Residuales","booleano","booleano",null,"booleano"]
[null,null,null,"Reutilizacion","booleano","booleano",null,"booleano"]
[null,null,"NIF",null,"Alfanumérico","Alfanumérico",null,"Alfanumérico"]
[null,null,"Razón Social",null,"texto","texto",null,"texto"]
[null,null,"Representante","Nombre ","texto","texto",null,"texto"]
[null,null,null,"Apellido 1","texto","texto",null,"texto"]
[null,null,null,"Apellido 2","texto","texto",null,"texto"]
[null,null,null,"NIF","Alfanumérico","Alfanumérico",null,"Alfanumérico"]
[null,null,"Domicilio fiscal","Calle","texto","texto",null,"texto"]
[null,null,null,"Número","texto","texto",null,"texto"]
[null,null,null,"Piso","texto","texto",null,"texto"]
[null,null,null,"Código postal","numero","numero",null,"numero"]
[null,null,null,"Comunidad Autónoma","Desplegable","Desplegable",null,"Desplegable"]
[null,null,null,"Provincia","Desplegable","Desplegable",null,"Desplegable"]
[null,null,"Teléfono de contacto",null,"numero 9 cifras","numero 9 cifras",null,"numero 9 cifras"]
[null,null,"e-mail de contacto",null,"texto","texto",null,"texto"]
[]
["DONDE",null,"Numero de municipios:",null,"número entero sin decimales",null,null,"número entero sin decimales"," se disponen tantas filas como numinicpios","maximo 1.000"]
[]
[null,null,"INFORMACIÓN DE LA/LAS LOCALIZACION/ES"]
[]
[null,null,null,"Comunidad Autonoma","Provincia","Municipio","Población","Poblacion estacional","Densidad ","Riesgo de despoblación"]
[null,null,"Municipio 1","deplegable","deplegable","deplegable","buscar dato de poblacion","número entero sin decimales","buscar dato de densidad","buscar dato de riesgo de despoblacion"]
[null,null,"Municipio 2","deplegable","deplegable","deplegable","buscar dato de poblacion","número entero sin decimales","buscar dato de densidad","buscar dato de riesgo de despoblacion"]
[null,null,"Municipio 3","deplegable","deplegable","deplegable","buscar dato de poblacion","número entero sin decimales","buscar dato de densidad","buscar dato de riesgo de despoblacion"]
[null,null,"….","…","…","…","…",",,,","…","…"]
[null,null,"Municipio n","deplegable","deplegable","deplegable","buscar dato de poblacion","número entero sin decimales","buscar dato de densidad","buscar dato de riesgo de despoblacion"]
[null,null,"Nº TOTAL","Nº DE COMUNIDADES AUTONOMAS","Nº PROVINCIAS","Nº MUNICIPIOS","POBLACION TOTAL","POBLACION TOTAL ESTACIONAL"]
[]
[null,null,"INFORMACIÓN DE LA/LAS ACTUACION/ES"]
["QUE"]
[null,null,"nº de Actuaciones",null,"número entero sin decimales",null,null,"número entero sin decimales","el número que se introduzca abrirá un numero de filas para las actuaciones","máximo 1.000"]
[]
[null,null,null,"breve descripcion","descripcion larga","tipo","Tipologia","nº de municipios","presupuesto","contadores domiciliarios","placas solares","radares metereologicos"]
[null,null,"Actuacion 1","texto","texto","desplegable A/B/C","desplegable","numero entero","moneda","porcentaje","porcentaje","nº radares"]
[null,null,"Actuacion 1","texto","texto","desplegable A/B/C","desplegable","numero entero","moneda","porcentaje","porcentaje","nº radares"]
[null,null,"…","…","…","…","…","…","…","…","…","…"]
[null,null,"Actuacion n","texto","texto","desplegable A/B/C","desplegable","numero entero","moneda","porcentaje","porcentaje","nº radares"]
[null,null,"TOTAL",null,null,null,null,"SUMA MUNICIPIOS","SUMA PRESUPUESTO"]
[null,null,"INFORMACIÓN DEL PRESUPUESTO"]
["CUANTO",null,null,null,null,null,null,null,"nota a partir de 1 de febrero 2020",null,null,null,null,null,"casilla de comprobacion, si no suma 100% dar error con mensaje: \"no suma el 100%"]
[null,null,"PRESUPUESTO POR ANUALIDADES",null,"SELECCIÓN NOMBRE","ENTIDAD EJECUTORA","POBLACION","PRESUPUESTO","PRESUPUESTO 2020","PRESUPUESTO 2021","PRESUPUESTO 2022","PRESUPUESTO 2023","PRESUPUESTO 2024","PRESUPUESTO 2025","TOTAL PRESUPUESTO"]
[null,null,"ACTUACION 1","MUNICIPIO A","desplegable de los introducidos","Deplegable de nombre de las entidades introducidas","buscar dato de poblacion","dividir presupuesto actuacion por poblacion total  actuacion multiplicado por la poblacion del municipio","porcentaje","porcentaje","porcentaje","porcentaje","porcentaje","porcentaje","suma de porcentajes"]
[null,null,null,"MUNICIPIO B","desplegable de los introducidos","Deplegable de nombre de las entidades introducidas","buscar dato de poblacion","dividir presupuesto actuacion por poblacion total  actuacion multiplicado por la poblacion del municipio","porcentaje","porcentaje","porcentaje","porcentaje","porcentaje","porcentaje","suma de porcentajes"]
[null,null,null,"…"]
[null,null,null,"MUNICIPIO P","desplegable de los introducidos","Deplegable de nombre de las entidades introducidas","buscar dato de poblacion","dividir presupuesto actuacion por poblacion total  actuacion multiplicado por la poblacion del municipio","porcentaje","porcentaje","porcentaje","porcentaje","porcentaje","porcentaje","suma de porcentajes"]
[null,null,null,"TOTAL ACTUACION 1",null,null,"SUMA POBLACIÓN ACTUACION 1","SUMA PRESUPUESTO ACTUACION 1"]
[null,null,"ACTUACION 2","MUNICIPIO A","desplegable de los introducidos","Deplegable de nombre de las entidades introducidas","buscar dato de poblacion","dividir presupuesto actuacion por poblacion total  actuacion multiplicado por la poblacion del municipio","porcentaje","porcentaje","porcentaje","porcentaje","porcentaje","porcentaje","suma de porcentajes"]
[null,null,null,"MUNICIPIO B","desplegable de los introducidos","Deplegable de nombre de las entidades introducidas","buscar dato de poblacion","dividir presupuesto actuacion por poblacion total  actuacion multiplicado por la poblacion del municipio","porcentaje","porcentaje","porcentaje","porcentaje","porcentaje","porcentaje","suma de porcentajes"]
[null,null,null,"…"]
[null,null,null,"MUNICIPIO C","desplegable de los introducidos","Deplegable de nombre de las entidades introducidas","buscar dato de poblacion","dividir presupuesto actuacion por poblacion total  actuacion multiplicado por la poblacion del municipio","porcentaje","porcentaje","porcentaje","porcentaje","porcentaje","porcentaje","suma de porcentajes"]
[null,null,null,"TOTAL ACTUACION 2",null,null,"SUMA POBLACION ACTUACION 2","SUMA PRESUPUESTO ACTUACION 2"]
[null,null,"ACTUACION n","MUNICIPIO A","desplegable de los introducidos","Deplegable de nombre de las entidades introducidas","buscar dato de poblacion","dividir presupuesto actuacion por poblacion total  actuacion multiplicado por la poblacion del municipio","porcentaje","porcentaje","porcentaje","porcentaje","porcentaje","porcentaje","suma de porcentajes"]
[null,null,null,"MUNICIPIO B","desplegable de los introducidos","Deplegable de nombre de las entidades introducidas","buscar dato de poblacion","dividir presupuesto actuacion por poblacion total  actuacion multiplicado por la poblacion del municipio","porcentaje","porcentaje","porcentaje","porcentaje","porcentaje","porcentaje","suma de porcentajes"]
[null,null,null,"…",null,null,"buscar dato de poblacion"]
[null,null,null,"MUNICIPIO C","desplegable de los introducidos","Deplegable de nombre de las entidades introducidas","buscar dato de poblacion","dividir presupuesto actuacion por poblacion total  actuacion multiplicado por la poblacion del municipio","porcentaje","porcentaje","porcentaje","porcentaje","porcentaje","porcentaje","suma de porcentajes"]
[null,null,null,"TOTAL ACTUACION n",null,null,"SUMA POBLACION ACTUACION n","SUMA PRESUPUESTO ACTUACION n"]
[]
[]
["anualidaes",null,null,"Coste Total","Gastos de personal","Gastos de desplazamiento","Costes de asistencias y contratos externos","Costes de material inventariable","Costes de material fungible","Otros costes","Costes indirectos","Gasto derivado de la revisión por el auditor"]
[null,null,"Actuacion 1","Buscar dato introducido","Moneda","Moneda","Moneda","Moneda","Moneda","Moneda","Moneda","Moneda"]
[null,null,"Actuacion 1","Buscar dato introducido","Moneda","Moneda","Moneda","Moneda","Moneda","Moneda","Moneda","Moneda"]
[null,null,"…","…","…","…","…","…","…","…","…","…"]
[null,null,"Actuacion n","Buscar dato introducido","Moneda","Moneda","Moneda","Moneda","Moneda","Moneda","Moneda","Moneda"]
[null,null,"TOTAL","TOTAL COSTE PROYECTOS","TOTAL COSTE GASTOS PERSONAL","TOTAL GASTOS DESPLAZAMIENTO","TOTAL COSTES AT Y CONTRATOS EXTERNOS","TOTAL MATERIAL INVENTARIABLE","TOTAL MATERIAL FUNGIBLE","TOTAL OTROS COSTES","TOTAL COSTES INDIRECTOS","TOTAL COSTES AUDITOR"]
[]
[]
[null,null,null,"Presupuesto total","Presupuesto subvencionable","Tipo de actuaciones en municipio","Población","Maxima ayuda por municipio","intensidad maxima aplicable","intensidad maxima elegida","importe ayuda","Fondos Propios","Otras fuentes de financiación compatibles","COMPROBACION PRESUPUESTO"]
[null,null,"Municipio 1","Buscar dato introducido","Calcular en funcion de los gastos introducicos con los limites puestos","Texto, poner los tipos de actuaciones en municipio","buscar dato de poblacion","buscar dato  en funcion de la poblacion.","porcentaje, calcular en funcion de datos anteriores","porcentaje, menor que el maximo aplicable, por defecto sale la maxima, pero se puede cambiar.","multiplicar el presupuesto subvencionables por la intesidad maxima elegida","Moneda","Moneda","comprobar que el presupuesto total  es la suma del importe ayuda mas fondos propios  mas otra fuente de financiacion. Si no solicita aumentar fondos propios hasta la diferencia"]
[null,null,"Municipio 2","Buscar dato introducido","Calcular en funcion de los gastos introducicos con los limites puestos","Texto, poner los tipos de actuaciones en municipio","buscar dato de poblacion","buscar dato  en funcion de la poblacion.","porcentaje, calcular en funcion de datos anteriores","porcentaje, menor que el maximo aplicable, por defecto sale la maxima, pero se puede cambiar.","multiplicar el presupuesto subvencionables por la intesidad maxima elegida","Moneda","Moneda","comprobar que el presupuesto total  es la suma del importe ayuda mas fondos propios  mas otra fuente de financiacion. Si no solicita aumentar fondos propios hasta la diferencia"]
[null,null,"Municipio 3","Buscar dato introducido","Calcular en funcion de los gastos introducicos con los limites puestos","Texto, poner los tipos de actuaciones en municipio","buscar dato de poblacion","buscar dato  en funcion de la poblacion.","porcentaje, calcular en funcion de datos anteriores","porcentaje, menor que el maximo aplicable, por defecto sale la maxima, pero se puede cambiar.","multiplicar el presupuesto subvencionables por la intesidad maxima elegida","Moneda","Moneda","comprobar que el presupuesto total  es la suma del importe ayuda mas fondos propios  mas otra fuente de financiacion. Si no solicita aumentar fondos propios hasta la diferencia"]
[null,null,"….","…","…","…","…","…","…","…","…","…","…","…"]
[null,null,"Municipio n","Buscar dato introducido","Calcular en funcion de los gastos introducicos con los limites puestos","Texto, poner los tipos de actuaciones en municipio","buscar dato de poblacion","buscar dato  en funcion de la poblacion.","porcentaje, calcular en funcion de datos anteriores","porcentaje, menor que el maximo aplicable, por defecto sale la maxima, pero se puede cambiar.","multiplicar el presupuesto subvencionables por la intesidad maxima elegida","Moneda","Moneda","comprobar que el presupuesto total  es la suma del importe ayuda mas fondos propios  mas otra fuente de financiacion. Si no solicita aumentar fondos propios hasta la diferencia"]
[null,null,"Nº TOTAL","PRESUPUESTO TOTAL ACUMULADO","PRESUPUESTO SUBVENCIONABLE TOTAL",null,"POBLACION TOTAL",null,null,null,"IMPORTE AYUDA TOTAL","FONDOS PROPIOS TOTAL","FONDOS PROPIOS TOTAL","IMPORTE AYUDA TOTAL"]
[]
[]
[null,null,"FALTA:","Listado de indicadores o hitos"]
[null,null,null,"Lista de checks de documentos que se presentan"]
[null,null,null,"Formulario de capacidades"]
[null,null,null,"Formulario de declaracion responsable para imprimr y firmar"]
[null,null,null,"Presupuesto completo por actividad y municipio, con anualidades"]
[null,null,null,"Resumen importes presupuesto anuales"]
[null,null,null,"Anticipos solicitables."]
[null,null,null,"aunque he puesto algun control, cuando avancemos miramos los controles a añadir, asi como el detalle de los calculos"]
[]
[]
[]
[]
[]
[]
[]
[]
[]
[]
[]
[]
[]
[]
[]
[]
[]
[]
[]
[]
[]
[]
[]
[]
[]
[]
[]
[]
[]
[]
[]
[]
[]
[]
[]
[]
[]
[]
[]
[]
[]
[]
[]
[]
[]
[]
[]
[]
[]
[]
[]
[]
[]
[]
[]
["DOC ADMIN ADICIONAL"]
[null,null,"PRESENTA ACUERDO INTERNO DE AGRUPACION SEGÚN EL ANEXO IV",null,null,null,null,null,"se oculta casilla",null,"SI/NO","con NO da error y no permite imprimir copia"]
[null,null,"EL SOLICITANTE HA PRESENTADO ALGUNA OTRA SOLICITUD PARA ESTA MISMA CONVOCATORIA DE SUBVENCIONES",null,null,null,null,null,"SI/NO",null,"SI/NO"]
[null,null,"Nombre de la otra actuacion:",null,null,null,null,"Texto","si la respuesta anterior es NO ocultar",null,"si la respuesta anterior es NO ocultar"]
[null,null,"Dispone de Certificado del NIF"]
[null,null,"Poderes de representación o documento acreditativo de la representación legal de la persona o personas que actúan en nombre de la entidad solicitante."]
[null,null,"Presenta acreditacion de competencias?"]
[null,null,"presenta memoria tecnica?"]
[null,null,"Presenta acuerdo del organo de gobierno o de representacion competende los entes locales en cuayo ambito territorial se ejecuta el proyecto?"]
[null,null,"Presenta declaracion responsable del anexo III DNSH"]
[null,null,"Presenta declaracion responsable del anexo IV cumplimiento de los requisitos de beneficiario",null,null,null,null,null,"09:15:00","13:45:00",{"$f":"+J190-I190","v":"04:30:00"}]
[]
["ficha de competencias"]
[]
["declaracion entrega"]
[]
["HITOS",null,"INDICADOR","DATO INICIO PROYECTO","FECHA INIICIO PROYECTO","OBJETIVO PROYECTO"]
[]
[]
[]
[null,null,"CID_0\nNº Habitantes que sirve la EDAR"]
[null,null,"CID_1 \nNúmero de EDAR mejoradas con el proyecto"]
[null,null,"CID_2\nMejora de la eficiencia en el uso del agua"]
[null,null,"CID_3\nMejora en la seguridad de presas y embalses"]
[null,null,"CID_4\nHabitantes asociados a las actuaciones"]
[null,null,"ANEXO III\n2.1\nVolumen de agua total anual (m3) captada en cada ámbito territorial del proyecto."]
[null,null,"ANEXO III\n2.2\nVolumen de agua total anual captada (m3) en cada ámbito territorial del proyecto con información registrada en los sistemas de información de las administraciones hidráulicas correspondientes."]
[null,null,"ANEXO III\n2.3 \nPorcentaje de agua no registrada y pérdidas cada ámbito territorial establecido en el proyecto."]
[null,null,"ANEXO III\n2.4\nPorcentaje de telelectura en contadores instalados cada ámbito territorial establecido en el proyecto."]
[null,null,"ANEXO III \n2.5\nNúmero de actividades formativas realizadas durante el proyecto y número total de participantes."]
[null,null,"ANEXO III\n2.6\nNúmero de actuaciones dentro del proyecto con consideración de I+D+i y presupuesto asociado."]
[null,null,"ANEXO III\n2.7\nNúmero de empleos directos e indirectos generados por el proyecto."]
[null,null,"ANEXO III\n2.8\nNúmero de herramientas informáticas elaboradas o mejoradas incluidas en el proyecto."]
[null,null,"ANEXO III\n1.g)\nla reducción media del consumo de energía"]
[null,null,"Número de EDAR mejoradas con el proyecto"]
[null,null,"Mejora en la eficiencia en el uso del agua, "]
[null,null,"Mejora de la seguridad de presas y embalses"]
[null,null,"Habitantes asociados a partir de las acciones incluidas en el proyecto"]
[null,null,"Numero de habitantes beneficiados por la mejora de las edar"]
[null,null,"Volumen de agua total anual (m3) captada en cada ámbito territorial del proyecto."]
[null,null,"Volumen de agua total anual captada (m3) en cada ámbito territorial del proyecto con información registrada en los sistemas de información de las administraciones hidráulicas correspondientes."]
[null,null,"Porcentaje de agua no registrada y pérdidas cada ámbito territorial establecido en el proyecto."]
[null,null,"Porcentaje de telelectura en contadores instalados cada ámbito territorial establecido en el proyecto."]
[null,null,"Número de actividades formativas realizadas durante el proyecto y número total de participantes."]
[null,null,"Número de actuaciones dentro del proyecto con consideración de I+D+i y presupuesto asociado."]
[null,null,"Número de empleos directos e indirectos generados por el proyecto."]
[null,null,"Número de herramientas informáticas elaboradas o mejoradas incluidas en el proyecto."]
[null,null,"Población total beneficiada por el proyecto."]
[null,null,"Puesta en funcionamiento de infraestructuras renovadas para mejorar el conocimiento y el uso de los recursos hídricos"]
[null,null,"Herramientas mejoradas"]
[null,null,"Puesta en funcionamiento de proyectos de digitalización del ciclo urbano del agua"]

{"sheet":"Localizaciones","index":3,"n_rows":9,"n_cols":37,"rows_kept":9,"cut":false,"hidden":false,"merged":[[5,9,5,15],[0,0,0,15],[5,2,5,6]]}
["Tercera convocatoria de subvenciones (2024) en concurrencia competitiva de proyectos de mejora de la eficiencia del ciclo urbano del agua (PERTE\ndigitalización del ciclo del agua), en el marco del Plan de Recuperación, Transformación y Resiliencia\n"]
["INFORMACIÓN DE LAS LOCALIZACIONES"]
["Número de municipios:",null,1,null,null,null,null,null,null,null,null,null,null,null,null,null,null,{"$f":"+B8","v":"M001 "},0,0,0,0,0,"","",0,0,0,0,0,0,0,0,0,0,0,0]
[]
[]
[null,null,{"$f":"IF((SUM(F8:F1106)+SUM(G8:G1106))<40000,\"Población total inferior a 20.000 habitantes. Justificar con población estacional o aumentar número de poblaciones\",\"\")","v":"Población total inferior a 20.000 habitantes. Justificar con población estacional o aumentar número de poblaciones"},null,null,null,null,null,null,"COMPETENCIAS"]
[null,"Código municipio","Comunidad Autónoma","Provincia","Municipio","Población","Población estacional","Demarcaciones Hidrográficas","Riesgo de despoblación","Captación","Tratamiento Agua Potable","Distribución en Alta","Distribución en Baja","Saneamiento","Depuración Aguas Residuales","Reutilización",null,null,null,null,null,null,null,null,null,null,null,null,{"$f":"COUNTA(INDIRECT(\"$E$8:$E\"&7+$C$3))","v":0},{"$f":"SUM(INDIRECT(\"$F$8:$F\" & 7 +$C$3))","v":0},{"$f":"SUM(INDIRECT(\"$G$8:$G\" & 7 + $C$3))","v":0}]
["Municipio 1","M001 ",null,null,null,{"$f":"+IFERROR(VLOOKUP($E8,'POBLACIÓN MUNICIPIOS (INE 2021)'!$A$2:$J$8132,2,FALSE),0)","v":0},0,{"$f":"IFERROR(VLOOKUP($E8,'POBLACIÓN MUNICIPIOS (INE 2021)'!$A$2:$L$8132, 12,FALSE),\"\")","v":""},{"$f":"IFERROR(VLOOKUP($E8,'POBLACIÓN MUNICIPIOS (INE 2021)'!$A$2:$J$8132, 7,FALSE),\"\")","v":""}]
["Nº TOTAL",null,null,null,0,0,0]

{"sheet":"Actuaciones","index":4,"n_rows":8,"n_cols":35,"rows_kept":8,"cut":false,"hidden":false,"merged":[[2,0,2,1],[0,0,0,8]]}
["Tercera convocatoria de subvenciones (2024) en concurrencia competitiva\nde proyectos de mejora de la eficiencia del ciclo urbano del agua \n(PERTE digitalización del ciclo del agua), en el marco del \nPlan de Recuperación, Transformación y Resiliencia"]
["INFORMACIÓN DE LAS ACTUACIONES",null,null,null,null,null,null,null,null,null,null,{"$f":"+SUM(G7:G1097)","v":0}]
["Nº de actuaciones",null,1,"Nº de Actuaciones-Municipio",{"$f":"+SUM(G7:G14998)","v":0},null,null,null,null,null,null,{"$f":"+A7","v":"Actuación 1"},{"$f":"+B7","v":"A001"},0,0,0,0,0,0,0,"",0,0,0,0,null,null,{"$f":"SUM(INDIRECT(\"$H$7:$H\" &6+ $C$3))","v":0},{"$f":"SUM(INDIRECT(\"$I$7:$I\" &6+ $C$3))","v":0}]
[]
[null,null,null,null,null,null,null,null,null,null,null,null,null,null,null,null,null,null,null,null,null,null,null,null,null,null,{"$f":"SUM(INDIRECT(\"$D$\" & (5+4+$C$3) & \":$D\" & (5+4+$C$3+$C$3)))","v":0},{"$f":"SUM(INDIRECT(\"$E$\" & (5+4+$C$3) & \":$E\" & (5+4+$C$3+$C$3)))","v":0},{"$f":"SUM(INDIRECT(\"$F$\" & (5+4+$C$3) & \":$F\" & (5+4+$C$3+$C$3)))","v":0},{"$f":"SUM(INDIRECT(\"$G$\" & (5+4+$C$3) & \":$G\" & (5+4+$C$3+$C$3)))","v":0},{"$f":"SUM(INDIRECT(\"$H$\" & (5+4+$C$3) & \":$H\" & (5+4+$C$3+$C$3)))","v":0},{"$f":"SUM(INDIRECT(\"$I$\" & (5+4+$C$3) & \":$I\" & (5+4+$C$3+$C$3)))","v":0},{"$f":"SUM(INDIRECT(\"$J$\" & (5+4+$C$3) & \":$J\" & (5+4+$C$3+$C$3)))","v":0},{"$f":"SUM(INDIRECT(\"$K$\" & (5+4+$C$3) & \":$K\" & (5+4+$C$3+$C$3)))","v":0},{"$f":"SUM(INDIRECT(\"$L$\" & (5+4+$C$3) & \":$L\" & (5+4+$C$3+$C$3)))","v":0}]
[null,"Código Actuación","Título","Descripción","Tipo","Tipología","Nº de Municipios","Presupuesto total","Presupuesto subvencionable"]
["Actuación 1","A001",null,null,null,null,null,0,0,{"$f":"+IF(G7>Localizaciones!$C$3,\"Revisar que el número de municipios no sea mayor que los definidos en localizaciones\",IF(I7>H7,\"Revisar que el presupuesto subvencionable no supere el presupuesto total\",\"\"))","v":""}]
["TOTAL",null,null,null,null,null,null,0,0]

{"sheet":"Reparto Gastos Actuaciones","index":5,"n_rows":3,"n_cols":35,"rows_kept":3,"cut":false,"hidden":false,"merged":[]}
[null,"Código Actuación","Título","Presupuesto Subvencionable","Gastos de personal","Gastos de desplazamiento","Costes de asistencias y contratos externos","Costes de material inventariable","Costes de material fungible","Otros costes","Costes indirectos","Gasto derivado de la revisión por el auditor",null,null,null,null,null,null,null,null,null,null,null,null,null,null,{"$f":"SUM(INDIRECT(\"$D2:$D\"&(((Actuaciones!$C$3) +2) - 1)))","v":0},{"$f":"SUM(INDIRECT(\"$E2:$E\"&(((Actuaciones!$C$3)+2) - 1)))","v":0},{"$f":"SUM(INDIRECT(\"$F2:$F\"&(((Actuaciones!$C$3)+2) - 1)))","v":0},{"$f":"SUM(INDIRECT(\"$G2:$G\"&(((Actuaciones!$C$3)+2) - 1)))","v":0},{"$f":"SUM(INDIRECT(\"$H2:$H\"&(((Actuaciones!$C$3)+2) - 1)))","v":0},{"$f":"SUM(INDIRECT(\"$I2:$I\"&(((Actuaciones!$C$3)+2) - 1)))","v":0},{"$f":"SUM(INDIRECT(\"$J2:$J\"&(((Actuaciones!$C$3)+2) - 1)))","v":0},{"$f":"SUM(INDIRECT(\"$K2:$K\"&(((Actuaciones!$C$3)+2) - 1)))","v":0},{"$f":"SUM(INDIRECT(\"$L2:$L\"&(((Actuaciones!$C$3)+2) - 1)))","v":0}]
["Actuación 1","A001",null,0,0,0,0,0,0,0,0,0,{"$f":"IF($E2+$F2+$G2+$H2+$I2+$J2+$K2+L2 =$D2,\"OK\",\"Revisar\")","v":"OK"}]
["TOTAL",null,null,0,0,0,0,0,0,0,0,0,{"$f":"IFERROR(+IF(L3/D3>0.05,IF(K3/(E3+F3+G3+H3+I3+J3)>0.04,\"Reducir importe Costes Indirectos hasta un máximo del 4% Costes Directos y el Importe de Auditoría hasta un máximo del 5% de la Ayuda\",\"Reducir importe de Auditoría hasta un máximo del 5% de la ayuda\"), IF(K3/(E3+F3+G3+H3+I3+J3)>0.04,\"Reducir importe Costes Indirectos hasta un máximo del 4% Costes Directos\",\"OK\")),\"\")","v":""}]

{"sheet":"Presupuesto","index":6,"n_rows":8,"n_cols":38,"rows_kept":8,"cut":false,"hidden":false,"merged":[[1,0,1,1],[2,2,2,3],[0,0,0,18]]}
["Tercera convocatoria de subvenciones (2024) en concurrencia competitiva de proyectos de mejora de la eficiencia del ciclo urbano del agua (PERTE\ndigitalización del ciclo del agua), en el marco del Plan de Recuperación, Transformación y Resiliencia\n"]
["INFORMACIÓN DEL PRESUPUESTO",null,null,null,null,null,null,null,null,null,null,null,null,null,null,null,null,null,null,null,null,{"$f":"+J4","v":"Presupuesto Subvencionable 2020"},{"$f":"+K4","v":"Presupuesto Subvencionable 2021"},"Presupuesto Subvencionable 2022","Presupuesto Subvencionable 2023","Presupuesto Subvencionable 2024","Presupuesto Subvencionable 2025","Presupuesto Subvencionable 2026","Total Presupuesto Subvencionable Sumado","Comprobación Suma Anualidades",{"$f":"+AD4","v":0}]
[null,null,"Seleccionar en cada fila el municipio, aunque al formarse la tabla ya venga relleno, para que se forme el código de actuación por municipio",null,null,0,0,null,null,null,null,null,null,null,null,null,null,null,null,null,null,{"$f":"+SUM($J$5:$J$9000)/3","v":0},{"$f":"+SUM($K$5:$K$9000)/3","v":0},{"$f":"+SUM($L$5:$L$9000)/3","v":0},{"$f":"+SUM($M$5:$M$9000)/3","v":0},{"$f":"+SUM($N$5:$N$9000)/3","v":0},{"$f":"+SUM($O$5:$O$9000)/3","v":0},{"$f":"+SUM($P$5:$P$9000)/3","v":0},{"$f":"+SUM($Q$5:$Q$9000)/3","v":0},null,null,null,null,null,1,1]
["Presupuesto por anualidades","Título Actuación","Municipio","Código","Entidad Ejecutora","Población Permanente","Población Estacional","Población Estacional + Permanente","Presupuesto Subvencionable","Presupuesto Subvencionable 2020","Presupuesto Subvencionable 2021","Presupuesto Subvencionable 2022","Presupuesto Subvencionable 2023","Presupuesto Subvencionable 2024","Presupuesto Subvencionable 2025","Presupuesto Subvencionable 2026","Total Presupuesto Subvencionable Sumado","Comprobación Suma Anualidades","Comprobación Fechas Inicio-Fin Actuación",null,null,null,null,null,null,null,null,null,null,null,null,null,null,null,null,null,null,"COMPROBACIÓN FECHAS INICIO-FIN ACTUACIÓN"]
["Actuación 1",null,null,null,null,null,0,{"$f":"F5+G5","v":0},0,0,0,0,0,0,0,0,{"$f":"SUM(J5:P5)","v":0},"OK","Rellenar Anualidades",null,null,{"$f":"$J$5/$I$5","v":{"$error":"#DIV/0!"}},{"$f":"$K$5/$I$5","v":{"$error":"#DIV/0!"}},{"$f":"$L$5/$I$5","v":{"$error":"#DIV/0!"}},{"$f":"$M$5/$I$5","v":{"$error":"#DIV/0!"}},{"$f":"$N$5/$I$5","v":{"$error":"#DIV/0!"}},{"$f":"$O$5/$I$5","v":{"$error":"#DIV/0!"}},{"$f":"$P$5/$I$5","v":{"$error":"#DIV/0!"}},{"$f":"$Q$5/$I$5","v":{"$error":"#DIV/0!"}}]
["TOTAL Actuación 1",null,null,null,null,{"$f":"SUM(F5:F5)","v":0},0,0,0,0,0,0,0,0,0,0,0,null,null,null,null,{"$f":"#REF!/#REF!","v":{"$error":"#REF!"}},{"$f":"#REF!/#REF!","v":{"$error":"#REF!"}},{"$f":"#REF!/#REF!","v":{"$error":"#REF!"}},{"$f":"#REF!/#REF!","v":{"$error":"#REF!"}},{"$f":"#REF!/#REF!","v":{"$error":"#REF!"}},{"$f":"#REF!/#REF!","v":{"$error":"#REF!"}},{"$f":"#REF!/#REF!","v":{"$error":"#REF!"}},{"$f":"#REF!/#REF!","v":{"$error":"#REF!"}}]
["TOTALES",null,null,null,null,null,null,null,{"$f":"I6","v":0},0,0,0,0,0,0,0,0,null,null,null,null,{"$f":"#REF!/#REF!","v":{"$error":"#REF!"}},{"$f":"#REF!/#REF!","v":{"$error":"#REF!"}},{"$f":"#REF!/#REF!","v":{"$error":"#REF!"}},{"$f":"#REF!/#REF!","v":{"$error":"#REF!"}},{"$f":"#REF!/#REF!","v":{"$error":"#REF!"}},{"$f":"#REF!/#REF!","v":{"$error":"#REF!"}},{"$f":"#REF!/#REF!","v":{"$error":"#REF!"}},{"$f":"#REF!/#REF!","v":{"$error":"#REF!"}}]
[null,null,null,null,null,null,null,null,null,null,null,null,null,null,null,null,null,null,null,null,null,{"$f":"#REF!/#REF!","v":{"$error":"#REF!"}},{"$f":"#REF!/#REF!","v":{"$error":"#REF!"}},{"$f":"#REF!/#REF!","v":{"$error":"#REF!"}},{"$f":"#REF!/#REF!","v":{"$error":"#REF!"}},{"$f":"#REF!/#REF!","v":{"$error":"#REF!"}},{"$f":"#REF!/#REF!","v":{"$error":"#REF!"}},{"$f":"#REF!/#REF!","v":{"$error":"#REF!"}},{"$f":"#REF!/#REF!","v":{"$error":"#REF!"}}]

{"sheet":"Intensidades","index":7,"n_rows":8,"n_cols":290,"rows_kept":8,"cut":false,"hidden":false,"merged":[[1,0,1,1],[0,0,0,20],[2,0,3,1]]}
["Tercera convocatoria de subvenciones (2024) en concurrencia competitiva de proyectos de mejora de la eficiencia del ciclo urbano del agua  \n(PERTE digitalización del ciclo del agua), en el marco del Plan de Recuperación, Transformación y Resiliencia\n",null,null,null,null,null,null,null,null,null,null,null,null,null,null,null,null,null,null,null,null,null,null,null,null,null,null,null,null,null,null,null,null,null,null,null,null,null,null,null,null,null,null,null,null,null,null,null,null,null,null,null,{"$f":"INDIRECT(BA2)","v":"TOTAL Municipio 1"},null,null,null,null,null,null,null,null,null,null,null,null,null,null,null,null,null,null,"SUBVENCIONABLE",2,{"$f":"+BU1+1","v":3},4,5,6,7,8,9,10,11,12,13,14,15,16,{"$f":"+CI1+1","v":17},18,19,20,{"$f":"+CM1+1","v":21},{"$f":"+CN1+1","v":22},{"$f":"+CO1+1","v":23},{"$f":"+CP1+1","v":24},{"$f":"+CQ1+1","v":25},{"$f":"+CR1+1","v":26},{"$f":"+CS1+1","v":27},{"$f":"+CT1+1","v":28},{"$f":"+CU1+1","v":29},{"$f":"+CV1+1","v":30},{"$f":"+CW1+1","v":31},{"$f":"+CX1+1","v":32},{"$f":"+CY1+1","v":33},{"$f":"+CZ1+1","v":34},{"$f":"+DA1+1","v":35},{"$f":"+DB1+1","v":36},{"$f":"+DC1+1","v":37},{"$f":"+DD1+1","v":38},{"$f":"+DE1+1","v":39},{"$f":"+DF1+1","v":40},{"$f":"+DG1+1","v":41},{"$f":"+DH1+1","v":42},{"$f":"+DI1+1","v":43},{"$f":"+DJ1+1","v":44},{"$f":"+DK1+1","v":45},{"$f":"+DL1+1","v":46},{"$f":"+DM1+1","v":47},{"$f":"+DN1+1","v":48},{"$f":"+DO1+1","v":49},{"$f":"+DP1+1","v":50},{"$f":"+DQ1+1","v":51},{"$f":"+DR1+1","v":52},{"$f":"+DS1+1","v":53},{"$f":"+DT1+1","v":54},{"$f":"+DU1+1","v":55},{"$f":"+DV1+1","v":56},{"$f":"+DW1+1","v":57},{"$f":"+DX1+1","v":58},{"$f":"+DY1+1","v":59},{"$f":"+DZ1+1","v":60},{"$f":"+EA1+1","v":61},{"$f":"+EB1+1","v":62},{"$f":"+EC1+1","v":63},{"$f":"+ED1+1","v":64},{"$f":"+EE1+1","v":65},{"$f":"+EF1+1","v":66},{"$f":"+EG1+1","v":67},{"$f":"+EH1+1","v":68},{"$f":"+EI1+1","v":69},{"$f":"+EJ1+1","v":70},{"$f":"+EK1+1","v":71},{"$f":"+EL1+1","v":72},{"$f":"+EM1+1","v":73},{"$f":"+EN1+1","v":74},{"$f":"+EO1+1","v":75},{"$f":"+EP1+1","v":76},{"$f":"+EQ1+1","v":77},{"$f":"+ER1+1","v":78},{"$f":"+ES1+1","v":79},{"$f":"+ET1+1","v":80},{"$f":"+EU1+1","v":81},{"$f":"+EV1+1","v":82},{"$f":"+EW1+1","v":83},{"$f":"+EX1+1","v":84},{"$f":"+EY1+1","v":85},{"$f":"+EZ1+1","v":86},{"$f":"+FA1+1","v":87},{"$f":"+FB1+1","v":88},{"$f":"+FC1+1","v":89},{"$f":"+FD1+1","v":90},{"$f":"+FE1+1","v":91},{"$f":"+FF1+1","v":92},{"$f":"+FG1+1","v":93},{"$f":"+FH1+1","v":94},{"$f":"+FI1+1","v":95},{"$f":"+FJ1+1","v":96},{"$f":"+FK1+1","v":97},{"$f":"+FL1+1","v":98},{"$f":"+FM1+1","v":99},{"$f":"+FN1+1","v":100},null,"AYUDA",2,{"$f":"+FR1+1","v":3},4,5,6,7,8,9,10,11,12,13,14,15,16,{"$f":"+GF1+1","v":17},{"$f":"+GG1+1","v":18},19,20,{"$f":"+GJ1+1","v":21},{"$f":"+GK1+1","v":22},{"$f":"+GL1+1","v":23},{"$f":"+GM1+1","v":24},{"$f":"+GN1+1","v":25},{"$f":"+GO1+1","v":26},{"$f":"+GP1+1","v":27},{"$f":"+GQ1+1","v":28},{"$f":"+GR1+1","v":29},{"$f":"+GS1+1","v":30},{"$f":"+GT1+1","v":31},{"$f":"+GU1+1","v":32},{"$f":"+GV1+1","v":33},{"$f":"+GW1+1","v":34},{"$f":"+GX1+1","v":35},{"$f":"+GY1+1","v":36},{"$f":"+GZ1+1","v":37},{"$f":"+HA1+1","v":38},{"$f":"+HB1+1","v":39},{"$f":"+HC1+1","v":40},{"$f":"+HD1+1","v":41},{"$f":"+HE1+1","v":42},{"$f":"+HF1+1","v":43},{"$f":"+HG1+1","v":44},{"$f":"+HH1+1","v":45},{"$f":"+HI1+1","v":46},{"$f":"+HJ1+1","v":47},{"$f":"+HK1+1","v":48},{"$f":"+HL1+1","v":49},{"$f":"+HM1+1","v":50},{"$f":"+HN1+1","v":51},{"$f":"+HO1+1","v":52},{"$f":"+HP1+1","v":53},{"$f":"+HQ1+1","v":54},{"$f":"+HR1+1","v":55},{"$f":"+HS1+1","v":56},{"$f":"+HT1+1","v":57},{"$f":"+HU1+1","v":58},{"$f":"+HV1+1","v":59},{"$f":"+HW1+1","v":60},{"$f":"+HX1+1","v":61},{"$f":"+HY1+1","v":62},{"$f":"+HZ1+1","v":63},{"$f":"+IA1+1","v":64},{"$f":"+IB1+1","v":65},{"$f":"+IC1+1","v":66},{"$f":"+ID1+1","v":67},{"$f":"+IE1+1","v":68},{"$f":"+IF1+1","v":69},{"$f":"+IG1+1","v":70},{"$f":"+IH1+1","v":71},{"$f":"+II1+1","v":72},{"$f":"+IJ1+1","v":73},{"$f":"+IK1+1","v":74},{"$f":"+IL1+1","v":75},{"$f":"+IM1+1","v":76},{"$f":"+IN1+1","v":77},{"$f":"+IO1+1","v":78},{"$f":"+IP1+1","v":79},{"$f":"+IQ1+1","v":80},{"$f":"+IR1+1","v":81},{"$f":"+IS1+1","v":82},{"$f":"+IT1+1","v":83},{"$f":"+IU1+1","v":84},{"$f":"+IV1+1","v":85},{"$f":"+IW1+1","v":86},{"$f":"+IX1+1","v":87},{"$f":"+IY1+1","v":88},{"$f":"+IZ1+1","v":89},{"$f":"+JA1+1","v":90},{"$f":"+JB1+1","v":91},{"$f":"+JC1+1","v":92},{"$f":"+JD1+1","v":93},{"$f":"+JE1+1","v":94},{"$f":"+JF1+1","v":95},{"$f":"+JG1+1","v":96},{"$f":"+JH1+1","v":97},{"$f":"+JI1+1","v":98},{"$f":"+JJ1+1","v":99},{"$f":"+JK1+1","v":100},null,"AYUDA",null,null,null,null,null,null,null,"SUBVENCIONABLE"]
["CÁLCULO DE INTENSIDADES",null,null,null,null,null,null,null,null,null,null,null,null,null,null,null,null,null,null,null,null,{"$f":"+SUM(V6:V1000000)/3","v":0},{"$f":"+SUM(W6:W1000000)/3","v":0},0,0,0,0,0,0,0,0,0,0,0,0,0,0,0,0,0,0,{"$f":"+SUM(AP6:AP1000000)/2","v":0},{"$f":"+SUM(AQ6:AQ1000000)/2","v":0},{"$f":"+SUM(AR6:AR1000000)/2","v":0},{"$f":"+SUM(AS6:AS1000000)/2","v":0.45},{"$f":"+SUM(AT6:AT1000000)/2","v":0.9},null,null,null,null,{"$f":"+Actuaciones!L2","v":0},{"$f":"+AY2+5+Localizaciones!C3+1","v":7},{"$f":"\"a\"&AZ2","v":"a7"}]
[{"$f":"+IF(BA1=\"TOTALES\",\"\", \"REVISAR INTRODUCCIÓN DE MUNICIPIOS EN PESTAÑA DE PRESUPUESTO, HAY ALGÚN ERROR\")","v":"REVISAR INTRODUCCIÓN DE MUNICIPIOS EN PESTAÑA DE PRESUPUESTO, HAY ALGÚN ERROR"},null,null,null,null,null,null,null,null,null,null,null,null,null,null,null,null,null,null,null,null,null,null,null,null,null,null,null,null,null,null,null,null,null,null,null,null,null,null,null,null,null,null,null,null,null,null,null,null,"CALCULO SUBVENCIONABLE",null,null,null,null,null,null,null,null,null,null,null,null,null,null,null,null,null,null,null,null,null,{"$f":"+SUM(BT6:BT20000)","v":0},{"$f":"+SUM(BU6:BU20000)","v":0},0,0,0,0,0,0,0,0,0,0,0,0,0,0,0,0,0,0,{"$f":"+SUM(CN6:CN20000)","v":0},0,0,0,0,0,0,0,0,0,0,0,0,0,0,0,0,0,0,0,0,0,0,0,0,0,0,0,0,0,0,0,0,0,0,0,0,0,0,0,0,0,0,0,0,0,0,0,0,0,0,0,0,0,0,0,0,0,0,0,0,0,0,0,{"$f":"+SUM(EZ6:EZ20000)","v":0},0,0,0,0,0,0,0,0,0,0,0,0,0,0,0,null,{"$f":"+SUM(FQ6:FQ20000)","v":0},{"$f":"+SUM(FR6:FR20000)","v":0},0,0,0,0,0,0,0,0,0,0,0,0,0,0,0,0,0,0,{"$f":"+SUM(GK6:GK20000)","v":0},0,0,0,0,0,0,0,0,0,0,0,0,0,0,0,0,0,0,0,0,0,0,0,0,0,0,0,0,0,0,0,0,0,0,0,0,0,0,0,0,0,0,0,0,0,0,0,0,0,0,0,0,0,0,0,0,0,0,0,0,0,0,0,{"$f":"+SUM(IW6:IW20000)","v":0},0,0,0,0,0,0,0,0,0,0,0,0,0,0,0,null,0,0,0,0,0,0,0,0,0,0,0,0,0,0,0,0]
[null,null,null,null,null,null,null,null,null,null,null,null,null,null,null,null,null,null,null,null,null,null,null,null,null,null,null,null,null,null,null,null,null,null,null,null,null,null,null,null,null,{"$f":"+SUM(AP6:AP1000000)","v":0},null,null,null,null,null,null,null,{"$f":"+SUM(AX6:AX10000)","v":0},0,0,0,0,0,0,0,0,0,0,0,0,0,0,0,0,0,0,0,0,null,{"$f":"+'Datos Previos'!E32","v":"ENTIDAD 1"},{"$f":"+'Datos Previos'!F32","v":0},{"$f":"+'Datos Previos'!G32","v":0},{"$f":"+'Datos Previos'!H32","v":0},{"$f":"+'Datos Previos'!I32","v":0},{"$f":"+'Datos Previos'!J32","v":0},{"$f":"+'Datos Previos'!K32","v":0},{"$f":"+'Datos Previos'!L32","v":0},{"$f":"+'Datos Previos'!M32","v":0},{"$f":"+'Datos Previos'!N32","v":0},{"$f":"+'Datos Previos'!O32","v":0},{"$f":"+'Datos Previos'!P32","v":0},{"$f":"+'Datos Previos'!Q32","v":0},{"$f":"+'Datos Previos'!R32","v":0},{"$f":"+'Datos Previos'!S32","v":0},{"$f":"+'Datos Previos'!T32","v":0},{"$f":"+'Datos Previos'!U32","v":0},{"$f":"+'Datos Previos'!V32","v":0},{"$f":"+'Datos Previos'!W32","v":0},{"$f":"+'Datos Previos'!X32","v":0},{"$f":"+'Datos Previos'!Y32","v":0},{"$f":"+'Datos Previos'!Z32","v":0},{"$f":"+'Datos Previos'!AA32","v":0},{"$f":"+'Datos Previos'!AB32","v":0},{"$f":"+'Datos Previos'!AC32","v":0},{"$f":"+'Datos Previos'!AD32","v":0},{"$f":"+'Datos Previos'!AE32","v":0},{"$f":"+'Datos Previos'!AF32","v":0},{"$f":"+'Datos Previos'!AG32","v":0},{"$f":"+'Datos Previos'!AH32","v":0},{"$f":"+'Datos Previos'!AI32","v":0},{"$f":"+'Datos Previos'!AJ32","v":0},{"$f":"+'Datos Previos'!AK32","v":0},{"$f":"+'Datos Previos'!AL32","v":0},{"$f":"+'Datos Previos'!AM32","v":0},{"$f":"+'Datos Previos'!AN32","v":0},{"$f":"+'Datos Previos'!AO32","v":0},{"$f":"+'Datos Previos'!AP32","v":0},{"$f":"+'Datos Previos'!AQ32","v":0},{"$f":"+'Datos Previos'!AR32","v":0},{"$f":"+'Datos Previos'!AS32","v":0},{"$f":"+'Datos Previos'!AT32","v":0},{"$f":"+'Datos Previos'!AU32","v":0},{"$f":"+'Datos Previos'!AV32","v":0},{"$f":"+'Datos Previos'!AW32","v":0},{"$f":"+'Datos Previos'!AX32","v":0},{"$f":"+'Datos Previos'!AY32","v":0},{"$f":"+'Datos Previos'!AZ32","v":0},{"$f":"+'Datos Previos'!BA32","v":0},{"$f":"+'Datos Previos'!BB32","v":0},{"$f":"+'Datos Previos'!BC32","v":0},{"$f":"+'Datos Previos'!BD32","v":0},{"$f":"+'Datos Previos'!BE32","v":0},{"$f":"+'Datos Previos'!BF32","v":0},{"$f":"+'Datos Previos'!BG32","v":0},{"$f":"+'Datos Previos'!BH32","v":0},{"$f":"+'Datos Previos'!BI32","v":0},{"$f":"+'Datos Previos'!BJ32","v":0},{"$f":"+'Datos Previos'!BK32","v":0},{"$f":"+'Datos Previos'!BL32","v":0},{"$f":"+'Datos Previos'!BM32","v":0},{"$f":"+'Datos Previos'!BN32","v":0},{"$f":"+'Datos Previos'!BO32","v":0},{"$f":"+'Datos Previos'!BP32","v":0},{"$f":"+'Datos Previos'!BQ32","v":0},{"$f":"+'Datos Previos'!BR32","v":0},{"$f":"+'Datos Previos'!BS32","v":0},{"$f":"+'Datos Previos'!BT32","v":0},{"$f":"+'Datos Previos'!BU32","v":0},{"$f":"+'Datos Previos'!BV32","v":0},{"$f":"+'Datos Previos'!BW32","v":0},{"$f":"+'Datos Previos'!BX32","v":0},{"$f":"+'Datos Previos'!BY32","v":0},{"$f":"+'Datos Previos'!BZ32","v":0},{"$f":"+'Datos Previos'!CA32","v":0},{"$f":"+'Datos Previos'!CB32","v":0},{"$f":"+'Datos Previos'!CC32","v":0},{"$f":"+'Datos Previos'!CD32","v":0},{"$f":"+'Datos Previos'!CE32","v":0},{"$f":"+'Datos Previos'!CF32","v":0},{"$f":"+'Datos Previos'!CG32","v":0},{"$f":"+'Datos Previos'!CH32","v":0},{"$f":"+'Datos Previos'!CI32","v":0},{"$f":"+'Datos Previos'!CJ32","v":0},{"$f":"+'Datos Previos'!CK32","v":0},{"$f":"+'Datos Previos'!CL32","v":0},{"$f":"+'Datos Previos'!CM32","v":0},{"$f":"+'Datos Previos'!CN32","v":0},{"$f":"+'Datos Previos'!CO32","v":0},{"$f":"+'Datos Previos'!CP32","v":0},{"$f":"+'Datos Previos'!CQ32","v":0},{"$f":"+'Datos Previos'!CR32","v":0},{"$f":"+'Datos Previos'!CS32","v":0},{"$f":"+'Datos Previos'!CT32","v":0},{"$f":"+'Datos Previos'!CU32","v":0},{"$f":"+'Datos Previos'!CV32","v":0},{"$f":"+'Datos Previos'!CW32","v":0},{"$f":"+'Datos Previos'!CX32","v":0},{"$f":"+'Datos Previos'!CY32","v":0},{"$f":"+'Datos Previos'!CZ32","v":0},null,{"$f":"+'Datos Previos'!E32","v":"ENTIDAD 1"},{"$f":"+'Datos Previos'!F32","v":0},{"$f":"+'Datos Previos'!G32","v":0},{"$f":"+'Datos Previos'!H32","v":0},{"$f":"+'Datos Previos'!I32","v":0},{"$f":"+'Datos Previos'!J32","v":0},{"$f":"+'Datos Previos'!K32","v":0},{"$f":"+'Datos Previos'!L32","v":0},{"$f":"+'Datos Previos'!M32","v":0},{"$f":"+'Datos Previos'!N32","v":0},{"$f":"+'Datos Previos'!O32","v":0},{"$f":"+'Datos Previos'!P32","v":0},{"$f":"+'Datos Previos'!Q32","v":0},{"$f":"+'Datos Previos'!R32","v":0},{"$f":"+'Datos Previos'!S32","v":0},{"$f":"+'Datos Previos'!T32","v":0},{"$f":"+'Datos Previos'!U32","v":0},{"$f":"+'Datos Previos'!V32","v":0},{"$f":"+'Datos Previos'!W32","v":0},{"$f":"+'Datos Previos'!X32","v":0},{"$f":"+'Datos Previos'!Y32","v":0},{"$f":"+'Datos Previos'!Z32","v":0},{"$f":"+'Datos Previos'!AA32","v":0},{"$f":"+'Datos Previos'!AB32","v":0},{"$f":"+'Datos Previos'!AC32","v":0},{"$f":"+'Datos Previos'!AD32","v":0},{"$f":"+'Datos Previos'!AE32","v":0},{"$f":"+'Datos Previos'!AF32","v":0},{"$f":"+'Datos Previos'!AG32","v":0},{"$f":"+'Datos Previos'!AH32","v":0},{"$f":"+'Datos Previos'!AI32","v":0},{"$f":"+'Datos Previos'!AJ32","v":0},{"$f":"+'Datos Previos'!AK32","v":0},{"$f":"+'Datos Previos'!AL32","v":0},{"$f":"+'Datos Previos'!AM32","v":0},{"$f":"+'Datos Previos'!AN32","v":0},{"$f":"+'Datos Previos'!AO32","v":0},{"$f":"+'Datos Previos'!AP32","v":0},{"$f":"+'Datos Previos'!AQ32","v":0},{"$f":"+'Datos Previos'!AR32","v":0},{"$f":"+'Datos Previos'!AS32","v":0},{"$f":"+'Datos Previos'!AT32","v":0},{"$f":"+'Datos Previos'!AU32","v":0},{"$f":"+'Datos Previos'!AV32","v":0},{"$f":"+'Datos Previos'!AW32","v":0},{"$f":"+'Datos Previos'!AX32","v":0},{"$f":"+'Datos Previos'!AY32","v":0},{"$f":"+'Datos Previos'!AZ32","v":0},{"$f":"+'Datos Previos'!BA32","v":0},{"$f":"+'Datos Previos'!BB32","v":0},{"$f":"+'Datos Previos'!BC32","v":0},{"$f":"+'Datos Previos'!BD32","v":0},{"$f":"+'Datos Previos'!BE32","v":0},{"$f":"+'Datos Previos'!BF32","v":0},{"$f":"+'Datos Previos'!BG32","v":0},{"$f":"+'Datos Previos'!BH32","v":0},{"$f":"+'Datos Previos'!BI32","v":0},{"$f":"+'Datos Previos'!BJ32","v":0},{"$f":"+'Datos Previos'!BK32","v":0},{"$f":"+'Datos Previos'!BL32","v":0},{"$f":"+'Datos Previos'!BM32","v":0},{"$f":"+'Datos Previos'!BN32","v":0},{"$f":"+'Datos Previos'!BO32","v":0},{"$f":"+'Datos Previos'!BP32","v":0},{"$f":"+'Datos Previos'!BQ32","v":0},{"$f":"+'Datos Previos'!BR32","v":0},{"$f":"+'Datos Previos'!BS32","v":0},{"$f":"+'Datos Previos'!BT32","v":0},{"$f":"+'Datos Previos'!BU32","v":0},{"$f":"+'Datos Previos'!BV32","v":0},{"$f":"+'Datos Previos'!BW32","v":0},{"$f":"+'Datos Previos'!BX32","v":0},{"$f":"+'Datos Previos'!BY32","v":0},{"$f":"+'Datos Previos'!BZ32","v":0},{"$f":"+'Datos Previos'!CA32","v":0},{"$f":"+'Datos Previos'!CB32","v":0},{"$f":"+'Datos Previos'!CC32","v":0},{"$f":"+'Datos Previos'!CD32","v":0},{"$f":"+'Datos Previos'!CE32","v":0},{"$f":"+'Datos Previos'!CF32","v":0},{"$f":"+'Datos Previos'!CG32","v":0},{"$f":"+'Datos Previos'!CH32","v":0},{"$f":"+'Datos Previos'!CI32","v":0},{"$f":"+'Datos Previos'!CJ32","v":0},{"$f":"+'Datos Previos'!CK32","v":0},{"$f":"+'Datos Previos'!CL32","v":0},{"$f":"+'Datos Previos'!CM32","v":0},{"$f":"+'Datos Previos'!CN32","v":0},{"$f":"+'Datos Previos'!CO32","v":0},{"$f":"+'Datos Previos'!CP32","v":0},{"$f":"+'Datos Previos'!CQ32","v":0},{"$f":"+'Datos Previos'!CR32","v":0},{"$f":"+'Datos Previos'!CS32","v":0},{"$f":"+'Datos Previos'!CT32","v":0},{"$f":"+'Datos Previos'!CU32","v":0},{"$f":"+'Datos Previos'!CV32","v":0},{"$f":"+'Datos Previos'!CW32","v":0},{"$f":"+'Datos Previos'!CX32","v":0},{"$f":"+'Datos Previos'!CY32","v":0},{"$f":"+'Datos Previos'!CZ32","v":0},null,"PRESUPUESTO AYUDA 2020","PRESUPUESTO AYUDA 2021","PRESUPUESTO AYUDA 2022","PRESUPUESTO AYUDA 2023","PRESUPUESTO AYUDA 2024","PRESUPUESTO AYUDA2025","PRESUPUESTO AYUDA 2026","TOTAL PRESUPUESTO AYUDASUMADO","PRESUPUESTO SUBVENCIONABLE 2020","PRESUPUESTO SUBVENCIONABLE 2021","PRESUPUESTO SUBVENCIONABLE 2022","PRESUPUESTO SUBVENCIONABLE 2023","PRESUPUESTO SUBVENCIONABLE 2024","PRESUPUESTO SUBVENCIONABLE 2025","PRESUPUESTO SUBVENCIONABLE 2026","TOTAL PRESUPUESTO SUBVENCIONABLE SUMADO","total subvencionable actuacionmunicipio"]
[null,"Código actuación/municipio","TÍtulo de Actuación","Presupuesto total","Presupuesto Subvencionable","Tipo de actuaciones en Municipio","Intensidad máxima aplicable","Municipio","Población","Intensidad Máxima aplicable por Tipología de Actuaciones","Máxima Ayuda por Municipio por tipología de Actuación","Intensidad Máxima de Ayuda por  Población de Municipio Recomendada","Máxima Ayuda por  Población de Municipio","Máxima Intensidad Aplicable Recomendada","Intensidad Elegida","Importe Ayuda Solicitada","Fondos Propios","Otras fuentes de financiación compatibles","COMPROBACIÓN PRESUPUESTO","COMPROBACIÓN INTENSIDAD MÁXIMA PERMITIDA","COMPROBACIÓN IMPORTE TOTAL POR POBLACIÓN MUNICIPIO","A.1 - Planes de emergencia ante situaciones de sequía según se dispone el artículo 27.3 de la Ley 10/2001, de 5 de julio, del Plan Hidrológico Nacional.","A.2 - Protocolos de vigilancia, planes sanitarios y de gestión del control de la calidad de las aguas de consumo humano conforme a lo establecido en el Real Decreto 3/2023, de 10 de enero, por el que se establecen los criterios técnico- sanitarios de la calidad del agua de consumo, su control y suministro.","A.3 - Planes integrales de gestión de los sistemas de saneamiento.","A.4 - Planes para el fomento del uso de agua regenerada de acuerdo a lo establecido en el Real Decreto-Ley 4/2023 por el que se adoptan medidas urgentes en materia agraria y de aguas en respuesta a la sequía y al agravamiento de las condiciones del sector primario derivado del conflicto bélico en Ucrania y de las condiciones climatológicas, así como de promoción del uso del transporte público colectivo terrestre por parte de los jóvenes y prevención de riesgos laborales en episodios de elevadas temperaturas.","A.5 - Planes municipales de protección civil frente a situaciones de inundaciones, previsiones meteorológicas y sistemas de ayuda a la decisión.","A.6 - Estudios para el diagnóstico el control y gestión de las fugas estructurales conforme al artículo 47 del Real Decreto 3/2023, de 10 de enero, por el que se establecen los criterios técnico-sanitarios de la calidad del agua de consumo, su control y suministro.","A.7 - Desarrollo de estudios hidrogeológicos para la mejora del conocimiento de las aguas subterráneas y establecimiento de perímetros de protección de las captaciones prioritarias. Se incluirán en esta tipología la elaboración de planes directores de abastecimiento en alta y baja.","A.8 - Modelización cartográfica y numérica de las redes y sistemas de abastecimiento y saneamiento de todo el ciclo urbano (cartografía, topografía, modelación BIM, gemelos digitales, modelización hidráulica 3D, etc.). Se incluyen en esta tipología la elaboración de proyectos constructivos para la mejora de la red de abastecimiento y saneamiento.","Tipo A","B.1 - Actuaciones de mejora de la eficiencia, digitalización y monitorización centradas en las infraestructuras de captación del agua o puntos de entrega para el uso público y en especial, sobre las captaciones directas al dominio público hidráulico, tanto superficiales como subterráneas.","B.2 - Actuaciones de mejora de la eficiencia y digitalización sobre cualquier elemento del sistema de abastecimiento, incluyendo redes de distribución,acometidas de interés público que afecten a una pluralidad de personas usuarias,que en conjunto fomenten a su vez la telegestión y la telelectura del sistema.","B.3 - Actuaciones de mejora de la eficiencia, digitalización y monitorización sobre el sistema de saneamiento y depuración, derivados, en su caso, de la implantación de los planes integrales de gestión de los sistemas de saneamiento, tanto en la red de colectores como otras infraestructuras existentes en los sistemas de saneamiento, así como en el conjunto de los procesos de las estaciones de depuración de aguas residuales y resto de infraestructuras del sistema de saneamiento.","B.4 - Actuaciones de mejora de la eficiencia, digitalización y monitorización en los puntos de vertido de aguas residuales asignados al beneficiario, y en especial los que viertan directamente al dominio público, tanto si el vertido se efectúa en tiempo seco como si se efectúan exclusivamente durante episodios de precipitación.","B.5 - Actuaciones complementarias de mejora de la eficiencia asociadas a reparaciones y mejoras técnicas en los sistemas de abastecimiento, saneamiento y tratamiento de aguas, que permitan, entre otros objetivos, el incremento de volúmenes tratados, la disminución de pérdidas, el fomento de la reutilización y regeneración del agua y la correcta sensorización abordada en las actuaciones de los tipos B.1, B.2, B.3, o B.4. Quedarán fuera de esta tipología la renovación completa de redes, así como obra nueva.","B.6 - Instalación y mejora de herramientas de comunicaciones necesarias para el desarrollo de las mismas, y en especial, aquellas destinadas a la implantación de tecnologías de la información Internet of Things (IoT).","B.7 - Realización de estudios, instalación de equipos y tecnologías y mejoras de la gestión de los sistemas energéticos existentes del sistema de abastecimiento y saneamiento que permita la mejora de la eficiencia energética, el empleo de energías renovables y la disminución de las emisiones de gases de efecto invernadero. Queda incluido en esta tipología la instalación de placas solares y otros sistemas de generación de energía renovables.","Tipo B","C.1 - Desarrollo y mejoras de portales web de las administraciones responsables y operadores en general que permitan fomentar la comunicación digital con el usuario final y cumplir con los requisitos de transparencia explicitados tanto en el Texto Refundido de la Ley de Aguas y normativa derivada como los establecidos de forma adicional en el Real Decreto 3/2023, de 10 de enero, por el que se establecen los criterios técnico-sanitarios de la calidad del agua de consumo, su control y suministro. Se incluyen en esta tipología todas aquellas actuaciones dirigidas a la implantación o mejora de la ciberseguridad necesarias.","C.2 - Mejora o desarrollo de sistemas de información y herramientas digitalespara el fomento de la gestión de la información generada, telegestión y telemando de las instalaciones e infraestructuras y mejora en la gestión digital del ciclo urbano del agua. Se incluyen en esta tipología todas aquellas actuaciones dirigidas a la implantación o mejora de la ciberseguridad necesarias, así como la implantación de tecnologías basadas en inteligencia artificial aplicadas a la mejora en la gestión digital del ciclo urbano del agua.","Tipo C","COMPROBACION EN TOTALES PORMUNICIPIO B1+B2+B3+B4 MUNICIPIOS","COMPROBACION B1+B2+B3+B4","COMPROBACION tipo de ayudas bonificadas","TOTAL AYUDA MUNICIPIO CON INTESIDAD ELEGIDA","TOTAL MUNICIPIO CON INTENSIDAD MAXIMA POR TIPOLOGIA","INTENSIDAD MAXIMA POR POBLACION","COEFICIENTE PASO","PRESUPUESTO POR MUNICIPIO","A.1 - Planes de emergencia ante situaciones de sequía según se dispone el artículo 27.3 de la Ley 10/2001, de 5 de julio, del Plan Hidrológico Nacional.","A.2 - Protocolos de vigilancia, planes sanitarios y de gestión del control de la calidad de las aguas de consumo humano conforme a lo establecido en el Real Decreto 3/2023, de 10 de enero, por el que se establecen los criterios técnico- sanitarios de la calidad del agua de consumo, su control y suministro.","A.3 - Planes integrales de gestión de los sistemas de saneamiento.","A.4 - Planes para el fomento del uso de agua regenerada de acuerdo a lo establecido en el Real Decreto-Ley 4/2023 por el que se adoptan medidas urgentes en materia agraria y de aguas en respuesta a la sequía y al agravamiento de las condiciones del sector primario derivado del conflicto bélico en Ucrania y de las condiciones climatológicas, así como de promoción del uso del transporte público colectivo terrestre por parte de los jóvenes y prevención de riesgos laborales en episodios de elevadas temperaturas.","A.5 - Planes municipales de protección civil frente a situaciones de inundaciones, previsiones meteorológicas y sistemas de ayuda a la decisión.","A.6 - Estudios para el diagnóstico el control y gestión de las fugas estructurales conforme al artículo 47 del Real Decreto 3/2023, de 10 de enero, por el que se establecen los criterios técnico-sanitarios de la calidad del agua de consumo, su control y suministro.","A.7 - Desarrollo de estudios hidrogeológicos para la mejora del conocimiento de las aguas subterráneas y establecimiento de perímetros de protección de las captaciones prioritarias. Se incluirán en esta tipología la elaboración de planes directores de abastecimiento en alta y baja.","A.8 - Modelización cartográfica y numérica de las redes y sistemas de abastecimiento y saneamiento de todo el ciclo urbano (cartografía, topografía, modelación BIM, gemelos digitales, modelización hidráulica 3D, etc.). Se incluyen en esta tipología la elaboración de proyectos constructivos para la mejora de la red de abastecimiento y saneamiento.","Tipo A","B.1 - Actuaciones de mejora de la eficiencia, digitalización y monitorización centradas en las infraestructuras de captación del agua o puntos de entrega para el uso público y en especial, sobre las captaciones directas al dominio público hidráulico, tanto superficiales como subterráneas.","B.2 - Actuaciones de mejora de la eficiencia y digitalización sobre cualquier elemento del sistema de abastecimiento, incluyendo redes de distribución,acometidas de interés público que afecten a una pluralidad de personas usuarias,que en conjunto fomenten a su vez la telegestión y la telelectura del sistema.","B.3 - Actuaciones de mejora de la eficiencia, digitalización y monitorización sobre el sistema de saneamiento y depuración, derivados, en su caso, de la implantación de los planes integrales de gestión de los sistemas de saneamiento, tanto en la red de colectores como otras infraestructuras existentes en los sistemas de saneamiento, así como en el conjunto de los procesos de las estaciones de depuración de aguas residuales y resto de infraestructuras del sistema de saneamiento.","B.4 - Actuaciones de mejora de la eficiencia, digitalización y monitorización en los puntos de vertido de aguas residuales asignados al beneficiario, y en especial los que viertan directamente al dominio público, tanto si el vertido se efectúa en tiempo seco como si se efectúan exclusivamente durante episodios de precipitación.","B.5 - Actuaciones complementarias de mejora de la eficiencia asociadas a reparaciones y mejoras técnicas en los sistemas de abastecimiento, saneamiento y tratamiento de aguas, que permitan, entre otros objetivos, el incremento de volúmenes tratados, la disminución de pérdidas, el fomento de la reutilización y regeneración del agua y la correcta sensorización abordada en las actuaciones de los tipos B.1, B.2, B.3, o B.4. Quedarán fuera de esta tipología la renovación completa de redes, así como obra nueva.","B.6 - Instalación y mejora de herramientas de comunicaciones necesarias para el desarrollo de las mismas, y en especial, aquellas destinadas a la implantación de tecnologías de la información Internet of Things (IoT).","B.7 - Realización de estudios, instalación de equipos y tecnologías y mejoras de la gestión de los sistemas energéticos existentes del sistema de abastecimiento y saneamiento que permita la mejora de la eficiencia energética, el empleo de energías renovables y la disminución de las emisiones de gases de efecto invernadero. Queda incluido en esta tipología la instalación de placas solares y otros sistemas de generación de energía renovables.","Tipo B","C.1 - Desarrollo y mejoras de portales web de las administraciones responsables y operadores en general que permitan fomentar la comunicación digital con el usuario final y cumplir con los requisitos de transparencia explicitados tanto en el Texto Refundido de la Ley de Aguas y normativa derivada como los establecidos de forma adicional en el Real Decreto 3/2023, de 10 de enero, por el que se establecen los criterios técnico-sanitarios de la calidad del agua de consumo, su control y suministro. Se incluyen en esta tipología todas aquellas actuaciones dirigidas a la implantación o mejora de la ciberseguridad necesarias.","C.2 - Mejora o desarrollo de sistemas de información y herramientas digitalespara el fomento de la gestión de la información generada, telegestión y telemando de las instalaciones e infraestructuras y mejora en la gestión digital del ciclo urbano del agua. Se incluyen en esta tipología todas aquellas actuaciones dirigidas a la implantación o mejora de la ciberseguridad necesarias, así como la implantación de tecnologías basadas en inteligencia artificial aplicadas a la mejora en la gestión digital del ciclo urbano del agua.","Tipo C","total","entidad",{"$f":"+'Datos Previos'!E34","v":0},{"$f":"+'Datos Previos'!F34","v":0},{"$f":"+'Datos Previos'!G34","v":0},{"$f":"+'Datos Previos'!H34","v":0},{"$f":"+'Datos Previos'!I34","v":0},{"$f":"+'Datos Previos'!J34","v":0},{"$f":"+'Datos Previos'!K34","v":0},{"$f":"+'Datos Previos'!L34","v":0},{"$f":"+'Datos Previos'!M34","v":0},{"$f":"+'Datos Previos'!N34","v":0},{"$f":"+'Datos Previos'!O34","v":0},{"$f":"+'Datos Previos'!P34","v":0},{"$f":"+'Datos Previos'!Q34","v":0},{"$f":"+'Datos Previos'!R34","v":0},{"$f":"+'Datos Previos'!S34","v":0},{"$f":"+'Datos Previos'!T34","v":0},{"$f":"+'Datos Previos'!U34","v":0},{"$f":"+'Datos Previos'!V34","v":0},{"$f":"+'Datos Previos'!W34","v":0},{"$f":"+'Datos Previos'!X34","v":0},{"$f":"+'Datos Previos'!Y34","v":0},{"$f":"+'Datos Previos'!Z34","v":0},{"$f":"+'Datos Previos'!AA34","v":0},{"$f":"+'Datos Previos'!AB34","v":0},{"$f":"+'Datos Previos'!AC34","v":0},{"$f":"+'Datos Previos'!AD34","v":0},{"$f":"+'Datos Previos'!AE34","v":0},{"$f":"+'Datos Previos'!AF34","v":0},{"$f":"+'Datos Previos'!AG34","v":0},{"$f":"+'Datos Previos'!AH34","v":0},{"$f":"+'Datos Previos'!AI34","v":0},{"$f":"+'Datos Previos'!AJ34","v":0},{"$f":"+'Datos Previos'!AK34","v":0},{"$f":"+'Datos Previos'!AL34","v":0},{"$f":"+'Datos Previos'!AM34","v":0},{"$f":"+'Datos Previos'!AN34","v":0},{"$f":"+'Datos Previos'!AO34","v":0},{"$f":"+'Datos Previos'!AP34","v":0},{"$f":"+'Datos Previos'!AQ34","v":0},{"$f":"+'Datos Previos'!AR34","v":0},{"$f":"+'Datos Previos'!AS34","v":0},{"$f":"+'Datos Previos'!AT34","v":0},{"$f":"+'Datos Previos'!AU34","v":0},{"$f":"+'Datos Previos'!AV34","v":0},{"$f":"+'Datos Previos'!AW34","v":0},{"$f":"+'Datos Previos'!AX34","v":0},{"$f":"+'Datos Previos'!AY34","v":0},{"$f":"+'Datos Previos'!AZ34","v":0},{"$f":"+'Datos Previos'!BA34","v":0},{"$f":"+'Datos Previos'!BB34","v":0},{"$f":"+'Datos Previos'!BC34","v":0},{"$f":"+'Datos Previos'!BD34","v":0},{"$f":"+'Datos Previos'!BE34","v":0},{"$f":"+'Datos Previos'!BF34","v":0},{"$f":"+'Datos Previos'!BG34","v":0},{"$f":"+'Datos Previos'!BH34","v":0},{"$f":"+'Datos Previos'!BI34","v":0},{"$f":"+'Datos Previos'!BJ34","v":0},{"$f":"+'Datos Previos'!BK34","v":0},{"$f":"+'Datos Previos'!BL34","v":0},{"$f":"+'Datos Previos'!BM34","v":0},{"$f":"+'Datos Previos'!BN34","v":0},{"$f":"+'Datos Previos'!BO34","v":0},{"$f":"+'Datos Previos'!BP34","v":0},{"$f":"+'Datos Previos'!BQ34","v":0},{"$f":"+'Datos Previos'!BR34","v":0},{"$f":"+'Datos Previos'!BS34","v":0},{"$f":"+'Datos Previos'!BT34","v":0},{"$f":"+'Datos Previos'!BU34","v":0},{"$f":"+'Datos Previos'!BV34","v":0},{"$f":"+'Datos Previos'!BW34","v":0},{"$f":"+'Datos Previos'!BX34","v":0},{"$f":"+'Datos Previos'!BY34","v":0},{"$f":"+'Datos Previos'!BZ34","v":0},{"$f":"+'Datos Previos'!CA34","v":0},{"$f":"+'Datos Previos'!CB34","v":0},{"$f":"+'Datos Previos'!CC34","v":0},{"$f":"+'Datos Previos'!CD34","v":0},{"$f":"+'Datos Previos'!CE34","v":0},{"$f":"+'Datos Previos'!CF34","v":0},{"$f":"+'Datos Previos'!CG34","v":0},{"$f":"+'Datos Previos'!CH34","v":0},{"$f":"+'Datos Previos'!CI34","v":0},{"$f":"+'Datos Previos'!CJ34","v":0},{"$f":"+'Datos Previos'!CK34","v":0},{"$f":"+'Datos Previos'!CL34","v":0},{"$f":"+'Datos Previos'!CM34","v":0},{"$f":"+'Datos Previos'!CN34","v":0},{"$f":"+'Datos Previos'!CO34","v":0},{"$f":"+'Datos Previos'!CP34","v":0},{"$f":"+'Datos Previos'!CQ34","v":0},{"$f":"+'Datos Previos'!CR34","v":0},{"$f":"+'Datos Previos'!CS34","v":0},{"$f":"+'Datos Previos'!CT34","v":0},{"$f":"+'Datos Previos'!CU34","v":0},{"$f":"+'Datos Previos'!CV34","v":0},{"$f":"+'Datos Previos'!CW34","v":0},{"$f":"+'Datos Previos'!CX34","v":0},{"$f":"+'Datos Previos'!CY34","v":0},{"$f":"+'Datos Previos'!CZ34","v":0},null,{"$f":"+'Datos Previos'!E34","v":0},{"$f":"+'Datos Previos'!F34","v":0},{"$f":"+'Datos Previos'!G34","v":0},{"$f":"+'Datos Previos'!H34","v":0},{"$f":"+'Datos Previos'!I34","v":0},{"$f":"+'Datos Previos'!J34","v":0},{"$f":"+'Datos Previos'!K34","v":0},{"$f":"+'Datos Previos'!L34","v":0},{"$f":"+'Datos Previos'!M34","v":0},{"$f":"+'Datos Previos'!N34","v":0},{"$f":"+'Datos Previos'!O34","v":0},{"$f":"+'Datos Previos'!P34","v":0},{"$f":"+'Datos Previos'!Q34","v":0},{"$f":"+'Datos Previos'!R34","v":0},{"$f":"+'Datos Previos'!S34","v":0},{"$f":"+'Datos Previos'!T34","v":0},{"$f":"+'Datos Previos'!U34","v":0},{"$f":"+'Datos Previos'!V34","v":0},{"$f":"+'Datos Previos'!W34","v":0},{"$f":"+'Datos Previos'!X34","v":0},{"$f":"+'Datos Previos'!Y34","v":0},{"$f":"+'Datos Previos'!Z34","v":0},{"$f":"+'Datos Previos'!AA34","v":0},{"$f":"+'Datos Previos'!AB34","v":0},{"$f":"+'Datos Previos'!AC34","v":0},{"$f":"+'Datos Previos'!AD34","v":0},{"$f":"+'Datos Previos'!AE34","v":0},{"$f":"+'Datos Previos'!AF34","v":0},{"$f":"+'Datos Previos'!AG34","v":0},{"$f":"+'Datos Previos'!AH34","v":0},{"$f":"+'Datos Previos'!AI34","v":0},{"$f":"+'Datos Previos'!AJ34","v":0},{"$f":"+'Datos Previos'!AK34","v":0},{"$f":"+'Datos Previos'!AL34","v":0},{"$f":"+'Datos Previos'!AM34","v":0},{"$f":"+'Datos Previos'!AN34","v":0},{"$f":"+'Datos Previos'!AO34","v":0},{"$f":"+'Datos Previos'!AP34","v":0},{"$f":"+'Datos Previos'!AQ34","v":0},{"$f":"+'Datos Previos'!AR34","v":0},{"$f":"+'Datos Previos'!AS34","v":0},{"$f":"+'Datos Previos'!AT34","v":0},{"$f":"+'Datos Previos'!AU34","v":0},{"$f":"+'Datos Previos'!AV34","v":0},{"$f":"+'Datos Previos'!AW34","v":0},{"$f":"+'Datos Previos'!AX34","v":0},{"$f":"+'Datos Previos'!AY34","v":0},{"$f":"+'Datos Previos'!AZ34","v":0},{"$f":"+'Datos Previos'!BA34","v":0},{"$f":"+'Datos Previos'!BB34","v":0},{"$f":"+'Datos Previos'!BC34","v":0},{"$f":"+'Datos Previos'!BD34","v":0},{"$f":"+'Datos Previos'!BE34","v":0},{"$f":"+'Datos Previos'!BF34","v":0},{"$f":"+'Datos Previos'!BG34","v":0},{"$f":"+'Datos Previos'!BH34","v":0},{"$f":"+'Datos Previos'!BI34","v":0},{"$f":"+'Datos Previos'!BJ34","v":0},{"$f":"+'Datos Previos'!BK34","v":0},{"$f":"+'Datos Previos'!BL34","v":0},{"$f":"+'Datos Previos'!BM34","v":0},{"$f":"+'Datos Previos'!BN34","v":0},{"$f":"+'Datos Previos'!BO34","v":0},{"$f":"+'Datos Previos'!BP34","v":0},{"$f":"+'Datos Previos'!BQ34","v":0},{"$f":"+'Datos Previos'!BR34","v":0},{"$f":"+'Datos Previos'!BS34","v":0},{"$f":"+'Datos Previos'!BT34","v":0},{"$f":"+'Datos Previos'!BU34","v":0},{"$f":"+'Datos Previos'!BV34","v":0},{"$f":"+'Datos Previos'!BW34","v":0},{"$f":"+'Datos Previos'!BX34","v":0},{"$f":"+'Datos Previos'!BY34","v":0},{"$f":"+'Datos Previos'!BZ34","v":0},{"$f":"+'Datos Previos'!CA34","v":0},{"$f":"+'Datos Previos'!CB34","v":0},{"$f":"+'Datos Previos'!CC34","v":0},{"$f":"+'Datos Previos'!CD34","v":0},{"$f":"+'Datos Previos'!CE34","v":0},{"$f":"+'Datos Previos'!CF34","v":0},{"$f":"+'Datos Previos'!CG34","v":0},{"$f":"+'Datos Previos'!CH34","v":0},{"$f":"+'Datos Previos'!CI34","v":0},{"$f":"+'Datos Previos'!CJ34","v":0},{"$f":"+'Datos Previos'!CK34","v":0},{"$f":"+'Datos Previos'!CL34","v":0},{"$f":"+'Datos Previos'!CM34","v":0},{"$f":"+'Datos Previos'!CN34","v":0},{"$f":"+'Datos Previos'!CO34","v":0},{"$f":"+'Datos Previos'!CP34","v":0},{"$f":"+'Datos Previos'!CQ34","v":0},{"$f":"+'Datos Previos'!CR34","v":0},{"$f":"+'Datos Previos'!CS34","v":0},{"$f":"+'Datos Previos'!CT34","v":0},{"$f":"+'Datos Previos'!CU34","v":0},{"$f":"+'Datos Previos'!CV34","v":0},{"$f":"+'Datos Previos'!CW34","v":0},{"$f":"+'Datos Previos'!CX34","v":0},{"$f":"+'Datos Previos'!CY34","v":0},{"$f":"+'Datos Previos'!CZ34","v":0}]
["Municipio 1",null,null,null,null,null,{"$f":"MIN(J6,L6)","v":0},null,null,{"$f":"+IF(C6=\"\",\"\",IF(I6<20000,0.9+IF($AP$4>0,0.1,0),IF(AR6=\"SI\",0.8+IF($AP$4>0,0.1,0),0.6+IF($AP$4>0,0.1,0))))","v":""},{"$f":"+IF(C6=\"\",\"\",+J6*E6)","v":""},{"$f":"IFERROR(+M6/E6,\"\")","v":""},{"$f":"+IF(AV6>1,K6,K6*AV6)","v":""},{"$f":"IFERROR(+MIN(J6,L6),\"\")","v":0},0,{"$f":"+ROUND(O6*E6,2)","v":0},0,{"$f":"+E6-P6-Q6","v":0},{"$f":"+IF(P6+Q6+R6-E6=0, \"Suma de Presupuestos Correcta\",\"Revisar Suma de Presupuestos\")","v":"Suma de Presupuestos Correcta"},{"$f":"+IF(J6<O6,\"Rebajar Intensidad Ayuda Solicitada\",\"\")","v":""},{"$f":"IF(O6>L6,\"Revisar que importe total de ayuda en municipio no sea superior al máximo permitido por población\",\"\")","v":""},{"$f":"IF( $F6=V$5,$P6,0)","v":0},0,0,0,0,0,0,0,{"$f":"+SUM(V6:AC6)","v":0},{"$f":"IF( $F6=AE$5,$P6,0)","v":0},0,{"$f":"IF($F6=AG$5,$P6,0)","v":0},{"$f":"IF( $F6=AH$5,$P6,0)","v":0},0,0,0,{"$f":"+SUM(AE6:AK6)","v":0},{"$f":"IF( $F6=AM$5,$P6,0)","v":0},0,{"$f":"+SUM(AM6:AN6)","v":0},null,{"$f":"+$AP$4","v":0},{"$f":"+IF(AD6>0,\"SI\",IF(AO6>0,\"SI\",IF(AG6>0,\"SI\",IF(AH6>0,\"SI\",\"NO\"))))","v":"NO"},0.9,0.9,{"$f":"+IF(I6<5001,500000,IF(I6<50001,1000000,IF(I6<150001,2000000,IF(I6<250001,4000000,6000000))))","v":500000},{"$f":"+AU6/AW6","v":555555.5555555555},0.9,{"$f":"+IFERROR(IF(V6=0,0,$KD6),0)","v":0},{"$f":"+IFERROR(IF(W6=0,0,$KD6),0)","v":0},0,0,0,0,0,0,{"$f":"+SUM(AX6:BE6)","v":0},{"$f":"+IFERROR(IF(AE6=0,0,$KD6),0)","v":0},0,0,0,0,0,0,{"$f":"+SUM(BG6:BM6)","v":0},{"$f":"+IFERROR(IF(AM6=0,0,$KD6),0)","v":0},0,{"$f":"+SUM(BO6:BP6)","v":0},{"$f":"+KD6","v":0},{"$f":"IFERROR(VLOOKUP(B6,Presupuesto!$D$5:$E$19854,2,FALSE),\"\")","v":""},{"$f":"+IFERROR(IF(BT$5=$BS6,$BR6,0),0)","v":0},{"$f":"+IFERROR(IF(BU$5=$BS6,$BR6,0),0)","v":0},0,0,0,0,0,0,0,0,0,0,0,0,0,0,0,0,0,0,0,{"$f":"+IFERROR(IF(CO$5=$BS6,$BR6,0),0)","v":0},0,0,0,0,0,0,0,0,0,0,0,0,0,0,0,0,0,0,0,0,0,0,0,0,0,0,0,0,0,0,0,0,0,0,0,0,0,0,0,0,0,0,0,0,0,0,0,0,0,0,0,0,0,0,0,0,0,0,0,0,0,0,0,{"$f":"+IFERROR(IF(FA$5=$BS6,$BR6,0),0)","v":0},0,0,0,0,0,0,0,0,0,0,0,0,0,0,null,{"$f":"+IFERROR(IF(FQ$5=$BS6,$P6,0),0)","v":0},0,{"$f":"+IFERROR(IF(FS$5=$BS6,$P6,0),0)","v":0},0,0,0,0,0,0,0,0,0,0,0,0,0,0,0,0,0,0,{"$f":"+IFERROR(IF(GL$5=$BS6,$P6,0),0)","v":0},0,0,0,0,0,0,0,0,0,0,0,0,0,0,0,0,0,0,0,0,0,0,0,0,0,0,0,0,0,0,0,0,0,0,0,0,0,0,0,0,0,0,0,0,0,0,0,0,0,0,0,0,0,0,0,0,0,0,0,0,0,0,0,{"$f":"+IFERROR(IF(IX$5=$BS6,$P6,0),0)","v":0},0,0,0,0,0,0,0,0,0,0,0,0,0,0,null,{"$f":"+IFERROR(ROUND($P6*VLOOKUP($B6,Presupuesto!$D$5:$AC$15000,19,FALSE),2),0)","v":0},{"$f":"+IFERROR(ROUND($P6*VLOOKUP($B6,Presupuesto!$D$5:$AC$15000,20,FALSE),2),0)","v":0},{"$f":"+IFERROR(ROUND($P6*VLOOKUP($B6,Presupuesto!$D$5:$AC$15000,21,FALSE),2),0)","v":0},{"$f":"+IFERROR(ROUND($P6*VLOOKUP($B6,Presupuesto!$D$5:$AC$15000,22,FALSE),2),0)","v":0},{"$f":"+IFERROR(IF(VLOOKUP($B6,Presupuesto!$D$5:$AC$15000,25,FALSE)=0,IF(VLOOKUP($B6,Presupuesto!$D$5:$AC$15000,24,FALSE),$P6-SUM(JN6:JQ6),ROUND($P6*VLOOKUP($B6,Presupuesto!$D$5:$AC$15000,23,FALSE),2)),ROUND($P6*VLOOKUP($B6,Presupuesto!$D$5:$AC$15000,23,FALSE),2)),0)","v":0},{"$f":"+IFERROR(IF(VLOOKUP($B6,Presupuesto!$D$5:$AC$15000,25,FALSE)=0,$P6-SUM(JN6:JR6),ROUND($P6*VLOOKUP($B6,Presupuesto!$D$5:$AC$15000,24,FALSE),2)),0)","v":0},{"$f":"+IFERROR(IF(VLOOKUP($B6,Presupuesto!$D$5:$AC$15000,25,FALSE)=0,ROUND($P6*VLOOKUP($B6,Presupuesto!$D$5:$AC$15000,25,FALSE),2),$P6-SUM(JN6:JS6)),0)","v":0},{"$f":"+IFERROR(SUM(JN6:JT6),0)","v":0},{"$f":"+IFERROR(ROUND($E6*VLOOKUP($B6,Presupuesto!$D$5:$AC$15000,19,FALSE),2),0)","v":0},{"$f":"+IFERROR(ROUND($E6*VLOOKUP($B6,Presupuesto!$D$5:$AC$15000,20,FALSE),2),0)","v":0},{"$f":"+IFERROR(ROUND($E6*VLOOKUP($B6,Presupuesto!$D$5:$AC$15000,21,FALSE),2),0)","v":0},{"$f":"+IFERROR(ROUND($E6*VLOOKUP($B6,Presupuesto!$D$5:$AC$15000,22,FALSE),2),0)","v":0},{"$f":"+IFERROR(IF(VLOOKUP($B6,Presupuesto!$D$5:$AC$15000,25,FALSE)=0,IF(VLOOKUP($B6,Presupuesto!$D$5:$AC$15000,24,FALSE),$E6-SUM(JV6:JY6),ROUND($E6*VLOOKUP($B6,Presupuesto!$D$5:$AC$15000,23,FALSE),2)),ROUND($E6*VLOOKUP($B6,Presupuesto!$D$5:$AC$15000,23,FALSE),2)),0)","v":0},{"$f":"+IFERROR(IF(VLOOKUP($B6,Presupuesto!$D$5:$AC$15000,25,FALSE)=0,$E6-SUM(JV6:JZ6),ROUND($E6*VLOOKUP($B6,Presupuesto!$D$5:$AC$15000,24,FALSE),2)),0)","v":0},{"$f":"+IFERROR(IF(VLOOKUP($B6,Presupuesto!$D$5:$AC$15000,25,FALSE)=0,ROUND($P6*VLOOKUP($B6,Presupuesto!$D$5:$AC$15000,25,FALSE),2),$E6-SUM(JV6:KA6)),0)","v":0},{"$f":"+IFERROR(SUM(JV6:KB6),0)","v":0},{"$f":"+IFERROR(VLOOKUP(B6,Presupuesto!$D$5:$I$14916,6,FALSE),0)","v":0}]
["TOTAL Municipio 1",null,null,null,{"$f":"SUM($E$6:$E$6)","v":0},null,null,null,null,null,{"$f":"SUM($K$6:$K$6)","v":0},null,{"$f":"SUM($M$6:$M$6)","v":0},null,null,{"$f":"SUM($P$6:$P$6)","v":0},{"$f":"SUM($Q$6:$Q$6)","v":0},{"$f":"SUM($R$6:$R$6)","v":0},null,null,null,{"$f":"SUM($V$6:$V$6)","v":0},{"$f":"SUM($W$6:$W$6)","v":0},{"$f":"SUM($X$6:$X$6)","v":0},{"$f":"SUM($Y$6:$Y$6)","v":0},{"$f":"SUM($Z$6:$Z$6)","v":0},{"$f":"SUM($AA$6:$AA$6)","v":0},{"$f":"SUM($AB$6:$AB$6)","v":0},{"$f":"SUM($AC$6:$AC$6)","v":0},{"$f":"SUM($AD$6:$AD$6)","v":0},{"$f":"SUM($AE$6:$AE$6)","v":0},{"$f":"SUM($AF$6:$AF$6)","v":0},{"$f":"SUM($AG$6:$AG$6)","v":0},{"$f":"SUM($AH$6:$AH$6)","v":0},{"$f":"SUM($AI$6:$AI$6)","v":0},{"$f":"SUM($AJ$6:$AJ$6)","v":0},{"$f":"SUM($AK$6:$AK$6)","v":0},{"$f":"SUM($AL$6:$AL$6)","v":0},{"$f":"SUM($AM$6:$AM$6)","v":0},{"$f":"SUM($AN$6:$AN$6)","v":0},{"$f":"SUM($AO$6:$AO$6)","v":0},{"$f":"AE7*AF7*AG7*AH7","v":0},{"$f":"SUM($AQ$6:$AQ$6)","v":0},{"$f":"SUM($AR$6:$AR$6)","v":0},{"$f":"SUM(AD7,AL7,AO7)","v":0},{"$f":"SUM(P7)","v":0},{"$f":"SUM($AU$6:$AU$6)","v":500000},{"$f":"SUM($AV$6:$AV$6)","v":555555.5555555555},0.9,{"$f":"+IFERROR(IF(V7=0,0,$KD7),0)","v":0},{"$f":"+IFERROR(IF(W7=0,0,$KD7),0)","v":0},{"$f":"+IFERROR(IF(X7=0,0,$KD7),0)","v":0},{"$f":"+IFERROR(IF(Y7=0,0,$KD7),0)","v":0},{"$f":"+IFERROR(IF(Z7=0,0,$KD7),0)","v":0},{"$f":"+IFERROR(IF(AA7=0,0,$KD7),0)","v":0},{"$f":"+IFERROR(IF(AB7=0,0,$KD7),0)","v":0},{"$f":"+IFERROR(IF(AC7=0,0,$KD7),0)","v":0},{"$f":"+SUM(AX7:BE7)","v":0},{"$f":"+IFERROR(IF(AE7=0,0,$KD7),0)","v":0},{"$f":"+IFERROR(IF(AF7=0,0,$KD7),0)","v":0},{"$f":"+IFERROR(IF(AG7=0,0,$KD7),0)","v":0},{"$f":"+IFERROR(IF(AH7=0,0,$KD7),0)","v":0},{"$f":"+IFERROR(IF(AI7=0,0,$KD7),0)","v":0},{"$f":"+IFERROR(IF(AJ7=0,0,$KD7),0)","v":0},{"$f":"+IFERROR(IF(AK7=0,0,$KD7),0)","v":0},{"$f":"+SUM(BG7:BM7)","v":0},{"$f":"+IFERROR(IF(AM7=0,0,$KD7),0)","v":0},{"$f":"+IFERROR(IF(AN7=0,0,$KD7),0)","v":0},{"$f":"+SUM(BO7:BP7)","v":0},{"$f":"+KD7","v":0},{"$f":"IFERROR(VLOOKUP(B7,Presupuesto!$D$5:$E$19854,2,FALSE),\"\")","v":""},0,0,0,0,0,0,0,0,0,0,0,0,0,0,0,0,0,0,0,0,0,0,0,0,0,0,0,0,0,0,0,0,0,0,0,0,0,0,0,0,0,0,0,0,0,0,0,0,0,0,0,0,0,0,0,0,0,0,0,0,0,0,0,0,0,0,0,0,0,0,0,0,0,0,0,0,0,0,0,0,0,0,0,0,0,0,0,0,0,0,0,0,0,0,0,0,0,0,0,0,null,0,0,0,0,0,0,0,0,0,0,0,0,0,0,0,0,0,0,0,0,0,0,0,0,0,0,0,0,0,0,0,0,0,0,0,0,0,0,0,0,0,0,0,0,0,0,0,0,0,0,0,0,0,0,0,0,0,0,0,0,0,0,0,0,0,0,0,0,0,0,0,0,0,0,0,0,0,0,0,0,0,0,0,0,0,0,0,0,0,0,0,0,0,0,0,0,0,0,0,0,null,{"$f":"+IFERROR(ROUND($P7*VLOOKUP($B7,Presupuesto!$D$5:$AC$15000,19,FALSE),2),0)","v":0},{"$f":"+IFERROR(ROUND($P7*VLOOKUP($B7,Presupuesto!$D$5:$AC$15000,20,FALSE),2),0)","v":0},{"$f":"+IFERROR(ROUND($P7*VLOOKUP($B7,Presupuesto!$D$5:$AC$15000,21,FALSE),2),0)","v":0},{"$f":"+IFERROR(ROUND($P7*VLOOKUP($B7,Presupuesto!$D$5:$AC$15000,22,FALSE),2),0)","v":0},{"$f":"+IFERROR(IF(VLOOKUP($B7,Presupuesto!$D$5:$AC$15000,25,FALSE)=0,IF(VLOOKUP($B7,Presupuesto!$D$5:$AC$15000,24,FALSE),$P7-SUM(JN7:JQ7),ROUND($P7*VLOOKUP($B7,Presupuesto!$D$5:$AC$15000,23,FALSE),2)),ROUND($P7*VLOOKUP($B7,Presupuesto!$D$5:$AC$15000,23,FALSE),2)),0)","v":0},{"$f":"+IFERROR(IF(VLOOKUP($B7,Presupuesto!$D$5:$AC$15000,25,FALSE)=0,$P7-SUM(JN7:JR7),ROUND($P7*VLOOKUP($B7,Presupuesto!$D$5:$AC$15000,24,FALSE),2)),0)","v":0},{"$f":"+IFERROR(IF(VLOOKUP($B7,Presupuesto!$D$5:$AC$15000,25,FALSE)=0,ROUND($P7*VLOOKUP($B7,Presupuesto!$D$5:$AC$15000,25,FALSE),2),$P7-SUM(JN7:JS7)),0)","v":0},{"$f":"+IFERROR(SUM(JN7:JT7),0)","v":0},{"$f":"+IFERROR(ROUND($E7*VLOOKUP($B7,Presupuesto!$D$5:$AC$15000,19,FALSE),2),0)","v":0},{"$f":"+IFERROR(ROUND($E7*VLOOKUP($B7,Presupuesto!$D$5:$AC$15000,20,FALSE),2),0)","v":0},{"$f":"+IFERROR(ROUND($E7*VLOOKUP($B7,Presupuesto!$D$5:$AC$15000,21,FALSE),2),0)","v":0},{"$f":"+IFERROR(ROUND($E7*VLOOKUP($B7,Presupuesto!$D$5:$AC$15000,22,FALSE),2),0)","v":0},{"$f":"+IFERROR(IF(VLOOKUP($B7,Presupuesto!$D$5:$AC$15000,25,FALSE)=0,IF(VLOOKUP($B7,Presupuesto!$D$5:$AC$15000,24,FALSE),$E7-SUM(JV7:JY7),ROUND($E7*VLOOKUP($B7,Presupuesto!$D$5:$AC$15000,23,FALSE),2)),ROUND($E7*VLOOKUP($B7,Presupuesto!$D$5:$AC$15000,23,FALSE),2)),0)","v":0},{"$f":"+IFERROR(IF(VLOOKUP($B7,Presupuesto!$D$5:$AC$15000,25,FALSE)=0,$E7-SUM(JV7:JZ7),ROUND($E7*VLOOKUP($B7,Presupuesto!$D$5:$AC$15000,24,FALSE),2)),0)","v":0},{"$f":"+IFERROR(IF(VLOOKUP($B7,Presupuesto!$D$5:$AC$15000,25,FALSE)=0,ROUND($P7*VLOOKUP($B7,Presupuesto!$D$5:$AC$15000,25,FALSE),2),$E7-SUM(JV7:KA7)),0)","v":0},{"$f":"+IFERROR(SUM(JV7:KB7),0)","v":0},{"$f":"+IFERROR(VLOOKUP(B7,Presupuesto!$D$5:$I$14916,6,FALSE),0)","v":0}]
["TOTALES",null,null,null,{"$f":"SUM(E6:E7)/2","v":0},null,null,null,null,null,{"$f":"SUM(K6:K7)/2","v":0},null,{"$f":"SUM(M6:M7)/2","v":0},null,null,{"$f":"SUM(P6:P7)/2","v":0},{"$f":"SUM(Q6:Q7)/2","v":0},{"$f":"SUM(R6:R7)/2","v":0},null,null,null,{"$f":"SUM(V6:V7)/2","v":0},0,0,0,0,0,0,0,0,0,0,0,0,0,0,0,0,0,0,0,null,null,null,{"$f":"SUM(AD8,AL8,AO8)","v":0},0.9,500000,555555.55559999996,0.9,0,0,0,0,0,0,0,0,0,0,0,0,0,0,0,0,0,0,0,0,0,{"$f":"IFERROR(VLOOKUP(B8,Presupuesto!$D$5:$E$19854,2,FALSE),\"\")","v":""},0,0,0,0,0,0,0,0,0,0,0,0,0,0,0,0,0,0,0,0,0,0,0,0,0,0,0,0,0,0,0,0,0,0,0,0,0,0,0,0,0,0,0,0,0,0,0,0,0,0,0,0,0,0,0,0,0,0,0,0,0,0,0,0,0,0,0,0,0,0,0,0,0,0,0,0,0,0,0,0,0,0,0,0,0,0,0,0,0,0,0,0,0,0,0,0,0,0,0,0,null,0,0,0,0,0,0,0,0,0,0,0,0,0,0,0,0,0,0,0,0,0,0,0,0,0,0,0,0,0,0,0,0,0,0,0,0,0,0,0,0,0,0,0,0,0,0,0,0,0,0,0,0,0,0,0,0,0,0,0,0,0,0,0,0,0,0,0,0,0,0,0,0,0,0,0,0,0,0,0,0,0,0,0,0,0,0,0,0,0,0,0,0,0,0,0,0,0,0,0,0,null,{"$f":"+IFERROR(ROUND($P8*VLOOKUP($B8,Presupuesto!$D$5:$AC$15000,19,FALSE),2),0)","v":0},{"$f":"+IFERROR(ROUND($P8*VLOOKUP($B8,Presupuesto!$D$5:$AC$15000,20,FALSE),2),0)","v":0},{"$f":"+IFERROR(ROUND($P8*VLOOKUP($B8,Presupuesto!$D$5:$AC$15000,21,FALSE),2),0)","v":0},{"$f":"+IFERROR(ROUND($P8*VLOOKUP($B8,Presupuesto!$D$5:$AC$15000,22,FALSE),2),0)","v":0},{"$f":"+IFERROR(IF(VLOOKUP($B8,Presupuesto!$D$5:$AC$15000,25,FALSE)=0,IF(VLOOKUP($B8,Presupuesto!$D$5:$AC$15000,24,FALSE),$P8-SUM(JN8:JQ8),ROUND($P8*VLOOKUP($B8,Presupuesto!$D$5:$AC$15000,23,FALSE),2)),ROUND($P8*VLOOKUP($B8,Presupuesto!$D$5:$AC$15000,23,FALSE),2)),0)","v":0},{"$f":"+IFERROR(IF(VLOOKUP($B8,Presupuesto!$D$5:$AC$15000,25,FALSE)=0,$P8-SUM(JN8:JR8),ROUND($P8*VLOOKUP($B8,Presupuesto!$D$5:$AC$15000,24,FALSE),2)),0)","v":0},{"$f":"+IFERROR(IF(VLOOKUP($B8,Presupuesto!$D$5:$AC$15000,25,FALSE)=0,ROUND($P8*VLOOKUP($B8,Presupuesto!$D$5:$AC$15000,25,FALSE),2),$P8-SUM(JN8:JS8)),0)","v":0},0,{"$f":"+IFERROR(ROUND($E8*VLOOKUP($B8,Presupuesto!$D$5:$AC$15000,19,FALSE),2),0)","v":0},{"$f":"+IFERROR(ROUND($E8*VLOOKUP($B8,Presupuesto!$D$5:$AC$15000,20,FALSE),2),0)","v":0},{"$f":"+IFERROR(ROUND($E8*VLOOKUP($B8,Presupuesto!$D$5:$AC$15000,21,FALSE),2),0)","v":0},{"$f":"+IFERROR(ROUND($E8*VLOOKUP($B8,Presupuesto!$D$5:$AC$15000,22,FALSE),2),0)","v":0},{"$f":"+IFERROR(IF(VLOOKUP($B8,Presupuesto!$D$5:$AC$15000,25,FALSE)=0,IF(VLOOKUP($B8,Presupuesto!$D$5:$AC$15000,24,FALSE),$E8-SUM(JV8:JY8),ROUND($E8*VLOOKUP($B8,Presupuesto!$D$5:$AC$15000,23,FALSE),2)),ROUND($E8*VLOOKUP($B8,Presupuesto!$D$5:$AC$15000,23,FALSE),2)),0)","v":0},{"$f":"+IFERROR(IF(VLOOKUP($B8,Presupuesto!$D$5:$AC$15000,25,FALSE)=0,$E8-SUM(JV8:JZ8),ROUND($E8*VLOOKUP($B8,Presupuesto!$D$5:$AC$15000,24,FALSE),2)),0)","v":0},{"$f":"+IFERROR(IF(VLOOKUP($B8,Presupuesto!$D$5:$AC$15000,25,FALSE)=0,ROUND($P8*VLOOKUP($B8,Presupuesto!$D$5:$AC$15000,25,FALSE),2),$E8-SUM(JV8:KA8)),0)","v":0},0,{"$f":"+IFERROR(VLOOKUP(B8,Presupuesto!$D$5:$I$14916,6,FALSE),0)","v":0}]

{"sheet":"Cálculos Anticipos","index":8,"n_rows":509,"n_cols":120,"rows_kept":509,"cut":false,"hidden":false,"merged":[[490,1,493,1],[495,1,498,1],[500,1,503,1],[465,1,468,1],[470,1,473,1],[475,1,478,1],[480,1,483,1],[485,1,488,1],[440,1,443,1],[445,1,448,1],[450,1,453,1],[455,1,458,1],[460,1,463,1],[415,1,418,1],[420,1,423,1],[425,1,428,1],[430,1,433,1],[435,1,438,1],[390,1,393,1],[395,1,398,1],[400,1,403,1],[405,1,408,1],[410,1,413,1],[365,1,368,1],[370,1,373,1],[375,1,378,1],[380,1,383,1],[385,1,388,1],[340,1,343,1],[345,1,348,1],[350,1,353,1],[355,1,358,1],[360,1,363,1],[315,1,318,1],[320,1,323,1],[325,1,328,1],[330,1,333,1],[335,1,338,1],[290,1,293,1],[295,1,298,1],[300,1,303,1],[305,1,308,1],[310,1,313,1],[265,1,268,1],[270,1,273,1],[275,1,278,1],[280,1,283,1],[285,1,288,1],[240,1,243,1],[245,1,248,1],[250,1,253,1],[255,1,258,1],[260,1,263,1],[215,1,218,1],[220,1,223,1],[225,1,228,1],[230,1,233,1],[235,1,238,1],[190,1,193,1],[195,1,198,1],[200,1,203,1],[205,1,208,1],[210,1,213,1],[500,0,503,0],[115,1,118,1],[120,1,123,1],[125,1,128,1],[130,1,133,1],[135,1,138,1],[140,1,143,1],[145,1,148,1],[150,1,153,1],[155,1,158,1],[160,1,163,1],[165,1,168,1],[170,1,173,1],[175,1,178,1],[180,1,183,1],[185,1,188,1],[475,0,478,0],[480,0,483,0],[485,0,488,0],[490,0,493,0],[495,0,498,0],[450,0,453,0],[455,0,458,0],[460,0,463,0],[465,0,468,0],[470,0,473,0],[425,0,428,0],[430,0,433,0],[435,0,438,0],[440,0,443,0],[445,0,448,0],[400,0,403,0],[405,0,408,0],[410,0,413,0],[415,0,418,0],[420,0,423,0],[375,0,378,0],[380,0,383,0],[385,0,388,0],[390,0,393,0],[395,0,398,0],[350,0,353,0],[355,0,358,0],[360,0,363,0],[365,0,368,0],[370,0,373,0],[325,0,328,0],[330,0,333,0],[335,0,338,0],[340,0,343,0],[345,0,348,0],[300,0,303,0],[305,0,308,0],[310,0,313,0],[315,0,318,0],[320,0,323,0],[275,0,278,0],[280,0,283,0],[285,0,288,0],[290,0,293,0],[295,0,298,0],[250,0,253,0],[255,0,258,0],[260,0,263,0],[265,0,268,0],[270,0,273,0],[225,0,228,0],[230,0,233,0],[235,0,238,0],[240,0,243,0],[245,0,248,0],[200,0,203,0],[205,0,208,0],[210,0,213,0],[215,0,218,0],[220,0,223,0],[175,0,178,0],[180,0,183,0],[185,0,188,0],[190,0,193,0],[195,0,198,0],[150,0,153,0],[155,0,158,0],[160,0,163,0],[165,0,168,0],[170,0,173,0],[125,0,128,0],[130,0,133,0],[135,0,138,0],[140,0,143,0],[145,0,148,0],[1,1,1,17],[2,1,2,17],[3,0,3,17],[30,0,33,0],[30,1,33,1],[5,0,8,0],[5,1,8,1],[10,0,13,0],[10,1,13,1],[15,0,18,0],[15,1,18,1],[20,0,23,0],[20,1,23,1],[25,0,28,0],[25,1,28,1],[35,0,38,0],[35,1,38,1],[40,0,43,0],[85,1,88,1],[40,1,43,1],[45,0,48,0],[45,1,48,1],[50,0,53,0],[50,1,53,1],[55,0,58,0],[55,1,58,1],[60,0,63,0],[60,1,63,1],[0,0,0,11],[90,0,93,0],[90,1,93,1],[505,0,508,0],[505,1,508,1],[95,0,98,0],[95,1,98,1],[100,0,103,0],[100,1,103,1],[105,1,108,1],[110,1,113,1],[105,0,108,0],[110,0,113,0],[115,0,118,0],[120,0,123,0],[65,0,68,0],[65,1,68,1],[70,0,73,0],[70,1,73,1],[75,0,78,0],[75,1,78,1],[80,0,83,0],[80,1,83,1],[85,0,88,0]]}
["Tercera convocatoria de subvenciones (2024) en concurrencia competitiva\nde proyectos de mejora de la eficiencia del ciclo urbano del agua \n(PERTE digitalización del ciclo del agua), en el marco del \nPlan de Recuperación, Transformación y Resiliencia",null,null,null,null,null,null,null,null,null,null,null,null,null,null,null,null,null,null,{"$f":"+Intensidades!BT4","v":"ENTIDAD 1"},{"$f":"+Intensidades!BU4","v":0},{"$f":"+Intensidades!BV4","v":0},{"$f":"+Intensidades!BW4","v":0},{"$f":"+Intensidades!BX4","v":0},{"$f":"+Intensidades!BY4","v":0},{"$f":"+Intensidades!BZ4","v":0},{"$f":"+Intensidades!CA4","v":0},{"$f":"+Intensidades!CB4","v":0},{"$f":"+Intensidades!CC4","v":0},{"$f":"+Intensidades!CD4","v":0},{"$f":"+Intensidades!CE4","v":0},{"$f":"+Intensidades!CF4","v":0},{"$f":"+Intensidades!CG4","v":0},{"$f":"+Intensidades!CH4","v":0},{"$f":"+Intensidades!CI4","v":0},{"$f":"+Intensidades!CJ4","v":0},{"$f":"+Intensidades!CK4","v":0},{"$f":"+Intensidades!CL4","v":0},{"$f":"+Intensidades!CM4","v":0},{"$f":"+Intensidades!CN4","v":0},{"$f":"+Intensidades!CO4","v":0},{"$f":"+Intensidades!CP4","v":0},{"$f":"+Intensidades!CQ4","v":0},{"$f":"+Intensidades!CR4","v":0},{"$f":"+Intensidades!CS4","v":0},{"$f":"+Intensidades!CT4","v":0},{"$f":"+Intensidades!CU4","v":0},{"$f":"+Intensidades!CV4","v":0},{"$f":"+Intensidades!CW4","v":0},{"$f":"+Intensidades!CX4","v":0},{"$f":"+Intensidades!CY4","v":0},{"$f":"+Intensidades!CZ4","v":0},{"$f":"+Intensidades!DA4","v":0},{"$f":"+Intensidades!DB4","v":0},{"$f":"+Intensidades!DC4","v":0},{"$f":"+Intensidades!DD4","v":0},{"$f":"+Intensidades!DE4","v":0},{"$f":"+Intensidades!DF4","v":0},{"$f":"+Intensidades!DG4","v":0},{"$f":"+Intensidades!DH4","v":0},{"$f":"+Intensidades!DI4","v":0},{"$f":"+Intensidades!DJ4","v":0},{"$f":"+Intensidades!DK4","v":0},{"$f":"+Intensidades!DL4","v":0},{"$f":"+Intensidades!DM4","v":0},{"$f":"+Intensidades!DN4","v":0},{"$f":"+Intensidades!DO4","v":0},{"$f":"+Intensidades!DP4","v":0},{"$f":"+Intensidades!DQ4","v":0},{"$f":"+Intensidades!DR4","v":0},{"$f":"+Intensidades!DS4","v":0},{"$f":"+Intensidades!DT4","v":0},{"$f":"+Intensidades!DU4","v":0},{"$f":"+Intensidades!DV4","v":0},{"$f":"+Intensidades!DW4","v":0},{"$f":"+Intensidades!DX4","v":0},{"$f":"+Intensidades!DY4","v":0},{"$f":"+Intensidades!DZ4","v":0},{"$f":"+Intensidades!EA4","v":0},{"$f":"+Intensidades!EB4","v":0},{"$f":"+Intensidades!EC4","v":0},{"$f":"+Intensidades!ED4","v":0},{"$f":"+Intensidades!EE4","v":0},{"$f":"+Intensidades!EF4","v":0},{"$f":"+Intensidades!EG4","v":0},{"$f":"+Intensidades!EH4","v":0},{"$f":"+Intensidades!EI4","v":0},{"$f":"+Intensidades!EJ4","v":0},{"$f":"+Intensidades!EK4","v":0},{"$f":"+Intensidades!EL4","v":0},{"$f":"+Intensidades!EM4","v":0},{"$f":"+Intensidades!EN4","v":0},{"$f":"+Intensidades!EO4","v":0},{"$f":"+Intensidades!EP4","v":0},{"$f":"+Intensidades!EQ4","v":0},{"$f":"+Intensidades!ER4","v":0},{"$f":"+Intensidades!ES4","v":0},{"$f":"+Intensidades!ET4","v":0},{"$f":"+Intensidades!EU4","v":0},{"$f":"+Intensidades!EV4","v":0},{"$f":"+Intensidades!EW4","v":0},{"$f":"+Intensidades!EX4","v":0},{"$f":"+Intensidades!EY4","v":0},{"$f":"+Intensidades!EZ4","v":0},{"$f":"+Intensidades!FA4","v":0},{"$f":"+Intensidades!FB4","v":0},{"$f":"+Intensidades!FC4","v":0},{"$f":"+Intensidades!FD4","v":0},{"$f":"+Intensidades!FE4","v":0},{"$f":"+Intensidades!FF4","v":0},{"$f":"+Intensidades!FG4","v":0},{"$f":"+Intensidades!FH4","v":0},{"$f":"+Intensidades!FI4","v":0},{"$f":"+Intensidades!FJ4","v":0},{"$f":"+Intensidades!FK4","v":0},{"$f":"+Intensidades!FL4","v":0},{"$f":"+Intensidades!FM4","v":0},{"$f":"+Intensidades!FN4","v":0},{"$f":"+Intensidades!FO4","v":0}]
["TÍTULO:",{"$f":"+'Datos Previos'!E6","v":0},null,null,null,null,null,null,null,null,null,null,null,null,null,null,null,null,null,{"$f":"+Intensidades!BT1","v":"SUBVENCIONABLE"},{"$f":"+Intensidades!BU1","v":2},{"$f":"+Intensidades!BV1","v":3},{"$f":"+Intensidades!BW1","v":4},{"$f":"+Intensidades!BX1","v":5},{"$f":"+Intensidades!BY1","v":6},{"$f":"+Intensidades!BZ1","v":7},{"$f":"+Intensidades!CA1","v":8},{"$f":"+Intensidades!CB1","v":9},{"$f":"+Intensidades!CC1","v":10},{"$f":"+Intensidades!CD1","v":11},{"$f":"+Intensidades!CE1","v":12},{"$f":"+Intensidades!CF1","v":13},{"$f":"+Intensidades!CG1","v":14},{"$f":"+Intensidades!CH1","v":15},{"$f":"+Intensidades!CI1","v":16},{"$f":"+Intensidades!CJ1","v":17},{"$f":"+Intensidades!CK1","v":18},{"$f":"+Intensidades!CL1","v":19},{"$f":"+Intensidades!CM1","v":20},{"$f":"+Intensidades!CN1","v":21},{"$f":"+Intensidades!CO1","v":22},{"$f":"+Intensidades!CP1","v":23},{"$f":"+Intensidades!CQ1","v":24},{"$f":"+Intensidades!CR1","v":25},{"$f":"+Intensidades!CS1","v":26},{"$f":"+Intensidades!CT1","v":27},{"$f":"+Intensidades!CU1","v":28},{"$f":"+Intensidades!CV1","v":29},{"$f":"+Intensidades!CW1","v":30},{"$f":"+Intensidades!CX1","v":31},{"$f":"+Intensidades!CY1","v":32},{"$f":"+Intensidades!CZ1","v":33},{"$f":"+Intensidades!DA1","v":34},{"$f":"+Intensidades!DB1","v":35},{"$f":"+Intensidades!DC1","v":36},{"$f":"+Intensidades!DD1","v":37},{"$f":"+Intensidades!DE1","v":38},{"$f":"+Intensidades!DF1","v":39},{"$f":"+Intensidades!DG1","v":40},{"$f":"+Intensidades!DH1","v":41},{"$f":"+Intensidades!DI1","v":42},{"$f":"+Intensidades!DJ1","v":43},{"$f":"+Intensidades!DK1","v":44},{"$f":"+Intensidades!DL1","v":45},{"$f":"+Intensidades!DM1","v":46},{"$f":"+Intensidades!DN1","v":47},{"$f":"+Intensidades!DO1","v":48},{"$f":"+Intensidades!DP1","v":49},{"$f":"+Intensidades!DQ1","v":50},{"$f":"+Intensidades!DR1","v":51},{"$f":"+Intensidades!DS1","v":52},{"$f":"+Intensidades!DT1","v":53},{"$f":"+Intensidades!DU1","v":54},{"$f":"+Intensidades!DV1","v":55},{"$f":"+Intensidades!DW1","v":56},{"$f":"+Intensidades!DX1","v":57},{"$f":"+Intensidades!DY1","v":58},{"$f":"+Intensidades!DZ1","v":59},{"$f":"+Intensidades!EA1","v":60},{"$f":"+Intensidades!EB1","v":61},{"$f":"+Intensidades!EC1","v":62},{"$f":"+Intensidades!ED1","v":63},{"$f":"+Intensidades!EE1","v":64},{"$f":"+Intensidades!EF1","v":65},{"$f":"+Intensidades!EG1","v":66},{"$f":"+Intensidades!EH1","v":67},{"$f":"+Intensidades!EI1","v":68},{"$f":"+Intensidades!EJ1","v":69},{"$f":"+Intensidades!EK1","v":70},{"$f":"+Intensidades!EL1","v":71},{"$f":"+Intensidades!EM1","v":72},{"$f":"+Intensidades!EN1","v":73},{"$f":"+Intensidades!EO1","v":74},{"$f":"+Intensidades!EP1","v":75},{"$f":"+Intensidades!EQ1","v":76},{"$f":"+Intensidades!ER1","v":77},{"$f":"+Intensidades!ES1","v":78},{"$f":"+Intensidades!ET1","v":79},{"$f":"+Intensidades!EU1","v":80},{"$f":"+Intensidades!EV1","v":81},{"$f":"+Intensidades!EW1","v":82},{"$f":"+Intensidades!EX1","v":83},{"$f":"+Intensidades!EY1","v":84},{"$f":"+Intensidades!EZ1","v":85},{"$f":"+Intensidades!FA1","v":86},{"$f":"+Intensidades!FB1","v":87},{"$f":"+Intensidades!FC1","v":88},{"$f":"+Intensidades!FD1","v":89},{"$f":"+Intensidades!FE1","v":90},{"$f":"+Intensidades!FF1","v":91},{"$f":"+Intensidades!FG1","v":92},{"$f":"+Intensidades!FH1","v":93},{"$f":"+Intensidades!FI1","v":94},{"$f":"+Intensidades!FJ1","v":95},{"$f":"+Intensidades!FK1","v":96},{"$f":"+Intensidades!FL1","v":97},{"$f":"+Intensidades!FM1","v":98},{"$f":"+Intensidades!FN1","v":99},{"$f":"+Intensidades!FO1","v":100}]
["SOLICITANTE:",{"$f":"+'Datos Previos'!E14","v":0},null,null,null,null,null,null,null,null,null,null,null,null,null,null,null,null,null,{"$f":"+Intensidades!BT3","v":0},{"$f":"+Intensidades!BU3","v":0},{"$f":"+Intensidades!BV3","v":0},{"$f":"+Intensidades!BW3","v":0},{"$f":"+Intensidades!BX3","v":0},{"$f":"+Intensidades!BY3","v":0},{"$f":"+Intensidades!BZ3","v":0},{"$f":"+Intensidades!CA3","v":0},{"$f":"+Intensidades!CB3","v":0},{"$f":"+Intensidades!CC3","v":0},{"$f":"+Intensidades!CD3","v":0},{"$f":"+Intensidades!CE3","v":0},{"$f":"+Intensidades!CF3","v":0},{"$f":"+Intensidades!CG3","v":0},{"$f":"+Intensidades!CH3","v":0},{"$f":"+Intensidades!CI3","v":0},{"$f":"+Intensidades!CJ3","v":0},{"$f":"+Intensidades!CK3","v":0},{"$f":"+Intensidades!CL3","v":0},{"$f":"+Intensidades!CM3","v":0},{"$f":"+Intensidades!CN3","v":0},{"$f":"+Intensidades!CO3","v":0},{"$f":"+Intensidades!CP3","v":0},{"$f":"+Intensidades!CQ3","v":0},{"$f":"+Intensidades!CR3","v":0},{"$f":"+Intensidades!CS3","v":0},{"$f":"+Intensidades!CT3","v":0},{"$f":"+Intensidades!CU3","v":0},{"$f":"+Intensidades!CV3","v":0},{"$f":"+Intensidades!CW3","v":0},{"$f":"+Intensidades!CX3","v":0},{"$f":"+Intensidades!CY3","v":0},{"$f":"+Intensidades!CZ3","v":0},{"$f":"+Intensidades!DA3","v":0},{"$f":"+Intensidades!DB3","v":0},{"$f":"+Intensidades!DC3","v":0},{"$f":"+Intensidades!DD3","v":0},{"$f":"+Intensidades!DE3","v":0},{"$f":"+Intensidades!DF3","v":0},{"$f":"+Intensidades!DG3","v":0},{"$f":"+Intensidades!DH3","v":0},{"$f":"+Intensidades!DI3","v":0},{"$f":"+Intensidades!DJ3","v":0},{"$f":"+Intensidades!DK3","v":0},{"$f":"+Intensidades!DL3","v":0},{"$f":"+Intensidades!DM3","v":0},{"$f":"+Intensidades!DN3","v":0},{"$f":"+Intensidades!DO3","v":0},{"$f":"+Intensidades!DP3","v":0},{"$f":"+Intensidades!DQ3","v":0},{"$f":"+Intensidades!DR3","v":0},{"$f":"+Intensidades!DS3","v":0},{"$f":"+Intensidades!DT3","v":0},{"$f":"+Intensidades!DU3","v":0},{"$f":"+Intensidades!DV3","v":0},{"$f":"+Intensidades!DW3","v":0},{"$f":"+Intensidades!DX3","v":0},{"$f":"+Intensidades!DY3","v":0},{"$f":"+Intensidades!DZ3","v":0},{"$f":"+Intensidades!EA3","v":0},{"$f":"+Intensidades!EB3","v":0},{"$f":"+Intensidades!EC3","v":0},{"$f":"+Intensidades!ED3","v":0},{"$f":"+Intensidades!EE3","v":0},{"$f":"+Intensidades!EF3","v":0},{"$f":"+Intensidades!EG3","v":0},{"$f":"+Intensidades!EH3","v":0},{"$f":"+Intensidades!EI3","v":0},{"$f":"+Intensidades!EJ3","v":0},{"$f":"+Intensidades!EK3","v":0},{"$f":"+Intensidades!EL3","v":0},{"$f":"+Intensidades!EM3","v":0},{"$f":"+Intensidades!EN3","v":0},{"$f":"+Intensidades!EO3","v":0},{"$f":"+Intensidades!EP3","v":0},{"$f":"+Intensidades!EQ3","v":0},{"$f":"+Intensidades!ER3","v":0},{"$f":"+Intensidades!ES3","v":0},{"$f":"+Intensidades!ET3","v":0},{"$f":"+Intensidades!EU3","v":0},{"$f":"+Intensidades!EV3","v":0},{"$f":"+Intensidades!EW3","v":0},{"$f":"+Intensidades!EX3","v":0},{"$f":"+Intensidades!EY3","v":0},{"$f":"+Intensidades!EZ3","v":0},{"$f":"+Intensidades!FA3","v":0},{"$f":"+Intensidades!FB3","v":0},{"$f":"+Intensidades!FC3","v":0},{"$f":"+Intensidades!FD3","v":0},{"$f":"+Intensidades!FE3","v":0},{"$f":"+Intensidades!FF3","v":0},{"$f":"+Intensidades!FG3","v":0},{"$f":"+Intensidades!FH3","v":0},{"$f":"+Intensidades!FI3","v":0},{"$f":"+Intensidades!FJ3","v":0},{"$f":"+Intensidades!FK3","v":0},{"$f":"+Intensidades!FL3","v":0},{"$f":"+Intensidades!FM3","v":0},{"$f":"+Intensidades!FN3","v":0},{"$f":"+Intensidades!FO3","v":0},{"$f":"+Intensidades!FP3","v":0}]
["ANTICIPOS POR ENTIDADES",null,null,null,null,null,null,null,null,null,null,null,null,null,null,null,null,null,null,{"$f":"+Intensidades!FQ1","v":"AYUDA"},{"$f":"+Intensidades!FR1","v":2},{"$f":"+Intensidades!FS1","v":3},{"$f":"+Intensidades!FT1","v":4},{"$f":"+Intensidades!FU1","v":5},{"$f":"+Intensidades!FV1","v":6},{"$f":"+Intensidades!FW1","v":7},{"$f":"+Intensidades!FX1","v":8},{"$f":"+Intensidades!FY1","v":9},{"$f":"+Intensidades!FZ1","v":10},{"$f":"+Intensidades!GA1","v":11},{"$f":"+Intensidades!GB1","v":12},{"$f":"+Intensidades!GC1","v":13},{"$f":"+Intensidades!GD1","v":14},{"$f":"+Intensidades!GE1","v":15},{"$f":"+Intensidades!GF1","v":16},{"$f":"+Intensidades!GG1","v":17},{"$f":"+Intensidades!GH1","v":18},{"$f":"+Intensidades!GI1","v":19},{"$f":"+Intensidades!GJ1","v":20},{"$f":"+Intensidades!GK1","v":21},{"$f":"+Intensidades!GL1","v":22},{"$f":"+Intensidades!GM1","v":23},{"$f":"+Intensidades!GN1","v":24},{"$f":"+Intensidades!GO1","v":25},{"$f":"+Intensidades!GP1","v":26},{"$f":"+Intensidades!GQ1","v":27},{"$f":"+Intensidades!GR1","v":28},{"$f":"+Intensidades!GS1","v":29},{"$f":"+Intensidades!GT1","v":30},{"$f":"+Intensidades!GU1","v":31},{"$f":"+Intensidades!GV1","v":32},{"$f":"+Intensidades!GW1","v":33},{"$f":"+Intensidades!GX1","v":34},{"$f":"+Intensidades!GY1","v":35},{"$f":"+Intensidades!GZ1","v":36},{"$f":"+Intensidades!HA1","v":37},{"$f":"+Intensidades!HB1","v":38},{"$f":"+Intensidades!HC1","v":39},{"$f":"+Intensidades!HD1","v":40},{"$f":"+Intensidades!HE1","v":41},{"$f":"+Intensidades!HF1","v":42},{"$f":"+Intensidades!HG1","v":43},{"$f":"+Intensidades!HH1","v":44},{"$f":"+Intensidades!HI1","v":45},{"$f":"+Intensidades!HJ1","v":46},{"$f":"+Intensidades!HK1","v":47},{"$f":"+Intensidades!HL1","v":48},{"$f":"+Intensidades!HM1","v":49},{"$f":"+Intensidades!HN1","v":50},{"$f":"+Intensidades!HO1","v":51},{"$f":"+Intensidades!HP1","v":52},{"$f":"+Intensidades!HQ1","v":53},{"$f":"+Intensidades!HR1","v":54},{"$f":"+Intensidades!HS1","v":55},{"$f":"+Intensidades!HT1","v":56},{"$f":"+Intensidades!HU1","v":57},{"$f":"+Intensidades!HV1","v":58},{"$f":"+Intensidades!HW1","v":59},{"$f":"+Intensidades!HX1","v":60},{"$f":"+Intensidades!HY1","v":61},{"$f":"+Intensidades!HZ1","v":62},{"$f":"+Intensidades!IA1","v":63},{"$f":"+Intensidades!IB1","v":64},{"$f":"+Intensidades!IC1","v":65},{"$f":"+Intensidades!ID1","v":66},{"$f":"+Intensidades!IE1","v":67},{"$f":"+Intensidades!IF1","v":68},{"$f":"+Intensidades!IG1","v":69},{"$f":"+Intensidades!IH1","v":70},{"$f":"+Intensidades!II1","v":71},{"$f":"+Intensidades!IJ1","v":72},{"$f":"+Intensidades!IK1","v":73},{"$f":"+Intensidades!IL1","v":74},{"$f":"+Intensidades!IM1","v":75},{"$f":"+Intensidades!IN1","v":76},{"$f":"+Intensidades!IO1","v":77},{"$f":"+Intensidades!IP1","v":78},{"$f":"+Intensidades!IQ1","v":79},{"$f":"+Intensidades!IR1","v":80},{"$f":"+Intensidades!IS1","v":81},{"$f":"+Intensidades!IT1","v":82},{"$f":"+Intensidades!IU1","v":83},{"$f":"+Intensidades!IV1","v":84},{"$f":"+Intensidades!IW1","v":85},{"$f":"+Intensidades!IX1","v":86},{"$f":"+Intensidades!IY1","v":87},{"$f":"+Intensidades!IZ1","v":88},{"$f":"+Intensidades!JA1","v":89},{"$f":"+Intensidades!JB1","v":90},{"$f":"+Intensidades!JC1","v":91},{"$f":"+Intensidades!JD1","v":92},{"$f":"+Intensidades!JE1","v":93},{"$f":"+Intensidades!JF1","v":94},{"$f":"+Intensidades!JG1","v":95},{"$f":"+Intensidades!JH1","v":96},{"$f":"+Intensidades!JI1","v":97},{"$f":"+Intensidades!JJ1","v":98},{"$f":"+Intensidades!JK1","v":99},{"$f":"+Intensidades!JL1","v":100}]
[null,null,null,2020,{"$f":"+D5+1","v":2021},2022,2023,2024,2025,2026,"Totales","Comprobación Totales por Entidad",null,null,null,null,null,null,"no hay",{"$f":"+Intensidades!FQ3","v":0},{"$f":"+Intensidades!FR3","v":0},{"$f":"+Intensidades!FS3","v":0},{"$f":"+Intensidades!FT3","v":0},{"$f":"+Intensidades!FU3","v":0},{"$f":"+Intensidades!FV3","v":0},{"$f":"+Intensidades!FW3","v":0},{"$f":"+Intensidades!FX3","v":0},{"$f":"+Intensidades!FY3","v":0},{"$f":"+Intensidades!FZ3","v":0},{"$f":"+Intensidades!GA3","v":0},{"$f":"+Intensidades!GB3","v":0},{"$f":"+Intensidades!GC3","v":0},{"$f":"+Intensidades!GD3","v":0},{"$f":"+Intensidades!GE3","v":0},{"$f":"+Intensidades!GF3","v":0},{"$f":"+Intensidades!GG3","v":0},{"$f":"+Intensidades!GH3","v":0},{"$f":"+Intensidades!GI3","v":0},{"$f":"+Intensidades!GJ3","v":0},{"$f":"+Intensidades!GK3","v":0},{"$f":"+Intensidades!GL3","v":0},{"$f":"+Intensidades!GM3","v":0},{"$f":"+Intensidades!GN3","v":0},{"$f":"+Intensidades!GO3","v":0},{"$f":"+Intensidades!GP3","v":0},{"$f":"+Intensidades!GQ3","v":0},{"$f":"+Intensidades!GR3","v":0},{"$f":"+Intensidades!GS3","v":0},{"$f":"+Intensidades!GT3","v":0},{"$f":"+Intensidades!GU3","v":0},{"$f":"+Intensidades!GV3","v":0},{"$f":"+Intensidades!GW3","v":0},{"$f":"+Intensidades!GX3","v":0},{"$f":"+Intensidades!GY3","v":0},{"$f":"+Intensidades!GZ3","v":0},{"$f":"+Intensidades!HA3","v":0},{"$f":"+Intensidades!HB3","v":0},{"$f":"+Intensidades!HC3","v":0},{"$f":"+Intensidades!HD3","v":0},{"$f":"+Intensidades!HE3","v":0},{"$f":"+Intensidades!HF3","v":0},{"$f":"+Intensidades!HG3","v":0},{"$f":"+Intensidades!HH3","v":0},{"$f":"+Intensidades!HI3","v":0},{"$f":"+Intensidades!HJ3","v":0},{"$f":"+Intensidades!HK3","v":0},{"$f":"+Intensidades!HL3","v":0},{"$f":"+Intensidades!HM3","v":0},{"$f":"+Intensidades!HN3","v":0},{"$f":"+Intensidades!HO3","v":0},{"$f":"+Intensidades!HP3","v":0},{"$f":"+Intensidades!HQ3","v":0},{"$f":"+Intensidades!HR3","v":0},{"$f":"+Intensidades!HS3","v":0},{"$f":"+Intensidades!HT3","v":0},{"$f":"+Intensidades!HU3","v":0},{"$f":"+Intensidades!HV3","v":0},{"$f":"+Intensidades!HW3","v":0},{"$f":"+Intensidades!HX3","v":0},{"$f":"+Intensidades!HY3","v":0},{"$f":"+Intensidades!HZ3","v":0},{"$f":"+Intensidades!IA3","v":0},{"$f":"+Intensidades!IB3","v":0},{"$f":"+Intensidades!IC3","v":0},{"$f":"+Intensidades!ID3","v":0},{"$f":"+Intensidades!IE3","v":0},{"$f":"+Intensidades!IF3","v":0},{"$f":"+Intensidades!IG3","v":0},{"$f":"+Intensidades!IH3","v":0},{"$f":"+Intensidades!II3","v":0},{"$f":"+Intensidades!IJ3","v":0},{"$f":"+Intensidades!IK3","v":0},{"$f":"+Intensidades!IL3","v":0},{"$f":"+Intensidades!IM3","v":0},{"$f":"+Intensidades!IN3","v":0},{"$f":"+Intensidades!IO3","v":0},{"$f":"+Intensidades!IP3","v":0},{"$f":"+Intensidades!IQ3","v":0},{"$f":"+Intensidades!IR3","v":0},{"$f":"+Intensidades!IS3","v":0},{"$f":"+Intensidades!IT3","v":0},{"$f":"+Intensidades!IU3","v":0},{"$f":"+Intensidades!IV3","v":0},{"$f":"+Intensidades!IW3","v":0},{"$f":"+Intensidades!IX3","v":0},{"$f":"+Intensidades!IY3","v":0},{"$f":"+Intensidades!IZ3","v":0},{"$f":"+Intensidades!JA3","v":0},{"$f":"+Intensidades!JB3","v":0},{"$f":"+Intensidades!JC3","v":0},{"$f":"+Intensidades!JD3","v":0},{"$f":"+Intensidades!JE3","v":0},{"$f":"+Intensidades!JF3","v":0},{"$f":"+Intensidades!JG3","v":0},{"$f":"+Intensidades!JH3","v":0},{"$f":"+Intensidades!JI3","v":0},{"$f":"+Intensidades!JJ3","v":0},{"$f":"+Intensidades!JK3","v":0},{"$f":"+Intensidades!JL3","v":0}]
[{"$f":"+'Datos Previos'!E32","v":"ENTIDAD 1"},{"$f":"+IF(A6=$T$106,\"no hay\",S6)","v":0},"IMPORTE SUBVENCIONABLE",{"$f":"+SUMIF(Intensidades!$BS$6:$BS$15000,'Cálculos Anticipos'!$B6,Intensidades!JV6:JV15000)","v":0},{"$f":"+SUMIF(Intensidades!$BS$6:$BT$15000,'Cálculos Anticipos'!$B6,Intensidades!$JW$6:$JW$15000)","v":0},{"$f":"+SUMIF(Intensidades!$BS$6:$BU$15000,'Cálculos Anticipos'!$B6,Intensidades!$JX$6:$JX$15000)","v":0},{"$f":"+SUMIF(Intensidades!$BS$6:$BV$15000,'Cálculos Anticipos'!$B6,Intensidades!$JY$6:$JY$15000)","v":0},{"$f":"+SUMIF(Intensidades!$BS$6:$BW$15000,'Cálculos Anticipos'!$B6,Intensidades!$JZ$6:$JZ$15000)","v":0},{"$f":"+SUMIF(Intensidades!$BS$6:$BX$15000,'Cálculos Anticipos'!$B6,Intensidades!$KA$6:$KA$15000)","v":0},{"$f":"+SUMIF(Intensidades!$BS$6:$BY$15000,'Cálculos Anticipos'!$B6,Intensidades!$KB$6:$KB$15000)","v":0},{"$f":"+SUM(D6:J6)","v":0},{"$f":"+IF(B6=0,\"\",IF(K6=0,IF(B6=$S$5,\"ok\",\"Problema en reparto\"),IF(K6=VLOOKUP(A6,$T$6:$X$105,3,FALSE),\"OK\",\"REVISAR\")))","v":""},null,null,null,null,null,null,{"$f":"+'Datos Previos'!E34","v":0},{"$f":"+TRANSPOSE(T1:DO5)","v":"ENTIDAD 1"},"SUBVENCIONABLE",0,"AYUDA",0]
[null,null,"IMPORTE AYUDA",{"$f":"+SUMIF(Intensidades!BS6:$BS15000,'Cálculos Anticipos'!$B6,Intensidades!$JN$6:$JN$15000)","v":0},{"$f":"+SUMIF(Intensidades!$BS$6:$BT$15000,'Cálculos Anticipos'!$B6,Intensidades!$JO$6:$JO$15000)","v":0},{"$f":"+SUMIF(Intensidades!$BS$6:$BU$15000,'Cálculos Anticipos'!$B6,Intensidades!$JP$6:$JP$15000)","v":0},{"$f":"+SUMIF(Intensidades!$BS$6:$BV$15000,'Cálculos Anticipos'!$B6,Intensidades!$JQ$6:$JQ$15000)","v":0},{"$f":"+SUMIF(Intensidades!$BS$6:$BW$15000,'Cálculos Anticipos'!$B6,Intensidades!$JR$6:$JR$15000)","v":0},{"$f":"+SUMIF(Intensidades!$BS$6:$BX$15000,'Cálculos Anticipos'!$B6,Intensidades!$JS$6:$JS$15000)","v":0},{"$f":"+SUMIF(Intensidades!$BS$6:$BY$15000,'Cálculos Anticipos'!$B6,Intensidades!$JT$6:$JT$15000)","v":0},{"$f":"+SUM(D7:J7)","v":0},{"$f":"+IF(B6=0,\"\",IF(K7=0,IF(B6=$S$5,\"ok\",\"Problema en reparto\"),IF(K7=VLOOKUP(A6,$T$6:$X$105,5,FALSE),\"OK\",\"REVISAR\")))","v":""},null,null,null,null,null,null,null,0,2,0,2,0]
[null,null,"PORCENTAJE ANTICIPO",{"$f":"+K8","v":0},{"$f":"+K8","v":0},{"$f":"+K8","v":0},{"$f":"+K8","v":0},{"$f":"+K8","v":0},{"$f":"+K8","v":0},{"$f":"+K8","v":0},0,{"$f":"+IF(K8<=0.7,\"OK; Porcentaje inferior o igual al 70%\",\"Revisar Porcentaje de Anticipo: es mayor del 70% (Máximo Permitido)\")","v":"OK; Porcentaje inferior o igual al 70%"},null,null,null,null,null,null,null,0,3,0,3,0]
[null,null,"TOTAL ANTICIPO",{"$f":"+ROUND(D7*D8,2)","v":0},{"$f":"+ROUND(E7*E8,2)","v":0},0,0,0,0,0,0,{"$f":"+IFERROR(IF(K9/K7>0.7,\"Revisar, % anticipo mayor 70%\",\"OK\"),\"\")","v":""},null,null,null,null,null,null,null,0,4,0,4,0]
[null,null,null,null,null,null,null,null,null,null,null,{"$f":"+IFERROR(IF(K10/K8>0.7,\"Revisar, % anticipo mayor 70%\",\"OK\"),\"\")","v":""},null,null,null,null,null,null,null,0,5,0,5,0]
[{"$f":"+'Datos Previos'!F32","v":0},{"$f":"+IF(A11=$T$106,\"no hay\",S11)","v":"no hay"},"IMPORTE SUBVENCIONABLE",{"$f":"+SUMIF(Intensidades!$BS$6:$BS$15000,'Cálculos Anticipos'!$B11,Intensidades!JV11:JV15005)","v":0},{"$f":"+SUMIF(Intensidades!$BS$6:$BT$15000,'Cálculos Anticipos'!$B11,Intensidades!$JW$6:$JW$15000)","v":0},{"$f":"+SUMIF(Intensidades!$BS$6:$BU$15000,'Cálculos Anticipos'!$B11,Intensidades!$JX$6:$JX$15000)","v":0},{"$f":"+SUMIF(Intensidades!$BS$6:$BV$15000,'Cálculos Anticipos'!$B11,Intensidades!$JY$6:$JY$15000)","v":0},{"$f":"+SUMIF(Intensidades!$BS$6:$BW$15000,'Cálculos Anticipos'!$B11,Intensidades!$JZ$6:$JZ$15000)","v":0},{"$f":"+SUMIF(Intensidades!$BS$6:$BX$15000,'Cálculos Anticipos'!$B11,Intensidades!$KA$6:$KA$15000)","v":0},{"$f":"+SUMIF(Intensidades!$BS$6:$BY$15000,'Cálculos Anticipos'!$B11,Intensidades!$KB$6:$KB$15000)","v":0},{"$f":"+SUM(D11:J11)","v":0},{"$f":"+IF(K11=0,IF(B11=$S$5,\"ok\",\"Problema en reparto\"),IF(K11=VLOOKUP(A11,$T$6:$X$105,3,FALSE),\"OK\",\"REVISAR\"))","v":"ok"},null,null,null,null,null,null,{"$f":"+'Datos Previos'!F34","v":0},0,6,0,6,0]
[null,null,"IMPORTE AYUDA",{"$f":"+SUMIF(Intensidades!BS11:$BS15005,'Cálculos Anticipos'!$B11,Intensidades!$JN$6:$JN$15000)","v":0},{"$f":"+SUMIF(Intensidades!$BS$6:$BT$15000,'Cálculos Anticipos'!$B11,Intensidades!$JO$6:$JO$15000)","v":0},{"$f":"+SUMIF(Intensidades!$BS$6:$BU$15000,'Cálculos Anticipos'!$B11,Intensidades!$JP$6:$JP$15000)","v":0},{"$f":"+SUMIF(Intensidades!$BS$6:$BV$15000,'Cálculos Anticipos'!$B11,Intensidades!$JQ$6:$JQ$15000)","v":0},{"$f":"+SUMIF(Intensidades!$BS$6:$BW$15000,'Cálculos Anticipos'!$B11,Intensidades!$JR$6:$JR$15000)","v":0},{"$f":"+SUMIF(Intensidades!$BS$6:$BX$15000,'Cálculos Anticipos'!$B11,Intensidades!$JS$6:$JS$15000)","v":0},{"$f":"+SUMIF(Intensidades!$BS$6:$BY$15000,'Cálculos Anticipos'!$B11,Intensidades!$JT$6:$JT$15000)","v":0},0,{"$f":"+IF(K12=0,IF(B11=$S$5,\"ok\",\"Problema en reparto\"),IF(K12=VLOOKUP(A11,$T$6:$X$105,5,FALSE),\"OK\",\"REVISAR\"))","v":"ok"},null,null,null,null,null,null,null,0,7,0,7,0]
[null,null,"PORCENTAJE ANTICIPO",{"$f":"+K13","v":0},{"$f":"+K13","v":0},{"$f":"+K13","v":0},{"$f":"+K13","v":0},{"$f":"+K13","v":0},{"$f":"+K13","v":0},{"$f":"+K13","v":0},0,{"$f":"+IF(K13<=0.7,\"OK; Porcentaje inferior o igual al 70%\",\"Revisar Porcentaje de Anticipo: es mayor del 70% (Máximo Permitido)\")","v":"OK; Porcentaje inferior o igual al 70%"},null,null,null,null,null,null,null,0,8,0,8,0]
[null,null,"TOTAL ANTICIPO",{"$f":"+ROUND(D12*D13,2)","v":0},{"$f":"+ROUND(E12*E13,2)","v":0},{"$f":"+ROUND(F12*F13,2)","v":0},{"$f":"+ROUND(G12*G13,2)","v":0},{"$f":"+ROUND(H12*H13,2)","v":0},{"$f":"+ROUND(I12*I13,2)","v":0},{"$f":"+ROUND(J12*J13,2)","v":0},{"$f":"+ROUND(K12*K13,2)","v":0},{"$f":"+IFERROR(IF(K14/K12>0.7,\"Revisar, % anticipo mayor 70%\",\"OK\"),\"\")","v":""},null,null,null,null,null,null,null,0,9,0,9,0]
[null,null,null,null,null,null,null,null,null,null,null,"",null,null,null,null,null,null,null,0,10,0,10,0]
[{"$f":"+'Datos Previos'!G32","v":0},"no hay","IMPORTE SUBVENCIONABLE",{"$f":"+SUMIF(Intensidades!$BS$6:$BS$15000,'Cálculos Anticipos'!$B16,Intensidades!JV16:JV15010)","v":0},{"$f":"+SUMIF(Intensidades!$BS$6:$BT$15000,'Cálculos Anticipos'!$B16,Intensidades!$JW$6:$JW$15000)","v":0},{"$f":"+SUMIF(Intensidades!$BS$6:$BU$15000,'Cálculos Anticipos'!$B16,Intensidades!$JX$6:$JX$15000)","v":0},{"$f":"+SUMIF(Intensidades!$BS$6:$BV$15000,'Cálculos Anticipos'!$B16,Intensidades!$JY$6:$JY$15000)","v":0},{"$f":"+SUMIF(Intensidades!$BS$6:$BW$15000,'Cálculos Anticipos'!$B16,Intensidades!$JZ$6:$JZ$15000)","v":0},{"$f":"+SUMIF(Intensidades!$BS$6:$BX$15000,'Cálculos Anticipos'!$B16,Intensidades!$KA$6:$KA$15000)","v":0},{"$f":"+SUMIF(Intensidades!$BS$6:$BY$15000,'Cálculos Anticipos'!$B16,Intensidades!$KB$6:$KB$15000)","v":0},{"$f":"+SUM(D16:J16)","v":0},{"$f":"+IF(K16=0,IF(B16=$S$5,\"ok\",\"Problema en reparto\"),IF(K16=VLOOKUP(A16,$T$6:$X$105,3,FALSE),\"OK\",\"REVISAR\"))","v":"ok"},null,null,null,null,null,null,{"$f":"+'Datos Previos'!G34","v":0},0,11,0,11,0]
[null,null,"IMPORTE AYUDA",{"$f":"+SUMIF(Intensidades!BS16:$BS15010,'Cálculos Anticipos'!$B16,Intensidades!$JN$6:$JN$15000)","v":0},{"$f":"+SUMIF(Intensidades!$BS$6:$BT$15000,'Cálculos Anticipos'!$B16,Intensidades!$JO$6:$JO$15000)","v":0},{"$f":"+SUMIF(Intensidades!$BS$6:$BU$15000,'Cálculos Anticipos'!$B16,Intensidades!$JP$6:$JP$15000)","v":0},{"$f":"+SUMIF(Intensidades!$BS$6:$BV$15000,'Cálculos Anticipos'!$B16,Intensidades!$JQ$6:$JQ$15000)","v":0},{"$f":"+SUMIF(Intensidades!$BS$6:$BW$15000,'Cálculos Anticipos'!$B16,Intensidades!$JR$6:$JR$15000)","v":0},{"$f":"+SUMIF(Intensidades!$BS$6:$BX$15000,'Cálculos Anticipos'!$B16,Intensidades!$JS$6:$JS$15000)","v":0},{"$f":"+SUMIF(Intensidades!$BS$6:$BY$15000,'Cálculos Anticipos'!$B16,Intensidades!$JT$6:$JT$15000)","v":0},0,{"$f":"+IF(K17=0,IF(B16=$S$5,\"ok\",\"Problema en reparto\"),IF(K17=VLOOKUP(A16,$T$6:$X$105,5,FALSE),\"OK\",\"REVISAR\"))","v":"ok"},null,null,null,null,null,null,null,0,12,0,12,0]
[null,null,"PORCENTAJE ANTICIPO",{"$f":"+K18","v":0},{"$f":"+K18","v":0},{"$f":"+K18","v":0},{"$f":"+K18","v":0},{"$f":"+K18","v":0},{"$f":"+K18","v":0},{"$f":"+K18","v":0},0,{"$f":"+IF(K18<=0.7,\"OK; Porcentaje inferior o igual al 70%\",\"Revisar Porcentaje de Anticipo: es mayor del 70% (Máximo Permitido)\")","v":"OK; Porcentaje inferior o igual al 70%"},null,null,null,null,null,null,null,0,13,0,13,0]
[null,null,"TOTAL ANTICIPO",{"$f":"+ROUND(D17*D18,2)","v":0},{"$f":"+ROUND(E17*E18,2)","v":0},{"$f":"+ROUND(F17*F18,2)","v":0},{"$f":"+ROUND(G17*G18,2)","v":0},{"$f":"+ROUND(H17*H18,2)","v":0},{"$f":"+ROUND(I17*I18,2)","v":0},{"$f":"+ROUND(J17*J18,2)","v":0},{"$f":"+ROUND(K17*K18,2)","v":0},{"$f":"+IFERROR(IF(K19/K17>0.7,\"Revisar, % anticipo mayor 70%\",\"OK\"),\"\")","v":""},null,null,null,null,null,null,null,0,14,0,14,0]
[null,null,null,null,null,null,null,null,null,null,null,"",null,null,null,null,null,null,null,0,15,0,15,0]
[{"$f":"+'Datos Previos'!H32","v":0},"no hay","IMPORTE SUBVENCIONABLE",{"$f":"+SUMIF(Intensidades!$BS$6:$BS$15000,'Cálculos Anticipos'!$B21,Intensidades!JV21:JV15015)","v":0},{"$f":"+SUMIF(Intensidades!$BS$6:$BT$15000,'Cálculos Anticipos'!$B21,Intensidades!$JW$6:$JW$15000)","v":0},{"$f":"+SUMIF(Intensidades!$BS$6:$BU$15000,'Cálculos Anticipos'!$B21,Intensidades!$JX$6:$JX$15000)","v":0},{"$f":"+SUMIF(Intensidades!$BS$6:$BV$15000,'Cálculos Anticipos'!$B21,Intensidades!$JY$6:$JY$15000)","v":0},{"$f":"+SUMIF(Intensidades!$BS$6:$BW$15000,'Cálculos Anticipos'!$B21,Intensidades!$JZ$6:$JZ$15000)","v":0},{"$f":"+SUMIF(Intensidades!$BS$6:$BX$15000,'Cálculos Anticipos'!$B21,Intensidades!$KA$6:$KA$15000)","v":0},{"$f":"+SUMIF(Intensidades!$BS$6:$BY$15000,'Cálculos Anticipos'!$B21,Intensidades!$KB$6:$KB$15000)","v":0},{"$f":"+SUM(D21:J21)","v":0},{"$f":"+IF(K21=0,IF(B21=$S$5,\"ok\",\"Problema en reparto\"),IF(K21=VLOOKUP(A21,$T$6:$X$105,3,FALSE),\"OK\",\"REVISAR\"))","v":"ok"},null,null,null,null,null,null,{"$f":"+'Datos Previos'!H34","v":0},0,16,0,16,0]
[null,null,"IMPORTE AYUDA",{"$f":"+SUMIF(Intensidades!BS21:$BS15015,'Cálculos Anticipos'!$B21,Intensidades!$JN$6:$JN$15000)","v":0},{"$f":"+SUMIF(Intensidades!$BS$6:$BT$15000,'Cálculos Anticipos'!$B21,Intensidades!$JO$6:$JO$15000)","v":0},{"$f":"+SUMIF(Intensidades!$BS$6:$BU$15000,'Cálculos Anticipos'!$B21,Intensidades!$JP$6:$JP$15000)","v":0},{"$f":"+SUMIF(Intensidades!$BS$6:$BV$15000,'Cálculos Anticipos'!$B21,Intensidades!$JQ$6:$JQ$15000)","v":0},{"$f":"+SUMIF(Intensidades!$BS$6:$BW$15000,'Cálculos Anticipos'!$B21,Intensidades!$JR$6:$JR$15000)","v":0},{"$f":"+SUMIF(Intensidades!$BS$6:$BX$15000,'Cálculos Anticipos'!$B21,Intensidades!$JS$6:$JS$15000)","v":0},{"$f":"+SUMIF(Intensidades!$BS$6:$BY$15000,'Cálculos Anticipos'!$B21,Intensidades!$JT$6:$JT$15000)","v":0},0,{"$f":"+IF(K22=0,IF(B21=$S$5,\"ok\",\"Problema en reparto\"),IF(K22=VLOOKUP(A21,$T$6:$X$105,5,FALSE),\"OK\",\"REVISAR\"))","v":"ok"},null,null,null,null,null,null,null,0,17,0,17,0]
[null,null,"PORCENTAJE ANTICIPO",{"$f":"+K23","v":0},{"$f":"+K23","v":0},{"$f":"+K23","v":0},{"$f":"+K23","v":0},{"$f":"+K23","v":0},{"$f":"+K23","v":0},{"$f":"+K23","v":0},0,{"$f":"+IF(K23<=0.7,\"OK; Porcentaje inferior o igual al 70%\",\"Revisar Porcentaje de Anticipo: es mayor del 70% (Máximo Permitido)\")","v":"OK; Porcentaje inferior o igual al 70%"},null,null,null,null,null,null,null,0,18,0,18,0]
[null,null,"TOTAL ANTICIPO",{"$f":"+ROUND(D22*D23,2)","v":0},{"$f":"+ROUND(E22*E23,2)","v":0},{"$f":"+ROUND(F22*F23,2)","v":0},{"$f":"+ROUND(G22*G23,2)","v":0},{"$f":"+ROUND(H22*H23,2)","v":0},{"$f":"+ROUND(I22*I23,2)","v":0},{"$f":"+ROUND(J22*J23,2)","v":0},{"$f":"+ROUND(K22*K23,2)","v":0},{"$f":"+IFERROR(IF(K24/K22>0.7,\"Revisar, % anticipo mayor 70%\",\"OK\"),\"\")","v":""},null,null,null,null,null,null,null,0,19,0,19,0]
[null,null,null,null,null,null,null,null,null,null,null,"",null,null,null,null,null,null,null,0,20,0,20,0]
[{"$f":"+'Datos Previos'!I32","v":0},"no hay","IMPORTE SUBVENCIONABLE",{"$f":"+SUMIF(Intensidades!$BS$6:$BS$15000,'Cálculos Anticipos'!$B26,Intensidades!JV26:JV15020)","v":0},{"$f":"+SUMIF(Intensidades!$BS$6:$BT$15000,'Cálculos Anticipos'!$B26,Intensidades!$JW$6:$JW$15000)","v":0},{"$f":"+SUMIF(Intensidades!$BS$6:$BU$15000,'Cálculos Anticipos'!$B26,Intensidades!$JX$6:$JX$15000)","v":0},{"$f":"+SUMIF(Intensidades!$BS$6:$BV$15000,'Cálculos Anticipos'!$B26,Intensidades!$JY$6:$JY$15000)","v":0},{"$f":"+SUMIF(Intensidades!$BS$6:$BW$15000,'Cálculos Anticipos'!$B26,Intensidades!$JZ$6:$JZ$15000)","v":0},{"$f":"+SUMIF(Intensidades!$BS$6:$BX$15000,'Cálculos Anticipos'!$B26,Intensidades!$KA$6:$KA$15000)","v":0},{"$f":"+SUMIF(Intensidades!$BS$6:$BY$15000,'Cálculos Anticipos'!$B26,Intensidades!$KB$6:$KB$15000)","v":0},{"$f":"+SUM(D26:J26)","v":0},{"$f":"+IF(K26=0,IF(B26=$S$5,\"ok\",\"Problema en reparto\"),IF(K26=VLOOKUP(A26,$T$6:$X$105,3,FALSE),\"OK\",\"REVISAR\"))","v":"ok"},null,null,null,null,null,null,{"$f":"+'Datos Previos'!I34","v":0},0,21,0,21,0]
[null,null,"IMPORTE AYUDA",{"$f":"+SUMIF(Intensidades!BS26:$BS15020,'Cálculos Anticipos'!$B26,Intensidades!$JN$6:$JN$15000)","v":0},{"$f":"+SUMIF(Intensidades!$BS$6:$BT$15000,'Cálculos Anticipos'!$B26,Intensidades!$JO$6:$JO$15000)","v":0},{"$f":"+SUMIF(Intensidades!$BS$6:$BU$15000,'Cálculos Anticipos'!$B26,Intensidades!$JP$6:$JP$15000)","v":0},{"$f":"+SUMIF(Intensidades!$BS$6:$BV$15000,'Cálculos Anticipos'!$B26,Intensidades!$JQ$6:$JQ$15000)","v":0},{"$f":"+SUMIF(Intensidades!$BS$6:$BW$15000,'Cálculos Anticipos'!$B26,Intensidades!$JR$6:$JR$15000)","v":0},{"$f":"+SUMIF(Intensidades!$BS$6:$BX$15000,'Cálculos Anticipos'!$B26,Intensidades!$JS$6:$JS$15000)","v":0},{"$f":"+SUMIF(Intensidades!$BS$6:$BY$15000,'Cálculos Anticipos'!$B26,Intensidades!$JT$6:$JT$15000)","v":0},0,{"$f":"+IF(K27=0,IF(B26=$S$5,\"ok\",\"Problema en reparto\"),IF(K27=VLOOKUP(A26,$T$6:$X$105,5,FALSE),\"OK\",\"REVISAR\"))","v":"ok"},null,null,null,null,null,null,null,0,22,0,22,0]
[null,null,"PORCENTAJE ANTICIPO",{"$f":"+K28","v":0},{"$f":"+K28","v":0},{"$f":"+K28","v":0},{"$f":"+K28","v":0},{"$f":"+K28","v":0},{"$f":"+K28","v":0},{"$f":"+K28","v":0},0,{"$f":"+IF(K28<=0.7,\"OK; Porcentaje inferior o igual al 70%\",\"Revisar Porcentaje de Anticipo: es mayor del 70% (Máximo Permitido)\")","v":"OK; Porcentaje inferior o igual al 70%"},null,null,null,null,null,null,null,0,23,0,23,0]
[null,null,"TOTAL ANTICIPO",{"$f":"+ROUND(D27*D28,2)","v":0},{"$f":"+ROUND(E27*E28,2)","v":0},{"$f":"+ROUND(F27*F28,2)","v":0},{"$f":"+ROUND(G27*G28,2)","v":0},{"$f":"+ROUND(H27*H28,2)","v":0},{"$f":"+ROUND(I27*I28,2)","v":0},{"$f":"+ROUND(J27*J28,2)","v":0},{"$f":"+ROUND(K27*K28,2)","v":0},{"$f":"+IFERROR(IF(K29/K27>0.7,\"Revisar, % anticipo mayor 70%\",\"OK\"),\"\")","v":""},null,null,null,null,null,null,null,0,24,0,24,0]
[null,null,null,null,null,null,null,null,null,null,null,"",null,null,null,null,null,null,null,0,25,0,25,0]
[{"$f":"+'Datos Previos'!J32","v":0},"no hay","IMPORTE SUBVENCIONABLE",{"$f":"+SUMIF(Intensidades!$BS$6:$BS$15000,'Cálculos Anticipos'!$B31,Intensidades!JV31:JV15025)","v":0},{"$f":"+SUMIF(Intensidades!$BS$6:$BT$15000,'Cálculos Anticipos'!$B31,Intensidades!$JW$6:$JW$15000)","v":0},{"$f":"+SUMIF(Intensidades!$BS$6:$BU$15000,'Cálculos Anticipos'!$B31,Intensidades!$JX$6:$JX$15000)","v":0},{"$f":"+SUMIF(Intensidades!$BS$6:$BV$15000,'Cálculos Anticipos'!$B31,Intensidades!$JY$6:$JY$15000)","v":0},{"$f":"+SUMIF(Intensidades!$BS$6:$BW$15000,'Cálculos Anticipos'!$B31,Intensidades!$JZ$6:$JZ$15000)","v":0},{"$f":"+SUMIF(Intensidades!$BS$6:$BX$15000,'Cálculos Anticipos'!$B31,Intensidades!$KA$6:$KA$15000)","v":0},{"$f":"+SUMIF(Intensidades!$BS$6:$BY$15000,'Cálculos Anticipos'!$B31,Intensidades!$KB$6:$KB$15000)","v":0},{"$f":"+SUM(D31:J31)","v":0},{"$f":"+IF(K31=0,IF(B31=$S$5,\"ok\",\"Problema en reparto\"),IF(K31=VLOOKUP(A31,$T$6:$X$105,3,FALSE),\"OK\",\"REVISAR\"))","v":"ok"},null,null,null,null,null,null,{"$f":"+'Datos Previos'!J34","v":0},0,26,0,26,0]
[null,null,"IMPORTE AYUDA",{"$f":"+SUMIF(Intensidades!BS31:$BS15025,'Cálculos Anticipos'!$B31,Intensidades!$JN$6:$JN$15000)","v":0},{"$f":"+SUMIF(Intensidades!$BS$6:$BT$15000,'Cálculos Anticipos'!$B31,Intensidades!$JO$6:$JO$15000)","v":0},{"$f":"+SUMIF(Intensidades!$BS$6:$BU$15000,'Cálculos Anticipos'!$B31,Intensidades!$JP$6:$JP$15000)","v":0},{"$f":"+SUMIF(Intensidades!$BS$6:$BV$15000,'Cálculos Anticipos'!$B31,Intensidades!$JQ$6:$JQ$15000)","v":0},{"$f":"+SUMIF(Intensidades!$BS$6:$BW$15000,'Cálculos Anticipos'!$B31,Intensidades!$JR$6:$JR$15000)","v":0},{"$f":"+SUMIF(Intensidades!$BS$6:$BX$15000,'Cálculos Anticipos'!$B31,Intensidades!$JS$6:$JS$15000)","v":0},{"$f":"+SUMIF(Intensidades!$BS$6:$BY$15000,'Cálculos Anticipos'!$B31,Intensidades!$JT$6:$JT$15000)","v":0},0,{"$f":"+IF(K32=0,IF(B31=$S$5,\"ok\",\"Problema en reparto\"),IF(K32=VLOOKUP(A31,$T$6:$X$105,5,FALSE),\"OK\",\"REVISAR\"))","v":"ok"},null,null,null,null,null,null,null,0,27,0,27,0]
[null,null,"PORCENTAJE ANTICIPO",{"$f":"+K33","v":0},{"$f":"+K33","v":0},{"$f":"+K33","v":0},{"$f":"+K33","v":0},{"$f":"+K33","v":0},{"$f":"+K33","v":0},{"$f":"+K33","v":0},0,{"$f":"+IF(K33<=0.7,\"OK; Porcentaje inferior o igual al 70%\",\"Revisar Porcentaje de Anticipo: es mayor del 70% (Máximo Permitido)\")","v":"OK; Porcentaje inferior o igual al 70%"},null,null,null,null,null,null,null,0,28,0,28,0]
[null,null,"TOTAL ANTICIPO",{"$f":"+ROUND(D32*D33,2)","v":0},{"$f":"+ROUND(E32*E33,2)","v":0},{"$f":"+ROUND(F32*F33,2)","v":0},{"$f":"+ROUND(G32*G33,2)","v":0},{"$f":"+ROUND(H32*H33,2)","v":0},{"$f":"+ROUND(I32*I33,2)","v":0},{"$f":"+ROUND(J32*J33,2)","v":0},{"$f":"+ROUND(K32*K33,2)","v":0},{"$f":"+IFERROR(IF(K34/K32>0.7,\"Revisar, % anticipo mayor 70%\",\"OK\"),\"\")","v":""},null,null,null,null,null,null,null,0,29,0,29,0]
[null,null,null,null,null,null,null,null,null,null,null,"",null,null,null,null,null,null,null,0,30,0,30,0]
[{"$f":"+'Datos Previos'!K32","v":0},"no hay","IMPORTE SUBVENCIONABLE",{"$f":"+SUMIF(Intensidades!$BS$6:$BS$15000,'Cálculos Anticipos'!$B36,Intensidades!JV36:JV15030)","v":0},{"$f":"+SUMIF(Intensidades!$BS$6:$BT$15000,'Cálculos Anticipos'!$B36,Intensidades!$JW$6:$JW$15000)","v":0},{"$f":"+SUMIF(Intensidades!$BS$6:$BU$15000,'Cálculos Anticipos'!$B36,Intensidades!$JX$6:$JX$15000)","v":0},{"$f":"+SUMIF(Intensidades!$BS$6:$BV$15000,'Cálculos Anticipos'!$B36,Intensidades!$JY$6:$JY$15000)","v":0},{"$f":"+SUMIF(Intensidades!$BS$6:$BW$15000,'Cálculos Anticipos'!$B36,Intensidades!$JZ$6:$JZ$15000)","v":0},{"$f":"+SUMIF(Intensidades!$BS$6:$BX$15000,'Cálculos Anticipos'!$B36,Intensidades!$KA$6:$KA$15000)","v":0},{"$f":"+SUMIF(Intensidades!$BS$6:$BY$15000,'Cálculos Anticipos'!$B36,Intensidades!$KB$6:$KB$15000)","v":0},{"$f":"+SUM(D36:J36)","v":0},{"$f":"+IF(K36=0,IF(B36=$S$5,\"ok\",\"Problema en reparto\"),IF(K36=VLOOKUP(A36,$T$6:$X$105,3,FALSE),\"OK\",\"REVISAR\"))","v":"ok"},null,null,null,null,null,null,{"$f":"+'Datos Previos'!K34","v":0},0,31,0,31,0]
[null,null,"IMPORTE AYUDA",{"$f":"+SUMIF(Intensidades!BS36:$BS15030,'Cálculos Anticipos'!$B36,Intensidades!$JN$6:$JN$15000)","v":0},{"$f":"+SUMIF(Intensidades!$BS$6:$BT$15000,'Cálculos Anticipos'!$B36,Intensidades!$JO$6:$JO$15000)","v":0},{"$f":"+SUMIF(Intensidades!$BS$6:$BU$15000,'Cálculos Anticipos'!$B36,Intensidades!$JP$6:$JP$15000)","v":0},{"$f":"+SUMIF(Intensidades!$BS$6:$BV$15000,'Cálculos Anticipos'!$B36,Intensidades!$JQ$6:$JQ$15000)","v":0},{"$f":"+SUMIF(Intensidades!$BS$6:$BW$15000,'Cálculos Anticipos'!$B36,Intensidades!$JR$6:$JR$15000)","v":0},{"$f":"+SUMIF(Intensidades!$BS$6:$BX$15000,'Cálculos Anticipos'!$B36,Intensidades!$JS$6:$JS$15000)","v":0},{"$f":"+SUMIF(Intensidades!$BS$6:$BY$15000,'Cálculos Anticipos'!$B36,Intensidades!$JT$6:$JT$15000)","v":0},0,{"$f":"+IF(K37=0,IF(B36=$S$5,\"ok\",\"Problema en reparto\"),IF(K37=VLOOKUP(A36,$T$6:$X$105,5,FALSE),\"OK\",\"REVISAR\"))","v":"ok"},null,null,null,null,null,null,null,0,32,0,32,0]
[null,null,"PORCENTAJE ANTICIPO",{"$f":"+K38","v":0},{"$f":"+K38","v":0},{"$f":"+K38","v":0},{"$f":"+K38","v":0},{"$f":"+K38","v":0},{"$f":"+K38","v":0},{"$f":"+K38","v":0},0,{"$f":"+IF(K38<=0.7,\"OK; Porcentaje inferior o igual al 70%\",\"Revisar Porcentaje de Anticipo: es mayor del 70% (Máximo Permitido)\")","v":"OK; Porcentaje inferior o igual al 70%"},null,null,null,null,null,null,null,0,33,0,33,0]
[null,null,"TOTAL ANTICIPO",{"$f":"+ROUND(D37*D38,2)","v":0},{"$f":"+ROUND(E37*E38,2)","v":0},{"$f":"+ROUND(F37*F38,2)","v":0},{"$f":"+ROUND(G37*G38,2)","v":0},{"$f":"+ROUND(H37*H38,2)","v":0},{"$f":"+ROUND(I37*I38,2)","v":0},{"$f":"+ROUND(J37*J38,2)","v":0},{"$f":"+ROUND(K37*K38,2)","v":0},{"$f":"+IFERROR(IF(K39/K37>0.7,\"Revisar, % anticipo mayor 70%\",\"OK\"),\"\")","v":""},null,null,null,null,null,null,null,0,34,0,34,0]
[null,null,null,null,null,null,null,null,null,null,null,"",null,null,null,null,null,null,null,0,35,0,35,0]
[{"$f":"+'Datos Previos'!L32","v":0},"no hay","IMPORTE SUBVENCIONABLE",{"$f":"+SUMIF(Intensidades!$BS$6:$BS$15000,'Cálculos Anticipos'!$B41,Intensidades!JV41:JV15035)","v":0},{"$f":"+SUMIF(Intensidades!$BS$6:$BT$15000,'Cálculos Anticipos'!$B41,Intensidades!$JW$6:$JW$15000)","v":0},{"$f":"+SUMIF(Intensidades!$BS$6:$BU$15000,'Cálculos Anticipos'!$B41,Intensidades!$JX$6:$JX$15000)","v":0},{"$f":"+SUMIF(Intensidades!$BS$6:$BV$15000,'Cálculos Anticipos'!$B41,Intensidades!$JY$6:$JY$15000)","v":0},{"$f":"+SUMIF(Intensidades!$BS$6:$BW$15000,'Cálculos Anticipos'!$B41,Intensidades!$JZ$6:$JZ$15000)","v":0},{"$f":"+SUMIF(Intensidades!$BS$6:$BX$15000,'Cálculos Anticipos'!$B41,Intensidades!$KA$6:$KA$15000)","v":0},{"$f":"+SUMIF(Intensidades!$BS$6:$BY$15000,'Cálculos Anticipos'!$B41,Intensidades!$KB$6:$KB$15000)","v":0},{"$f":"+SUM(D41:J41)","v":0},{"$f":"+IF(K41=0,IF(B41=$S$5,\"ok\",\"Problema en reparto\"),IF(K41=VLOOKUP(A41,$T$6:$X$105,3,FALSE),\"OK\",\"REVISAR\"))","v":"ok"},null,null,null,null,null,null,{"$f":"+'Datos Previos'!L34","v":0},0,36,0,36,0]
[null,null,"IMPORTE AYUDA",{"$f":"+SUMIF(Intensidades!BS41:$BS15035,'Cálculos Anticipos'!$B41,Intensidades!$JN$6:$JN$15000)","v":0},{"$f":"+SUMIF(Intensidades!$BS$6:$BT$15000,'Cálculos Anticipos'!$B41,Intensidades!$JO$6:$JO$15000)","v":0},{"$f":"+SUMIF(Intensidades!$BS$6:$BU$15000,'Cálculos Anticipos'!$B41,Intensidades!$JP$6:$JP$15000)","v":0},{"$f":"+SUMIF(Intensidades!$BS$6:$BV$15000,'Cálculos Anticipos'!$B41,Intensidades!$JQ$6:$JQ$15000)","v":0},{"$f":"+SUMIF(Intensidades!$BS$6:$BW$15000,'Cálculos Anticipos'!$B41,Intensidades!$JR$6:$JR$15000)","v":0},{"$f":"+SUMIF(Intensidades!$BS$6:$BX$15000,'Cálculos Anticipos'!$B41,Intensidades!$JS$6:$JS$15000)","v":0},{"$f":"+SUMIF(Intensidades!$BS$6:$BY$15000,'Cálculos Anticipos'!$B41,Intensidades!$JT$6:$JT$15000)","v":0},0,{"$f":"+IF(K42=0,IF(B41=$S$5,\"ok\",\"Problema en reparto\"),IF(K42=VLOOKUP(A41,$T$6:$X$105,5,FALSE),\"OK\",\"REVISAR\"))","v":"ok"},null,null,null,null,null,null,null,0,37,0,37,0]
[null,null,"PORCENTAJE ANTICIPO",{"$f":"+K43","v":0},{"$f":"+K43","v":0},{"$f":"+K43","v":0},{"$f":"+K43","v":0},{"$f":"+K43","v":0},{"$f":"+K43","v":0},{"$f":"+K43","v":0},0,{"$f":"+IF(K43<=0.7,\"OK; Porcentaje inferior o igual al 70%\",\"Revisar Porcentaje de Anticipo: es mayor del 70% (Máximo Permitido)\")","v":"OK; Porcentaje inferior o igual al 70%"},null,null,null,null,null,null,null,0,38,0,38,0]
[null,null,"TOTAL ANTICIPO",{"$f":"+ROUND(D42*D43,2)","v":0},{"$f":"+ROUND(E42*E43,2)","v":0},{"$f":"+ROUND(F42*F43,2)","v":0},{"$f":"+ROUND(G42*G43,2)","v":0},{"$f":"+ROUND(H42*H43,2)","v":0},{"$f":"+ROUND(I42*I43,2)","v":0},{"$f":"+ROUND(J42*J43,2)","v":0},{"$f":"+ROUND(K42*K43,2)","v":0},{"$f":"+IFERROR(IF(K44/K42>0.7,\"Revisar, % anticipo mayor 70%\",\"OK\"),\"\")","v":""},null,null,null,null,null,null,null,0,39,0,39,0]
[null,null,null,null,null,null,null,null,null,null,null,"",null,null,null,null,null,null,null,0,40,0,40,0]
[{"$f":"+'Datos Previos'!M32","v":0},"no hay","IMPORTE SUBVENCIONABLE",{"$f":"+SUMIF(Intensidades!$BS$6:$BS$15000,'Cálculos Anticipos'!$B46,Intensidades!JV46:JV15040)","v":0},{"$f":"+SUMIF(Intensidades!$BS$6:$BT$15000,'Cálculos Anticipos'!$B46,Intensidades!$JW$6:$JW$15000)","v":0},{"$f":"+SUMIF(Intensidades!$BS$6:$BU$15000,'Cálculos Anticipos'!$B46,Intensidades!$JX$6:$JX$15000)","v":0},{"$f":"+SUMIF(Intensidades!$BS$6:$BV$15000,'Cálculos Anticipos'!$B46,Intensidades!$JY$6:$JY$15000)","v":0},{"$f":"+SUMIF(Intensidades!$BS$6:$BW$15000,'Cálculos Anticipos'!$B46,Intensidades!$JZ$6:$JZ$15000)","v":0},{"$f":"+SUMIF(Intensidades!$BS$6:$BX$15000,'Cálculos Anticipos'!$B46,Intensidades!$KA$6:$KA$15000)","v":0},{"$f":"+SUMIF(Intensidades!$BS$6:$BY$15000,'Cálculos Anticipos'!$B46,Intensidades!$KB$6:$KB$15000)","v":0},{"$f":"+SUM(D46:J46)","v":0},{"$f":"+IF(K46=0,IF(B46=$S$5,\"ok\",\"Problema en reparto\"),IF(K46=VLOOKUP(A46,$T$6:$X$105,3,FALSE),\"OK\",\"REVISAR\"))","v":"ok"},null,null,null,null,null,null,{"$f":"+'Datos Previos'!M34","v":0},0,41,0,41,0]
[null,null,"IMPORTE AYUDA",{"$f":"+SUMIF(Intensidades!BS46:$BS15040,'Cálculos Anticipos'!$B46,Intensidades!$JN$6:$JN$15000)","v":0},{"$f":"+SUMIF(Intensidades!$BS$6:$BT$15000,'Cálculos Anticipos'!$B46,Intensidades!$JO$6:$JO$15000)","v":0},{"$f":"+SUMIF(Intensidades!$BS$6:$BU$15000,'Cálculos Anticipos'!$B46,Intensidades!$JP$6:$JP$15000)","v":0},{"$f":"+SUMIF(Intensidades!$BS$6:$BV$15000,'Cálculos Anticipos'!$B46,Intensidades!$JQ$6:$JQ$15000)","v":0},{"$f":"+SUMIF(Intensidades!$BS$6:$BW$15000,'Cálculos Anticipos'!$B46,Intensidades!$JR$6:$JR$15000)","v":0},{"$f":"+SUMIF(Intensidades!$BS$6:$BX$15000,'Cálculos Anticipos'!$B46,Intensidades!$JS$6:$JS$15000)","v":0},{"$f":"+SUMIF(Intensidades!$BS$6:$BY$15000,'Cálculos Anticipos'!$B46,Intensidades!$JT$6:$JT$15000)","v":0},0,{"$f":"+IF(K47=0,IF(B46=$S$5,\"ok\",\"Problema en reparto\"),IF(K47=VLOOKUP(A46,$T$6:$X$105,5,FALSE),\"OK\",\"REVISAR\"))","v":"ok"},null,null,null,null,null,null,null,0,42,0,42,0]
[null,null,"PORCENTAJE ANTICIPO",{"$f":"+K48","v":0},{"$f":"+K48","v":0},{"$f":"+K48","v":0},{"$f":"+K48","v":0},{"$f":"+K48","v":0},{"$f":"+K48","v":0},{"$f":"+K48","v":0},0,{"$f":"+IF(K48<=0.7,\"OK; Porcentaje inferior o igual al 70%\",\"Revisar Porcentaje de Anticipo: es mayor del 70% (Máximo Permitido)\")","v":"OK; Porcentaje inferior o igual al 70%"},null,null,null,null,null,null,null,0,43,0,43,0]
[null,null,"TOTAL ANTICIPO",{"$f":"+ROUND(D47*D48,2)","v":0},{"$f":"+ROUND(E47*E48,2)","v":0},{"$f":"+ROUND(F47*F48,2)","v":0},{"$f":"+ROUND(G47*G48,2)","v":0},{"$f":"+ROUND(H47*H48,2)","v":0},{"$f":"+ROUND(I47*I48,2)","v":0},{"$f":"+ROUND(J47*J48,2)","v":0},{"$f":"+ROUND(K47*K48,2)","v":0},{"$f":"+IFERROR(IF(K49/K47>0.7,\"Revisar, % anticipo mayor 70%\",\"OK\"),\"\")","v":""},null,null,null,null,null,null,null,0,44,0,44,0]
[null,null,null,null,null,null,null,null,null,null,null,"",null,null,null,null,null,null,null,0,45,0,45,0]
[{"$f":"+'Datos Previos'!N32","v":0},"no hay","IMPORTE SUBVENCIONABLE",{"$f":"+SUMIF(Intensidades!$BS$6:$BS$15000,'Cálculos Anticipos'!$B51,Intensidades!JV51:JV15045)","v":0},{"$f":"+SUMIF(Intensidades!$BS$6:$BT$15000,'Cálculos Anticipos'!$B51,Intensidades!$JW$6:$JW$15000)","v":0},{"$f":"+SUMIF(Intensidades!$BS$6:$BU$15000,'Cálculos Anticipos'!$B51,Intensidades!$JX$6:$JX$15000)","v":0},{"$f":"+SUMIF(Intensidades!$BS$6:$BV$15000,'Cálculos Anticipos'!$B51,Intensidades!$JY$6:$JY$15000)","v":0},{"$f":"+SUMIF(Intensidades!$BS$6:$BW$15000,'Cálculos Anticipos'!$B51,Intensidades!$JZ$6:$JZ$15000)","v":0},{"$f":"+SUMIF(Intensidades!$BS$6:$BX$15000,'Cálculos Anticipos'!$B51,Intensidades!$KA$6:$KA$15000)","v":0},{"$f":"+SUMIF(Intensidades!$BS$6:$BY$15000,'Cálculos Anticipos'!$B51,Intensidades!$KB$6:$KB$15000)","v":0},{"$f":"+SUM(D51:J51)","v":0},{"$f":"+IF(K51=0,IF(B51=$S$5,\"ok\",\"Problema en reparto\"),IF(K51=VLOOKUP(A51,$T$6:$X$105,3,FALSE),\"OK\",\"REVISAR\"))","v":"ok"},null,null,null,null,null,null,{"$f":"+'Datos Previos'!N34","v":0},0,46,0,46,0]
[null,null,"IMPORTE AYUDA",{"$f":"+SUMIF(Intensidades!BS51:$BS15045,'Cálculos Anticipos'!$B51,Intensidades!$JN$6:$JN$15000)","v":0},{"$f":"+SUMIF(Intensidades!$BS$6:$BT$15000,'Cálculos Anticipos'!$B51,Intensidades!$JO$6:$JO$15000)","v":0},{"$f":"+SUMIF(Intensidades!$BS$6:$BU$15000,'Cálculos Anticipos'!$B51,Intensidades!$JP$6:$JP$15000)","v":0},{"$f":"+SUMIF(Intensidades!$BS$6:$BV$15000,'Cálculos Anticipos'!$B51,Intensidades!$JQ$6:$JQ$15000)","v":0},{"$f":"+SUMIF(Intensidades!$BS$6:$BW$15000,'Cálculos Anticipos'!$B51,Intensidades!$JR$6:$JR$15000)","v":0},{"$f":"+SUMIF(Intensidades!$BS$6:$BX$15000,'Cálculos Anticipos'!$B51,Intensidades!$JS$6:$JS$15000)","v":0},{"$f":"+SUMIF(Intensidades!$BS$6:$BY$15000,'Cálculos Anticipos'!$B51,Intensidades!$JT$6:$JT$15000)","v":0},0,{"$f":"+IF(K52=0,IF(B51=$S$5,\"ok\",\"Problema en reparto\"),IF(K52=VLOOKUP(A51,$T$6:$X$105,5,FALSE),\"OK\",\"REVISAR\"))","v":"ok"},null,null,null,null,null,null,null,0,47,0,47,0]
[null,null,"PORCENTAJE ANTICIPO",{"$f":"+K53","v":0},{"$f":"+K53","v":0},{"$f":"+K53","v":0},{"$f":"+K53","v":0},{"$f":"+K53","v":0},{"$f":"+K53","v":0},{"$f":"+K53","v":0},0,{"$f":"+IF(K53<=0.7,\"OK; Porcentaje inferior o igual al 70%\",\"Revisar Porcentaje de Anticipo: es mayor del 70% (Máximo Permitido)\")","v":"OK; Porcentaje inferior o igual al 70%"},null,null,null,null,null,null,null,0,48,0,48,0]
[null,null,"TOTAL ANTICIPO",{"$f":"+ROUND(D52*D53,2)","v":0},{"$f":"+ROUND(E52*E53,2)","v":0},{"$f":"+ROUND(F52*F53,2)","v":0},{"$f":"+ROUND(G52*G53,2)","v":0},{"$f":"+ROUND(H52*H53,2)","v":0},{"$f":"+ROUND(I52*I53,2)","v":0},{"$f":"+ROUND(J52*J53,2)","v":0},{"$f":"+ROUND(K52*K53,2)","v":0},{"$f":"+IFERROR(IF(K54/K52>0.7,\"Revisar, % anticipo mayor 70%\",\"OK\"),\"\")","v":""},null,null,null,null,null,null,null,0,49,0,49,0]
[null,null,null,null,null,null,null,null,null,null,null,"",null,null,null,null,null,null,null,0,50,0,50,0]
[{"$f":"+'Datos Previos'!O32","v":0},"no hay","IMPORTE SUBVENCIONABLE",{"$f":"+SUMIF(Intensidades!$BS$6:$BS$15000,'Cálculos Anticipos'!$B56,Intensidades!JV56:JV15050)","v":0},{"$f":"+SUMIF(Intensidades!$BS$6:$BT$15000,'Cálculos Anticipos'!$B56,Intensidades!$JW$6:$JW$15000)","v":0},{"$f":"+SUMIF(Intensidades!$BS$6:$BU$15000,'Cálculos Anticipos'!$B56,Intensidades!$JX$6:$JX$15000)","v":0},{"$f":"+SUMIF(Intensidades!$BS$6:$BV$15000,'Cálculos Anticipos'!$B56,Intensidades!$JY$6:$JY$15000)","v":0},{"$f":"+SUMIF(Intensidades!$BS$6:$BW$15000,'Cálculos Anticipos'!$B56,Intensidades!$JZ$6:$JZ$15000)","v":0},{"$f":"+SUMIF(Intensidades!$BS$6:$BX$15000,'Cálculos Anticipos'!$B56,Intensidades!$KA$6:$KA$15000)","v":0},{"$f":"+SUMIF(Intensidades!$BS$6:$BY$15000,'Cálculos Anticipos'!$B56,Intensidades!$KB$6:$KB$15000)","v":0},{"$f":"+SUM(D56:J56)","v":0},{"$f":"+IF(K56=0,IF(B56=$S$5,\"ok\",\"Problema en reparto\"),IF(K56=VLOOKUP(A56,$T$6:$X$105,3,FALSE),\"OK\",\"REVISAR\"))","v":"ok"},null,null,null,null,null,null,{"$f":"+'Datos Previos'!O34","v":0},0,51,0,51,0]
[null,null,"IMPORTE AYUDA",{"$f":"+SUMIF(Intensidades!BS56:$BS15050,'Cálculos Anticipos'!$B56,Intensidades!$JN$6:$JN$15000)","v":0},{"$f":"+SUMIF(Intensidades!$BS$6:$BT$15000,'Cálculos Anticipos'!$B56,Intensidades!$JO$6:$JO$15000)","v":0},{"$f":"+SUMIF(Intensidades!$BS$6:$BU$15000,'Cálculos Anticipos'!$B56,Intensidades!$JP$6:$JP$15000)","v":0},{"$f":"+SUMIF(Intensidades!$BS$6:$BV$15000,'Cálculos Anticipos'!$B56,Intensidades!$JQ$6:$JQ$15000)","v":0},{"$f":"+SUMIF(Intensidades!$BS$6:$BW$15000,'Cálculos Anticipos'!$B56,Intensidades!$JR$6:$JR$15000)","v":0},{"$f":"+SUMIF(Intensidades!$BS$6:$BX$15000,'Cálculos Anticipos'!$B56,Intensidades!$JS$6:$JS$15000)","v":0},{"$f":"+SUMIF(Intensidades!$BS$6:$BY$15000,'Cálculos Anticipos'!$B56,Intensidades!$JT$6:$JT$15000)","v":0},0,{"$f":"+IF(K57=0,IF(B56=$S$5,\"ok\",\"Problema en reparto\"),IF(K57=VLOOKUP(A56,$T$6:$X$105,5,FALSE),\"OK\",\"REVISAR\"))","v":"ok"},null,null,null,null,null,null,null,0,52,0,52,0]
[null,null,"PORCENTAJE ANTICIPO",{"$f":"+K58","v":0},{"$f":"+K58","v":0},{"$f":"+K58","v":0},{"$f":"+K58","v":0},{"$f":"+K58","v":0},{"$f":"+K58","v":0},{"$f":"+K58","v":0},0,{"$f":"+IF(K58<=0.7,\"OK; Porcentaje inferior o igual al 70%\",\"Revisar Porcentaje de Anticipo: es mayor del 70% (Máximo Permitido)\")","v":"OK; Porcentaje inferior o igual al 70%"},null,null,null,null,null,null,null,0,53,0,53,0]
[null,null,"TOTAL ANTICIPO",{"$f":"+ROUND(D57*D58,2)","v":0},{"$f":"+ROUND(E57*E58,2)","v":0},{"$f":"+ROUND(F57*F58,2)","v":0},{"$f":"+ROUND(G57*G58,2)","v":0},{"$f":"+ROUND(H57*H58,2)","v":0},{"$f":"+ROUND(I57*I58,2)","v":0},{"$f":"+ROUND(J57*J58,2)","v":0},{"$f":"+ROUND(K57*K58,2)","v":0},{"$f":"+IFERROR(IF(K59/K57>0.7,\"Revisar, % anticipo mayor 70%\",\"OK\"),\"\")","v":""},null,null,null,null,null,null,null,0,54,0,54,0]
[null,null,null,null,null,null,null,null,null,null,null,"",null,null,null,null,null,null,null,0,55,0,55,0]
[{"$f":"+'Datos Previos'!P32","v":0},"no hay","IMPORTE SUBVENCIONABLE",{"$f":"+SUMIF(Intensidades!$BS$6:$BS$15000,'Cálculos Anticipos'!$B61,Intensidades!JV61:JV15055)","v":0},{"$f":"+SUMIF(Intensidades!$BS$6:$BT$15000,'Cálculos Anticipos'!$B61,Intensidades!$JW$6:$JW$15000)","v":0},{"$f":"+SUMIF(Intensidades!$BS$6:$BU$15000,'Cálculos Anticipos'!$B61,Intensidades!$JX$6:$JX$15000)","v":0},{"$f":"+SUMIF(Intensidades!$BS$6:$BV$15000,'Cálculos Anticipos'!$B61,Intensidades!$JY$6:$JY$15000)","v":0},{"$f":"+SUMIF(Intensidades!$BS$6:$BW$15000,'Cálculos Anticipos'!$B61,Intensidades!$JZ$6:$JZ$15000)","v":0},{"$f":"+SUMIF(Intensidades!$BS$6:$BX$15000,'Cálculos Anticipos'!$B61,Intensidades!$KA$6:$KA$15000)","v":0},{"$f":"+SUMIF(Intensidades!$BS$6:$BY$15000,'Cálculos Anticipos'!$B61,Intensidades!$KB$6:$KB$15000)","v":0},{"$f":"+SUM(D61:J61)","v":0},{"$f":"+IF(K61=0,IF(B61=$S$5,\"ok\",\"Problema en reparto\"),IF(K61=VLOOKUP(A61,$T$6:$X$105,3,FALSE),\"OK\",\"REVISAR\"))","v":"ok"},null,null,null,null,null,null,{"$f":"+'Datos Previos'!P34","v":0},0,56,0,56,0]
[null,null,"IMPORTE AYUDA",{"$f":"+SUMIF(Intensidades!BS61:$BS15055,'Cálculos Anticipos'!$B61,Intensidades!$JN$6:$JN$15000)","v":0},{"$f":"+SUMIF(Intensidades!$BS$6:$BT$15000,'Cálculos Anticipos'!$B61,Intensidades!$JO$6:$JO$15000)","v":0},{"$f":"+SUMIF(Intensidades!$BS$6:$BU$15000,'Cálculos Anticipos'!$B61,Intensidades!$JP$6:$JP$15000)","v":0},{"$f":"+SUMIF(Intensidades!$BS$6:$BV$15000,'Cálculos Anticipos'!$B61,Intensidades!$JQ$6:$JQ$15000)","v":0},{"$f":"+SUMIF(Intensidades!$BS$6:$BW$15000,'Cálculos Anticipos'!$B61,Intensidades!$JR$6:$JR$15000)","v":0},{"$f":"+SUMIF(Intensidades!$BS$6:$BX$15000,'Cálculos Anticipos'!$B61,Intensidades!$JS$6:$JS$15000)","v":0},{"$f":"+SUMIF(Intensidades!$BS$6:$BY$15000,'Cálculos Anticipos'!$B61,Intensidades!$JT$6:$JT$15000)","v":0},0,{"$f":"+IF(K62=0,IF(B61=$S$5,\"ok\",\"Problema en reparto\"),IF(K62=VLOOKUP(A61,$T$6:$X$105,5,FALSE),\"OK\",\"REVISAR\"))","v":"ok"},null,null,null,null,null,null,null,0,57,0,57,0]
[null,null,"PORCENTAJE ANTICIPO",{"$f":"+K63","v":0},{"$f":"+K63","v":0},{"$f":"+K63","v":0},{"$f":"+K63","v":0},{"$f":"+K63","v":0},{"$f":"+K63","v":0},{"$f":"+K63","v":0},0,{"$f":"+IF(K63<=0.7,\"OK; Porcentaje inferior o igual al 70%\",\"Revisar Porcentaje de Anticipo: es mayor del 70% (Máximo Permitido)\")","v":"OK; Porcentaje inferior o igual al 70%"},null,null,null,null,null,null,null,0,58,0,58,0]
[null,null,"TOTAL ANTICIPO",{"$f":"+ROUND(D62*D63,2)","v":0},{"$f":"+ROUND(E62*E63,2)","v":0},{"$f":"+ROUND(F62*F63,2)","v":0},{"$f":"+ROUND(G62*G63,2)","v":0},{"$f":"+ROUND(H62*H63,2)","v":0},{"$f":"+ROUND(I62*I63,2)","v":0},{"$f":"+ROUND(J62*J63,2)","v":0},{"$f":"+ROUND(K62*K63,2)","v":0},{"$f":"+IFERROR(IF(K64/K62>0.7,\"Revisar, % anticipo mayor 70%\",\"OK\"),\"\")","v":""},null,null,null,null,null,null,null,0,59,0,59,0]
[null,null,null,null,null,null,null,null,null,null,null,"",null,null,null,null,null,null,null,0,60,0,60,0]
[{"$f":"+'Datos Previos'!Q32","v":0},"no hay","IMPORTE SUBVENCIONABLE",{"$f":"+SUMIF(Intensidades!$BS$6:$BS$15000,'Cálculos Anticipos'!$B66,Intensidades!JV66:JV15060)","v":0},{"$f":"+SUMIF(Intensidades!$BS$6:$BT$15000,'Cálculos Anticipos'!$B66,Intensidades!$JW$6:$JW$15000)","v":0},{"$f":"+SUMIF(Intensidades!$BS$6:$BU$15000,'Cálculos Anticipos'!$B66,Intensidades!$JX$6:$JX$15000)","v":0},{"$f":"+SUMIF(Intensidades!$BS$6:$BV$15000,'Cálculos Anticipos'!$B66,Intensidades!$JY$6:$JY$15000)","v":0},{"$f":"+SUMIF(Intensidades!$BS$6:$BW$15000,'Cálculos Anticipos'!$B66,Intensidades!$JZ$6:$JZ$15000)","v":0},{"$f":"+SUMIF(Intensidades!$BS$6:$BX$15000,'Cálculos Anticipos'!$B66,Intensidades!$KA$6:$KA$15000)","v":0},{"$f":"+SUMIF(Intensidades!$BS$6:$BY$15000,'Cálculos Anticipos'!$B66,Intensidades!$KB$6:$KB$15000)","v":0},{"$f":"+SUM(D66:J66)","v":0},{"$f":"+IF(K66=0,IF(B66=$S$5,\"ok\",\"Problema en reparto\"),IF(K66=VLOOKUP(A66,$T$6:$X$105,3,FALSE),\"OK\",\"REVISAR\"))","v":"ok"},null,null,null,null,null,null,{"$f":"+'Datos Previos'!Q34","v":0},0,61,0,61,0]
[null,null,"IMPORTE AYUDA",{"$f":"+SUMIF(Intensidades!BS66:$BS15060,'Cálculos Anticipos'!$B66,Intensidades!$JN$6:$JN$15000)","v":0},{"$f":"+SUMIF(Intensidades!$BS$6:$BT$15000,'Cálculos Anticipos'!$B66,Intensidades!$JO$6:$JO$15000)","v":0},{"$f":"+SUMIF(Intensidades!$BS$6:$BU$15000,'Cálculos Anticipos'!$B66,Intensidades!$JP$6:$JP$15000)","v":0},{"$f":"+SUMIF(Intensidades!$BS$6:$BV$15000,'Cálculos Anticipos'!$B66,Intensidades!$JQ$6:$JQ$15000)","v":0},{"$f":"+SUMIF(Intensidades!$BS$6:$BW$15000,'Cálculos Anticipos'!$B66,Intensidades!$JR$6:$JR$15000)","v":0},{"$f":"+SUMIF(Intensidades!$BS$6:$BX$15000,'Cálculos Anticipos'!$B66,Intensidades!$JS$6:$JS$15000)","v":0},{"$f":"+SUMIF(Intensidades!$BS$6:$BY$15000,'Cálculos Anticipos'!$B66,Intensidades!$JT$6:$JT$15000)","v":0},0,{"$f":"+IF(K67=0,IF(B66=$S$5,\"ok\",\"Problema en reparto\"),IF(K67=VLOOKUP(A66,$T$6:$X$105,5,FALSE),\"OK\",\"REVISAR\"))","v":"ok"},null,null,null,null,null,null,null,0,62,0,62,0]
[null,null,"PORCENTAJE ANTICIPO",{"$f":"+K68","v":0},{"$f":"+K68","v":0},{"$f":"+K68","v":0},{"$f":"+K68","v":0},{"$f":"+K68","v":0},{"$f":"+K68","v":0},{"$f":"+K68","v":0},0,{"$f":"+IF(K68<=0.7,\"OK; Porcentaje inferior o igual al 70%\",\"Revisar Porcentaje de Anticipo: es mayor del 70% (Máximo Permitido)\")","v":"OK; Porcentaje inferior o igual al 70%"},null,null,null,null,null,null,null,0,63,0,63,0]
[null,null,"TOTAL ANTICIPO",{"$f":"+ROUND(D67*D68,2)","v":0},{"$f":"+ROUND(E67*E68,2)","v":0},{"$f":"+ROUND(F67*F68,2)","v":0},{"$f":"+ROUND(G67*G68,2)","v":0},{"$f":"+ROUND(H67*H68,2)","v":0},{"$f":"+ROUND(I67*I68,2)","v":0},{"$f":"+ROUND(J67*J68,2)","v":0},{"$f":"+ROUND(K67*K68,2)","v":0},{"$f":"+IFERROR(IF(K69/K67>0.7,\"Revisar, % anticipo mayor 70%\",\"OK\"),\"\")","v":""},null,null,null,null,null,null,null,0,64,0,64,0]
[null,null,null,null,null,null,null,null,null,null,null,"",null,null,null,null,null,null,null,0,65,0,65,0]
[{"$f":"+'Datos Previos'!R32","v":0},{"$f":"+IF(A71=$T$106,\"no hay\",S71)","v":"no hay"},"IMPORTE SUBVENCIONABLE",{"$f":"+SUMIF(Intensidades!$BS$6:$BS$15000,'Cálculos Anticipos'!$B71,Intensidades!JV71:JV15065)","v":0},{"$f":"+SUMIF(Intensidades!$BS$6:$BT$15000,'Cálculos Anticipos'!$B71,Intensidades!$JW$6:$JW$15000)","v":0},{"$f":"+SUMIF(Intensidades!$BS$6:$BU$15000,'Cálculos Anticipos'!$B71,Intensidades!$JX$6:$JX$15000)","v":0},{"$f":"+SUMIF(Intensidades!$BS$6:$BV$15000,'Cálculos Anticipos'!$B71,Intensidades!$JY$6:$JY$15000)","v":0},{"$f":"+SUMIF(Intensidades!$BS$6:$BW$15000,'Cálculos Anticipos'!$B71,Intensidades!$JZ$6:$JZ$15000)","v":0},{"$f":"+SUMIF(Intensidades!$BS$6:$BX$15000,'Cálculos Anticipos'!$B71,Intensidades!$KA$6:$KA$15000)","v":0},{"$f":"+SUMIF(Intensidades!$BS$6:$BY$15000,'Cálculos Anticipos'!$B71,Intensidades!$KB$6:$KB$15000)","v":0},{"$f":"+SUM(D71:J71)","v":0},{"$f":"+IF(K71=0,IF(B71=$S$5,\"ok\",\"Problema en reparto\"),IF(K71=VLOOKUP(A71,$T$6:$X$105,3,FALSE),\"OK\",\"REVISAR\"))","v":"ok"},null,null,null,null,null,null,{"$f":"+'Datos Previos'!R34","v":0},0,66,0,66,0]
[null,null,"IMPORTE AYUDA",{"$f":"+SUMIF(Intensidades!BS71:$BS15065,'Cálculos Anticipos'!$B71,Intensidades!$JN$6:$JN$15000)","v":0},{"$f":"+SUMIF(Intensidades!$BS$6:$BT$15000,'Cálculos Anticipos'!$B71,Intensidades!$JO$6:$JO$15000)","v":0},{"$f":"+SUMIF(Intensidades!$BS$6:$BU$15000,'Cálculos Anticipos'!$B71,Intensidades!$JP$6:$JP$15000)","v":0},{"$f":"+SUMIF(Intensidades!$BS$6:$BV$15000,'Cálculos Anticipos'!$B71,Intensidades!$JQ$6:$JQ$15000)","v":0},{"$f":"+SUMIF(Intensidades!$BS$6:$BW$15000,'Cálculos Anticipos'!$B71,Intensidades!$JR$6:$JR$15000)","v":0},{"$f":"+SUMIF(Intensidades!$BS$6:$BX$15000,'Cálculos Anticipos'!$B71,Intensidades!$JS$6:$JS$15000)","v":0},{"$f":"+SUMIF(Intensidades!$BS$6:$BY$15000,'Cálculos Anticipos'!$B71,Intensidades!$JT$6:$JT$15000)","v":0},0,{"$f":"+IF(K72=0,IF(B71=$S$5,\"ok\",\"Problema en reparto\"),IF(K72=VLOOKUP(A71,$T$6:$X$105,5,FALSE),\"OK\",\"REVISAR\"))","v":"ok"},null,null,null,null,null,null,null,0,67,0,67,0]
[null,null,"PORCENTAJE ANTICIPO",{"$f":"+K73","v":0},{"$f":"+K73","v":0},{"$f":"+K73","v":0},{"$f":"+K73","v":0},{"$f":"+K73","v":0},{"$f":"+K73","v":0},{"$f":"+K73","v":0},0,{"$f":"+IF(K73<=0.7,\"OK; Porcentaje inferior o igual al 70%\",\"Revisar Porcentaje de Anticipo: es mayor del 70% (Máximo Permitido)\")","v":"OK; Porcentaje inferior o igual al 70%"},null,null,null,null,null,null,null,0,68,0,68,0]
[null,null,"TOTAL ANTICIPO",{"$f":"+ROUND(D72*D73,2)","v":0},{"$f":"+ROUND(E72*E73,2)","v":0},{"$f":"+ROUND(F72*F73,2)","v":0},{"$f":"+ROUND(G72*G73,2)","v":0},{"$f":"+ROUND(H72*H73,2)","v":0},{"$f":"+ROUND(I72*I73,2)","v":0},{"$f":"+ROUND(J72*J73,2)","v":0},{"$f":"+ROUND(K72*K73,2)","v":0},{"$f":"+IFERROR(IF(K74/K72>0.7,\"Revisar, % anticipo mayor 70%\",\"OK\"),\"\")","v":""},null,null,null,null,null,null,null,0,69,0,69,0]
[null,null,null,null,null,null,null,null,null,null,null,"",null,null,null,null,null,null,null,0,70,0,70,0]
[{"$f":"+'Datos Previos'!S32","v":0},"no hay","IMPORTE SUBVENCIONABLE",{"$f":"+SUMIF(Intensidades!$BS$6:$BS$15000,'Cálculos Anticipos'!$B76,Intensidades!JV76:JV15070)","v":0},{"$f":"+SUMIF(Intensidades!$BS$6:$BT$15000,'Cálculos Anticipos'!$B76,Intensidades!$JW$6:$JW$15000)","v":0},{"$f":"+SUMIF(Intensidades!$BS$6:$BU$15000,'Cálculos Anticipos'!$B76,Intensidades!$JX$6:$JX$15000)","v":0},{"$f":"+SUMIF(Intensidades!$BS$6:$BV$15000,'Cálculos Anticipos'!$B76,Intensidades!$JY$6:$JY$15000)","v":0},{"$f":"+SUMIF(Intensidades!$BS$6:$BW$15000,'Cálculos Anticipos'!$B76,Intensidades!$JZ$6:$JZ$15000)","v":0},{"$f":"+SUMIF(Intensidades!$BS$6:$BX$15000,'Cálculos Anticipos'!$B76,Intensidades!$KA$6:$KA$15000)","v":0},{"$f":"+SUMIF(Intensidades!$BS$6:$BY$15000,'Cálculos Anticipos'!$B76,Intensidades!$KB$6:$KB$15000)","v":0},{"$f":"+SUM(D76:J76)","v":0},{"$f":"+IF(K76=0,IF(B76=$S$5,\"ok\",\"Problema en reparto\"),IF(K76=VLOOKUP(A76,$T$6:$X$105,3,FALSE),\"OK\",\"REVISAR\"))","v":"ok"},null,null,null,null,null,null,{"$f":"+'Datos Previos'!S34","v":0},0,71,0,71,0]
[null,null,"IMPORTE AYUDA",{"$f":"+SUMIF(Intensidades!BS76:$BS15070,'Cálculos Anticipos'!$B76,Intensidades!$JN$6:$JN$15000)","v":0},{"$f":"+SUMIF(Intensidades!$BS$6:$BT$15000,'Cálculos Anticipos'!$B76,Intensidades!$JO$6:$JO$15000)","v":0},{"$f":"+SUMIF(Intensidades!$BS$6:$BU$15000,'Cálculos Anticipos'!$B76,Intensidades!$JP$6:$JP$15000)","v":0},{"$f":"+SUMIF(Intensidades!$BS$6:$BV$15000,'Cálculos Anticipos'!$B76,Intensidades!$JQ$6:$JQ$15000)","v":0},{"$f":"+SUMIF(Intensidades!$BS$6:$BW$15000,'Cálculos Anticipos'!$B76,Intensidades!$JR$6:$JR$15000)","v":0},{"$f":"+SUMIF(Intensidades!$BS$6:$BX$15000,'Cálculos Anticipos'!$B76,Intensidades!$JS$6:$JS$15000)","v":0},{"$f":"+SUMIF(Intensidades!$BS$6:$BY$15000,'Cálculos Anticipos'!$B76,Intensidades!$JT$6:$JT$15000)","v":0},0,{"$f":"+IF(K77=0,IF(B76=$S$5,\"ok\",\"Problema en reparto\"),IF(K77=VLOOKUP(A76,$T$6:$X$105,5,FALSE),\"OK\",\"REVISAR\"))","v":"ok"},null,null,null,null,null,null,null,0,72,0,72,0]
[null,null,"PORCENTAJE ANTICIPO",{"$f":"+K78","v":0},{"$f":"+K78","v":0},{"$f":"+K78","v":0},{"$f":"+K78","v":0},{"$f":"+K78","v":0},{"$f":"+K78","v":0},{"$f":"+K78","v":0},0,{"$f":"+IF(K78<=0.7,\"OK; Porcentaje inferior o igual al 70%\",\"Revisar Porcentaje de Anticipo: es mayor del 70% (Máximo Permitido)\")","v":"OK; Porcentaje inferior o igual al 70%"},null,null,null,null,null,null,null,0,73,0,73,0]
[null,null,"TOTAL ANTICIPO",{"$f":"+ROUND(D77*D78,2)","v":0},{"$f":"+ROUND(E77*E78,2)","v":0},{"$f":"+ROUND(F77*F78,2)","v":0},{"$f":"+ROUND(G77*G78,2)","v":0},{"$f":"+ROUND(H77*H78,2)","v":0},{"$f":"+ROUND(I77*I78,2)","v":0},{"$f":"+ROUND(J77*J78,2)","v":0},{"$f":"+ROUND(K77*K78,2)","v":0},{"$f":"+IFERROR(IF(K79/K77>0.7,\"Revisar, % anticipo mayor 70%\",\"OK\"),\"\")","v":""},null,null,null,null,null,null,null,0,74,0,74,0]
[null,null,null,null,null,null,null,null,null,null,null,"",null,null,null,null,null,null,null,0,75,0,75,0]
[{"$f":"+'Datos Previos'!T32","v":0},"no hay","IMPORTE SUBVENCIONABLE",{"$f":"+SUMIF(Intensidades!$BS$6:$BS$15000,'Cálculos Anticipos'!$B81,Intensidades!JV81:JV15075)","v":0},{"$f":"+SUMIF(Intensidades!$BS$6:$BT$15000,'Cálculos Anticipos'!$B81,Intensidades!$JW$6:$JW$15000)","v":0},{"$f":"+SUMIF(Intensidades!$BS$6:$BU$15000,'Cálculos Anticipos'!$B81,Intensidades!$JX$6:$JX$15000)","v":0},{"$f":"+SUMIF(Intensidades!$BS$6:$BV$15000,'Cálculos Anticipos'!$B81,Intensidades!$JY$6:$JY$15000)","v":0},{"$f":"+SUMIF(Intensidades!$BS$6:$BW$15000,'Cálculos Anticipos'!$B81,Intensidades!$JZ$6:$JZ$15000)","v":0},{"$f":"+SUMIF(Intensidades!$BS$6:$BX$15000,'Cálculos Anticipos'!$B81,Intensidades!$KA$6:$KA$15000)","v":0},{"$f":"+SUMIF(Intensidades!$BS$6:$BY$15000,'Cálculos Anticipos'!$B81,Intensidades!$KB$6:$KB$15000)","v":0},{"$f":"+SUM(D81:J81)","v":0},{"$f":"+IF(K81=0,IF(B81=$S$5,\"ok\",\"Problema en reparto\"),IF(K81=VLOOKUP(A81,$T$6:$X$105,3,FALSE),\"OK\",\"REVISAR\"))","v":"ok"},null,null,null,null,null,null,{"$f":"+'Datos Previos'!T34","v":0},0,76,0,76,0]
[null,null,"IMPORTE AYUDA",{"$f":"+SUMIF(Intensidades!BS81:$BS15075,'Cálculos Anticipos'!$B81,Intensidades!$JN$6:$JN$15000)","v":0},{"$f":"+SUMIF(Intensidades!$BS$6:$BT$15000,'Cálculos Anticipos'!$B81,Intensidades!$JO$6:$JO$15000)","v":0},{"$f":"+SUMIF(Intensidades!$BS$6:$BU$15000,'Cálculos Anticipos'!$B81,Intensidades!$JP$6:$JP$15000)","v":0},{"$f":"+SUMIF(Intensidades!$BS$6:$BV$15000,'Cálculos Anticipos'!$B81,Intensidades!$JQ$6:$JQ$15000)","v":0},{"$f":"+SUMIF(Intensidades!$BS$6:$BW$15000,'Cálculos Anticipos'!$B81,Intensidades!$JR$6:$JR$15000)","v":0},{"$f":"+SUMIF(Intensidades!$BS$6:$BX$15000,'Cálculos Anticipos'!$B81,Intensidades!$JS$6:$JS$15000)","v":0},{"$f":"+SUMIF(Intensidades!$BS$6:$BY$15000,'Cálculos Anticipos'!$B81,Intensidades!$JT$6:$JT$15000)","v":0},0,{"$f":"+IF(K82=0,IF(B81=$S$5,\"ok\",\"Problema en reparto\"),IF(K82=VLOOKUP(A81,$T$6:$X$105,5,FALSE),\"OK\",\"REVISAR\"))","v":"ok"},null,null,null,null,null,null,null,0,77,0,77,0]
[null,null,"PORCENTAJE ANTICIPO",{"$f":"+K83","v":0},{"$f":"+K83","v":0},{"$f":"+K83","v":0},{"$f":"+K83","v":0},{"$f":"+K83","v":0},{"$f":"+K83","v":0},{"$f":"+K83","v":0},0,{"$f":"+IF(K83<=0.7,\"OK; Porcentaje inferior o igual al 70%\",\"Revisar Porcentaje de Anticipo: es mayor del 70% (Máximo Permitido)\")","v":"OK; Porcentaje inferior o igual al 70%"},null,null,null,null,null,null,null,0,78,0,78,0]
[null,null,"TOTAL ANTICIPO",{"$f":"+ROUND(D82*D83,2)","v":0},{"$f":"+ROUND(E82*E83,2)","v":0},{"$f":"+ROUND(F82*F83,2)","v":0},{"$f":"+ROUND(G82*G83,2)","v":0},{"$f":"+ROUND(H82*H83,2)","v":0},{"$f":"+ROUND(I82*I83,2)","v":0},{"$f":"+ROUND(J82*J83,2)","v":0},{"$f":"+ROUND(K82*K83,2)","v":0},{"$f":"+IFERROR(IF(K84/K82>0.7,\"Revisar, % anticipo mayor 70%\",\"OK\"),\"\")","v":""},null,null,null,null,null,null,null,0,79,0,79,0]
[null,null,null,null,null,null,null,null,null,null,null,"",null,null,null,null,null,null,null,0,80,0,80,0]
[{"$f":"+'Datos Previos'!U32","v":0},"no hay","IMPORTE SUBVENCIONABLE",{"$f":"+SUMIF(Intensidades!$BS$6:$BS$15000,'Cálculos Anticipos'!$B86,Intensidades!JV86:JV15080)","v":0},{"$f":"+SUMIF(Intensidades!$BS$6:$BT$15000,'Cálculos Anticipos'!$B86,Intensidades!$JW$6:$JW$15000)","v":0},{"$f":"+SUMIF(Intensidades!$BS$6:$BU$15000,'Cálculos Anticipos'!$B86,Intensidades!$JX$6:$JX$15000)","v":0},{"$f":"+SUMIF(Intensidades!$BS$6:$BV$15000,'Cálculos Anticipos'!$B86,Intensidades!$JY$6:$JY$15000)","v":0},{"$f":"+SUMIF(Intensidades!$BS$6:$BW$15000,'Cálculos Anticipos'!$B86,Intensidades!$JZ$6:$JZ$15000)","v":0},{"$f":"+SUMIF(Intensidades!$BS$6:$BX$15000,'Cálculos Anticipos'!$B86,Intensidades!$KA$6:$KA$15000)","v":0},{"$f":"+SUMIF(Intensidades!$BS$6:$BY$15000,'Cálculos Anticipos'!$B86,Intensidades!$KB$6:$KB$15000)","v":0},{"$f":"+SUM(D86:J86)","v":0},{"$f":"+IF(K86=0,IF(B86=$S$5,\"ok\",\"Problema en reparto\"),IF(K86=VLOOKUP(A86,$T$6:$X$105,3,FALSE),\"OK\",\"REVISAR\"))","v":"ok"},null,null,null,null,null,null,{"$f":"+'Datos Previos'!U34","v":0},0,81,0,81,0]
[null,null,"IMPORTE AYUDA",{"$f":"+SUMIF(Intensidades!BS86:$BS15080,'Cálculos Anticipos'!$B86,Intensidades!$JN$6:$JN$15000)","v":0},{"$f":"+SUMIF(Intensidades!$BS$6:$BT$15000,'Cálculos Anticipos'!$B86,Intensidades!$JO$6:$JO$15000)","v":0},{"$f":"+SUMIF(Intensidades!$BS$6:$BU$15000,'Cálculos Anticipos'!$B86,Intensidades!$JP$6:$JP$15000)","v":0},{"$f":"+SUMIF(Intensidades!$BS$6:$BV$15000,'Cálculos Anticipos'!$B86,Intensidades!$JQ$6:$JQ$15000)","v":0},{"$f":"+SUMIF(Intensidades!$BS$6:$BW$15000,'Cálculos Anticipos'!$B86,Intensidades!$JR$6:$JR$15000)","v":0},{"$f":"+SUMIF(Intensidades!$BS$6:$BX$15000,'Cálculos Anticipos'!$B86,Intensidades!$JS$6:$JS$15000)","v":0},{"$f":"+SUMIF(Intensidades!$BS$6:$BY$15000,'Cálculos Anticipos'!$B86,Intensidades!$JT$6:$JT$15000)","v":0},0,{"$f":"+IF(K87=0,IF(B86=$S$5,\"ok\",\"Problema en reparto\"),IF(K87=VLOOKUP(A86,$T$6:$X$105,5,FALSE),\"OK\",\"REVISAR\"))","v":"ok"},null,null,null,null,null,null,null,0,82,0,82,0]
[null,null,"PORCENTAJE ANTICIPO",{"$f":"+K88","v":0},{"$f":"+K88","v":0},{"$f":"+K88","v":0},{"$f":"+K88","v":0},{"$f":"+K88","v":0},{"$f":"+K88","v":0},{"$f":"+K88","v":0},0,{"$f":"+IF(K88<=0.7,\"OK; Porcentaje inferior o igual al 70%\",\"Revisar Porcentaje de Anticipo: es mayor del 70% (Máximo Permitido)\")","v":"OK; Porcentaje inferior o igual al 70%"},null,null,null,null,null,null,null,0,83,0,83,0]
[null,null,"TOTAL ANTICIPO",{"$f":"+ROUND(D87*D88,2)","v":0},{"$f":"+ROUND(E87*E88,2)","v":0},{"$f":"+ROUND(F87*F88,2)","v":0},{"$f":"+ROUND(G87*G88,2)","v":0},{"$f":"+ROUND(H87*H88,2)","v":0},{"$f":"+ROUND(I87*I88,2)","v":0},{"$f":"+ROUND(J87*J88,2)","v":0},{"$f":"+ROUND(K87*K88,2)","v":0},{"$f":"+IFERROR(IF(K89/K87>0.7,\"Revisar, % anticipo mayor 70%\",\"OK\"),\"\")","v":""},null,null,null,null,null,null,null,0,84,0,84,0]
[null,null,null,null,null,null,null,null,null,null,null,"",null,null,null,null,null,null,null,0,85,0,85,0]
[{"$f":"+'Datos Previos'!V32","v":0},"no hay","IMPORTE SUBVENCIONABLE",{"$f":"+SUMIF(Intensidades!$BS$6:$BS$15000,'Cálculos Anticipos'!$B91,Intensidades!JV91:JV15085)","v":0},{"$f":"+SUMIF(Intensidades!$BS$6:$BT$15000,'Cálculos Anticipos'!$B91,Intensidades!$JW$6:$JW$15000)","v":0},{"$f":"+SUMIF(Intensidades!$BS$6:$BU$15000,'Cálculos Anticipos'!$B91,Intensidades!$JX$6:$JX$15000)","v":0},{"$f":"+SUMIF(Intensidades!$BS$6:$BV$15000,'Cálculos Anticipos'!$B91,Intensidades!$JY$6:$JY$15000)","v":0},{"$f":"+SUMIF(Intensidades!$BS$6:$BW$15000,'Cálculos Anticipos'!$B91,Intensidades!$JZ$6:$JZ$15000)","v":0},{"$f":"+SUMIF(Intensidades!$BS$6:$BX$15000,'Cálculos Anticipos'!$B91,Intensidades!$KA$6:$KA$15000)","v":0},{"$f":"+SUMIF(Intensidades!$BS$6:$BY$15000,'Cálculos Anticipos'!$B91,Intensidades!$KB$6:$KB$15000)","v":0},{"$f":"+SUM(D91:J91)","v":0},{"$f":"+IF(K91=0,IF(B91=$S$5,\"ok\",\"Problema en reparto\"),IF(K91=VLOOKUP(A91,$T$6:$X$105,3,FALSE),\"OK\",\"REVISAR\"))","v":"ok"},null,null,null,null,null,null,{"$f":"+'Datos Previos'!V34","v":0},0,86,0,86,0]
[null,null,"IMPORTE AYUDA",{"$f":"+SUMIF(Intensidades!BS91:$BS15085,'Cálculos Anticipos'!$B91,Intensidades!$JN$6:$JN$15000)","v":0},{"$f":"+SUMIF(Intensidades!$BS$6:$BT$15000,'Cálculos Anticipos'!$B91,Intensidades!$JO$6:$JO$15000)","v":0},{"$f":"+SUMIF(Intensidades!$BS$6:$BU$15000,'Cálculos Anticipos'!$B91,Intensidades!$JP$6:$JP$15000)","v":0},{"$f":"+SUMIF(Intensidades!$BS$6:$BV$15000,'Cálculos Anticipos'!$B91,Intensidades!$JQ$6:$JQ$15000)","v":0},{"$f":"+SUMIF(Intensidades!$BS$6:$BW$15000,'Cálculos Anticipos'!$B91,Intensidades!$JR$6:$JR$15000)","v":0},{"$f":"+SUMIF(Intensidades!$BS$6:$BX$15000,'Cálculos Anticipos'!$B91,Intensidades!$JS$6:$JS$15000)","v":0},{"$f":"+SUMIF(Intensidades!$BS$6:$BY$15000,'Cálculos Anticipos'!$B91,Intensidades!$JT$6:$JT$15000)","v":0},0,{"$f":"+IF(K92=0,IF(B91=$S$5,\"ok\",\"Problema en reparto\"),IF(K92=VLOOKUP(A91,$T$6:$X$105,5,FALSE),\"OK\",\"REVISAR\"))","v":"ok"},null,null,null,null,null,null,null,0,87,0,87,0]
[null,null,"PORCENTAJE ANTICIPO",{"$f":"+K93","v":0},{"$f":"+K93","v":0},{"$f":"+K93","v":0},{"$f":"+K93","v":0},{"$f":"+K93","v":0},{"$f":"+K93","v":0},{"$f":"+K93","v":0},0,{"$f":"+IF(K93<=0.7,\"OK; Porcentaje inferior o igual al 70%\",\"Revisar Porcentaje de Anticipo: es mayor del 70% (Máximo Permitido)\")","v":"OK; Porcentaje inferior o igual al 70%"},null,null,null,null,null,null,null,0,88,0,88,0]
[null,null,"TOTAL ANTICIPO",{"$f":"+ROUND(D92*D93,2)","v":0},{"$f":"+ROUND(E92*E93,2)","v":0},{"$f":"+ROUND(F92*F93,2)","v":0},{"$f":"+ROUND(G92*G93,2)","v":0},{"$f":"+ROUND(H92*H93,2)","v":0},{"$f":"+ROUND(I92*I93,2)","v":0},{"$f":"+ROUND(J92*J93,2)","v":0},{"$f":"+ROUND(K92*K93,2)","v":0},{"$f":"+IFERROR(IF(K94/K92>0.7,\"Revisar, % anticipo mayor 70%\",\"OK\"),\"\")","v":""},null,null,null,null,null,null,null,0,89,0,89,0]
[null,null,null,null,null,null,null,null,null,null,null,"",null,null,null,null,null,null,null,0,90,0,90,0]
[{"$f":"+'Datos Previos'!W32","v":0},"no hay","IMPORTE SUBVENCIONABLE",{"$f":"+SUMIF(Intensidades!$BS$6:$BS$15000,'Cálculos Anticipos'!$B96,Intensidades!JV96:JV15090)","v":0},{"$f":"+SUMIF(Intensidades!$BS$6:$BT$15000,'Cálculos Anticipos'!$B96,Intensidades!$JW$6:$JW$15000)","v":0},{"$f":"+SUMIF(Intensidades!$BS$6:$BU$15000,'Cálculos Anticipos'!$B96,Intensidades!$JX$6:$JX$15000)","v":0},{"$f":"+SUMIF(Intensidades!$BS$6:$BV$15000,'Cálculos Anticipos'!$B96,Intensidades!$JY$6:$JY$15000)","v":0},{"$f":"+SUMIF(Intensidades!$BS$6:$BW$15000,'Cálculos Anticipos'!$B96,Intensidades!$JZ$6:$JZ$15000)","v":0},{"$f":"+SUMIF(Intensidades!$BS$6:$BX$15000,'Cálculos Anticipos'!$B96,Intensidades!$KA$6:$KA$15000)","v":0},{"$f":"+SUMIF(Intensidades!$BS$6:$BY$15000,'Cálculos Anticipos'!$B96,Intensidades!$KB$6:$KB$15000)","v":0},{"$f":"+SUM(D96:J96)","v":0},{"$f":"+IF(K96=0,IF(B96=$S$5,\"ok\",\"Problema en reparto\"),IF(K96=VLOOKUP(A96,$T$6:$X$105,3,FALSE),\"OK\",\"REVISAR\"))","v":"ok"},null,null,null,null,null,null,{"$f":"+'Datos Previos'!W34","v":0},0,91,0,91,0]
[null,null,"IMPORTE AYUDA",{"$f":"+SUMIF(Intensidades!BS96:$BS15090,'Cálculos Anticipos'!$B96,Intensidades!$JN$6:$JN$15000)","v":0},{"$f":"+SUMIF(Intensidades!$BS$6:$BT$15000,'Cálculos Anticipos'!$B96,Intensidades!$JO$6:$JO$15000)","v":0},{"$f":"+SUMIF(Intensidades!$BS$6:$BU$15000,'Cálculos Anticipos'!$B96,Intensidades!$JP$6:$JP$15000)","v":0},{"$f":"+SUMIF(Intensidades!$BS$6:$BV$15000,'Cálculos Anticipos'!$B96,Intensidades!$JQ$6:$JQ$15000)","v":0},{"$f":"+SUMIF(Intensidades!$BS$6:$BW$15000,'Cálculos Anticipos'!$B96,Intensidades!$JR$6:$JR$15000)","v":0},{"$f":"+SUMIF(Intensidades!$BS$6:$BX$15000,'Cálculos Anticipos'!$B96,Intensidades!$JS$6:$JS$15000)","v":0},{"$f":"+SUMIF(Intensidades!$BS$6:$BY$15000,'Cálculos Anticipos'!$B96,Intensidades!$JT$6:$JT$15000)","v":0},0,{"$f":"+IF(K97=0,IF(B96=$S$5,\"ok\",\"Problema en reparto\"),IF(K97=VLOOKUP(A96,$T$6:$X$105,5,FALSE),\"OK\",\"REVISAR\"))","v":"ok"},null,null,null,null,null,null,null,0,92,0,92,0]
[null,null,"PORCENTAJE ANTICIPO",{"$f":"+K98","v":0},{"$f":"+K98","v":0},{"$f":"+K98","v":0},{"$f":"+K98","v":0},{"$f":"+K98","v":0},{"$f":"+K98","v":0},{"$f":"+K98","v":0},0,{"$f":"+IF(K98<=0.7,\"OK; Porcentaje inferior o igual al 70%\",\"Revisar Porcentaje de Anticipo: es mayor del 70% (Máximo Permitido)\")","v":"OK; Porcentaje inferior o igual al 70%"},null,null,null,null,null,null,null,0,93,0,93,0]
[null,null,"TOTAL ANTICIPO",{"$f":"+ROUND(D97*D98,2)","v":0},{"$f":"+ROUND(E97*E98,2)","v":0},{"$f":"+ROUND(F97*F98,2)","v":0},{"$f":"+ROUND(G97*G98,2)","v":0},{"$f":"+ROUND(H97*H98,2)","v":0},{"$f":"+ROUND(I97*I98,2)","v":0},{"$f":"+ROUND(J97*J98,2)","v":0},{"$f":"+ROUND(K97*K98,2)","v":0},{"$f":"+IFERROR(IF(K99/K97>0.7,\"Revisar, % anticipo mayor 70%\",\"OK\"),\"\")","v":""},null,null,null,null,null,null,null,0,94,0,94,0]
[null,null,null,null,null,null,null,null,null,null,null,"",null,null,null,null,null,null,null,0,95,0,95,0]
[{"$f":"+'Datos Previos'!X32","v":0},"no hay","IMPORTE SUBVENCIONABLE",{"$f":"+SUMIF(Intensidades!$BS$6:$BS$15000,'Cálculos Anticipos'!$B101,Intensidades!JV101:JV15095)","v":0},{"$f":"+SUMIF(Intensidades!$BS$6:$BT$15000,'Cálculos Anticipos'!$B101,Intensidades!$JW$6:$JW$15000)","v":0},{"$f":"+SUMIF(Intensidades!$BS$6:$BU$15000,'Cálculos Anticipos'!$B101,Intensidades!$JX$6:$JX$15000)","v":0},{"$f":"+SUMIF(Intensidades!$BS$6:$BV$15000,'Cálculos Anticipos'!$B101,Intensidades!$JY$6:$JY$15000)","v":0},{"$f":"+SUMIF(Intensidades!$BS$6:$BW$15000,'Cálculos Anticipos'!$B101,Intensidades!$JZ$6:$JZ$15000)","v":0},{"$f":"+SUMIF(Intensidades!$BS$6:$BX$15000,'Cálculos Anticipos'!$B101,Intensidades!$KA$6:$KA$15000)","v":0},{"$f":"+SUMIF(Intensidades!$BS$6:$BY$15000,'Cálculos Anticipos'!$B101,Intensidades!$KB$6:$KB$15000)","v":0},{"$f":"+SUM(D101:J101)","v":0},{"$f":"+IF(K101=0,IF(B101=$S$5,\"ok\",\"Problema en reparto\"),IF(K101=VLOOKUP(A101,$T$6:$X$105,3,FALSE),\"OK\",\"REVISAR\"))","v":"ok"},null,null,null,null,null,null,{"$f":"+'Datos Previos'!X34","v":0},0,96,0,96,0]
[null,null,"IMPORTE AYUDA",{"$f":"+SUMIF(Intensidades!BS101:$BS15095,'Cálculos Anticipos'!$B101,Intensidades!$JN$6:$JN$15000)","v":0},{"$f":"+SUMIF(Intensidades!$BS$6:$BT$15000,'Cálculos Anticipos'!$B101,Intensidades!$JO$6:$JO$15000)","v":0},{"$f":"+SUMIF(Intensidades!$BS$6:$BU$15000,'Cálculos Anticipos'!$B101,Intensidades!$JP$6:$JP$15000)","v":0},{"$f":"+SUMIF(Intensidades!$BS$6:$BV$15000,'Cálculos Anticipos'!$B101,Intensidades!$JQ$6:$JQ$15000)","v":0},{"$f":"+SUMIF(Intensidades!$BS$6:$BW$15000,'Cálculos Anticipos'!$B101,Intensidades!$JR$6:$JR$15000)","v":0},{"$f":"+SUMIF(Intensidades!$BS$6:$BX$15000,'Cálculos Anticipos'!$B101,Intensidades!$JS$6:$JS$15000)","v":0},{"$f":"+SUMIF(Intensidades!$BS$6:$BY$15000,'Cálculos Anticipos'!$B101,Intensidades!$JT$6:$JT$15000)","v":0},0,{"$f":"+IF(K102=0,IF(B101=$S$5,\"ok\",\"Problema en reparto\"),IF(K102=VLOOKUP(A101,$T$6:$X$105,5,FALSE),\"OK\",\"REVISAR\"))","v":"ok"},null,null,null,null,null,null,null,0,97,0,97,0]
[null,null,"PORCENTAJE ANTICIPO",{"$f":"+K103","v":0},{"$f":"+K103","v":0},{"$f":"+K103","v":0},{"$f":"+K103","v":0},{"$f":"+K103","v":0},{"$f":"+K103","v":0},{"$f":"+K103","v":0},0,{"$f":"+IF(K103<=0.7,\"OK; Porcentaje inferior o igual al 70%\",\"Revisar Porcentaje de Anticipo: es mayor del 70% (Máximo Permitido)\")","v":"OK; Porcentaje inferior o igual al 70%"},null,null,null,null,null,null,null,0,98,0,98,0]
[null,null,"TOTAL ANTICIPO",{"$f":"+ROUND(D102*D103,2)","v":0},{"$f":"+ROUND(E102*E103,2)","v":0},{"$f":"+ROUND(F102*F103,2)","v":0},{"$f":"+ROUND(G102*G103,2)","v":0},{"$f":"+ROUND(H102*H103,2)","v":0},{"$f":"+ROUND(I102*I103,2)","v":0},{"$f":"+ROUND(J102*J103,2)","v":0},{"$f":"+ROUND(K102*K103,2)","v":0},{"$f":"+IFERROR(IF(K104/K102>0.7,\"Revisar, % anticipo mayor 70%\",\"OK\"),\"\")","v":""},null,null,null,null,null,null,null,0,99,0,99,0]
[null,null,null,null,null,null,null,null,null,null,null,"",null,null,null,null,null,null,null,0,100,0,100,0]
[{"$f":"+'Datos Previos'!Y32","v":0},"no hay","IMPORTE SUBVENCIONABLE",{"$f":"+SUMIF(Intensidades!$BS$6:$BS$15000,'Cálculos Anticipos'!$B106,Intensidades!JV106:JV15100)","v":0},{"$f":"+SUMIF(Intensidades!$BS$6:$BT$15000,'Cálculos Anticipos'!$B106,Intensidades!$JW$6:$JW$15000)","v":0},{"$f":"+SUMIF(Intensidades!$BS$6:$BU$15000,'Cálculos Anticipos'!$B106,Intensidades!$JX$6:$JX$15000)","v":0},{"$f":"+SUMIF(Intensidades!$BS$6:$BV$15000,'Cálculos Anticipos'!$B106,Intensidades!$JY$6:$JY$15000)","v":0},{"$f":"+SUMIF(Intensidades!$BS$6:$BW$15000,'Cálculos Anticipos'!$B106,Intensidades!$JZ$6:$JZ$15000)","v":0},{"$f":"+SUMIF(Intensidades!$BS$6:$BX$15000,'Cálculos Anticipos'!$B106,Intensidades!$KA$6:$KA$15000)","v":0},{"$f":"+SUMIF(Intensidades!$BS$6:$BY$15000,'Cálculos Anticipos'!$B106,Intensidades!$KB$6:$KB$15000)","v":0},{"$f":"+SUM(D106:J106)","v":0},{"$f":"+IF(K106=0,IF(B106=$S$5,\"ok\",\"Problema en reparto\"),IF(K106=VLOOKUP(A106,$T$6:$X$105,3,FALSE),\"OK\",\"REVISAR\"))","v":"ok"},null,null,null,null,null,null,{"$f":"+'Datos Previos'!Y34","v":0}]
[null,null,"IMPORTE AYUDA",{"$f":"+SUMIF(Intensidades!BS106:$BS15100,'Cálculos Anticipos'!$B106,Intensidades!$JN$6:$JN$15000)","v":0},{"$f":"+SUMIF(Intensidades!$BS$6:$BT$15000,'Cálculos Anticipos'!$B106,Intensidades!$JO$6:$JO$15000)","v":0},{"$f":"+SUMIF(Intensidades!$BS$6:$BU$15000,'Cálculos Anticipos'!$B106,Intensidades!$JP$6:$JP$15000)","v":0},{"$f":"+SUMIF(Intensidades!$BS$6:$BV$15000,'Cálculos Anticipos'!$B106,Intensidades!$JQ$6:$JQ$15000)","v":0},{"$f":"+SUMIF(Intensidades!$BS$6:$BW$15000,'Cálculos Anticipos'!$B106,Intensidades!$JR$6:$JR$15000)","v":0},{"$f":"+SUMIF(Intensidades!$BS$6:$BX$15000,'Cálculos Anticipos'!$B106,Intensidades!$JS$6:$JS$15000)","v":0},{"$f":"+SUMIF(Intensidades!$BS$6:$BY$15000,'Cálculos Anticipos'!$B106,Intensidades!$JT$6:$JT$15000)","v":0},0,{"$f":"+IF(K107=0,IF(B106=$S$5,\"ok\",\"Problema en reparto\"),IF(K107=VLOOKUP(A106,$T$6:$X$105,5,FALSE),\"OK\",\"REVISAR\"))","v":"ok"}]
[null,null,"PORCENTAJE ANTICIPO",{"$f":"+K108","v":0},{"$f":"+K108","v":0},{"$f":"+K108","v":0},{"$f":"+K108","v":0},{"$f":"+K108","v":0},{"$f":"+K108","v":0},{"$f":"+K108","v":0},0,{"$f":"+IF(K108<=0.7,\"OK; Porcentaje inferior o igual al 70%\",\"Revisar Porcentaje de Anticipo: es mayor del 70% (Máximo Permitido)\")","v":"OK; Porcentaje inferior o igual al 70%"}]
[null,null,"TOTAL ANTICIPO",{"$f":"+ROUND(D107*D108,2)","v":0},{"$f":"+ROUND(E107*E108,2)","v":0},{"$f":"+ROUND(F107*F108,2)","v":0},{"$f":"+ROUND(G107*G108,2)","v":0},{"$f":"+ROUND(H107*H108,2)","v":0},{"$f":"+ROUND(I107*I108,2)","v":0},{"$f":"+ROUND(J107*J108,2)","v":0},{"$f":"+ROUND(K107*K108,2)","v":0},{"$f":"+IFERROR(IF(K109/K107>0.7,\"Revisar, % anticipo mayor 70%\",\"OK\"),\"\")","v":""}]
[null,null,null,null,null,null,null,null,null,null,null,""]
[{"$f":"+'Datos Previos'!Z32","v":0},"no hay","IMPORTE SUBVENCIONABLE",{"$f":"+SUMIF(Intensidades!$BS$6:$BS$15000,'Cálculos Anticipos'!$B111,Intensidades!JV111:JV15105)","v":0},{"$f":"+SUMIF(Intensidades!$BS$6:$BT$15000,'Cálculos Anticipos'!$B111,Intensidades!$JW$6:$JW$15000)","v":0},{"$f":"+SUMIF(Intensidades!$BS$6:$BU$15000,'Cálculos Anticipos'!$B111,Intensidades!$JX$6:$JX$15000)","v":0},{"$f":"+SUMIF(Intensidades!$BS$6:$BV$15000,'Cálculos Anticipos'!$B111,Intensidades!$JY$6:$JY$15000)","v":0},{"$f":"+SUMIF(Intensidades!$BS$6:$BW$15000,'Cálculos Anticipos'!$B111,Intensidades!$JZ$6:$JZ$15000)","v":0},{"$f":"+SUMIF(Intensidades!$BS$6:$BX$15000,'Cálculos Anticipos'!$B111,Intensidades!$KA$6:$KA$15000)","v":0},{"$f":"+SUMIF(Intensidades!$BS$6:$BY$15000,'Cálculos Anticipos'!$B111,Intensidades!$KB$6:$KB$15000)","v":0},{"$f":"+SUM(D111:J111)","v":0},{"$f":"+IF(K111=0,IF(B111=$S$5,\"ok\",\"Problema en reparto\"),IF(K111=VLOOKUP(A111,$T$6:$X$105,3,FALSE),\"OK\",\"REVISAR\"))","v":"ok"},null,null,null,null,null,null,{"$f":"+'Datos Previos'!Z34","v":0}]
[null,null,"IMPORTE AYUDA",{"$f":"+SUMIF(Intensidades!BS111:$BS15105,'Cálculos Anticipos'!$B111,Intensidades!$JN$6:$JN$15000)","v":0},{"$f":"+SUMIF(Intensidades!$BS$6:$BT$15000,'Cálculos Anticipos'!$B111,Intensidades!$JO$6:$JO$15000)","v":0},{"$f":"+SUMIF(Intensidades!$BS$6:$BU$15000,'Cálculos Anticipos'!$B111,Intensidades!$JP$6:$JP$15000)","v":0},{"$f":"+SUMIF(Intensidades!$BS$6:$BV$15000,'Cálculos Anticipos'!$B111,Intensidades!$JQ$6:$JQ$15000)","v":0},{"$f":"+SUMIF(Intensidades!$BS$6:$BW$15000,'Cálculos Anticipos'!$B111,Intensidades!$JR$6:$JR$15000)","v":0},{"$f":"+SUMIF(Intensidades!$BS$6:$BX$15000,'Cálculos Anticipos'!$B111,Intensidades!$JS$6:$JS$15000)","v":0},{"$f":"+SUMIF(Intensidades!$BS$6:$BY$15000,'Cálculos Anticipos'!$B111,Intensidades!$JT$6:$JT$15000)","v":0},0,{"$f":"+IF(K112=0,IF(B111=$S$5,\"ok\",\"Problema en reparto\"),IF(K112=VLOOKUP(A111,$T$6:$X$105,5,FALSE),\"OK\",\"REVISAR\"))","v":"ok"}]
[null,null,"PORCENTAJE ANTICIPO",{"$f":"+K113","v":0},{"$f":"+K113","v":0},{"$f":"+K113","v":0},{"$f":"+K113","v":0},{"$f":"+K113","v":0},{"$f":"+K113","v":0},{"$f":"+K113","v":0},0,{"$f":"+IF(K113<=0.7,\"OK; Porcentaje inferior o igual al 70%\",\"Revisar Porcentaje de Anticipo: es mayor del 70% (Máximo Permitido)\")","v":"OK; Porcentaje inferior o igual al 70%"}]
[null,null,"TOTAL ANTICIPO",{"$f":"+ROUND(D112*D113,2)","v":0},{"$f":"+ROUND(E112*E113,2)","v":0},{"$f":"+ROUND(F112*F113,2)","v":0},{"$f":"+ROUND(G112*G113,2)","v":0},{"$f":"+ROUND(H112*H113,2)","v":0},{"$f":"+ROUND(I112*I113,2)","v":0},{"$f":"+ROUND(J112*J113,2)","v":0},{"$f":"+ROUND(K112*K113,2)","v":0},{"$f":"+IFERROR(IF(K114/K112>0.7,\"Revisar, % anticipo mayor 70%\",\"OK\"),\"\")","v":""}]
[null,null,null,null,null,null,null,null,null,null,null,""]
[{"$f":"+'Datos Previos'!AA32","v":0},"no hay","IMPORTE SUBVENCIONABLE",{"$f":"+SUMIF(Intensidades!$BS$6:$BS$15000,'Cálculos Anticipos'!$B116,Intensidades!JV116:JV15110)","v":0},{"$f":"+SUMIF(Intensidades!$BS$6:$BT$15000,'Cálculos Anticipos'!$B116,Intensidades!$JW$6:$JW$15000)","v":0},{"$f":"+SUMIF(Intensidades!$BS$6:$BU$15000,'Cálculos Anticipos'!$B116,Intensidades!$JX$6:$JX$15000)","v":0},{"$f":"+SUMIF(Intensidades!$BS$6:$BV$15000,'Cálculos Anticipos'!$B116,Intensidades!$JY$6:$JY$15000)","v":0},{"$f":"+SUMIF(Intensidades!$BS$6:$BW$15000,'Cálculos Anticipos'!$B116,Intensidades!$JZ$6:$JZ$15000)","v":0},{"$f":"+SUMIF(Intensidades!$BS$6:$BX$15000,'Cálculos Anticipos'!$B116,Intensidades!$KA$6:$KA$15000)","v":0},{"$f":"+SUMIF(Intensidades!$BS$6:$BY$15000,'Cálculos Anticipos'!$B116,Intensidades!$KB$6:$KB$15000)","v":0},{"$f":"+SUM(D116:J116)","v":0},{"$f":"+IF(K116=0,IF(B116=$S$5,\"ok\",\"Problema en reparto\"),IF(K116=VLOOKUP(A116,$T$6:$X$105,3,FALSE),\"OK\",\"REVISAR\"))","v":"ok"},null,null,null,null,null,null,{"$f":"+'Datos Previos'!AA34","v":0}]
[null,null,"IMPORTE AYUDA",{"$f":"+SUMIF(Intensidades!BS116:$BS15110,'Cálculos Anticipos'!$B116,Intensidades!$JN$6:$JN$15000)","v":0},{"$f":"+SUMIF(Intensidades!$BS$6:$BT$15000,'Cálculos Anticipos'!$B116,Intensidades!$JO$6:$JO$15000)","v":0},{"$f":"+SUMIF(Intensidades!$BS$6:$BU$15000,'Cálculos Anticipos'!$B116,Intensidades!$JP$6:$JP$15000)","v":0},{"$f":"+SUMIF(Intensidades!$BS$6:$BV$15000,'Cálculos Anticipos'!$B116,Intensidades!$JQ$6:$JQ$15000)","v":0},{"$f":"+SUMIF(Intensidades!$BS$6:$BW$15000,'Cálculos Anticipos'!$B116,Intensidades!$JR$6:$JR$15000)","v":0},{"$f":"+SUMIF(Intensidades!$BS$6:$BX$15000,'Cálculos Anticipos'!$B116,Intensidades!$JS$6:$JS$15000)","v":0},{"$f":"+SUMIF(Intensidades!$BS$6:$BY$15000,'Cálculos Anticipos'!$B116,Intensidades!$JT$6:$JT$15000)","v":0},0,{"$f":"+IF(K117=0,IF(B116=$S$5,\"ok\",\"Problema en reparto\"),IF(K117=VLOOKUP(A116,$T$6:$X$105,5,FALSE),\"OK\",\"REVISAR\"))","v":"ok"}]
[null,null,"PORCENTAJE ANTICIPO",{"$f":"+K118","v":0},{"$f":"+K118","v":0},{"$f":"+K118","v":0},{"$f":"+K118","v":0},{"$f":"+K118","v":0},{"$f":"+K118","v":0},{"$f":"+K118","v":0},0,{"$f":"+IF(K118<=0.7,\"OK; Porcentaje inferior o igual al 70%\",\"Revisar Porcentaje de Anticipo: es mayor del 70% (Máximo Permitido)\")","v":"OK; Porcentaje inferior o igual al 70%"}]
[null,null,"TOTAL ANTICIPO",{"$f":"+ROUND(D117*D118,2)","v":0},{"$f":"+ROUND(E117*E118,2)","v":0},{"$f":"+ROUND(F117*F118,2)","v":0},{"$f":"+ROUND(G117*G118,2)","v":0},{"$f":"+ROUND(H117*H118,2)","v":0},{"$f":"+ROUND(I117*I118,2)","v":0},{"$f":"+ROUND(J117*J118,2)","v":0},{"$f":"+ROUND(K117*K118,2)","v":0},{"$f":"+IFERROR(IF(K119/K117>0.7,\"Revisar, % anticipo mayor 70%\",\"OK\"),\"\")","v":""}]
[null,null,null,null,null,null,null,null,null,null,null,""]
[{"$f":"+'Datos Previos'!AB32","v":0},{"$f":"+IF(A121=$T$106,\"no hay\",S121)","v":"no hay"},"IMPORTE SUBVENCIONABLE",{"$f":"+SUMIF(Intensidades!$BS$6:$BS$15000,'Cálculos Anticipos'!$B121,Intensidades!JV121:JV15115)","v":0},{"$f":"+SUMIF(Intensidades!$BS$6:$BT$15000,'Cálculos Anticipos'!$B121,Intensidades!$JW$6:$JW$15000)","v":0},{"$f":"+SUMIF(Intensidades!$BS$6:$BU$15000,'Cálculos Anticipos'!$B121,Intensidades!$JX$6:$JX$15000)","v":0},{"$f":"+SUMIF(Intensidades!$BS$6:$BV$15000,'Cálculos Anticipos'!$B121,Intensidades!$JY$6:$JY$15000)","v":0},{"$f":"+SUMIF(Intensidades!$BS$6:$BW$15000,'Cálculos Anticipos'!$B121,Intensidades!$JZ$6:$JZ$15000)","v":0},{"$f":"+SUMIF(Intensidades!$BS$6:$BX$15000,'Cálculos Anticipos'!$B121,Intensidades!$KA$6:$KA$15000)","v":0},{"$f":"+SUMIF(Intensidades!$BS$6:$BY$15000,'Cálculos Anticipos'!$B121,Intensidades!$KB$6:$KB$15000)","v":0},{"$f":"+SUM(D121:J121)","v":0},{"$f":"+IF(K121=0,IF(B121=$S$5,\"ok\",\"Problema en reparto\"),IF(K121=VLOOKUP(A121,$T$6:$X$105,3,FALSE),\"OK\",\"REVISAR\"))","v":"ok"},null,null,null,null,null,null,{"$f":"+'Datos Previos'!AB34","v":0}]
[null,null,"IMPORTE AYUDA",{"$f":"+SUMIF(Intensidades!BS121:$BS15115,'Cálculos Anticipos'!$B121,Intensidades!$JN$6:$JN$15000)","v":0},{"$f":"+SUMIF(Intensidades!$BS$6:$BT$15000,'Cálculos Anticipos'!$B121,Intensidades!$JO$6:$JO$15000)","v":0},{"$f":"+SUMIF(Intensidades!$BS$6:$BU$15000,'Cálculos Anticipos'!$B121,Intensidades!$JP$6:$JP$15000)","v":0},{"$f":"+SUMIF(Intensidades!$BS$6:$BV$15000,'Cálculos Anticipos'!$B121,Intensidades!$JQ$6:$JQ$15000)","v":0},{"$f":"+SUMIF(Intensidades!$BS$6:$BW$15000,'Cálculos Anticipos'!$B121,Intensidades!$JR$6:$JR$15000)","v":0},{"$f":"+SUMIF(Intensidades!$BS$6:$BX$15000,'Cálculos Anticipos'!$B121,Intensidades!$JS$6:$JS$15000)","v":0},{"$f":"+SUMIF(Intensidades!$BS$6:$BY$15000,'Cálculos Anticipos'!$B121,Intensidades!$JT$6:$JT$15000)","v":0},0,{"$f":"+IF(K122=0,IF(B121=$S$5,\"ok\",\"Problema en reparto\"),IF(K122=VLOOKUP(A121,$T$6:$X$105,5,FALSE),\"OK\",\"REVISAR\"))","v":"ok"}]
[null,null,"PORCENTAJE ANTICIPO",{"$f":"+K123","v":0},{"$f":"+K123","v":0},{"$f":"+K123","v":0},{"$f":"+K123","v":0},{"$f":"+K123","v":0},{"$f":"+K123","v":0},{"$f":"+K123","v":0},0,{"$f":"+IF(K123<=0.7,\"OK; Porcentaje inferior o igual al 70%\",\"Revisar Porcentaje de Anticipo: es mayor del 70% (Máximo Permitido)\")","v":"OK; Porcentaje inferior o igual al 70%"}]
[null,null,"TOTAL ANTICIPO",{"$f":"+ROUND(D122*D123,2)","v":0},{"$f":"+ROUND(E122*E123,2)","v":0},{"$f":"+ROUND(F122*F123,2)","v":0},{"$f":"+ROUND(G122*G123,2)","v":0},{"$f":"+ROUND(H122*H123,2)","v":0},{"$f":"+ROUND(I122*I123,2)","v":0},{"$f":"+ROUND(J122*J123,2)","v":0},{"$f":"+ROUND(K122*K123,2)","v":0},{"$f":"+IFERROR(IF(K124/K122>0.7,\"Revisar, % anticipo mayor 70%\",\"OK\"),\"\")","v":""}]
[null,null,null,null,null,null,null,null,null,null,null,""]
[{"$f":"+'Datos Previos'!AC32","v":0},{"$f":"+IF(A126=$T$106,\"no hay\",S126)","v":"no hay"},"IMPORTE SUBVENCIONABLE",{"$f":"+SUMIF(Intensidades!$BS$6:$BS$15000,'Cálculos Anticipos'!$B126,Intensidades!JV126:JV15120)","v":0},{"$f":"+SUMIF(Intensidades!$BS$6:$BT$15000,'Cálculos Anticipos'!$B126,Intensidades!$JW$6:$JW$15000)","v":0},{"$f":"+SUMIF(Intensidades!$BS$6:$BU$15000,'Cálculos Anticipos'!$B126,Intensidades!$JX$6:$JX$15000)","v":0},{"$f":"+SUMIF(Intensidades!$BS$6:$BV$15000,'Cálculos Anticipos'!$B126,Intensidades!$JY$6:$JY$15000)","v":0},{"$f":"+SUMIF(Intensidades!$BS$6:$BW$15000,'Cálculos Anticipos'!$B126,Intensidades!$JZ$6:$JZ$15000)","v":0},{"$f":"+SUMIF(Intensidades!$BS$6:$BX$15000,'Cálculos Anticipos'!$B126,Intensidades!$KA$6:$KA$15000)","v":0},{"$f":"+SUMIF(Intensidades!$BS$6:$BY$15000,'Cálculos Anticipos'!$B126,Intensidades!$KB$6:$KB$15000)","v":0},{"$f":"+SUM(D126:J126)","v":0},{"$f":"+IF(K126=0,IF(B126=$S$5,\"ok\",\"Problema en reparto\"),IF(K126=VLOOKUP(A126,$T$6:$X$105,3,FALSE),\"OK\",\"REVISAR\"))","v":"ok"},null,null,null,null,null,null,{"$f":"+'Datos Previos'!AC34","v":0}]
[null,null,"IMPORTE AYUDA",{"$f":"+SUMIF(Intensidades!BS126:$BS15120,'Cálculos Anticipos'!$B126,Intensidades!$JN$6:$JN$15000)","v":0},{"$f":"+SUMIF(Intensidades!$BS$6:$BT$15000,'Cálculos Anticipos'!$B126,Intensidades!$JO$6:$JO$15000)","v":0},{"$f":"+SUMIF(Intensidades!$BS$6:$BU$15000,'Cálculos Anticipos'!$B126,Intensidades!$JP$6:$JP$15000)","v":0},{"$f":"+SUMIF(Intensidades!$BS$6:$BV$15000,'Cálculos Anticipos'!$B126,Intensidades!$JQ$6:$JQ$15000)","v":0},{"$f":"+SUMIF(Intensidades!$BS$6:$BW$15000,'Cálculos Anticipos'!$B126,Intensidades!$JR$6:$JR$15000)","v":0},{"$f":"+SUMIF(Intensidades!$BS$6:$BX$15000,'Cálculos Anticipos'!$B126,Intensidades!$JS$6:$JS$15000)","v":0},{"$f":"+SUMIF(Intensidades!$BS$6:$BY$15000,'Cálculos Anticipos'!$B126,Intensidades!$JT$6:$JT$15000)","v":0},0,{"$f":"+IF(K127=0,IF(B126=$S$5,\"ok\",\"Problema en reparto\"),IF(K127=VLOOKUP(A126,$T$6:$X$105,5,FALSE),\"OK\",\"REVISAR\"))","v":"ok"}]
[null,null,"PORCENTAJE ANTICIPO",{"$f":"+K128","v":0},{"$f":"+K128","v":0},{"$f":"+K128","v":0},{"$f":"+K128","v":0},{"$f":"+K128","v":0},{"$f":"+K128","v":0},{"$f":"+K128","v":0},0,{"$f":"+IF(K128<=0.7,\"OK; Porcentaje inferior o igual al 70%\",\"Revisar Porcentaje de Anticipo: es mayor del 70% (Máximo Permitido)\")","v":"OK; Porcentaje inferior o igual al 70%"}]
[null,null,"TOTAL ANTICIPO",{"$f":"+ROUND(D127*D128,2)","v":0},{"$f":"+ROUND(E127*E128,2)","v":0},{"$f":"+ROUND(F127*F128,2)","v":0},{"$f":"+ROUND(G127*G128,2)","v":0},{"$f":"+ROUND(H127*H128,2)","v":0},{"$f":"+ROUND(I127*I128,2)","v":0},{"$f":"+ROUND(J127*J128,2)","v":0},{"$f":"+ROUND(K127*K128,2)","v":0},{"$f":"+IFERROR(IF(K129/K127>0.7,\"Revisar, % anticipo mayor 70%\",\"OK\"),\"\")","v":""}]
[null,null,null,null,null,null,null,null,null,null,null,""]
[{"$f":"+'Datos Previos'!AD32","v":0},{"$f":"+IF(A131=$T$106,\"no hay\",S131)","v":"no hay"},"IMPORTE SUBVENCIONABLE",{"$f":"+SUMIF(Intensidades!$BS$6:$BS$15000,'Cálculos Anticipos'!$B131,Intensidades!JV131:JV15125)","v":0},{"$f":"+SUMIF(Intensidades!$BS$6:$BT$15000,'Cálculos Anticipos'!$B131,Intensidades!$JW$6:$JW$15000)","v":0},{"$f":"+SUMIF(Intensidades!$BS$6:$BU$15000,'Cálculos Anticipos'!$B131,Intensidades!$JX$6:$JX$15000)","v":0},{"$f":"+SUMIF(Intensidades!$BS$6:$BV$15000,'Cálculos Anticipos'!$B131,Intensidades!$JY$6:$JY$15000)","v":0},{"$f":"+SUMIF(Intensidades!$BS$6:$BW$15000,'Cálculos Anticipos'!$B131,Intensidades!$JZ$6:$JZ$15000)","v":0},{"$f":"+SUMIF(Intensidades!$BS$6:$BX$15000,'Cálculos Anticipos'!$B131,Intensidades!$KA$6:$KA$15000)","v":0},{"$f":"+SUMIF(Intensidades!$BS$6:$BY$15000,'Cálculos Anticipos'!$B131,Intensidades!$KB$6:$KB$15000)","v":0},{"$f":"+SUM(D131:J131)","v":0},{"$f":"+IF(K131=0,IF(B131=$S$5,\"ok\",\"Problema en reparto\"),IF(K131=VLOOKUP(A131,$T$6:$X$105,3,FALSE),\"OK\",\"REVISAR\"))","v":"ok"},null,null,null,null,null,null,{"$f":"+'Datos Previos'!AD34","v":0}]
[null,null,"IMPORTE AYUDA",{"$f":"+SUMIF(Intensidades!BS131:$BS15125,'Cálculos Anticipos'!$B131,Intensidades!$JN$6:$JN$15000)","v":0},{"$f":"+SUMIF(Intensidades!$BS$6:$BT$15000,'Cálculos Anticipos'!$B131,Intensidades!$JO$6:$JO$15000)","v":0},{"$f":"+SUMIF(Intensidades!$BS$6:$BU$15000,'Cálculos Anticipos'!$B131,Intensidades!$JP$6:$JP$15000)","v":0},{"$f":"+SUMIF(Intensidades!$BS$6:$BV$15000,'Cálculos Anticipos'!$B131,Intensidades!$JQ$6:$JQ$15000)","v":0},{"$f":"+SUMIF(Intensidades!$BS$6:$BW$15000,'Cálculos Anticipos'!$B131,Intensidades!$JR$6:$JR$15000)","v":0},{"$f":"+SUMIF(Intensidades!$BS$6:$BX$15000,'Cálculos Anticipos'!$B131,Intensidades!$JS$6:$JS$15000)","v":0},{"$f":"+SUMIF(Intensidades!$BS$6:$BY$15000,'Cálculos Anticipos'!$B131,Intensidades!$JT$6:$JT$15000)","v":0},0,{"$f":"+IF(K132=0,IF(B131=$S$5,\"ok\",\"Problema en reparto\"),IF(K132=VLOOKUP(A131,$T$6:$X$105,5,FALSE),\"OK\",\"REVISAR\"))","v":"ok"}]
[null,null,"PORCENTAJE ANTICIPO",{"$f":"+K133","v":0},{"$f":"+K133","v":0},{"$f":"+K133","v":0},{"$f":"+K133","v":0},{"$f":"+K133","v":0},{"$f":"+K133","v":0},{"$f":"+K133","v":0},0,{"$f":"+IF(K133<=0.7,\"OK; Porcentaje inferior o igual al 70%\",\"Revisar Porcentaje de Anticipo: es mayor del 70% (Máximo Permitido)\")","v":"OK; Porcentaje inferior o igual al 70%"}]
[null,null,"TOTAL ANTICIPO",{"$f":"+ROUND(D132*D133,2)","v":0},{"$f":"+ROUND(E132*E133,2)","v":0},{"$f":"+ROUND(F132*F133,2)","v":0},{"$f":"+ROUND(G132*G133,2)","v":0},{"$f":"+ROUND(H132*H133,2)","v":0},{"$f":"+ROUND(I132*I133,2)","v":0},{"$f":"+ROUND(J132*J133,2)","v":0},{"$f":"+ROUND(K132*K133,2)","v":0},{"$f":"+IFERROR(IF(K134/K132>0.7,\"Revisar, % anticipo mayor 70%\",\"OK\"),\"\")","v":""}]
[null,null,null,null,null,null,null,null,null,null,null,""]
[{"$f":"+'Datos Previos'!AE32","v":0},{"$f":"+IF(A136=$T$106,\"no hay\",S136)","v":"no hay"},"IMPORTE SUBVENCIONABLE",{"$f":"+SUMIF(Intensidades!$BS$6:$BS$15000,'Cálculos Anticipos'!$B136,Intensidades!JV136:JV15130)","v":0},{"$f":"+SUMIF(Intensidades!$BS$6:$BT$15000,'Cálculos Anticipos'!$B136,Intensidades!$JW$6:$JW$15000)","v":0},{"$f":"+SUMIF(Intensidades!$BS$6:$BU$15000,'Cálculos Anticipos'!$B136,Intensidades!$JX$6:$JX$15000)","v":0},{"$f":"+SUMIF(Intensidades!$BS$6:$BV$15000,'Cálculos Anticipos'!$B136,Intensidades!$JY$6:$JY$15000)","v":0},{"$f":"+SUMIF(Intensidades!$BS$6:$BW$15000,'Cálculos Anticipos'!$B136,Intensidades!$JZ$6:$JZ$15000)","v":0},{"$f":"+SUMIF(Intensidades!$BS$6:$BX$15000,'Cálculos Anticipos'!$B136,Intensidades!$KA$6:$KA$15000)","v":0},{"$f":"+SUMIF(Intensidades!$BS$6:$BY$15000,'Cálculos Anticipos'!$B136,Intensidades!$KB$6:$KB$15000)","v":0},{"$f":"+SUM(D136:J136)","v":0},{"$f":"+IF(K136=0,IF(B136=$S$5,\"ok\",\"Problema en reparto\"),IF(K136=VLOOKUP(A136,$T$6:$X$105,3,FALSE),\"OK\",\"REVISAR\"))","v":"ok"},null,null,null,null,null,null,{"$f":"+'Datos Previos'!AE34","v":0}]
[null,null,"IMPORTE AYUDA",{"$f":"+SUMIF(Intensidades!BS136:$BS15130,'Cálculos Anticipos'!$B136,Intensidades!$JN$6:$JN$15000)","v":0},{"$f":"+SUMIF(Intensidades!$BS$6:$BT$15000,'Cálculos Anticipos'!$B136,Intensidades!$JO$6:$JO$15000)","v":0},{"$f":"+SUMIF(Intensidades!$BS$6:$BU$15000,'Cálculos Anticipos'!$B136,Intensidades!$JP$6:$JP$15000)","v":0},{"$f":"+SUMIF(Intensidades!$BS$6:$BV$15000,'Cálculos Anticipos'!$B136,Intensidades!$JQ$6:$JQ$15000)","v":0},{"$f":"+SUMIF(Intensidades!$BS$6:$BW$15000,'Cálculos Anticipos'!$B136,Intensidades!$JR$6:$JR$15000)","v":0},{"$f":"+SUMIF(Intensidades!$BS$6:$BX$15000,'Cálculos Anticipos'!$B136,Intensidades!$JS$6:$JS$15000)","v":0},{"$f":"+SUMIF(Intensidades!$BS$6:$BY$15000,'Cálculos Anticipos'!$B136,Intensidades!$JT$6:$JT$15000)","v":0},0,{"$f":"+IF(K137=0,IF(B136=$S$5,\"ok\",\"Problema en reparto\"),IF(K137=VLOOKUP(A136,$T$6:$X$105,5,FALSE),\"OK\",\"REVISAR\"))","v":"ok"}]
[null,null,"PORCENTAJE ANTICIPO",{"$f":"+K138","v":0},{"$f":"+K138","v":0},{"$f":"+K138","v":0},{"$f":"+K138","v":0},{"$f":"+K138","v":0},{"$f":"+K138","v":0},{"$f":"+K138","v":0},0,{"$f":"+IF(K138<=0.7,\"OK; Porcentaje inferior o igual al 70%\",\"Revisar Porcentaje de Anticipo: es mayor del 70% (Máximo Permitido)\")","v":"OK; Porcentaje inferior o igual al 70%"}]
[null,null,"TOTAL ANTICIPO",{"$f":"+ROUND(D137*D138,2)","v":0},{"$f":"+ROUND(E137*E138,2)","v":0},{"$f":"+ROUND(F137*F138,2)","v":0},{"$f":"+ROUND(G137*G138,2)","v":0},{"$f":"+ROUND(H137*H138,2)","v":0},{"$f":"+ROUND(I137*I138,2)","v":0},{"$f":"+ROUND(J137*J138,2)","v":0},{"$f":"+ROUND(K137*K138,2)","v":0},{"$f":"+IFERROR(IF(K139/K137>0.7,\"Revisar, % anticipo mayor 70%\",\"OK\"),\"\")","v":""}]
[null,null,null,null,null,null,null,null,null,null,null,""]
[{"$f":"+'Datos Previos'!AF32","v":0},{"$f":"+IF(A141=$T$106,\"no hay\",S141)","v":"no hay"},"IMPORTE SUBVENCIONABLE",{"$f":"+SUMIF(Intensidades!$BS$6:$BS$15000,'Cálculos Anticipos'!$B141,Intensidades!JV141:JV15135)","v":0},{"$f":"+SUMIF(Intensidades!$BS$6:$BT$15000,'Cálculos Anticipos'!$B141,Intensidades!$JW$6:$JW$15000)","v":0},{"$f":"+SUMIF(Intensidades!$BS$6:$BU$15000,'Cálculos Anticipos'!$B141,Intensidades!$JX$6:$JX$15000)","v":0},{"$f":"+SUMIF(Intensidades!$BS$6:$BV$15000,'Cálculos Anticipos'!$B141,Intensidades!$JY$6:$JY$15000)","v":0},{"$f":"+SUMIF(Intensidades!$BS$6:$BW$15000,'Cálculos Anticipos'!$B141,Intensidades!$JZ$6:$JZ$15000)","v":0},{"$f":"+SUMIF(Intensidades!$BS$6:$BX$15000,'Cálculos Anticipos'!$B141,Intensidades!$KA$6:$KA$15000)","v":0},{"$f":"+SUMIF(Intensidades!$BS$6:$BY$15000,'Cálculos Anticipos'!$B141,Intensidades!$KB$6:$KB$15000)","v":0},{"$f":"+SUM(D141:J141)","v":0},{"$f":"+IF(K141=0,IF(B141=$S$5,\"ok\",\"Problema en reparto\"),IF(K141=VLOOKUP(A141,$T$6:$X$105,3,FALSE),\"OK\",\"REVISAR\"))","v":"ok"},null,null,null,null,null,null,{"$f":"+'Datos Previos'!AF34","v":0}]
[null,null,"IMPORTE AYUDA",{"$f":"+SUMIF(Intensidades!BS141:$BS15135,'Cálculos Anticipos'!$B141,Intensidades!$JN$6:$JN$15000)","v":0},{"$f":"+SUMIF(Intensidades!$BS$6:$BT$15000,'Cálculos Anticipos'!$B141,Intensidades!$JO$6:$JO$15000)","v":0},{"$f":"+SUMIF(Intensidades!$BS$6:$BU$15000,'Cálculos Anticipos'!$B141,Intensidades!$JP$6:$JP$15000)","v":0},{"$f":"+SUMIF(Intensidades!$BS$6:$BV$15000,'Cálculos Anticipos'!$B141,Intensidades!$JQ$6:$JQ$15000)","v":0},{"$f":"+SUMIF(Intensidades!$BS$6:$BW$15000,'Cálculos Anticipos'!$B141,Intensidades!$JR$6:$JR$15000)","v":0},{"$f":"+SUMIF(Intensidades!$BS$6:$BX$15000,'Cálculos Anticipos'!$B141,Intensidades!$JS$6:$JS$15000)","v":0},{"$f":"+SUMIF(Intensidades!$BS$6:$BY$15000,'Cálculos Anticipos'!$B141,Intensidades!$JT$6:$JT$15000)","v":0},0,{"$f":"+IF(K142=0,IF(B141=$S$5,\"ok\",\"Problema en reparto\"),IF(K142=VLOOKUP(A141,$T$6:$X$105,5,FALSE),\"OK\",\"REVISAR\"))","v":"ok"}]
[null,null,"PORCENTAJE ANTICIPO",{"$f":"+K143","v":0},{"$f":"+K143","v":0},{"$f":"+K143","v":0},{"$f":"+K143","v":0},{"$f":"+K143","v":0},{"$f":"+K143","v":0},{"$f":"+K143","v":0},0,{"$f":"+IF(K143<=0.7,\"OK; Porcentaje inferior o igual al 70%\",\"Revisar Porcentaje de Anticipo: es mayor del 70% (Máximo Permitido)\")","v":"OK; Porcentaje inferior o igual al 70%"}]
[null,null,"TOTAL ANTICIPO",{"$f":"+ROUND(D142*D143,2)","v":0},{"$f":"+ROUND(E142*E143,2)","v":0},{"$f":"+ROUND(F142*F143,2)","v":0},{"$f":"+ROUND(G142*G143,2)","v":0},{"$f":"+ROUND(H142*H143,2)","v":0},{"$f":"+ROUND(I142*I143,2)","v":0},{"$f":"+ROUND(J142*J143,2)","v":0},{"$f":"+ROUND(K142*K143,2)","v":0},{"$f":"+IFERROR(IF(K144/K142>0.7,\"Revisar, % anticipo mayor 70%\",\"OK\"),\"\")","v":""}]
[null,null,null,null,null,null,null,null,null,null,null,""]
[{"$f":"+'Datos Previos'!AG32","v":0},{"$f":"+IF(A146=$T$106,\"no hay\",S146)","v":"no hay"},"IMPORTE SUBVENCIONABLE",{"$f":"+SUMIF(Intensidades!$BS$6:$BS$15000,'Cálculos Anticipos'!$B146,Intensidades!JV146:JV15140)","v":0},{"$f":"+SUMIF(Intensidades!$BS$6:$BT$15000,'Cálculos Anticipos'!$B146,Intensidades!$JW$6:$JW$15000)","v":0},{"$f":"+SUMIF(Intensidades!$BS$6:$BU$15000,'Cálculos Anticipos'!$B146,Intensidades!$JX$6:$JX$15000)","v":0},{"$f":"+SUMIF(Intensidades!$BS$6:$BV$15000,'Cálculos Anticipos'!$B146,Intensidades!$JY$6:$JY$15000)","v":0},{"$f":"+SUMIF(Intensidades!$BS$6:$BW$15000,'Cálculos Anticipos'!$B146,Intensidades!$JZ$6:$JZ$15000)","v":0},{"$f":"+SUMIF(Intensidades!$BS$6:$BX$15000,'Cálculos Anticipos'!$B146,Intensidades!$KA$6:$KA$15000)","v":0},{"$f":"+SUMIF(Intensidades!$BS$6:$BY$15000,'Cálculos Anticipos'!$B146,Intensidades!$KB$6:$KB$15000)","v":0},{"$f":"+SUM(D146:J146)","v":0},{"$f":"+IF(K146=0,IF(B146=$S$5,\"ok\",\"Problema en reparto\"),IF(K146=VLOOKUP(A146,$T$6:$X$105,3,FALSE),\"OK\",\"REVISAR\"))","v":"ok"},null,null,null,null,null,null,{"$f":"+'Datos Previos'!AG34","v":0}]
[null,null,"IMPORTE AYUDA",{"$f":"+SUMIF(Intensidades!BS146:$BS15140,'Cálculos Anticipos'!$B146,Intensidades!$JN$6:$JN$15000)","v":0},{"$f":"+SUMIF(Intensidades!$BS$6:$BT$15000,'Cálculos Anticipos'!$B146,Intensidades!$JO$6:$JO$15000)","v":0},{"$f":"+SUMIF(Intensidades!$BS$6:$BU$15000,'Cálculos Anticipos'!$B146,Intensidades!$JP$6:$JP$15000)","v":0},{"$f":"+SUMIF(Intensidades!$BS$6:$BV$15000,'Cálculos Anticipos'!$B146,Intensidades!$JQ$6:$JQ$15000)","v":0},{"$f":"+SUMIF(Intensidades!$BS$6:$BW$15000,'Cálculos Anticipos'!$B146,Intensidades!$JR$6:$JR$15000)","v":0},{"$f":"+SUMIF(Intensidades!$BS$6:$BX$15000,'Cálculos Anticipos'!$B146,Intensidades!$JS$6:$JS$15000)","v":0},{"$f":"+SUMIF(Intensidades!$BS$6:$BY$15000,'Cálculos Anticipos'!$B146,Intensidades!$JT$6:$JT$15000)","v":0},0,{"$f":"+IF(K147=0,IF(B146=$S$5,\"ok\",\"Problema en reparto\"),IF(K147=VLOOKUP(A146,$T$6:$X$105,5,FALSE),\"OK\",\"REVISAR\"))","v":"ok"}]
[null,null,"PORCENTAJE ANTICIPO",{"$f":"+K148","v":0},{"$f":"+K148","v":0},{"$f":"+K148","v":0},{"$f":"+K148","v":0},{"$f":"+K148","v":0},{"$f":"+K148","v":0},{"$f":"+K148","v":0},0,{"$f":"+IF(K148<=0.7,\"OK; Porcentaje inferior o igual al 70%\",\"Revisar Porcentaje de Anticipo: es mayor del 70% (Máximo Permitido)\")","v":"OK; Porcentaje inferior o igual al 70%"}]
[null,null,"TOTAL ANTICIPO",{"$f":"+ROUND(D147*D148,2)","v":0},{"$f":"+ROUND(E147*E148,2)","v":0},{"$f":"+ROUND(F147*F148,2)","v":0},{"$f":"+ROUND(G147*G148,2)","v":0},{"$f":"+ROUND(H147*H148,2)","v":0},{"$f":"+ROUND(I147*I148,2)","v":0},{"$f":"+ROUND(J147*J148,2)","v":0},{"$f":"+ROUND(K147*K148,2)","v":0},{"$f":"+IFERROR(IF(K149/K147>0.7,\"Revisar, % anticipo mayor 70%\",\"OK\"),\"\")","v":""}]
[null,null,null,null,null,null,null,null,null,null,null,""]
[{"$f":"+'Datos Previos'!AH32","v":0},{"$f":"+IF(A151=$T$106,\"no hay\",S151)","v":"no hay"},"IMPORTE SUBVENCIONABLE",{"$f":"+SUMIF(Intensidades!$BS$6:$BS$15000,'Cálculos Anticipos'!$B151,Intensidades!JV151:JV15145)","v":0},{"$f":"+SUMIF(Intensidades!$BS$6:$BT$15000,'Cálculos Anticipos'!$B151,Intensidades!$JW$6:$JW$15000)","v":0},{"$f":"+SUMIF(Intensidades!$BS$6:$BU$15000,'Cálculos Anticipos'!$B151,Intensidades!$JX$6:$JX$15000)","v":0},{"$f":"+SUMIF(Intensidades!$BS$6:$BV$15000,'Cálculos Anticipos'!$B151,Intensidades!$JY$6:$JY$15000)","v":0},{"$f":"+SUMIF(Intensidades!$BS$6:$BW$15000,'Cálculos Anticipos'!$B151,Intensidades!$JZ$6:$JZ$15000)","v":0},{"$f":"+SUMIF(Intensidades!$BS$6:$BX$15000,'Cálculos Anticipos'!$B151,Intensidades!$KA$6:$KA$15000)","v":0},{"$f":"+SUMIF(Intensidades!$BS$6:$BY$15000,'Cálculos Anticipos'!$B151,Intensidades!$KB$6:$KB$15000)","v":0},{"$f":"+SUM(D151:J151)","v":0},{"$f":"+IF(K151=0,IF(B151=$S$5,\"ok\",\"Problema en reparto\"),IF(K151=VLOOKUP(A151,$T$6:$X$105,3,FALSE),\"OK\",\"REVISAR\"))","v":"ok"},null,null,null,null,null,null,{"$f":"+'Datos Previos'!AH34","v":0}]
[null,null,"IMPORTE AYUDA",{"$f":"+SUMIF(Intensidades!BS151:$BS15145,'Cálculos Anticipos'!$B151,Intensidades!$JN$6:$JN$15000)","v":0},{"$f":"+SUMIF(Intensidades!$BS$6:$BT$15000,'Cálculos Anticipos'!$B151,Intensidades!$JO$6:$JO$15000)","v":0},{"$f":"+SUMIF(Intensidades!$BS$6:$BU$15000,'Cálculos Anticipos'!$B151,Intensidades!$JP$6:$JP$15000)","v":0},{"$f":"+SUMIF(Intensidades!$BS$6:$BV$15000,'Cálculos Anticipos'!$B151,Intensidades!$JQ$6:$JQ$15000)","v":0},{"$f":"+SUMIF(Intensidades!$BS$6:$BW$15000,'Cálculos Anticipos'!$B151,Intensidades!$JR$6:$JR$15000)","v":0},{"$f":"+SUMIF(Intensidades!$BS$6:$BX$15000,'Cálculos Anticipos'!$B151,Intensidades!$JS$6:$JS$15000)","v":0},{"$f":"+SUMIF(Intensidades!$BS$6:$BY$15000,'Cálculos Anticipos'!$B151,Intensidades!$JT$6:$JT$15000)","v":0},0,{"$f":"+IF(K152=0,IF(B151=$S$5,\"ok\",\"Problema en reparto\"),IF(K152=VLOOKUP(A151,$T$6:$X$105,5,FALSE),\"OK\",\"REVISAR\"))","v":"ok"}]
[null,null,"PORCENTAJE ANTICIPO",{"$f":"+K153","v":0},{"$f":"+K153","v":0},{"$f":"+K153","v":0},{"$f":"+K153","v":0},{"$f":"+K153","v":0},{"$f":"+K153","v":0},{"$f":"+K153","v":0},0,{"$f":"+IF(K153<=0.7,\"OK; Porcentaje inferior o igual al 70%\",\"Revisar Porcentaje de Anticipo: es mayor del 70% (Máximo Permitido)\")","v":"OK; Porcentaje inferior o igual al 70%"}]
[null,null,"TOTAL ANTICIPO",{"$f":"+ROUND(D152*D153,2)","v":0},{"$f":"+ROUND(E152*E153,2)","v":0},{"$f":"+ROUND(F152*F153,2)","v":0},{"$f":"+ROUND(G152*G153,2)","v":0},{"$f":"+ROUND(H152*H153,2)","v":0},{"$f":"+ROUND(I152*I153,2)","v":0},{"$f":"+ROUND(J152*J153,2)","v":0},{"$f":"+ROUND(K152*K153,2)","v":0},{"$f":"+IFERROR(IF(K154/K152>0.7,\"Revisar, % anticipo mayor 70%\",\"OK\"),\"\")","v":""}]
[null,null,null,null,null,null,null,null,null,null,null,""]
[{"$f":"+'Datos Previos'!AI32","v":0},{"$f":"+IF(A156=$T$106,\"no hay\",S156)","v":"no hay"},"IMPORTE SUBVENCIONABLE",{"$f":"+SUMIF(Intensidades!$BS$6:$BS$15000,'Cálculos Anticipos'!$B156,Intensidades!JV156:JV15150)","v":0},{"$f":"+SUMIF(Intensidades!$BS$6:$BT$15000,'Cálculos Anticipos'!$B156,Intensidades!$JW$6:$JW$15000)","v":0},{"$f":"+SUMIF(Intensidades!$BS$6:$BU$15000,'Cálculos Anticipos'!$B156,Intensidades!$JX$6:$JX$15000)","v":0},{"$f":"+SUMIF(Intensidades!$BS$6:$BV$15000,'Cálculos Anticipos'!$B156,Intensidades!$JY$6:$JY$15000)","v":0},{"$f":"+SUMIF(Intensidades!$BS$6:$BW$15000,'Cálculos Anticipos'!$B156,Intensidades!$JZ$6:$JZ$15000)","v":0},{"$f":"+SUMIF(Intensidades!$BS$6:$BX$15000,'Cálculos Anticipos'!$B156,Intensidades!$KA$6:$KA$15000)","v":0},{"$f":"+SUMIF(Intensidades!$BS$6:$BY$15000,'Cálculos Anticipos'!$B156,Intensidades!$KB$6:$KB$15000)","v":0},{"$f":"+SUM(D156:J156)","v":0},{"$f":"+IF(K156=0,IF(B156=$S$5,\"ok\",\"Problema en reparto\"),IF(K156=VLOOKUP(A156,$T$6:$X$105,3,FALSE),\"OK\",\"REVISAR\"))","v":"ok"},null,null,null,null,null,null,{"$f":"+'Datos Previos'!AI34","v":0}]
[null,null,"IMPORTE AYUDA",{"$f":"+SUMIF(Intensidades!BS156:$BS15150,'Cálculos Anticipos'!$B156,Intensidades!$JN$6:$JN$15000)","v":0},{"$f":"+SUMIF(Intensidades!$BS$6:$BT$15000,'Cálculos Anticipos'!$B156,Intensidades!$JO$6:$JO$15000)","v":0},{"$f":"+SUMIF(Intensidades!$BS$6:$BU$15000,'Cálculos Anticipos'!$B156,Intensidades!$JP$6:$JP$15000)","v":0},{"$f":"+SUMIF(Intensidades!$BS$6:$BV$15000,'Cálculos Anticipos'!$B156,Intensidades!$JQ$6:$JQ$15000)","v":0},{"$f":"+SUMIF(Intensidades!$BS$6:$BW$15000,'Cálculos Anticipos'!$B156,Intensidades!$JR$6:$JR$15000)","v":0},{"$f":"+SUMIF(Intensidades!$BS$6:$BX$15000,'Cálculos Anticipos'!$B156,Intensidades!$JS$6:$JS$15000)","v":0},{"$f":"+SUMIF(Intensidades!$BS$6:$BY$15000,'Cálculos Anticipos'!$B156,Intensidades!$JT$6:$JT$15000)","v":0},0,{"$f":"+IF(K157=0,IF(B156=$S$5,\"ok\",\"Problema en reparto\"),IF(K157=VLOOKUP(A156,$T$6:$X$105,5,FALSE),\"OK\",\"REVISAR\"))","v":"ok"}]
[null,null,"PORCENTAJE ANTICIPO",{"$f":"+K158","v":0},{"$f":"+K158","v":0},{"$f":"+K158","v":0},{"$f":"+K158","v":0},{"$f":"+K158","v":0},{"$f":"+K158","v":0},{"$f":"+K158","v":0},0,{"$f":"+IF(K158<=0.7,\"OK; Porcentaje inferior o igual al 70%\",\"Revisar Porcentaje de Anticipo: es mayor del 70% (Máximo Permitido)\")","v":"OK; Porcentaje inferior o igual al 70%"}]
[null,null,"TOTAL ANTICIPO",{"$f":"+ROUND(D157*D158,2)","v":0},{"$f":"+ROUND(E157*E158,2)","v":0},{"$f":"+ROUND(F157*F158,2)","v":0},{"$f":"+ROUND(G157*G158,2)","v":0},{"$f":"+ROUND(H157*H158,2)","v":0},{"$f":"+ROUND(I157*I158,2)","v":0},{"$f":"+ROUND(J157*J158,2)","v":0},{"$f":"+ROUND(K157*K158,2)","v":0},{"$f":"+IFERROR(IF(K159/K157>0.7,\"Revisar, % anticipo mayor 70%\",\"OK\"),\"\")","v":""}]
[null,null,null,null,null,null,null,null,null,null,null,""]
[{"$f":"+'Datos Previos'!AJ32","v":0},{"$f":"+IF(A161=$T$106,\"no hay\",S161)","v":"no hay"},"IMPORTE SUBVENCIONABLE",{"$f":"+SUMIF(Intensidades!$BS$6:$BS$15000,'Cálculos Anticipos'!$B161,Intensidades!JV161:JV15155)","v":0},{"$f":"+SUMIF(Intensidades!$BS$6:$BT$15000,'Cálculos Anticipos'!$B161,Intensidades!$JW$6:$JW$15000)","v":0},{"$f":"+SUMIF(Intensidades!$BS$6:$BU$15000,'Cálculos Anticipos'!$B161,Intensidades!$JX$6:$JX$15000)","v":0},{"$f":"+SUMIF(Intensidades!$BS$6:$BV$15000,'Cálculos Anticipos'!$B161,Intensidades!$JY$6:$JY$15000)","v":0},{"$f":"+SUMIF(Intensidades!$BS$6:$BW$15000,'Cálculos Anticipos'!$B161,Intensidades!$JZ$6:$JZ$15000)","v":0},{"$f":"+SUMIF(Intensidades!$BS$6:$BX$15000,'Cálculos Anticipos'!$B161,Intensidades!$KA$6:$KA$15000)","v":0},{"$f":"+SUMIF(Intensidades!$BS$6:$BY$15000,'Cálculos Anticipos'!$B161,Intensidades!$KB$6:$KB$15000)","v":0},{"$f":"+SUM(D161:J161)","v":0},{"$f":"+IF(K161=0,IF(B161=$S$5,\"ok\",\"Problema en reparto\"),IF(K161=VLOOKUP(A161,$T$6:$X$105,3,FALSE),\"OK\",\"REVISAR\"))","v":"ok"},null,null,null,null,null,null,{"$f":"+'Datos Previos'!AJ34","v":0}]
[null,null,"IMPORTE AYUDA",{"$f":"+SUMIF(Intensidades!BS161:$BS15155,'Cálculos Anticipos'!$B161,Intensidades!$JN$6:$JN$15000)","v":0},{"$f":"+SUMIF(Intensidades!$BS$6:$BT$15000,'Cálculos Anticipos'!$B161,Intensidades!$JO$6:$JO$15000)","v":0},{"$f":"+SUMIF(Intensidades!$BS$6:$BU$15000,'Cálculos Anticipos'!$B161,Intensidades!$JP$6:$JP$15000)","v":0},{"$f":"+SUMIF(Intensidades!$BS$6:$BV$15000,'Cálculos Anticipos'!$B161,Intensidades!$JQ$6:$JQ$15000)","v":0},{"$f":"+SUMIF(Intensidades!$BS$6:$BW$15000,'Cálculos Anticipos'!$B161,Intensidades!$JR$6:$JR$15000)","v":0},{"$f":"+SUMIF(Intensidades!$BS$6:$BX$15000,'Cálculos Anticipos'!$B161,Intensidades!$JS$6:$JS$15000)","v":0},{"$f":"+SUMIF(Intensidades!$BS$6:$BY$15000,'Cálculos Anticipos'!$B161,Intensidades!$JT$6:$JT$15000)","v":0},0,{"$f":"+IF(K162=0,IF(B161=$S$5,\"ok\",\"Problema en reparto\"),IF(K162=VLOOKUP(A161,$T$6:$X$105,5,FALSE),\"OK\",\"REVISAR\"))","v":"ok"}]
[null,null,"PORCENTAJE ANTICIPO",{"$f":"+K163","v":0},{"$f":"+K163","v":0},{"$f":"+K163","v":0},{"$f":"+K163","v":0},{"$f":"+K163","v":0},{"$f":"+K163","v":0},{"$f":"+K163","v":0},0,{"$f":"+IF(K163<=0.7,\"OK; Porcentaje inferior o igual al 70%\",\"Revisar Porcentaje de Anticipo: es mayor del 70% (Máximo Permitido)\")","v":"OK; Porcentaje inferior o igual al 70%"}]
[null,null,"TOTAL ANTICIPO",{"$f":"+ROUND(D162*D163,2)","v":0},{"$f":"+ROUND(E162*E163,2)","v":0},{"$f":"+ROUND(F162*F163,2)","v":0},{"$f":"+ROUND(G162*G163,2)","v":0},{"$f":"+ROUND(H162*H163,2)","v":0},{"$f":"+ROUND(I162*I163,2)","v":0},{"$f":"+ROUND(J162*J163,2)","v":0},{"$f":"+ROUND(K162*K163,2)","v":0},{"$f":"+IFERROR(IF(K164/K162>0.7,\"Revisar, % anticipo mayor 70%\",\"OK\"),\"\")","v":""}]
[null,null,null,null,null,null,null,null,null,null,null,""]
[{"$f":"+'Datos Previos'!AK32","v":0},{"$f":"+IF(A166=$T$106,\"no hay\",S166)","v":"no hay"},"IMPORTE SUBVENCIONABLE",{"$f":"+SUMIF(Intensidades!$BS$6:$BS$15000,'Cálculos Anticipos'!$B166,Intensidades!JV166:JV15160)","v":0},{"$f":"+SUMIF(Intensidades!$BS$6:$BT$15000,'Cálculos Anticipos'!$B166,Intensidades!$JW$6:$JW$15000)","v":0},{"$f":"+SUMIF(Intensidades!$BS$6:$BU$15000,'Cálculos Anticipos'!$B166,Intensidades!$JX$6:$JX$15000)","v":0},{"$f":"+SUMIF(Intensidades!$BS$6:$BV$15000,'Cálculos Anticipos'!$B166,Intensidades!$JY$6:$JY$15000)","v":0},{"$f":"+SUMIF(Intensidades!$BS$6:$BW$15000,'Cálculos Anticipos'!$B166,Intensidades!$JZ$6:$JZ$15000)","v":0},{"$f":"+SUMIF(Intensidades!$BS$6:$BX$15000,'Cálculos Anticipos'!$B166,Intensidades!$KA$6:$KA$15000)","v":0},{"$f":"+SUMIF(Intensidades!$BS$6:$BY$15000,'Cálculos Anticipos'!$B166,Intensidades!$KB$6:$KB$15000)","v":0},{"$f":"+SUM(D166:J166)","v":0},{"$f":"+IF(K166=0,IF(B166=$S$5,\"ok\",\"Problema en reparto\"),IF(K166=VLOOKUP(A166,$T$6:$X$105,3,FALSE),\"OK\",\"REVISAR\"))","v":"ok"},null,null,null,null,null,null,{"$f":"+'Datos Previos'!AK34","v":0}]
[null,null,"IMPORTE AYUDA",{"$f":"+SUMIF(Intensidades!BS166:$BS15160,'Cálculos Anticipos'!$B166,Intensidades!$JN$6:$JN$15000)","v":0},{"$f":"+SUMIF(Intensidades!$BS$6:$BT$15000,'Cálculos Anticipos'!$B166,Intensidades!$JO$6:$JO$15000)","v":0},{"$f":"+SUMIF(Intensidades!$BS$6:$BU$15000,'Cálculos Anticipos'!$B166,Intensidades!$JP$6:$JP$15000)","v":0},{"$f":"+SUMIF(Intensidades!$BS$6:$BV$15000,'Cálculos Anticipos'!$B166,Intensidades!$JQ$6:$JQ$15000)","v":0},{"$f":"+SUMIF(Intensidades!$BS$6:$BW$15000,'Cálculos Anticipos'!$B166,Intensidades!$JR$6:$JR$15000)","v":0},{"$f":"+SUMIF(Intensidades!$BS$6:$BX$15000,'Cálculos Anticipos'!$B166,Intensidades!$JS$6:$JS$15000)","v":0},{"$f":"+SUMIF(Intensidades!$BS$6:$BY$15000,'Cálculos Anticipos'!$B166,Intensidades!$JT$6:$JT$15000)","v":0},0,{"$f":"+IF(K167=0,IF(B166=$S$5,\"ok\",\"Problema en reparto\"),IF(K167=VLOOKUP(A166,$T$6:$X$105,5,FALSE),\"OK\",\"REVISAR\"))","v":"ok"}]
[null,null,"PORCENTAJE ANTICIPO",{"$f":"+K168","v":0},{"$f":"+K168","v":0},{"$f":"+K168","v":0},{"$f":"+K168","v":0},{"$f":"+K168","v":0},{"$f":"+K168","v":0},{"$f":"+K168","v":0},0,{"$f":"+IF(K168<=0.7,\"OK; Porcentaje inferior o igual al 70%\",\"Revisar Porcentaje de Anticipo: es mayor del 70% (Máximo Permitido)\")","v":"OK; Porcentaje inferior o igual al 70%"}]
[null,null,"TOTAL ANTICIPO",{"$f":"+ROUND(D167*D168,2)","v":0},{"$f":"+ROUND(E167*E168,2)","v":0},{"$f":"+ROUND(F167*F168,2)","v":0},{"$f":"+ROUND(G167*G168,2)","v":0},{"$f":"+ROUND(H167*H168,2)","v":0},{"$f":"+ROUND(I167*I168,2)","v":0},{"$f":"+ROUND(J167*J168,2)","v":0},{"$f":"+ROUND(K167*K168,2)","v":0},{"$f":"+IFERROR(IF(K169/K167>0.7,\"Revisar, % anticipo mayor 70%\",\"OK\"),\"\")","v":""}]
[null,null,null,null,null,null,null,null,null,null,null,""]
[{"$f":"+'Datos Previos'!AL32","v":0},{"$f":"+IF(A171=$T$106,\"no hay\",S171)","v":"no hay"},"IMPORTE SUBVENCIONABLE",{"$f":"+SUMIF(Intensidades!$BS$6:$BS$15000,'Cálculos Anticipos'!$B171,Intensidades!JV171:JV15165)","v":0},{"$f":"+SUMIF(Intensidades!$BS$6:$BT$15000,'Cálculos Anticipos'!$B171,Intensidades!$JW$6:$JW$15000)","v":0},{"$f":"+SUMIF(Intensidades!$BS$6:$BU$15000,'Cálculos Anticipos'!$B171,Intensidades!$JX$6:$JX$15000)","v":0},{"$f":"+SUMIF(Intensidades!$BS$6:$BV$15000,'Cálculos Anticipos'!$B171,Intensidades!$JY$6:$JY$15000)","v":0},{"$f":"+SUMIF(Intensidades!$BS$6:$BW$15000,'Cálculos Anticipos'!$B171,Intensidades!$JZ$6:$JZ$15000)","v":0},{"$f":"+SUMIF(Intensidades!$BS$6:$BX$15000,'Cálculos Anticipos'!$B171,Intensidades!$KA$6:$KA$15000)","v":0},{"$f":"+SUMIF(Intensidades!$BS$6:$BY$15000,'Cálculos Anticipos'!$B171,Intensidades!$KB$6:$KB$15000)","v":0},{"$f":"+SUM(D171:J171)","v":0},{"$f":"+IF(K171=0,IF(B171=$S$5,\"ok\",\"Problema en reparto\"),IF(K171=VLOOKUP(A171,$T$6:$X$105,3,FALSE),\"OK\",\"REVISAR\"))","v":"ok"},null,null,null,null,null,null,{"$f":"+'Datos Previos'!AL34","v":0}]
[null,null,"IMPORTE AYUDA",{"$f":"+SUMIF(Intensidades!BS171:$BS15165,'Cálculos Anticipos'!$B171,Intensidades!$JN$6:$JN$15000)","v":0},{"$f":"+SUMIF(Intensidades!$BS$6:$BT$15000,'Cálculos Anticipos'!$B171,Intensidades!$JO$6:$JO$15000)","v":0},{"$f":"+SUMIF(Intensidades!$BS$6:$BU$15000,'Cálculos Anticipos'!$B171,Intensidades!$JP$6:$JP$15000)","v":0},{"$f":"+SUMIF(Intensidades!$BS$6:$BV$15000,'Cálculos Anticipos'!$B171,Intensidades!$JQ$6:$JQ$15000)","v":0},{"$f":"+SUMIF(Intensidades!$BS$6:$BW$15000,'Cálculos Anticipos'!$B171,Intensidades!$JR$6:$JR$15000)","v":0},{"$f":"+SUMIF(Intensidades!$BS$6:$BX$15000,'Cálculos Anticipos'!$B171,Intensidades!$JS$6:$JS$15000)","v":0},{"$f":"+SUMIF(Intensidades!$BS$6:$BY$15000,'Cálculos Anticipos'!$B171,Intensidades!$JT$6:$JT$15000)","v":0},0,{"$f":"+IF(K172=0,IF(B171=$S$5,\"ok\",\"Problema en reparto\"),IF(K172=VLOOKUP(A171,$T$6:$X$105,5,FALSE),\"OK\",\"REVISAR\"))","v":"ok"}]
[null,null,"PORCENTAJE ANTICIPO",{"$f":"+K173","v":0},{"$f":"+K173","v":0},{"$f":"+K173","v":0},{"$f":"+K173","v":0},{"$f":"+K173","v":0},{"$f":"+K173","v":0},{"$f":"+K173","v":0},0,{"$f":"+IF(K173<=0.7,\"OK; Porcentaje inferior o igual al 70%\",\"Revisar Porcentaje de Anticipo: es mayor del 70% (Máximo Permitido)\")","v":"OK; Porcentaje inferior o igual al 70%"}]
[null,null,"TOTAL ANTICIPO",{"$f":"+ROUND(D172*D173,2)","v":0},{"$f":"+ROUND(E172*E173,2)","v":0},{"$f":"+ROUND(F172*F173,2)","v":0},{"$f":"+ROUND(G172*G173,2)","v":0},{"$f":"+ROUND(H172*H173,2)","v":0},{"$f":"+ROUND(I172*I173,2)","v":0},{"$f":"+ROUND(J172*J173,2)","v":0},{"$f":"+ROUND(K172*K173,2)","v":0},{"$f":"+IFERROR(IF(K174/K172>0.7,\"Revisar, % anticipo mayor 70%\",\"OK\"),\"\")","v":""}]
[null,null,null,null,null,null,null,null,null,null,null,""]
[{"$f":"+'Datos Previos'!AM32","v":0},{"$f":"+IF(A176=$T$106,\"no hay\",S176)","v":"no hay"},"IMPORTE SUBVENCIONABLE",{"$f":"+SUMIF(Intensidades!$BS$6:$BS$15000,'Cálculos Anticipos'!$B176,Intensidades!JV176:JV15170)","v":0},{"$f":"+SUMIF(Intensidades!$BS$6:$BT$15000,'Cálculos Anticipos'!$B176,Intensidades!$JW$6:$JW$15000)","v":0},{"$f":"+SUMIF(Intensidades!$BS$6:$BU$15000,'Cálculos Anticipos'!$B176,Intensidades!$JX$6:$JX$15000)","v":0},{"$f":"+SUMIF(Intensidades!$BS$6:$BV$15000,'Cálculos Anticipos'!$B176,Intensidades!$JY$6:$JY$15000)","v":0},{"$f":"+SUMIF(Intensidades!$BS$6:$BW$15000,'Cálculos Anticipos'!$B176,Intensidades!$JZ$6:$JZ$15000)","v":0},{"$f":"+SUMIF(Intensidades!$BS$6:$BX$15000,'Cálculos Anticipos'!$B176,Intensidades!$KA$6:$KA$15000)","v":0},{"$f":"+SUMIF(Intensidades!$BS$6:$BY$15000,'Cálculos Anticipos'!$B176,Intensidades!$KB$6:$KB$15000)","v":0},{"$f":"+SUM(D176:J176)","v":0},{"$f":"+IF(K176=0,IF(B176=$S$5,\"ok\",\"Problema en reparto\"),IF(K176=VLOOKUP(A176,$T$6:$X$105,3,FALSE),\"OK\",\"REVISAR\"))","v":"ok"},null,null,null,null,null,null,{"$f":"+'Datos Previos'!AM34","v":0}]
[null,null,"IMPORTE AYUDA",{"$f":"+SUMIF(Intensidades!BS176:$BS15170,'Cálculos Anticipos'!$B176,Intensidades!$JN$6:$JN$15000)","v":0},{"$f":"+SUMIF(Intensidades!$BS$6:$BT$15000,'Cálculos Anticipos'!$B176,Intensidades!$JO$6:$JO$15000)","v":0},{"$f":"+SUMIF(Intensidades!$BS$6:$BU$15000,'Cálculos Anticipos'!$B176,Intensidades!$JP$6:$JP$15000)","v":0},{"$f":"+SUMIF(Intensidades!$BS$6:$BV$15000,'Cálculos Anticipos'!$B176,Intensidades!$JQ$6:$JQ$15000)","v":0},{"$f":"+SUMIF(Intensidades!$BS$6:$BW$15000,'Cálculos Anticipos'!$B176,Intensidades!$JR$6:$JR$15000)","v":0},{"$f":"+SUMIF(Intensidades!$BS$6:$BX$15000,'Cálculos Anticipos'!$B176,Intensidades!$JS$6:$JS$15000)","v":0},{"$f":"+SUMIF(Intensidades!$BS$6:$BY$15000,'Cálculos Anticipos'!$B176,Intensidades!$JT$6:$JT$15000)","v":0},0,{"$f":"+IF(K177=0,IF(B176=$S$5,\"ok\",\"Problema en reparto\"),IF(K177=VLOOKUP(A176,$T$6:$X$105,5,FALSE),\"OK\",\"REVISAR\"))","v":"ok"}]
[null,null,"PORCENTAJE ANTICIPO",{"$f":"+K178","v":0},{"$f":"+K178","v":0},{"$f":"+K178","v":0},{"$f":"+K178","v":0},{"$f":"+K178","v":0},{"$f":"+K178","v":0},{"$f":"+K178","v":0},0,{"$f":"+IF(K178<=0.7,\"OK; Porcentaje inferior o igual al 70%\",\"Revisar Porcentaje de Anticipo: es mayor del 70% (Máximo Permitido)\")","v":"OK; Porcentaje inferior o igual al 70%"}]
[null,null,"TOTAL ANTICIPO",{"$f":"+ROUND(D177*D178,2)","v":0},{"$f":"+ROUND(E177*E178,2)","v":0},{"$f":"+ROUND(F177*F178,2)","v":0},{"$f":"+ROUND(G177*G178,2)","v":0},{"$f":"+ROUND(H177*H178,2)","v":0},{"$f":"+ROUND(I177*I178,2)","v":0},{"$f":"+ROUND(J177*J178,2)","v":0},{"$f":"+ROUND(K177*K178,2)","v":0},{"$f":"+IFERROR(IF(K179/K177>0.7,\"Revisar, % anticipo mayor 70%\",\"OK\"),\"\")","v":""}]
[null,null,null,null,null,null,null,null,null,null,null,""]
[{"$f":"+'Datos Previos'!AN32","v":0},{"$f":"+IF(A181=$T$106,\"no hay\",S181)","v":"no hay"},"IMPORTE SUBVENCIONABLE",{"$f":"+SUMIF(Intensidades!$BS$6:$BS$15000,'Cálculos Anticipos'!$B181,Intensidades!JV181:JV15175)","v":0},{"$f":"+SUMIF(Intensidades!$BS$6:$BT$15000,'Cálculos Anticipos'!$B181,Intensidades!$JW$6:$JW$15000)","v":0},{"$f":"+SUMIF(Intensidades!$BS$6:$BU$15000,'Cálculos Anticipos'!$B181,Intensidades!$JX$6:$JX$15000)","v":0},{"$f":"+SUMIF(Intensidades!$BS$6:$BV$15000,'Cálculos Anticipos'!$B181,Intensidades!$JY$6:$JY$15000)","v":0},{"$f":"+SUMIF(Intensidades!$BS$6:$BW$15000,'Cálculos Anticipos'!$B181,Intensidades!$JZ$6:$JZ$15000)","v":0},{"$f":"+SUMIF(Intensidades!$BS$6:$BX$15000,'Cálculos Anticipos'!$B181,Intensidades!$KA$6:$KA$15000)","v":0},{"$f":"+SUMIF(Intensidades!$BS$6:$BY$15000,'Cálculos Anticipos'!$B181,Intensidades!$KB$6:$KB$15000)","v":0},{"$f":"+SUM(D181:J181)","v":0},{"$f":"+IF(K181=0,IF(B181=$S$5,\"ok\",\"Problema en reparto\"),IF(K181=VLOOKUP(A181,$T$6:$X$105,3,FALSE),\"OK\",\"REVISAR\"))","v":"ok"},null,null,null,null,null,null,{"$f":"+'Datos Previos'!AN34","v":0}]
[null,null,"IMPORTE AYUDA",{"$f":"+SUMIF(Intensidades!BS181:$BS15175,'Cálculos Anticipos'!$B181,Intensidades!$JN$6:$JN$15000)","v":0},{"$f":"+SUMIF(Intensidades!$BS$6:$BT$15000,'Cálculos Anticipos'!$B181,Intensidades!$JO$6:$JO$15000)","v":0},{"$f":"+SUMIF(Intensidades!$BS$6:$BU$15000,'Cálculos Anticipos'!$B181,Intensidades!$JP$6:$JP$15000)","v":0},{"$f":"+SUMIF(Intensidades!$BS$6:$BV$15000,'Cálculos Anticipos'!$B181,Intensidades!$JQ$6:$JQ$15000)","v":0},{"$f":"+SUMIF(Intensidades!$BS$6:$BW$15000,'Cálculos Anticipos'!$B181,Intensidades!$JR$6:$JR$15000)","v":0},{"$f":"+SUMIF(Intensidades!$BS$6:$BX$15000,'Cálculos Anticipos'!$B181,Intensidades!$JS$6:$JS$15000)","v":0},{"$f":"+SUMIF(Intensidades!$BS$6:$BY$15000,'Cálculos Anticipos'!$B181,Intensidades!$JT$6:$JT$15000)","v":0},0,{"$f":"+IF(K182=0,IF(B181=$S$5,\"ok\",\"Problema en reparto\"),IF(K182=VLOOKUP(A181,$T$6:$X$105,5,FALSE),\"OK\",\"REVISAR\"))","v":"ok"}]
[null,null,"PORCENTAJE ANTICIPO",{"$f":"+K183","v":0},{"$f":"+K183","v":0},{"$f":"+K183","v":0},{"$f":"+K183","v":0},{"$f":"+K183","v":0},{"$f":"+K183","v":0},{"$f":"+K183","v":0},0,{"$f":"+IF(K183<=0.7,\"OK; Porcentaje inferior o igual al 70%\",\"Revisar Porcentaje de Anticipo: es mayor del 70% (Máximo Permitido)\")","v":"OK; Porcentaje inferior o igual al 70%"}]
[null,null,"TOTAL ANTICIPO",{"$f":"+ROUND(D182*D183,2)","v":0},{"$f":"+ROUND(E182*E183,2)","v":0},{"$f":"+ROUND(F182*F183,2)","v":0},{"$f":"+ROUND(G182*G183,2)","v":0},{"$f":"+ROUND(H182*H183,2)","v":0},{"$f":"+ROUND(I182*I183,2)","v":0},{"$f":"+ROUND(J182*J183,2)","v":0},{"$f":"+ROUND(K182*K183,2)","v":0},{"$f":"+IFERROR(IF(K184/K182>0.7,\"Revisar, % anticipo mayor 70%\",\"OK\"),\"\")","v":""}]
[null,null,null,null,null,null,null,null,null,null,null,""]
[{"$f":"+'Datos Previos'!AO32","v":0},{"$f":"+IF(A186=$T$106,\"no hay\",S186)","v":"no hay"},"IMPORTE SUBVENCIONABLE",{"$f":"+SUMIF(Intensidades!$BS$6:$BS$15000,'Cálculos Anticipos'!$B186,Intensidades!JV186:JV15180)","v":0},{"$f":"+SUMIF(Intensidades!$BS$6:$BT$15000,'Cálculos Anticipos'!$B186,Intensidades!$JW$6:$JW$15000)","v":0},{"$f":"+SUMIF(Intensidades!$BS$6:$BU$15000,'Cálculos Anticipos'!$B186,Intensidades!$JX$6:$JX$15000)","v":0},{"$f":"+SUMIF(Intensidades!$BS$6:$BV$15000,'Cálculos Anticipos'!$B186,Intensidades!$JY$6:$JY$15000)","v":0},{"$f":"+SUMIF(Intensidades!$BS$6:$BW$15000,'Cálculos Anticipos'!$B186,Intensidades!$JZ$6:$JZ$15000)","v":0},{"$f":"+SUMIF(Intensidades!$BS$6:$BX$15000,'Cálculos Anticipos'!$B186,Intensidades!$KA$6:$KA$15000)","v":0},{"$f":"+SUMIF(Intensidades!$BS$6:$BY$15000,'Cálculos Anticipos'!$B186,Intensidades!$KB$6:$KB$15000)","v":0},{"$f":"+SUM(D186:J186)","v":0},{"$f":"+IF(K186=0,IF(B186=$S$5,\"ok\",\"Problema en reparto\"),IF(K186=VLOOKUP(A186,$T$6:$X$105,3,FALSE),\"OK\",\"REVISAR\"))","v":"ok"},null,null,null,null,null,null,{"$f":"+'Datos Previos'!AO34","v":0}]
[null,null,"IMPORTE AYUDA",{"$f":"+SUMIF(Intensidades!BS186:$BS15180,'Cálculos Anticipos'!$B186,Intensidades!$JN$6:$JN$15000)","v":0},{"$f":"+SUMIF(Intensidades!$BS$6:$BT$15000,'Cálculos Anticipos'!$B186,Intensidades!$JO$6:$JO$15000)","v":0},{"$f":"+SUMIF(Intensidades!$BS$6:$BU$15000,'Cálculos Anticipos'!$B186,Intensidades!$JP$6:$JP$15000)","v":0},{"$f":"+SUMIF(Intensidades!$BS$6:$BV$15000,'Cálculos Anticipos'!$B186,Intensidades!$JQ$6:$JQ$15000)","v":0},{"$f":"+SUMIF(Intensidades!$BS$6:$BW$15000,'Cálculos Anticipos'!$B186,Intensidades!$JR$6:$JR$15000)","v":0},{"$f":"+SUMIF(Intensidades!$BS$6:$BX$15000,'Cálculos Anticipos'!$B186,Intensidades!$JS$6:$JS$15000)","v":0},{"$f":"+SUMIF(Intensidades!$BS$6:$BY$15000,'Cálculos Anticipos'!$B186,Intensidades!$JT$6:$JT$15000)","v":0},0,{"$f":"+IF(K187=0,IF(B186=$S$5,\"ok\",\"Problema en reparto\"),IF(K187=VLOOKUP(A186,$T$6:$X$105,5,FALSE),\"OK\",\"REVISAR\"))","v":"ok"}]
[null,null,"PORCENTAJE ANTICIPO",{"$f":"+K188","v":0},{"$f":"+K188","v":0},{"$f":"+K188","v":0},{"$f":"+K188","v":0},{"$f":"+K188","v":0},{"$f":"+K188","v":0},{"$f":"+K188","v":0},0,{"$f":"+IF(K188<=0.7,\"OK; Porcentaje inferior o igual al 70%\",\"Revisar Porcentaje de Anticipo: es mayor del 70% (Máximo Permitido)\")","v":"OK; Porcentaje inferior o igual al 70%"}]
[null,null,"TOTAL ANTICIPO",{"$f":"+ROUND(D187*D188,2)","v":0},{"$f":"+ROUND(E187*E188,2)","v":0},{"$f":"+ROUND(F187*F188,2)","v":0},{"$f":"+ROUND(G187*G188,2)","v":0},{"$f":"+ROUND(H187*H188,2)","v":0},{"$f":"+ROUND(I187*I188,2)","v":0},{"$f":"+ROUND(J187*J188,2)","v":0},{"$f":"+ROUND(K187*K188,2)","v":0},{"$f":"+IFERROR(IF(K189/K187>0.7,\"Revisar, % anticipo mayor 70%\",\"OK\"),\"\")","v":""}]
[null,null,null,null,null,null,null,null,null,null,null,""]
[{"$f":"+'Datos Previos'!AP32","v":0},{"$f":"+IF(A191=$T$106,\"no hay\",S191)","v":"no hay"},"IMPORTE SUBVENCIONABLE",{"$f":"+SUMIF(Intensidades!$BS$6:$BS$15000,'Cálculos Anticipos'!$B191,Intensidades!JV191:JV15185)","v":0},{"$f":"+SUMIF(Intensidades!$BS$6:$BT$15000,'Cálculos Anticipos'!$B191,Intensidades!$JW$6:$JW$15000)","v":0},{"$f":"+SUMIF(Intensidades!$BS$6:$BU$15000,'Cálculos Anticipos'!$B191,Intensidades!$JX$6:$JX$15000)","v":0},{"$f":"+SUMIF(Intensidades!$BS$6:$BV$15000,'Cálculos Anticipos'!$B191,Intensidades!$JY$6:$JY$15000)","v":0},{"$f":"+SUMIF(Intensidades!$BS$6:$BW$15000,'Cálculos Anticipos'!$B191,Intensidades!$JZ$6:$JZ$15000)","v":0},{"$f":"+SUMIF(Intensidades!$BS$6:$BX$15000,'Cálculos Anticipos'!$B191,Intensidades!$KA$6:$KA$15000)","v":0},{"$f":"+SUMIF(Intensidades!$BS$6:$BY$15000,'Cálculos Anticipos'!$B191,Intensidades!$KB$6:$KB$15000)","v":0},{"$f":"+SUM(D191:J191)","v":0},{"$f":"+IF(K191=0,IF(B191=$S$5,\"ok\",\"Problema en reparto\"),IF(K191=VLOOKUP(A191,$T$6:$X$105,3,FALSE),\"OK\",\"REVISAR\"))","v":"ok"},null,null,null,null,null,null,{"$f":"+'Datos Previos'!AP34","v":0}]
[null,null,"IMPORTE AYUDA",{"$f":"+SUMIF(Intensidades!BS191:$BS15185,'Cálculos Anticipos'!$B191,Intensidades!$JN$6:$JN$15000)","v":0},{"$f":"+SUMIF(Intensidades!$BS$6:$BT$15000,'Cálculos Anticipos'!$B191,Intensidades!$JO$6:$JO$15000)","v":0},{"$f":"+SUMIF(Intensidades!$BS$6:$BU$15000,'Cálculos Anticipos'!$B191,Intensidades!$JP$6:$JP$15000)","v":0},{"$f":"+SUMIF(Intensidades!$BS$6:$BV$15000,'Cálculos Anticipos'!$B191,Intensidades!$JQ$6:$JQ$15000)","v":0},{"$f":"+SUMIF(Intensidades!$BS$6:$BW$15000,'Cálculos Anticipos'!$B191,Intensidades!$JR$6:$JR$15000)","v":0},{"$f":"+SUMIF(Intensidades!$BS$6:$BX$15000,'Cálculos Anticipos'!$B191,Intensidades!$JS$6:$JS$15000)","v":0},{"$f":"+SUMIF(Intensidades!$BS$6:$BY$15000,'Cálculos Anticipos'!$B191,Intensidades!$JT$6:$JT$15000)","v":0},0,{"$f":"+IF(K192=0,IF(B191=$S$5,\"ok\",\"Problema en reparto\"),IF(K192=VLOOKUP(A191,$T$6:$X$105,5,FALSE),\"OK\",\"REVISAR\"))","v":"ok"}]
[null,null,"PORCENTAJE ANTICIPO",{"$f":"+K193","v":0},{"$f":"+K193","v":0},{"$f":"+K193","v":0},{"$f":"+K193","v":0},{"$f":"+K193","v":0},{"$f":"+K193","v":0},{"$f":"+K193","v":0},0,{"$f":"+IF(K193<=0.7,\"OK; Porcentaje inferior o igual al 70%\",\"Revisar Porcentaje de Anticipo: es mayor del 70% (Máximo Permitido)\")","v":"OK; Porcentaje inferior o igual al 70%"}]
[null,null,"TOTAL ANTICIPO",{"$f":"+ROUND(D192*D193,2)","v":0},{"$f":"+ROUND(E192*E193,2)","v":0},{"$f":"+ROUND(F192*F193,2)","v":0},{"$f":"+ROUND(G192*G193,2)","v":0},{"$f":"+ROUND(H192*H193,2)","v":0},{"$f":"+ROUND(I192*I193,2)","v":0},{"$f":"+ROUND(J192*J193,2)","v":0},{"$f":"+ROUND(K192*K193,2)","v":0},{"$f":"+IFERROR(IF(K194/K192>0.7,\"Revisar, % anticipo mayor 70%\",\"OK\"),\"\")","v":""}]
[null,null,null,null,null,null,null,null,null,null,null,""]
[{"$f":"+'Datos Previos'!AQ32","v":0},{"$f":"+IF(A196=$T$106,\"no hay\",S196)","v":"no hay"},"IMPORTE SUBVENCIONABLE",{"$f":"+SUMIF(Intensidades!$BS$6:$BS$15000,'Cálculos Anticipos'!$B196,Intensidades!JV196:JV15190)","v":0},{"$f":"+SUMIF(Intensidades!$BS$6:$BT$15000,'Cálculos Anticipos'!$B196,Intensidades!$JW$6:$JW$15000)","v":0},{"$f":"+SUMIF(Intensidades!$BS$6:$BU$15000,'Cálculos Anticipos'!$B196,Intensidades!$JX$6:$JX$15000)","v":0},{"$f":"+SUMIF(Intensidades!$BS$6:$BV$15000,'Cálculos Anticipos'!$B196,Intensidades!$JY$6:$JY$15000)","v":0},{"$f":"+SUMIF(Intensidades!$BS$6:$BW$15000,'Cálculos Anticipos'!$B196,Intensidades!$JZ$6:$JZ$15000)","v":0},{"$f":"+SUMIF(Intensidades!$BS$6:$BX$15000,'Cálculos Anticipos'!$B196,Intensidades!$KA$6:$KA$15000)","v":0},{"$f":"+SUMIF(Intensidades!$BS$6:$BY$15000,'Cálculos Anticipos'!$B196,Intensidades!$KB$6:$KB$15000)","v":0},{"$f":"+SUM(D196:J196)","v":0},{"$f":"+IF(K196=0,IF(B196=$S$5,\"ok\",\"Problema en reparto\"),IF(K196=VLOOKUP(A196,$T$6:$X$105,3,FALSE),\"OK\",\"REVISAR\"))","v":"ok"},null,null,null,null,null,null,{"$f":"+'Datos Previos'!AQ34","v":0}]
[null,null,"IMPORTE AYUDA",{"$f":"+SUMIF(Intensidades!BS196:$BS15190,'Cálculos Anticipos'!$B196,Intensidades!$JN$6:$JN$15000)","v":0},{"$f":"+SUMIF(Intensidades!$BS$6:$BT$15000,'Cálculos Anticipos'!$B196,Intensidades!$JO$6:$JO$15000)","v":0},{"$f":"+SUMIF(Intensidades!$BS$6:$BU$15000,'Cálculos Anticipos'!$B196,Intensidades!$JP$6:$JP$15000)","v":0},{"$f":"+SUMIF(Intensidades!$BS$6:$BV$15000,'Cálculos Anticipos'!$B196,Intensidades!$JQ$6:$JQ$15000)","v":0},{"$f":"+SUMIF(Intensidades!$BS$6:$BW$15000,'Cálculos Anticipos'!$B196,Intensidades!$JR$6:$JR$15000)","v":0},{"$f":"+SUMIF(Intensidades!$BS$6:$BX$15000,'Cálculos Anticipos'!$B196,Intensidades!$JS$6:$JS$15000)","v":0},{"$f":"+SUMIF(Intensidades!$BS$6:$BY$15000,'Cálculos Anticipos'!$B196,Intensidades!$JT$6:$JT$15000)","v":0},0,{"$f":"+IF(K197=0,IF(B196=$S$5,\"ok\",\"Problema en reparto\"),IF(K197=VLOOKUP(A196,$T$6:$X$105,5,FALSE),\"OK\",\"REVISAR\"))","v":"ok"}]
[null,null,"PORCENTAJE ANTICIPO",{"$f":"+K198","v":0},{"$f":"+K198","v":0},{"$f":"+K198","v":0},{"$f":"+K198","v":0},{"$f":"+K198","v":0},{"$f":"+K198","v":0},{"$f":"+K198","v":0},0,{"$f":"+IF(K198<=0.7,\"OK; Porcentaje inferior o igual al 70%\",\"Revisar Porcentaje de Anticipo: es mayor del 70% (Máximo Permitido)\")","v":"OK; Porcentaje inferior o igual al 70%"}]
[null,null,"TOTAL ANTICIPO",{"$f":"+ROUND(D197*D198,2)","v":0},{"$f":"+ROUND(E197*E198,2)","v":0},{"$f":"+ROUND(F197*F198,2)","v":0},{"$f":"+ROUND(G197*G198,2)","v":0},{"$f":"+ROUND(H197*H198,2)","v":0},{"$f":"+ROUND(I197*I198,2)","v":0},{"$f":"+ROUND(J197*J198,2)","v":0},{"$f":"+ROUND(K197*K198,2)","v":0},{"$f":"+IFERROR(IF(K199/K197>0.7,\"Revisar, % anticipo mayor 70%\",\"OK\"),\"\")","v":""}]
[null,null,null,null,null,null,null,null,null,null,null,""]
[{"$f":"+'Datos Previos'!AR32","v":0},{"$f":"+IF(A201=$T$106,\"no hay\",S201)","v":"no hay"},"IMPORTE SUBVENCIONABLE",{"$f":"+SUMIF(Intensidades!$BS$6:$BS$15000,'Cálculos Anticipos'!$B201,Intensidades!JV201:JV15195)","v":0},{"$f":"+SUMIF(Intensidades!$BS$6:$BT$15000,'Cálculos Anticipos'!$B201,Intensidades!$JW$6:$JW$15000)","v":0},{"$f":"+SUMIF(Intensidades!$BS$6:$BU$15000,'Cálculos Anticipos'!$B201,Intensidades!$JX$6:$JX$15000)","v":0},{"$f":"+SUMIF(Intensidades!$BS$6:$BV$15000,'Cálculos Anticipos'!$B201,Intensidades!$JY$6:$JY$15000)","v":0},{"$f":"+SUMIF(Intensidades!$BS$6:$BW$15000,'Cálculos Anticipos'!$B201,Intensidades!$JZ$6:$JZ$15000)","v":0},{"$f":"+SUMIF(Intensidades!$BS$6:$BX$15000,'Cálculos Anticipos'!$B201,Intensidades!$KA$6:$KA$15000)","v":0},{"$f":"+SUMIF(Intensidades!$BS$6:$BY$15000,'Cálculos Anticipos'!$B201,Intensidades!$KB$6:$KB$15000)","v":0},{"$f":"+SUM(D201:J201)","v":0},{"$f":"+IF(K201=0,IF(B201=$S$5,\"ok\",\"Problema en reparto\"),IF(K201=VLOOKUP(A201,$T$6:$X$105,3,FALSE),\"OK\",\"REVISAR\"))","v":"ok"},null,null,null,null,null,null,{"$f":"+'Datos Previos'!AR34","v":0}]
[null,null,"IMPORTE AYUDA",{"$f":"+SUMIF(Intensidades!BS201:$BS15195,'Cálculos Anticipos'!$B201,Intensidades!$JN$6:$JN$15000)","v":0},{"$f":"+SUMIF(Intensidades!$BS$6:$BT$15000,'Cálculos Anticipos'!$B201,Intensidades!$JO$6:$JO$15000)","v":0},{"$f":"+SUMIF(Intensidades!$BS$6:$BU$15000,'Cálculos Anticipos'!$B201,Intensidades!$JP$6:$JP$15000)","v":0},{"$f":"+SUMIF(Intensidades!$BS$6:$BV$15000,'Cálculos Anticipos'!$B201,Intensidades!$JQ$6:$JQ$15000)","v":0},{"$f":"+SUMIF(Intensidades!$BS$6:$BW$15000,'Cálculos Anticipos'!$B201,Intensidades!$JR$6:$JR$15000)","v":0},{"$f":"+SUMIF(Intensidades!$BS$6:$BX$15000,'Cálculos Anticipos'!$B201,Intensidades!$JS$6:$JS$15000)","v":0},{"$f":"+SUMIF(Intensidades!$BS$6:$BY$15000,'Cálculos Anticipos'!$B201,Intensidades!$JT$6:$JT$15000)","v":0},0,{"$f":"+IF(K202=0,IF(B201=$S$5,\"ok\",\"Problema en reparto\"),IF(K202=VLOOKUP(A201,$T$6:$X$105,5,FALSE),\"OK\",\"REVISAR\"))","v":"ok"}]
[null,null,"PORCENTAJE ANTICIPO",{"$f":"+K203","v":0},{"$f":"+K203","v":0},{"$f":"+K203","v":0},{"$f":"+K203","v":0},{"$f":"+K203","v":0},{"$f":"+K203","v":0},{"$f":"+K203","v":0},0,{"$f":"+IF(K203<=0.7,\"OK; Porcentaje inferior o igual al 70%\",\"Revisar Porcentaje de Anticipo: es mayor del 70% (Máximo Permitido)\")","v":"OK; Porcentaje inferior o igual al 70%"}]
[null,null,"TOTAL ANTICIPO",{"$f":"+ROUND(D202*D203,2)","v":0},{"$f":"+ROUND(E202*E203,2)","v":0},{"$f":"+ROUND(F202*F203,2)","v":0},{"$f":"+ROUND(G202*G203,2)","v":0},{"$f":"+ROUND(H202*H203,2)","v":0},{"$f":"+ROUND(I202*I203,2)","v":0},{"$f":"+ROUND(J202*J203,2)","v":0},{"$f":"+ROUND(K202*K203,2)","v":0},{"$f":"+IFERROR(IF(K204/K202>0.7,\"Revisar, % anticipo mayor 70%\",\"OK\"),\"\")","v":""}]
[null,null,null,null,null,null,null,null,null,null,null,""]
[{"$f":"+'Datos Previos'!AS32","v":0},{"$f":"+IF(A206=$T$106,\"no hay\",S206)","v":"no hay"},"IMPORTE SUBVENCIONABLE",{"$f":"+SUMIF(Intensidades!$BS$6:$BS$15000,'Cálculos Anticipos'!$B206,Intensidades!JV206:JV15200)","v":0},{"$f":"+SUMIF(Intensidades!$BS$6:$BT$15000,'Cálculos Anticipos'!$B206,Intensidades!$JW$6:$JW$15000)","v":0},{"$f":"+SUMIF(Intensidades!$BS$6:$BU$15000,'Cálculos Anticipos'!$B206,Intensidades!$JX$6:$JX$15000)","v":0},{"$f":"+SUMIF(Intensidades!$BS$6:$BV$15000,'Cálculos Anticipos'!$B206,Intensidades!$JY$6:$JY$15000)","v":0},{"$f":"+SUMIF(Intensidades!$BS$6:$BW$15000,'Cálculos Anticipos'!$B206,Intensidades!$JZ$6:$JZ$15000)","v":0},{"$f":"+SUMIF(Intensidades!$BS$6:$BX$15000,'Cálculos Anticipos'!$B206,Intensidades!$KA$6:$KA$15000)","v":0},{"$f":"+SUMIF(Intensidades!$BS$6:$BY$15000,'Cálculos Anticipos'!$B206,Intensidades!$KB$6:$KB$15000)","v":0},{"$f":"+SUM(D206:J206)","v":0},{"$f":"+IF(K206=0,IF(B206=$S$5,\"ok\",\"Problema en reparto\"),IF(K206=VLOOKUP(A206,$T$6:$X$105,3,FALSE),\"OK\",\"REVISAR\"))","v":"ok"},null,null,null,null,null,null,{"$f":"+'Datos Previos'!AS34","v":0}]
[null,null,"IMPORTE AYUDA",{"$f":"+SUMIF(Intensidades!BS206:$BS15200,'Cálculos Anticipos'!$B206,Intensidades!$JN$6:$JN$15000)","v":0},{"$f":"+SUMIF(Intensidades!$BS$6:$BT$15000,'Cálculos Anticipos'!$B206,Intensidades!$JO$6:$JO$15000)","v":0},{"$f":"+SUMIF(Intensidades!$BS$6:$BU$15000,'Cálculos Anticipos'!$B206,Intensidades!$JP$6:$JP$15000)","v":0},{"$f":"+SUMIF(Intensidades!$BS$6:$BV$15000,'Cálculos Anticipos'!$B206,Intensidades!$JQ$6:$JQ$15000)","v":0},{"$f":"+SUMIF(Intensidades!$BS$6:$BW$15000,'Cálculos Anticipos'!$B206,Intensidades!$JR$6:$JR$15000)","v":0},{"$f":"+SUMIF(Intensidades!$BS$6:$BX$15000,'Cálculos Anticipos'!$B206,Intensidades!$JS$6:$JS$15000)","v":0},{"$f":"+SUMIF(Intensidades!$BS$6:$BY$15000,'Cálculos Anticipos'!$B206,Intensidades!$JT$6:$JT$15000)","v":0},0,{"$f":"+IF(K207=0,IF(B206=$S$5,\"ok\",\"Problema en reparto\"),IF(K207=VLOOKUP(A206,$T$6:$X$105,5,FALSE),\"OK\",\"REVISAR\"))","v":"ok"}]
[null,null,"PORCENTAJE ANTICIPO",{"$f":"+K208","v":0},{"$f":"+K208","v":0},{"$f":"+K208","v":0},{"$f":"+K208","v":0},{"$f":"+K208","v":0},{"$f":"+K208","v":0},{"$f":"+K208","v":0},0,{"$f":"+IF(K208<=0.7,\"OK; Porcentaje inferior o igual al 70%\",\"Revisar Porcentaje de Anticipo: es mayor del 70% (Máximo Permitido)\")","v":"OK; Porcentaje inferior o igual al 70%"}]
[null,null,"TOTAL ANTICIPO",{"$f":"+ROUND(D207*D208,2)","v":0},{"$f":"+ROUND(E207*E208,2)","v":0},{"$f":"+ROUND(F207*F208,2)","v":0},{"$f":"+ROUND(G207*G208,2)","v":0},{"$f":"+ROUND(H207*H208,2)","v":0},{"$f":"+ROUND(I207*I208,2)","v":0},{"$f":"+ROUND(J207*J208,2)","v":0},{"$f":"+ROUND(K207*K208,2)","v":0},{"$f":"+IFERROR(IF(K209/K207>0.7,\"Revisar, % anticipo mayor 70%\",\"OK\"),\"\")","v":""}]
[null,null,null,null,null,null,null,null,null,null,null,""]
[{"$f":"+'Datos Previos'!AT32","v":0},{"$f":"+IF(A211=$T$106,\"no hay\",S211)","v":"no hay"},"IMPORTE SUBVENCIONABLE",{"$f":"+SUMIF(Intensidades!$BS$6:$BS$15000,'Cálculos Anticipos'!$B211,Intensidades!JV211:JV15205)","v":0},{"$f":"+SUMIF(Intensidades!$BS$6:$BT$15000,'Cálculos Anticipos'!$B211,Intensidades!$JW$6:$JW$15000)","v":0},{"$f":"+SUMIF(Intensidades!$BS$6:$BU$15000,'Cálculos Anticipos'!$B211,Intensidades!$JX$6:$JX$15000)","v":0},{"$f":"+SUMIF(Intensidades!$BS$6:$BV$15000,'Cálculos Anticipos'!$B211,Intensidades!$JY$6:$JY$15000)","v":0},{"$f":"+SUMIF(Intensidades!$BS$6:$BW$15000,'Cálculos Anticipos'!$B211,Intensidades!$JZ$6:$JZ$15000)","v":0},{"$f":"+SUMIF(Intensidades!$BS$6:$BX$15000,'Cálculos Anticipos'!$B211,Intensidades!$KA$6:$KA$15000)","v":0},{"$f":"+SUMIF(Intensidades!$BS$6:$BY$15000,'Cálculos Anticipos'!$B211,Intensidades!$KB$6:$KB$15000)","v":0},{"$f":"+SUM(D211:J211)","v":0},{"$f":"+IF(K211=0,IF(B211=$S$5,\"ok\",\"Problema en reparto\"),IF(K211=VLOOKUP(A211,$T$6:$X$105,3,FALSE),\"OK\",\"REVISAR\"))","v":"ok"},null,null,null,null,null,null,{"$f":"+'Datos Previos'!AT34","v":0}]
[null,null,"IMPORTE AYUDA",{"$f":"+SUMIF(Intensidades!BS211:$BS15205,'Cálculos Anticipos'!$B211,Intensidades!$JN$6:$JN$15000)","v":0},{"$f":"+SUMIF(Intensidades!$BS$6:$BT$15000,'Cálculos Anticipos'!$B211,Intensidades!$JO$6:$JO$15000)","v":0},{"$f":"+SUMIF(Intensidades!$BS$6:$BU$15000,'Cálculos Anticipos'!$B211,Intensidades!$JP$6:$JP$15000)","v":0},{"$f":"+SUMIF(Intensidades!$BS$6:$BV$15000,'Cálculos Anticipos'!$B211,Intensidades!$JQ$6:$JQ$15000)","v":0},{"$f":"+SUMIF(Intensidades!$BS$6:$BW$15000,'Cálculos Anticipos'!$B211,Intensidades!$JR$6:$JR$15000)","v":0},{"$f":"+SUMIF(Intensidades!$BS$6:$BX$15000,'Cálculos Anticipos'!$B211,Intensidades!$JS$6:$JS$15000)","v":0},{"$f":"+SUMIF(Intensidades!$BS$6:$BY$15000,'Cálculos Anticipos'!$B211,Intensidades!$JT$6:$JT$15000)","v":0},0,{"$f":"+IF(K212=0,IF(B211=$S$5,\"ok\",\"Problema en reparto\"),IF(K212=VLOOKUP(A211,$T$6:$X$105,5,FALSE),\"OK\",\"REVISAR\"))","v":"ok"}]
[null,null,"PORCENTAJE ANTICIPO",{"$f":"+K213","v":0},{"$f":"+K213","v":0},{"$f":"+K213","v":0},{"$f":"+K213","v":0},{"$f":"+K213","v":0},{"$f":"+K213","v":0},{"$f":"+K213","v":0},0,{"$f":"+IF(K213<=0.7,\"OK; Porcentaje inferior o igual al 70%\",\"Revisar Porcentaje de Anticipo: es mayor del 70% (Máximo Permitido)\")","v":"OK; Porcentaje inferior o igual al 70%"}]
[null,null,"TOTAL ANTICIPO",{"$f":"+ROUND(D212*D213,2)","v":0},{"$f":"+ROUND(E212*E213,2)","v":0},{"$f":"+ROUND(F212*F213,2)","v":0},{"$f":"+ROUND(G212*G213,2)","v":0},{"$f":"+ROUND(H212*H213,2)","v":0},{"$f":"+ROUND(I212*I213,2)","v":0},{"$f":"+ROUND(J212*J213,2)","v":0},{"$f":"+ROUND(K212*K213,2)","v":0},{"$f":"+IFERROR(IF(K214/K212>0.7,\"Revisar, % anticipo mayor 70%\",\"OK\"),\"\")","v":""}]
[null,null,null,null,null,null,null,null,null,null,null,""]
[{"$f":"+'Datos Previos'!AU32","v":0},{"$f":"+IF(A216=$T$106,\"no hay\",S216)","v":"no hay"},"IMPORTE SUBVENCIONABLE",{"$f":"+SUMIF(Intensidades!$BS$6:$BS$15000,'Cálculos Anticipos'!$B216,Intensidades!JV216:JV15210)","v":0},{"$f":"+SUMIF(Intensidades!$BS$6:$BT$15000,'Cálculos Anticipos'!$B216,Intensidades!$JW$6:$JW$15000)","v":0},{"$f":"+SUMIF(Intensidades!$BS$6:$BU$15000,'Cálculos Anticipos'!$B216,Intensidades!$JX$6:$JX$15000)","v":0},{"$f":"+SUMIF(Intensidades!$BS$6:$BV$15000,'Cálculos Anticipos'!$B216,Intensidades!$JY$6:$JY$15000)","v":0},{"$f":"+SUMIF(Intensidades!$BS$6:$BW$15000,'Cálculos Anticipos'!$B216,Intensidades!$JZ$6:$JZ$15000)","v":0},{"$f":"+SUMIF(Intensidades!$BS$6:$BX$15000,'Cálculos Anticipos'!$B216,Intensidades!$KA$6:$KA$15000)","v":0},{"$f":"+SUMIF(Intensidades!$BS$6:$BY$15000,'Cálculos Anticipos'!$B216,Intensidades!$KB$6:$KB$15000)","v":0},{"$f":"+SUM(D216:J216)","v":0},{"$f":"+IF(K216=0,IF(B216=$S$5,\"ok\",\"Problema en reparto\"),IF(K216=VLOOKUP(A216,$T$6:$X$105,3,FALSE),\"OK\",\"REVISAR\"))","v":"ok"},null,null,null,null,null,null,{"$f":"+'Datos Previos'!AU34","v":0}]
[null,null,"IMPORTE AYUDA",{"$f":"+SUMIF(Intensidades!BS216:$BS15210,'Cálculos Anticipos'!$B216,Intensidades!$JN$6:$JN$15000)","v":0},{"$f":"+SUMIF(Intensidades!$BS$6:$BT$15000,'Cálculos Anticipos'!$B216,Intensidades!$JO$6:$JO$15000)","v":0},{"$f":"+SUMIF(Intensidades!$BS$6:$BU$15000,'Cálculos Anticipos'!$B216,Intensidades!$JP$6:$JP$15000)","v":0},{"$f":"+SUMIF(Intensidades!$BS$6:$BV$15000,'Cálculos Anticipos'!$B216,Intensidades!$JQ$6:$JQ$15000)","v":0},{"$f":"+SUMIF(Intensidades!$BS$6:$BW$15000,'Cálculos Anticipos'!$B216,Intensidades!$JR$6:$JR$15000)","v":0},{"$f":"+SUMIF(Intensidades!$BS$6:$BX$15000,'Cálculos Anticipos'!$B216,Intensidades!$JS$6:$JS$15000)","v":0},{"$f":"+SUMIF(Intensidades!$BS$6:$BY$15000,'Cálculos Anticipos'!$B216,Intensidades!$JT$6:$JT$15000)","v":0},0,{"$f":"+IF(K217=0,IF(B216=$S$5,\"ok\",\"Problema en reparto\"),IF(K217=VLOOKUP(A216,$T$6:$X$105,5,FALSE),\"OK\",\"REVISAR\"))","v":"ok"}]
[null,null,"PORCENTAJE ANTICIPO",{"$f":"+K218","v":0},{"$f":"+K218","v":0},{"$f":"+K218","v":0},{"$f":"+K218","v":0},{"$f":"+K218","v":0},{"$f":"+K218","v":0},{"$f":"+K218","v":0},0,{"$f":"+IF(K218<=0.7,\"OK; Porcentaje inferior o igual al 70%\",\"Revisar Porcentaje de Anticipo: es mayor del 70% (Máximo Permitido)\")","v":"OK; Porcentaje inferior o igual al 70%"}]
[null,null,"TOTAL ANTICIPO",{"$f":"+ROUND(D217*D218,2)","v":0},{"$f":"+ROUND(E217*E218,2)","v":0},{"$f":"+ROUND(F217*F218,2)","v":0},{"$f":"+ROUND(G217*G218,2)","v":0},{"$f":"+ROUND(H217*H218,2)","v":0},{"$f":"+ROUND(I217*I218,2)","v":0},{"$f":"+ROUND(J217*J218,2)","v":0},{"$f":"+ROUND(K217*K218,2)","v":0},{"$f":"+IFERROR(IF(K219/K217>0.7,\"Revisar, % anticipo mayor 70%\",\"OK\"),\"\")","v":""}]
[null,null,null,null,null,null,null,null,null,null,null,""]
[{"$f":"+'Datos Previos'!AV32","v":0},{"$f":"+IF(A221=$T$106,\"no hay\",S221)","v":"no hay"},"IMPORTE SUBVENCIONABLE",{"$f":"+SUMIF(Intensidades!$BS$6:$BS$15000,'Cálculos Anticipos'!$B221,Intensidades!JV221:JV15215)","v":0},{"$f":"+SUMIF(Intensidades!$BS$6:$BT$15000,'Cálculos Anticipos'!$B221,Intensidades!$JW$6:$JW$15000)","v":0},{"$f":"+SUMIF(Intensidades!$BS$6:$BU$15000,'Cálculos Anticipos'!$B221,Intensidades!$JX$6:$JX$15000)","v":0},{"$f":"+SUMIF(Intensidades!$BS$6:$BV$15000,'Cálculos Anticipos'!$B221,Intensidades!$JY$6:$JY$15000)","v":0},{"$f":"+SUMIF(Intensidades!$BS$6:$BW$15000,'Cálculos Anticipos'!$B221,Intensidades!$JZ$6:$JZ$15000)","v":0},{"$f":"+SUMIF(Intensidades!$BS$6:$BX$15000,'Cálculos Anticipos'!$B221,Intensidades!$KA$6:$KA$15000)","v":0},{"$f":"+SUMIF(Intensidades!$BS$6:$BY$15000,'Cálculos Anticipos'!$B221,Intensidades!$KB$6:$KB$15000)","v":0},{"$f":"+SUM(D221:J221)","v":0},{"$f":"+IF(K221=0,IF(B221=$S$5,\"ok\",\"Problema en reparto\"),IF(K221=VLOOKUP(A221,$T$6:$X$105,3,FALSE),\"OK\",\"REVISAR\"))","v":"ok"},null,null,null,null,null,null,{"$f":"+'Datos Previos'!AV34","v":0}]
[null,null,"IMPORTE AYUDA",{"$f":"+SUMIF(Intensidades!BS221:$BS15215,'Cálculos Anticipos'!$B221,Intensidades!$JN$6:$JN$15000)","v":0},{"$f":"+SUMIF(Intensidades!$BS$6:$BT$15000,'Cálculos Anticipos'!$B221,Intensidades!$JO$6:$JO$15000)","v":0},{"$f":"+SUMIF(Intensidades!$BS$6:$BU$15000,'Cálculos Anticipos'!$B221,Intensidades!$JP$6:$JP$15000)","v":0},{"$f":"+SUMIF(Intensidades!$BS$6:$BV$15000,'Cálculos Anticipos'!$B221,Intensidades!$JQ$6:$JQ$15000)","v":0},{"$f":"+SUMIF(Intensidades!$BS$6:$BW$15000,'Cálculos Anticipos'!$B221,Intensidades!$JR$6:$JR$15000)","v":0},{"$f":"+SUMIF(Intensidades!$BS$6:$BX$15000,'Cálculos Anticipos'!$B221,Intensidades!$JS$6:$JS$15000)","v":0},{"$f":"+SUMIF(Intensidades!$BS$6:$BY$15000,'Cálculos Anticipos'!$B221,Intensidades!$JT$6:$JT$15000)","v":0},0,{"$f":"+IF(K222=0,IF(B221=$S$5,\"ok\",\"Problema en reparto\"),IF(K222=VLOOKUP(A221,$T$6:$X$105,5,FALSE),\"OK\",\"REVISAR\"))","v":"ok"}]
[null,null,"PORCENTAJE ANTICIPO",{"$f":"+K223","v":0},{"$f":"+K223","v":0},{"$f":"+K223","v":0},{"$f":"+K223","v":0},{"$f":"+K223","v":0},{"$f":"+K223","v":0},{"$f":"+K223","v":0},0,{"$f":"+IF(K223<=0.7,\"OK; Porcentaje inferior o igual al 70%\",\"Revisar Porcentaje de Anticipo: es mayor del 70% (Máximo Permitido)\")","v":"OK; Porcentaje inferior o igual al 70%"}]
[null,null,"TOTAL ANTICIPO",{"$f":"+ROUND(D222*D223,2)","v":0},{"$f":"+ROUND(E222*E223,2)","v":0},{"$f":"+ROUND(F222*F223,2)","v":0},{"$f":"+ROUND(G222*G223,2)","v":0},{"$f":"+ROUND(H222*H223,2)","v":0},{"$f":"+ROUND(I222*I223,2)","v":0},{"$f":"+ROUND(J222*J223,2)","v":0},{"$f":"+ROUND(K222*K223,2)","v":0},{"$f":"+IFERROR(IF(K224/K222>0.7,\"Revisar, % anticipo mayor 70%\",\"OK\"),\"\")","v":""}]
[null,null,null,null,null,null,null,null,null,null,null,""]
[{"$f":"+'Datos Previos'!AW32","v":0},{"$f":"+IF(A226=$T$106,\"no hay\",S226)","v":"no hay"},"IMPORTE SUBVENCIONABLE",{"$f":"+SUMIF(Intensidades!$BS$6:$BS$15000,'Cálculos Anticipos'!$B226,Intensidades!JV226:JV15220)","v":0},{"$f":"+SUMIF(Intensidades!$BS$6:$BT$15000,'Cálculos Anticipos'!$B226,Intensidades!$JW$6:$JW$15000)","v":0},{"$f":"+SUMIF(Intensidades!$BS$6:$BU$15000,'Cálculos Anticipos'!$B226,Intensidades!$JX$6:$JX$15000)","v":0},{"$f":"+SUMIF(Intensidades!$BS$6:$BV$15000,'Cálculos Anticipos'!$B226,Intensidades!$JY$6:$JY$15000)","v":0},{"$f":"+SUMIF(Intensidades!$BS$6:$BW$15000,'Cálculos Anticipos'!$B226,Intensidades!$JZ$6:$JZ$15000)","v":0},{"$f":"+SUMIF(Intensidades!$BS$6:$BX$15000,'Cálculos Anticipos'!$B226,Intensidades!$KA$6:$KA$15000)","v":0},{"$f":"+SUMIF(Intensidades!$BS$6:$BY$15000,'Cálculos Anticipos'!$B226,Intensidades!$KB$6:$KB$15000)","v":0},{"$f":"+SUM(D226:J226)","v":0},{"$f":"+IF(K226=0,IF(B226=$S$5,\"ok\",\"Problema en reparto\"),IF(K226=VLOOKUP(A226,$T$6:$X$105,3,FALSE),\"OK\",\"REVISAR\"))","v":"ok"},null,null,null,null,null,null,{"$f":"+'Datos Previos'!AW34","v":0}]
[null,null,"IMPORTE AYUDA",{"$f":"+SUMIF(Intensidades!BS226:$BS15220,'Cálculos Anticipos'!$B226,Intensidades!$JN$6:$JN$15000)","v":0},{"$f":"+SUMIF(Intensidades!$BS$6:$BT$15000,'Cálculos Anticipos'!$B226,Intensidades!$JO$6:$JO$15000)","v":0},{"$f":"+SUMIF(Intensidades!$BS$6:$BU$15000,'Cálculos Anticipos'!$B226,Intensidades!$JP$6:$JP$15000)","v":0},{"$f":"+SUMIF(Intensidades!$BS$6:$BV$15000,'Cálculos Anticipos'!$B226,Intensidades!$JQ$6:$JQ$15000)","v":0},{"$f":"+SUMIF(Intensidades!$BS$6:$BW$15000,'Cálculos Anticipos'!$B226,Intensidades!$JR$6:$JR$15000)","v":0},{"$f":"+SUMIF(Intensidades!$BS$6:$BX$15000,'Cálculos Anticipos'!$B226,Intensidades!$JS$6:$JS$15000)","v":0},{"$f":"+SUMIF(Intensidades!$BS$6:$BY$15000,'Cálculos Anticipos'!$B226,Intensidades!$JT$6:$JT$15000)","v":0},0,{"$f":"+IF(K227=0,IF(B226=$S$5,\"ok\",\"Problema en reparto\"),IF(K227=VLOOKUP(A226,$T$6:$X$105,5,FALSE),\"OK\",\"REVISAR\"))","v":"ok"}]
[null,null,"PORCENTAJE ANTICIPO",{"$f":"+K228","v":0},{"$f":"+K228","v":0},{"$f":"+K228","v":0},{"$f":"+K228","v":0},{"$f":"+K228","v":0},{"$f":"+K228","v":0},{"$f":"+K228","v":0},0,{"$f":"+IF(K228<=0.7,\"OK; Porcentaje inferior o igual al 70%\",\"Revisar Porcentaje de Anticipo: es mayor del 70% (Máximo Permitido)\")","v":"OK; Porcentaje inferior o igual al 70%"}]
[null,null,"TOTAL ANTICIPO",{"$f":"+ROUND(D227*D228,2)","v":0},{"$f":"+ROUND(E227*E228,2)","v":0},{"$f":"+ROUND(F227*F228,2)","v":0},{"$f":"+ROUND(G227*G228,2)","v":0},{"$f":"+ROUND(H227*H228,2)","v":0},{"$f":"+ROUND(I227*I228,2)","v":0},{"$f":"+ROUND(J227*J228,2)","v":0},{"$f":"+ROUND(K227*K228,2)","v":0},{"$f":"+IFERROR(IF(K229/K227>0.7,\"Revisar, % anticipo mayor 70%\",\"OK\"),\"\")","v":""}]
[null,null,null,null,null,null,null,null,null,null,null,""]
[{"$f":"+'Datos Previos'!AX32","v":0},{"$f":"+IF(A231=$T$106,\"no hay\",S231)","v":"no hay"},"IMPORTE SUBVENCIONABLE",{"$f":"+SUMIF(Intensidades!$BS$6:$BS$15000,'Cálculos Anticipos'!$B231,Intensidades!JV231:JV15225)","v":0},{"$f":"+SUMIF(Intensidades!$BS$6:$BT$15000,'Cálculos Anticipos'!$B231,Intensidades!$JW$6:$JW$15000)","v":0},{"$f":"+SUMIF(Intensidades!$BS$6:$BU$15000,'Cálculos Anticipos'!$B231,Intensidades!$JX$6:$JX$15000)","v":0},{"$f":"+SUMIF(Intensidades!$BS$6:$BV$15000,'Cálculos Anticipos'!$B231,Intensidades!$JY$6:$JY$15000)","v":0},{"$f":"+SUMIF(Intensidades!$BS$6:$BW$15000,'Cálculos Anticipos'!$B231,Intensidades!$JZ$6:$JZ$15000)","v":0},{"$f":"+SUMIF(Intensidades!$BS$6:$BX$15000,'Cálculos Anticipos'!$B231,Intensidades!$KA$6:$KA$15000)","v":0},{"$f":"+SUMIF(Intensidades!$BS$6:$BY$15000,'Cálculos Anticipos'!$B231,Intensidades!$KB$6:$KB$15000)","v":0},{"$f":"+SUM(D231:J231)","v":0},{"$f":"+IF(K231=0,IF(B231=$S$5,\"ok\",\"Problema en reparto\"),IF(K231=VLOOKUP(A231,$T$6:$X$105,3,FALSE),\"OK\",\"REVISAR\"))","v":"ok"},null,null,null,null,null,null,{"$f":"+'Datos Previos'!AX34","v":0}]
[null,null,"IMPORTE AYUDA",{"$f":"+SUMIF(Intensidades!BS231:$BS15225,'Cálculos Anticipos'!$B231,Intensidades!$JN$6:$JN$15000)","v":0},{"$f":"+SUMIF(Intensidades!$BS$6:$BT$15000,'Cálculos Anticipos'!$B231,Intensidades!$JO$6:$JO$15000)","v":0},{"$f":"+SUMIF(Intensidades!$BS$6:$BU$15000,'Cálculos Anticipos'!$B231,Intensidades!$JP$6:$JP$15000)","v":0},{"$f":"+SUMIF(Intensidades!$BS$6:$BV$15000,'Cálculos Anticipos'!$B231,Intensidades!$JQ$6:$JQ$15000)","v":0},{"$f":"+SUMIF(Intensidades!$BS$6:$BW$15000,'Cálculos Anticipos'!$B231,Intensidades!$JR$6:$JR$15000)","v":0},{"$f":"+SUMIF(Intensidades!$BS$6:$BX$15000,'Cálculos Anticipos'!$B231,Intensidades!$JS$6:$JS$15000)","v":0},{"$f":"+SUMIF(Intensidades!$BS$6:$BY$15000,'Cálculos Anticipos'!$B231,Intensidades!$JT$6:$JT$15000)","v":0},0,{"$f":"+IF(K232=0,IF(B231=$S$5,\"ok\",\"Problema en reparto\"),IF(K232=VLOOKUP(A231,$T$6:$X$105,5,FALSE),\"OK\",\"REVISAR\"))","v":"ok"}]
[null,null,"PORCENTAJE ANTICIPO",{"$f":"+K233","v":0},{"$f":"+K233","v":0},{"$f":"+K233","v":0},{"$f":"+K233","v":0},{"$f":"+K233","v":0},{"$f":"+K233","v":0},{"$f":"+K233","v":0},0,{"$f":"+IF(K233<=0.7,\"OK; Porcentaje inferior o igual al 70%\",\"Revisar Porcentaje de Anticipo: es mayor del 70% (Máximo Permitido)\")","v":"OK; Porcentaje inferior o igual al 70%"}]
[null,null,"TOTAL ANTICIPO",{"$f":"+ROUND(D232*D233,2)","v":0},{"$f":"+ROUND(E232*E233,2)","v":0},{"$f":"+ROUND(F232*F233,2)","v":0},{"$f":"+ROUND(G232*G233,2)","v":0},{"$f":"+ROUND(H232*H233,2)","v":0},{"$f":"+ROUND(I232*I233,2)","v":0},{"$f":"+ROUND(J232*J233,2)","v":0},{"$f":"+ROUND(K232*K233,2)","v":0},{"$f":"+IFERROR(IF(K234/K232>0.7,\"Revisar, % anticipo mayor 70%\",\"OK\"),\"\")","v":""}]
[null,null,null,null,null,null,null,null,null,null,null,""]
[{"$f":"+'Datos Previos'!AY32","v":0},{"$f":"+IF(A236=$T$106,\"no hay\",S236)","v":"no hay"},"IMPORTE SUBVENCIONABLE",{"$f":"+SUMIF(Intensidades!$BS$6:$BS$15000,'Cálculos Anticipos'!$B236,Intensidades!JV236:JV15230)","v":0},{"$f":"+SUMIF(Intensidades!$BS$6:$BT$15000,'Cálculos Anticipos'!$B236,Intensidades!$JW$6:$JW$15000)","v":0},{"$f":"+SUMIF(Intensidades!$BS$6:$BU$15000,'Cálculos Anticipos'!$B236,Intensidades!$JX$6:$JX$15000)","v":0},{"$f":"+SUMIF(Intensidades!$BS$6:$BV$15000,'Cálculos Anticipos'!$B236,Intensidades!$JY$6:$JY$15000)","v":0},{"$f":"+SUMIF(Intensidades!$BS$6:$BW$15000,'Cálculos Anticipos'!$B236,Intensidades!$JZ$6:$JZ$15000)","v":0},{"$f":"+SUMIF(Intensidades!$BS$6:$BX$15000,'Cálculos Anticipos'!$B236,Intensidades!$KA$6:$KA$15000)","v":0},{"$f":"+SUMIF(Intensidades!$BS$6:$BY$15000,'Cálculos Anticipos'!$B236,Intensidades!$KB$6:$KB$15000)","v":0},{"$f":"+SUM(D236:J236)","v":0},{"$f":"+IF(K236=0,IF(B236=$S$5,\"ok\",\"Problema en reparto\"),IF(K236=VLOOKUP(A236,$T$6:$X$105,3,FALSE),\"OK\",\"REVISAR\"))","v":"ok"},null,null,null,null,null,null,{"$f":"+'Datos Previos'!AY34","v":0}]
[null,null,"IMPORTE AYUDA",{"$f":"+SUMIF(Intensidades!BS236:$BS15230,'Cálculos Anticipos'!$B236,Intensidades!$JN$6:$JN$15000)","v":0},{"$f":"+SUMIF(Intensidades!$BS$6:$BT$15000,'Cálculos Anticipos'!$B236,Intensidades!$JO$6:$JO$15000)","v":0},{"$f":"+SUMIF(Intensidades!$BS$6:$BU$15000,'Cálculos Anticipos'!$B236,Intensidades!$JP$6:$JP$15000)","v":0},{"$f":"+SUMIF(Intensidades!$BS$6:$BV$15000,'Cálculos Anticipos'!$B236,Intensidades!$JQ$6:$JQ$15000)","v":0},{"$f":"+SUMIF(Intensidades!$BS$6:$BW$15000,'Cálculos Anticipos'!$B236,Intensidades!$JR$6:$JR$15000)","v":0},{"$f":"+SUMIF(Intensidades!$BS$6:$BX$15000,'Cálculos Anticipos'!$B236,Intensidades!$JS$6:$JS$15000)","v":0},{"$f":"+SUMIF(Intensidades!$BS$6:$BY$15000,'Cálculos Anticipos'!$B236,Intensidades!$JT$6:$JT$15000)","v":0},0,{"$f":"+IF(K237=0,IF(B236=$S$5,\"ok\",\"Problema en reparto\"),IF(K237=VLOOKUP(A236,$T$6:$X$105,5,FALSE),\"OK\",\"REVISAR\"))","v":"ok"}]
[null,null,"PORCENTAJE ANTICIPO",{"$f":"+K238","v":0},{"$f":"+K238","v":0},{"$f":"+K238","v":0},{"$f":"+K238","v":0},{"$f":"+K238","v":0},{"$f":"+K238","v":0},{"$f":"+K238","v":0},0,{"$f":"+IF(K238<=0.7,\"OK; Porcentaje inferior o igual al 70%\",\"Revisar Porcentaje de Anticipo: es mayor del 70% (Máximo Permitido)\")","v":"OK; Porcentaje inferior o igual al 70%"}]
[null,null,"TOTAL ANTICIPO",{"$f":"+ROUND(D237*D238,2)","v":0},{"$f":"+ROUND(E237*E238,2)","v":0},{"$f":"+ROUND(F237*F238,2)","v":0},{"$f":"+ROUND(G237*G238,2)","v":0},{"$f":"+ROUND(H237*H238,2)","v":0},{"$f":"+ROUND(I237*I238,2)","v":0},{"$f":"+ROUND(J237*J238,2)","v":0},{"$f":"+ROUND(K237*K238,2)","v":0},{"$f":"+IFERROR(IF(K239/K237>0.7,\"Revisar, % anticipo mayor 70%\",\"OK\"),\"\")","v":""}]
[null,null,null,null,null,null,null,null,null,null,null,""]
[{"$f":"+'Datos Previos'!AZ32","v":0},{"$f":"+IF(A241=$T$106,\"no hay\",S241)","v":"no hay"},"IMPORTE SUBVENCIONABLE",{"$f":"+SUMIF(Intensidades!$BS$6:$BS$15000,'Cálculos Anticipos'!$B241,Intensidades!JV241:JV15235)","v":0},{"$f":"+SUMIF(Intensidades!$BS$6:$BT$15000,'Cálculos Anticipos'!$B241,Intensidades!$JW$6:$JW$15000)","v":0},{"$f":"+SUMIF(Intensidades!$BS$6:$BU$15000,'Cálculos Anticipos'!$B241,Intensidades!$JX$6:$JX$15000)","v":0},{"$f":"+SUMIF(Intensidades!$BS$6:$BV$15000,'Cálculos Anticipos'!$B241,Intensidades!$JY$6:$JY$15000)","v":0},{"$f":"+SUMIF(Intensidades!$BS$6:$BW$15000,'Cálculos Anticipos'!$B241,Intensidades!$JZ$6:$JZ$15000)","v":0},{"$f":"+SUMIF(Intensidades!$BS$6:$BX$15000,'Cálculos Anticipos'!$B241,Intensidades!$KA$6:$KA$15000)","v":0},{"$f":"+SUMIF(Intensidades!$BS$6:$BY$15000,'Cálculos Anticipos'!$B241,Intensidades!$KB$6:$KB$15000)","v":0},{"$f":"+SUM(D241:J241)","v":0},{"$f":"+IF(K241=0,IF(B241=$S$5,\"ok\",\"Problema en reparto\"),IF(K241=VLOOKUP(A241,$T$6:$X$105,3,FALSE),\"OK\",\"REVISAR\"))","v":"ok"},null,null,null,null,null,null,{"$f":"+'Datos Previos'!AZ34","v":0}]
[null,null,"IMPORTE AYUDA",{"$f":"+SUMIF(Intensidades!BS241:$BS15235,'Cálculos Anticipos'!$B241,Intensidades!$JN$6:$JN$15000)","v":0},{"$f":"+SUMIF(Intensidades!$BS$6:$BT$15000,'Cálculos Anticipos'!$B241,Intensidades!$JO$6:$JO$15000)","v":0},{"$f":"+SUMIF(Intensidades!$BS$6:$BU$15000,'Cálculos Anticipos'!$B241,Intensidades!$JP$6:$JP$15000)","v":0},{"$f":"+SUMIF(Intensidades!$BS$6:$BV$15000,'Cálculos Anticipos'!$B241,Intensidades!$JQ$6:$JQ$15000)","v":0},{"$f":"+SUMIF(Intensidades!$BS$6:$BW$15000,'Cálculos Anticipos'!$B241,Intensidades!$JR$6:$JR$15000)","v":0},{"$f":"+SUMIF(Intensidades!$BS$6:$BX$15000,'Cálculos Anticipos'!$B241,Intensidades!$JS$6:$JS$15000)","v":0},{"$f":"+SUMIF(Intensidades!$BS$6:$BY$15000,'Cálculos Anticipos'!$B241,Intensidades!$JT$6:$JT$15000)","v":0},0,{"$f":"+IF(K242=0,IF(B241=$S$5,\"ok\",\"Problema en reparto\"),IF(K242=VLOOKUP(A241,$T$6:$X$105,5,FALSE),\"OK\",\"REVISAR\"))","v":"ok"}]
[null,null,"PORCENTAJE ANTICIPO",{"$f":"+K243","v":0},{"$f":"+K243","v":0},{"$f":"+K243","v":0},{"$f":"+K243","v":0},{"$f":"+K243","v":0},{"$f":"+K243","v":0},{"$f":"+K243","v":0},0,{"$f":"+IF(K243<=0.7,\"OK; Porcentaje inferior o igual al 70%\",\"Revisar Porcentaje de Anticipo: es mayor del 70% (Máximo Permitido)\")","v":"OK; Porcentaje inferior o igual al 70%"}]
[null,null,"TOTAL ANTICIPO",{"$f":"+ROUND(D242*D243,2)","v":0},{"$f":"+ROUND(E242*E243,2)","v":0},{"$f":"+ROUND(F242*F243,2)","v":0},{"$f":"+ROUND(G242*G243,2)","v":0},{"$f":"+ROUND(H242*H243,2)","v":0},{"$f":"+ROUND(I242*I243,2)","v":0},{"$f":"+ROUND(J242*J243,2)","v":0},{"$f":"+ROUND(K242*K243,2)","v":0},{"$f":"+IFERROR(IF(K244/K242>0.7,\"Revisar, % anticipo mayor 70%\",\"OK\"),\"\")","v":""}]
[null,null,null,null,null,null,null,null,null,null,null,""]
[{"$f":"+'Datos Previos'!BA32","v":0},{"$f":"+IF(A246=$T$106,\"no hay\",S246)","v":"no hay"},"IMPORTE SUBVENCIONABLE",{"$f":"+SUMIF(Intensidades!$BS$6:$BS$15000,'Cálculos Anticipos'!$B246,Intensidades!JV246:JV15240)","v":0},{"$f":"+SUMIF(Intensidades!$BS$6:$BT$15000,'Cálculos Anticipos'!$B246,Intensidades!$JW$6:$JW$15000)","v":0},{"$f":"+SUMIF(Intensidades!$BS$6:$BU$15000,'Cálculos Anticipos'!$B246,Intensidades!$JX$6:$JX$15000)","v":0},{"$f":"+SUMIF(Intensidades!$BS$6:$BV$15000,'Cálculos Anticipos'!$B246,Intensidades!$JY$6:$JY$15000)","v":0},{"$f":"+SUMIF(Intensidades!$BS$6:$BW$15000,'Cálculos Anticipos'!$B246,Intensidades!$JZ$6:$JZ$15000)","v":0},{"$f":"+SUMIF(Intensidades!$BS$6:$BX$15000,'Cálculos Anticipos'!$B246,Intensidades!$KA$6:$KA$15000)","v":0},{"$f":"+SUMIF(Intensidades!$BS$6:$BY$15000,'Cálculos Anticipos'!$B246,Intensidades!$KB$6:$KB$15000)","v":0},{"$f":"+SUM(D246:J246)","v":0},{"$f":"+IF(K246=0,IF(B246=$S$5,\"ok\",\"Problema en reparto\"),IF(K246=VLOOKUP(A246,$T$6:$X$105,3,FALSE),\"OK\",\"REVISAR\"))","v":"ok"},null,null,null,null,null,null,{"$f":"+'Datos Previos'!BA34","v":0}]
[null,null,"IMPORTE AYUDA",{"$f":"+SUMIF(Intensidades!BS246:$BS15240,'Cálculos Anticipos'!$B246,Intensidades!$JN$6:$JN$15000)","v":0},{"$f":"+SUMIF(Intensidades!$BS$6:$BT$15000,'Cálculos Anticipos'!$B246,Intensidades!$JO$6:$JO$15000)","v":0},{"$f":"+SUMIF(Intensidades!$BS$6:$BU$15000,'Cálculos Anticipos'!$B246,Intensidades!$JP$6:$JP$15000)","v":0},{"$f":"+SUMIF(Intensidades!$BS$6:$BV$15000,'Cálculos Anticipos'!$B246,Intensidades!$JQ$6:$JQ$15000)","v":0},{"$f":"+SUMIF(Intensidades!$BS$6:$BW$15000,'Cálculos Anticipos'!$B246,Intensidades!$JR$6:$JR$15000)","v":0},{"$f":"+SUMIF(Intensidades!$BS$6:$BX$15000,'Cálculos Anticipos'!$B246,Intensidades!$JS$6:$JS$15000)","v":0},{"$f":"+SUMIF(Intensidades!$BS$6:$BY$15000,'Cálculos Anticipos'!$B246,Intensidades!$JT$6:$JT$15000)","v":0},0,{"$f":"+IF(K247=0,IF(B246=$S$5,\"ok\",\"Problema en reparto\"),IF(K247=VLOOKUP(A246,$T$6:$X$105,5,FALSE),\"OK\",\"REVISAR\"))","v":"ok"}]
[null,null,"PORCENTAJE ANTICIPO",{"$f":"+K248","v":0},{"$f":"+K248","v":0},{"$f":"+K248","v":0},{"$f":"+K248","v":0},{"$f":"+K248","v":0},{"$f":"+K248","v":0},{"$f":"+K248","v":0},0,{"$f":"+IF(K248<=0.7,\"OK; Porcentaje inferior o igual al 70%\",\"Revisar Porcentaje de Anticipo: es mayor del 70% (Máximo Permitido)\")","v":"OK; Porcentaje inferior o igual al 70%"}]
[null,null,"TOTAL ANTICIPO",{"$f":"+ROUND(D247*D248,2)","v":0},{"$f":"+ROUND(E247*E248,2)","v":0},{"$f":"+ROUND(F247*F248,2)","v":0},{"$f":"+ROUND(G247*G248,2)","v":0},{"$f":"+ROUND(H247*H248,2)","v":0},{"$f":"+ROUND(I247*I248,2)","v":0},{"$f":"+ROUND(J247*J248,2)","v":0},{"$f":"+ROUND(K247*K248,2)","v":0},{"$f":"+IFERROR(IF(K249/K247>0.7,\"Revisar, % anticipo mayor 70%\",\"OK\"),\"\")","v":""}]
[null,null,null,null,null,null,null,null,null,null,null,""]
[{"$f":"+'Datos Previos'!BB32","v":0},{"$f":"+IF(A251=$T$106,\"no hay\",S251)","v":"no hay"},"IMPORTE SUBVENCIONABLE",{"$f":"+SUMIF(Intensidades!$BS$6:$BS$15000,'Cálculos Anticipos'!$B251,Intensidades!JV251:JV15245)","v":0},{"$f":"+SUMIF(Intensidades!$BS$6:$BT$15000,'Cálculos Anticipos'!$B251,Intensidades!$JW$6:$JW$15000)","v":0},{"$f":"+SUMIF(Intensidades!$BS$6:$BU$15000,'Cálculos Anticipos'!$B251,Intensidades!$JX$6:$JX$15000)","v":0},{"$f":"+SUMIF(Intensidades!$BS$6:$BV$15000,'Cálculos Anticipos'!$B251,Intensidades!$JY$6:$JY$15000)","v":0},{"$f":"+SUMIF(Intensidades!$BS$6:$BW$15000,'Cálculos Anticipos'!$B251,Intensidades!$JZ$6:$JZ$15000)","v":0},{"$f":"+SUMIF(Intensidades!$BS$6:$BX$15000,'Cálculos Anticipos'!$B251,Intensidades!$KA$6:$KA$15000)","v":0},{"$f":"+SUMIF(Intensidades!$BS$6:$BY$15000,'Cálculos Anticipos'!$B251,Intensidades!$KB$6:$KB$15000)","v":0},{"$f":"+SUM(D251:J251)","v":0},{"$f":"+IF(K251=0,IF(B251=$S$5,\"ok\",\"Problema en reparto\"),IF(K251=VLOOKUP(A251,$T$6:$X$105,3,FALSE),\"OK\",\"REVISAR\"))","v":"ok"},null,null,null,null,null,null,{"$f":"+'Datos Previos'!BB34","v":0}]
[null,null,"IMPORTE AYUDA",{"$f":"+SUMIF(Intensidades!BS251:$BS15245,'Cálculos Anticipos'!$B251,Intensidades!$JN$6:$JN$15000)","v":0},{"$f":"+SUMIF(Intensidades!$BS$6:$BT$15000,'Cálculos Anticipos'!$B251,Intensidades!$JO$6:$JO$15000)","v":0},{"$f":"+SUMIF(Intensidades!$BS$6:$BU$15000,'Cálculos Anticipos'!$B251,Intensidades!$JP$6:$JP$15000)","v":0},{"$f":"+SUMIF(Intensidades!$BS$6:$BV$15000,'Cálculos Anticipos'!$B251,Intensidades!$JQ$6:$JQ$15000)","v":0},{"$f":"+SUMIF(Intensidades!$BS$6:$BW$15000,'Cálculos Anticipos'!$B251,Intensidades!$JR$6:$JR$15000)","v":0},{"$f":"+SUMIF(Intensidades!$BS$6:$BX$15000,'Cálculos Anticipos'!$B251,Intensidades!$JS$6:$JS$15000)","v":0},{"$f":"+SUMIF(Intensidades!$BS$6:$BY$15000,'Cálculos Anticipos'!$B251,Intensidades!$JT$6:$JT$15000)","v":0},0,{"$f":"+IF(K252=0,IF(B251=$S$5,\"ok\",\"Problema en reparto\"),IF(K252=VLOOKUP(A251,$T$6:$X$105,5,FALSE),\"OK\",\"REVISAR\"))","v":"ok"}]
[null,null,"PORCENTAJE ANTICIPO",{"$f":"+K253","v":0},{"$f":"+K253","v":0},{"$f":"+K253","v":0},{"$f":"+K253","v":0},{"$f":"+K253","v":0},{"$f":"+K253","v":0},{"$f":"+K253","v":0},0,{"$f":"+IF(K253<=0.7,\"OK; Porcentaje inferior o igual al 70%\",\"Revisar Porcentaje de Anticipo: es mayor del 70% (Máximo Permitido)\")","v":"OK; Porcentaje inferior o igual al 70%"}]
[null,null,"TOTAL ANTICIPO",{"$f":"+ROUND(D252*D253,2)","v":0},{"$f":"+ROUND(E252*E253,2)","v":0},{"$f":"+ROUND(F252*F253,2)","v":0},{"$f":"+ROUND(G252*G253,2)","v":0},{"$f":"+ROUND(H252*H253,2)","v":0},{"$f":"+ROUND(I252*I253,2)","v":0},{"$f":"+ROUND(J252*J253,2)","v":0},{"$f":"+ROUND(K252*K253,2)","v":0},{"$f":"+IFERROR(IF(K254/K252>0.7,\"Revisar, % anticipo mayor 70%\",\"OK\"),\"\")","v":""}]
[null,null,null,null,null,null,null,null,null,null,null,""]
[{"$f":"+'Datos Previos'!BC32","v":0},{"$f":"+IF(A256=$T$106,\"no hay\",S256)","v":"no hay"},"IMPORTE SUBVENCIONABLE",{"$f":"+SUMIF(Intensidades!$BS$6:$BS$15000,'Cálculos Anticipos'!$B256,Intensidades!JV256:JV15250)","v":0},{"$f":"+SUMIF(Intensidades!$BS$6:$BT$15000,'Cálculos Anticipos'!$B256,Intensidades!$JW$6:$JW$15000)","v":0},{"$f":"+SUMIF(Intensidades!$BS$6:$BU$15000,'Cálculos Anticipos'!$B256,Intensidades!$JX$6:$JX$15000)","v":0},{"$f":"+SUMIF(Intensidades!$BS$6:$BV$15000,'Cálculos Anticipos'!$B256,Intensidades!$JY$6:$JY$15000)","v":0},{"$f":"+SUMIF(Intensidades!$BS$6:$BW$15000,'Cálculos Anticipos'!$B256,Intensidades!$JZ$6:$JZ$15000)","v":0},{"$f":"+SUMIF(Intensidades!$BS$6:$BX$15000,'Cálculos Anticipos'!$B256,Intensidades!$KA$6:$KA$15000)","v":0},{"$f":"+SUMIF(Intensidades!$BS$6:$BY$15000,'Cálculos Anticipos'!$B256,Intensidades!$KB$6:$KB$15000)","v":0},{"$f":"+SUM(D256:J256)","v":0},{"$f":"+IF(K256=0,IF(B256=$S$5,\"ok\",\"Problema en reparto\"),IF(K256=VLOOKUP(A256,$T$6:$X$105,3,FALSE),\"OK\",\"REVISAR\"))","v":"ok"},null,null,null,null,null,null,{"$f":"+'Datos Previos'!BC34","v":0}]
[null,null,"IMPORTE AYUDA",{"$f":"+SUMIF(Intensidades!BS256:$BS15250,'Cálculos Anticipos'!$B256,Intensidades!$JN$6:$JN$15000)","v":0},{"$f":"+SUMIF(Intensidades!$BS$6:$BT$15000,'Cálculos Anticipos'!$B256,Intensidades!$JO$6:$JO$15000)","v":0},{"$f":"+SUMIF(Intensidades!$BS$6:$BU$15000,'Cálculos Anticipos'!$B256,Intensidades!$JP$6:$JP$15000)","v":0},{"$f":"+SUMIF(Intensidades!$BS$6:$BV$15000,'Cálculos Anticipos'!$B256,Intensidades!$JQ$6:$JQ$15000)","v":0},{"$f":"+SUMIF(Intensidades!$BS$6:$BW$15000,'Cálculos Anticipos'!$B256,Intensidades!$JR$6:$JR$15000)","v":0},{"$f":"+SUMIF(Intensidades!$BS$6:$BX$15000,'Cálculos Anticipos'!$B256,Intensidades!$JS$6:$JS$15000)","v":0},{"$f":"+SUMIF(Intensidades!$BS$6:$BY$15000,'Cálculos Anticipos'!$B256,Intensidades!$JT$6:$JT$15000)","v":0},0,{"$f":"+IF(K257=0,IF(B256=$S$5,\"ok\",\"Problema en reparto\"),IF(K257=VLOOKUP(A256,$T$6:$X$105,5,FALSE),\"OK\",\"REVISAR\"))","v":"ok"}]
[null,null,"PORCENTAJE ANTICIPO",{"$f":"+K258","v":0},{"$f":"+K258","v":0},{"$f":"+K258","v":0},{"$f":"+K258","v":0},{"$f":"+K258","v":0},{"$f":"+K258","v":0},{"$f":"+K258","v":0},0,{"$f":"+IF(K258<=0.7,\"OK; Porcentaje inferior o igual al 70%\",\"Revisar Porcentaje de Anticipo: es mayor del 70% (Máximo Permitido)\")","v":"OK; Porcentaje inferior o igual al 70%"}]
[null,null,"TOTAL ANTICIPO",{"$f":"+ROUND(D257*D258,2)","v":0},{"$f":"+ROUND(E257*E258,2)","v":0},{"$f":"+ROUND(F257*F258,2)","v":0},{"$f":"+ROUND(G257*G258,2)","v":0},{"$f":"+ROUND(H257*H258,2)","v":0},{"$f":"+ROUND(I257*I258,2)","v":0},{"$f":"+ROUND(J257*J258,2)","v":0},{"$f":"+ROUND(K257*K258,2)","v":0},{"$f":"+IFERROR(IF(K259/K257>0.7,\"Revisar, % anticipo mayor 70%\",\"OK\"),\"\")","v":""}]
[null,null,null,null,null,null,null,null,null,null,null,""]
[{"$f":"+'Datos Previos'!BD32","v":0},{"$f":"+IF(A261=$T$106,\"no hay\",S261)","v":"no hay"},"IMPORTE SUBVENCIONABLE",{"$f":"+SUMIF(Intensidades!$BS$6:$BS$15000,'Cálculos Anticipos'!$B261,Intensidades!JV261:JV15255)","v":0},{"$f":"+SUMIF(Intensidades!$BS$6:$BT$15000,'Cálculos Anticipos'!$B261,Intensidades!$JW$6:$JW$15000)","v":0},{"$f":"+SUMIF(Intensidades!$BS$6:$BU$15000,'Cálculos Anticipos'!$B261,Intensidades!$JX$6:$JX$15000)","v":0},{"$f":"+SUMIF(Intensidades!$BS$6:$BV$15000,'Cálculos Anticipos'!$B261,Intensidades!$JY$6:$JY$15000)","v":0},{"$f":"+SUMIF(Intensidades!$BS$6:$BW$15000,'Cálculos Anticipos'!$B261,Intensidades!$JZ$6:$JZ$15000)","v":0},{"$f":"+SUMIF(Intensidades!$BS$6:$BX$15000,'Cálculos Anticipos'!$B261,Intensidades!$KA$6:$KA$15000)","v":0},{"$f":"+SUMIF(Intensidades!$BS$6:$BY$15000,'Cálculos Anticipos'!$B261,Intensidades!$KB$6:$KB$15000)","v":0},{"$f":"+SUM(D261:J261)","v":0},{"$f":"+IF(K261=0,IF(B261=$S$5,\"ok\",\"Problema en reparto\"),IF(K261=VLOOKUP(A261,$T$6:$X$105,3,FALSE),\"OK\",\"REVISAR\"))","v":"ok"},null,null,null,null,null,null,{"$f":"+'Datos Previos'!BD34","v":0}]
[null,null,"IMPORTE AYUDA",{"$f":"+SUMIF(Intensidades!BS261:$BS15255,'Cálculos Anticipos'!$B261,Intensidades!$JN$6:$JN$15000)","v":0},{"$f":"+SUMIF(Intensidades!$BS$6:$BT$15000,'Cálculos Anticipos'!$B261,Intensidades!$JO$6:$JO$15000)","v":0},{"$f":"+SUMIF(Intensidades!$BS$6:$BU$15000,'Cálculos Anticipos'!$B261,Intensidades!$JP$6:$JP$15000)","v":0},{"$f":"+SUMIF(Intensidades!$BS$6:$BV$15000,'Cálculos Anticipos'!$B261,Intensidades!$JQ$6:$JQ$15000)","v":0},{"$f":"+SUMIF(Intensidades!$BS$6:$BW$15000,'Cálculos Anticipos'!$B261,Intensidades!$JR$6:$JR$15000)","v":0},{"$f":"+SUMIF(Intensidades!$BS$6:$BX$15000,'Cálculos Anticipos'!$B261,Intensidades!$JS$6:$JS$15000)","v":0},{"$f":"+SUMIF(Intensidades!$BS$6:$BY$15000,'Cálculos Anticipos'!$B261,Intensidades!$JT$6:$JT$15000)","v":0},0,{"$f":"+IF(K262=0,IF(B261=$S$5,\"ok\",\"Problema en reparto\"),IF(K262=VLOOKUP(A261,$T$6:$X$105,5,FALSE),\"OK\",\"REVISAR\"))","v":"ok"}]
[null,null,"PORCENTAJE ANTICIPO",{"$f":"+K263","v":0},{"$f":"+K263","v":0},{"$f":"+K263","v":0},{"$f":"+K263","v":0},{"$f":"+K263","v":0},{"$f":"+K263","v":0},{"$f":"+K263","v":0},0,{"$f":"+IF(K263<=0.7,\"OK; Porcentaje inferior o igual al 70%\",\"Revisar Porcentaje de Anticipo: es mayor del 70% (Máximo Permitido)\")","v":"OK; Porcentaje inferior o igual al 70%"}]
[null,null,"TOTAL ANTICIPO",{"$f":"+ROUND(D262*D263,2)","v":0},{"$f":"+ROUND(E262*E263,2)","v":0},{"$f":"+ROUND(F262*F263,2)","v":0},{"$f":"+ROUND(G262*G263,2)","v":0},{"$f":"+ROUND(H262*H263,2)","v":0},{"$f":"+ROUND(I262*I263,2)","v":0},{"$f":"+ROUND(J262*J263,2)","v":0},{"$f":"+ROUND(K262*K263,2)","v":0},{"$f":"+IFERROR(IF(K264/K262>0.7,\"Revisar, % anticipo mayor 70%\",\"OK\"),\"\")","v":""}]
[null,null,null,null,null,null,null,null,null,null,null,""]
[{"$f":"+'Datos Previos'!BE32","v":0},{"$f":"+IF(A266=$T$106,\"no hay\",S266)","v":"no hay"},"IMPORTE SUBVENCIONABLE",{"$f":"+SUMIF(Intensidades!$BS$6:$BS$15000,'Cálculos Anticipos'!$B266,Intensidades!JV266:JV15260)","v":0},{"$f":"+SUMIF(Intensidades!$BS$6:$BT$15000,'Cálculos Anticipos'!$B266,Intensidades!$JW$6:$JW$15000)","v":0},{"$f":"+SUMIF(Intensidades!$BS$6:$BU$15000,'Cálculos Anticipos'!$B266,Intensidades!$JX$6:$JX$15000)","v":0},{"$f":"+SUMIF(Intensidades!$BS$6:$BV$15000,'Cálculos Anticipos'!$B266,Intensidades!$JY$6:$JY$15000)","v":0},{"$f":"+SUMIF(Intensidades!$BS$6:$BW$15000,'Cálculos Anticipos'!$B266,Intensidades!$JZ$6:$JZ$15000)","v":0},{"$f":"+SUMIF(Intensidades!$BS$6:$BX$15000,'Cálculos Anticipos'!$B266,Intensidades!$KA$6:$KA$15000)","v":0},{"$f":"+SUMIF(Intensidades!$BS$6:$BY$15000,'Cálculos Anticipos'!$B266,Intensidades!$KB$6:$KB$15000)","v":0},{"$f":"+SUM(D266:J266)","v":0},{"$f":"+IF(K266=0,IF(B266=$S$5,\"ok\",\"Problema en reparto\"),IF(K266=VLOOKUP(A266,$T$6:$X$105,3,FALSE),\"OK\",\"REVISAR\"))","v":"ok"},null,null,null,null,null,null,{"$f":"+'Datos Previos'!BE34","v":0}]
[null,null,"IMPORTE AYUDA",{"$f":"+SUMIF(Intensidades!BS266:$BS15260,'Cálculos Anticipos'!$B266,Intensidades!$JN$6:$JN$15000)","v":0},{"$f":"+SUMIF(Intensidades!$BS$6:$BT$15000,'Cálculos Anticipos'!$B266,Intensidades!$JO$6:$JO$15000)","v":0},{"$f":"+SUMIF(Intensidades!$BS$6:$BU$15000,'Cálculos Anticipos'!$B266,Intensidades!$JP$6:$JP$15000)","v":0},{"$f":"+SUMIF(Intensidades!$BS$6:$BV$15000,'Cálculos Anticipos'!$B266,Intensidades!$JQ$6:$JQ$15000)","v":0},{"$f":"+SUMIF(Intensidades!$BS$6:$BW$15000,'Cálculos Anticipos'!$B266,Intensidades!$JR$6:$JR$15000)","v":0},{"$f":"+SUMIF(Intensidades!$BS$6:$BX$15000,'Cálculos Anticipos'!$B266,Intensidades!$JS$6:$JS$15000)","v":0},{"$f":"+SUMIF(Intensidades!$BS$6:$BY$15000,'Cálculos Anticipos'!$B266,Intensidades!$JT$6:$JT$15000)","v":0},0,{"$f":"+IF(K267=0,IF(B266=$S$5,\"ok\",\"Problema en reparto\"),IF(K267=VLOOKUP(A266,$T$6:$X$105,5,FALSE),\"OK\",\"REVISAR\"))","v":"ok"}]
[null,null,"PORCENTAJE ANTICIPO",{"$f":"+K268","v":0},{"$f":"+K268","v":0},{"$f":"+K268","v":0},{"$f":"+K268","v":0},{"$f":"+K268","v":0},{"$f":"+K268","v":0},{"$f":"+K268","v":0},0,{"$f":"+IF(K268<=0.7,\"OK; Porcentaje inferior o igual al 70%\",\"Revisar Porcentaje de Anticipo: es mayor del 70% (Máximo Permitido)\")","v":"OK; Porcentaje inferior o igual al 70%"}]
[null,null,"TOTAL ANTICIPO",{"$f":"+ROUND(D267*D268,2)","v":0},{"$f":"+ROUND(E267*E268,2)","v":0},{"$f":"+ROUND(F267*F268,2)","v":0},{"$f":"+ROUND(G267*G268,2)","v":0},{"$f":"+ROUND(H267*H268,2)","v":0},{"$f":"+ROUND(I267*I268,2)","v":0},{"$f":"+ROUND(J267*J268,2)","v":0},{"$f":"+ROUND(K267*K268,2)","v":0},{"$f":"+IFERROR(IF(K269/K267>0.7,\"Revisar, % anticipo mayor 70%\",\"OK\"),\"\")","v":""}]
[null,null,null,null,null,null,null,null,null,null,null,""]
[{"$f":"+'Datos Previos'!BF32","v":0},{"$f":"+IF(A271=$T$106,\"no hay\",S271)","v":"no hay"},"IMPORTE SUBVENCIONABLE",{"$f":"+SUMIF(Intensidades!$BS$6:$BS$15000,'Cálculos Anticipos'!$B271,Intensidades!JV271:JV15265)","v":0},{"$f":"+SUMIF(Intensidades!$BS$6:$BT$15000,'Cálculos Anticipos'!$B271,Intensidades!$JW$6:$JW$15000)","v":0},{"$f":"+SUMIF(Intensidades!$BS$6:$BU$15000,'Cálculos Anticipos'!$B271,Intensidades!$JX$6:$JX$15000)","v":0},{"$f":"+SUMIF(Intensidades!$BS$6:$BV$15000,'Cálculos Anticipos'!$B271,Intensidades!$JY$6:$JY$15000)","v":0},{"$f":"+SUMIF(Intensidades!$BS$6:$BW$15000,'Cálculos Anticipos'!$B271,Intensidades!$JZ$6:$JZ$15000)","v":0},{"$f":"+SUMIF(Intensidades!$BS$6:$BX$15000,'Cálculos Anticipos'!$B271,Intensidades!$KA$6:$KA$15000)","v":0},{"$f":"+SUMIF(Intensidades!$BS$6:$BY$15000,'Cálculos Anticipos'!$B271,Intensidades!$KB$6:$KB$15000)","v":0},{"$f":"+SUM(D271:J271)","v":0},{"$f":"+IF(K271=0,IF(B271=$S$5,\"ok\",\"Problema en reparto\"),IF(K271=VLOOKUP(A271,$T$6:$X$105,3,FALSE),\"OK\",\"REVISAR\"))","v":"ok"},null,null,null,null,null,null,{"$f":"+'Datos Previos'!BF34","v":0}]
[null,null,"IMPORTE AYUDA",{"$f":"+SUMIF(Intensidades!BS271:$BS15265,'Cálculos Anticipos'!$B271,Intensidades!$JN$6:$JN$15000)","v":0},{"$f":"+SUMIF(Intensidades!$BS$6:$BT$15000,'Cálculos Anticipos'!$B271,Intensidades!$JO$6:$JO$15000)","v":0},{"$f":"+SUMIF(Intensidades!$BS$6:$BU$15000,'Cálculos Anticipos'!$B271,Intensidades!$JP$6:$JP$15000)","v":0},{"$f":"+SUMIF(Intensidades!$BS$6:$BV$15000,'Cálculos Anticipos'!$B271,Intensidades!$JQ$6:$JQ$15000)","v":0},{"$f":"+SUMIF(Intensidades!$BS$6:$BW$15000,'Cálculos Anticipos'!$B271,Intensidades!$JR$6:$JR$15000)","v":0},{"$f":"+SUMIF(Intensidades!$BS$6:$BX$15000,'Cálculos Anticipos'!$B271,Intensidades!$JS$6:$JS$15000)","v":0},{"$f":"+SUMIF(Intensidades!$BS$6:$BY$15000,'Cálculos Anticipos'!$B271,Intensidades!$JT$6:$JT$15000)","v":0},0,{"$f":"+IF(K272=0,IF(B271=$S$5,\"ok\",\"Problema en reparto\"),IF(K272=VLOOKUP(A271,$T$6:$X$105,5,FALSE),\"OK\",\"REVISAR\"))","v":"ok"}]
[null,null,"PORCENTAJE ANTICIPO",{"$f":"+K273","v":0},{"$f":"+K273","v":0},{"$f":"+K273","v":0},{"$f":"+K273","v":0},{"$f":"+K273","v":0},{"$f":"+K273","v":0},{"$f":"+K273","v":0},0,{"$f":"+IF(K273<=0.7,\"OK; Porcentaje inferior o igual al 70%\",\"Revisar Porcentaje de Anticipo: es mayor del 70% (Máximo Permitido)\")","v":"OK; Porcentaje inferior o igual al 70%"}]
[null,null,"TOTAL ANTICIPO",{"$f":"+ROUND(D272*D273,2)","v":0},{"$f":"+ROUND(E272*E273,2)","v":0},{"$f":"+ROUND(F272*F273,2)","v":0},{"$f":"+ROUND(G272*G273,2)","v":0},{"$f":"+ROUND(H272*H273,2)","v":0},{"$f":"+ROUND(I272*I273,2)","v":0},{"$f":"+ROUND(J272*J273,2)","v":0},{"$f":"+ROUND(K272*K273,2)","v":0},{"$f":"+IFERROR(IF(K274/K272>0.7,\"Revisar, % anticipo mayor 70%\",\"OK\"),\"\")","v":""}]
[null,null,null,null,null,null,null,null,null,null,null,""]
[{"$f":"+'Datos Previos'!BG32","v":0},{"$f":"+IF(A276=$T$106,\"no hay\",S276)","v":"no hay"},"IMPORTE SUBVENCIONABLE",{"$f":"+SUMIF(Intensidades!$BS$6:$BS$15000,'Cálculos Anticipos'!$B276,Intensidades!JV276:JV15270)","v":0},{"$f":"+SUMIF(Intensidades!$BS$6:$BT$15000,'Cálculos Anticipos'!$B276,Intensidades!$JW$6:$JW$15000)","v":0},{"$f":"+SUMIF(Intensidades!$BS$6:$BU$15000,'Cálculos Anticipos'!$B276,Intensidades!$JX$6:$JX$15000)","v":0},{"$f":"+SUMIF(Intensidades!$BS$6:$BV$15000,'Cálculos Anticipos'!$B276,Intensidades!$JY$6:$JY$15000)","v":0},{"$f":"+SUMIF(Intensidades!$BS$6:$BW$15000,'Cálculos Anticipos'!$B276,Intensidades!$JZ$6:$JZ$15000)","v":0},{"$f":"+SUMIF(Intensidades!$BS$6:$BX$15000,'Cálculos Anticipos'!$B276,Intensidades!$KA$6:$KA$15000)","v":0},{"$f":"+SUMIF(Intensidades!$BS$6:$BY$15000,'Cálculos Anticipos'!$B276,Intensidades!$KB$6:$KB$15000)","v":0},{"$f":"+SUM(D276:J276)","v":0},{"$f":"+IF(K276=0,IF(B276=$S$5,\"ok\",\"Problema en reparto\"),IF(K276=VLOOKUP(A276,$T$6:$X$105,3,FALSE),\"OK\",\"REVISAR\"))","v":"ok"},null,null,null,null,null,null,{"$f":"+'Datos Previos'!BG34","v":0}]
[null,null,"IMPORTE AYUDA",{"$f":"+SUMIF(Intensidades!BS276:$BS15270,'Cálculos Anticipos'!$B276,Intensidades!$JN$6:$JN$15000)","v":0},{"$f":"+SUMIF(Intensidades!$BS$6:$BT$15000,'Cálculos Anticipos'!$B276,Intensidades!$JO$6:$JO$15000)","v":0},{"$f":"+SUMIF(Intensidades!$BS$6:$BU$15000,'Cálculos Anticipos'!$B276,Intensidades!$JP$6:$JP$15000)","v":0},{"$f":"+SUMIF(Intensidades!$BS$6:$BV$15000,'Cálculos Anticipos'!$B276,Intensidades!$JQ$6:$JQ$15000)","v":0},{"$f":"+SUMIF(Intensidades!$BS$6:$BW$15000,'Cálculos Anticipos'!$B276,Intensidades!$JR$6:$JR$15000)","v":0},{"$f":"+SUMIF(Intensidades!$BS$6:$BX$15000,'Cálculos Anticipos'!$B276,Intensidades!$JS$6:$JS$15000)","v":0},{"$f":"+SUMIF(Intensidades!$BS$6:$BY$15000,'Cálculos Anticipos'!$B276,Intensidades!$JT$6:$JT$15000)","v":0},0,{"$f":"+IF(K277=0,IF(B276=$S$5,\"ok\",\"Problema en reparto\"),IF(K277=VLOOKUP(A276,$T$6:$X$105,5,FALSE),\"OK\",\"REVISAR\"))","v":"ok"}]
[null,null,"PORCENTAJE ANTICIPO",{"$f":"+K278","v":0},{"$f":"+K278","v":0},{"$f":"+K278","v":0},{"$f":"+K278","v":0},{"$f":"+K278","v":0},{"$f":"+K278","v":0},{"$f":"+K278","v":0},0,{"$f":"+IF(K278<=0.7,\"OK; Porcentaje inferior o igual al 70%\",\"Revisar Porcentaje de Anticipo: es mayor del 70% (Máximo Permitido)\")","v":"OK; Porcentaje inferior o igual al 70%"}]
[null,null,"TOTAL ANTICIPO",{"$f":"+ROUND(D277*D278,2)","v":0},{"$f":"+ROUND(E277*E278,2)","v":0},{"$f":"+ROUND(F277*F278,2)","v":0},{"$f":"+ROUND(G277*G278,2)","v":0},{"$f":"+ROUND(H277*H278,2)","v":0},{"$f":"+ROUND(I277*I278,2)","v":0},{"$f":"+ROUND(J277*J278,2)","v":0},{"$f":"+ROUND(K277*K278,2)","v":0},{"$f":"+IFERROR(IF(K279/K277>0.7,\"Revisar, % anticipo mayor 70%\",\"OK\"),\"\")","v":""}]
[null,null,null,null,null,null,null,null,null,null,null,""]
[{"$f":"+'Datos Previos'!BH32","v":0},{"$f":"+IF(A281=$T$106,\"no hay\",S281)","v":"no hay"},"IMPORTE SUBVENCIONABLE",{"$f":"+SUMIF(Intensidades!$BS$6:$BS$15000,'Cálculos Anticipos'!$B281,Intensidades!JV281:JV15275)","v":0},{"$f":"+SUMIF(Intensidades!$BS$6:$BT$15000,'Cálculos Anticipos'!$B281,Intensidades!$JW$6:$JW$15000)","v":0},{"$f":"+SUMIF(Intensidades!$BS$6:$BU$15000,'Cálculos Anticipos'!$B281,Intensidades!$JX$6:$JX$15000)","v":0},{"$f":"+SUMIF(Intensidades!$BS$6:$BV$15000,'Cálculos Anticipos'!$B281,Intensidades!$JY$6:$JY$15000)","v":0},{"$f":"+SUMIF(Intensidades!$BS$6:$BW$15000,'Cálculos Anticipos'!$B281,Intensidades!$JZ$6:$JZ$15000)","v":0},{"$f":"+SUMIF(Intensidades!$BS$6:$BX$15000,'Cálculos Anticipos'!$B281,Intensidades!$KA$6:$KA$15000)","v":0},{"$f":"+SUMIF(Intensidades!$BS$6:$BY$15000,'Cálculos Anticipos'!$B281,Intensidades!$KB$6:$KB$15000)","v":0},{"$f":"+SUM(D281:J281)","v":0},{"$f":"+IF(K281=0,IF(B281=$S$5,\"ok\",\"Problema en reparto\"),IF(K281=VLOOKUP(A281,$T$6:$X$105,3,FALSE),\"OK\",\"REVISAR\"))","v":"ok"},null,null,null,null,null,null,{"$f":"+'Datos Previos'!BH34","v":0}]
[null,null,"IMPORTE AYUDA",{"$f":"+SUMIF(Intensidades!BS281:$BS15275,'Cálculos Anticipos'!$B281,Intensidades!$JN$6:$JN$15000)","v":0},{"$f":"+SUMIF(Intensidades!$BS$6:$BT$15000,'Cálculos Anticipos'!$B281,Intensidades!$JO$6:$JO$15000)","v":0},{"$f":"+SUMIF(Intensidades!$BS$6:$BU$15000,'Cálculos Anticipos'!$B281,Intensidades!$JP$6:$JP$15000)","v":0},{"$f":"+SUMIF(Intensidades!$BS$6:$BV$15000,'Cálculos Anticipos'!$B281,Intensidades!$JQ$6:$JQ$15000)","v":0},{"$f":"+SUMIF(Intensidades!$BS$6:$BW$15000,'Cálculos Anticipos'!$B281,Intensidades!$JR$6:$JR$15000)","v":0},{"$f":"+SUMIF(Intensidades!$BS$6:$BX$15000,'Cálculos Anticipos'!$B281,Intensidades!$JS$6:$JS$15000)","v":0},{"$f":"+SUMIF(Intensidades!$BS$6:$BY$15000,'Cálculos Anticipos'!$B281,Intensidades!$JT$6:$JT$15000)","v":0},0,{"$f":"+IF(K282=0,IF(B281=$S$5,\"ok\",\"Problema en reparto\"),IF(K282=VLOOKUP(A281,$T$6:$X$105,5,FALSE),\"OK\",\"REVISAR\"))","v":"ok"}]
[null,null,"PORCENTAJE ANTICIPO",{"$f":"+K283","v":0},{"$f":"+K283","v":0},{"$f":"+K283","v":0},{"$f":"+K283","v":0},{"$f":"+K283","v":0},{"$f":"+K283","v":0},{"$f":"+K283","v":0},0,{"$f":"+IF(K283<=0.7,\"OK; Porcentaje inferior o igual al 70%\",\"Revisar Porcentaje de Anticipo: es mayor del 70% (Máximo Permitido)\")","v":"OK; Porcentaje inferior o igual al 70%"}]
[null,null,"TOTAL ANTICIPO",{"$f":"+ROUND(D282*D283,2)","v":0},{"$f":"+ROUND(E282*E283,2)","v":0},{"$f":"+ROUND(F282*F283,2)","v":0},{"$f":"+ROUND(G282*G283,2)","v":0},{"$f":"+ROUND(H282*H283,2)","v":0},{"$f":"+ROUND(I282*I283,2)","v":0},{"$f":"+ROUND(J282*J283,2)","v":0},{"$f":"+ROUND(K282*K283,2)","v":0},{"$f":"+IFERROR(IF(K284/K282>0.7,\"Revisar, % anticipo mayor 70%\",\"OK\"),\"\")","v":""}]
[null,null,null,null,null,null,null,null,null,null,null,""]
[{"$f":"+'Datos Previos'!BI32","v":0},{"$f":"+IF(A286=$T$106,\"no hay\",S286)","v":"no hay"},"IMPORTE SUBVENCIONABLE",{"$f":"+SUMIF(Intensidades!$BS$6:$BS$15000,'Cálculos Anticipos'!$B286,Intensidades!JV286:JV15280)","v":0},{"$f":"+SUMIF(Intensidades!$BS$6:$BT$15000,'Cálculos Anticipos'!$B286,Intensidades!$JW$6:$JW$15000)","v":0},{"$f":"+SUMIF(Intensidades!$BS$6:$BU$15000,'Cálculos Anticipos'!$B286,Intensidades!$JX$6:$JX$15000)","v":0},{"$f":"+SUMIF(Intensidades!$BS$6:$BV$15000,'Cálculos Anticipos'!$B286,Intensidades!$JY$6:$JY$15000)","v":0},{"$f":"+SUMIF(Intensidades!$BS$6:$BW$15000,'Cálculos Anticipos'!$B286,Intensidades!$JZ$6:$JZ$15000)","v":0},{"$f":"+SUMIF(Intensidades!$BS$6:$BX$15000,'Cálculos Anticipos'!$B286,Intensidades!$KA$6:$KA$15000)","v":0},{"$f":"+SUMIF(Intensidades!$BS$6:$BY$15000,'Cálculos Anticipos'!$B286,Intensidades!$KB$6:$KB$15000)","v":0},{"$f":"+SUM(D286:J286)","v":0},{"$f":"+IF(K286=0,IF(B286=$S$5,\"ok\",\"Problema en reparto\"),IF(K286=VLOOKUP(A286,$T$6:$X$105,3,FALSE),\"OK\",\"REVISAR\"))","v":"ok"},null,null,null,null,null,null,{"$f":"+'Datos Previos'!BI34","v":0}]
[null,null,"IMPORTE AYUDA",{"$f":"+SUMIF(Intensidades!BS286:$BS15280,'Cálculos Anticipos'!$B286,Intensidades!$JN$6:$JN$15000)","v":0},{"$f":"+SUMIF(Intensidades!$BS$6:$BT$15000,'Cálculos Anticipos'!$B286,Intensidades!$JO$6:$JO$15000)","v":0},{"$f":"+SUMIF(Intensidades!$BS$6:$BU$15000,'Cálculos Anticipos'!$B286,Intensidades!$JP$6:$JP$15000)","v":0},{"$f":"+SUMIF(Intensidades!$BS$6:$BV$15000,'Cálculos Anticipos'!$B286,Intensidades!$JQ$6:$JQ$15000)","v":0},{"$f":"+SUMIF(Intensidades!$BS$6:$BW$15000,'Cálculos Anticipos'!$B286,Intensidades!$JR$6:$JR$15000)","v":0},{"$f":"+SUMIF(Intensidades!$BS$6:$BX$15000,'Cálculos Anticipos'!$B286,Intensidades!$JS$6:$JS$15000)","v":0},{"$f":"+SUMIF(Intensidades!$BS$6:$BY$15000,'Cálculos Anticipos'!$B286,Intensidades!$JT$6:$JT$15000)","v":0},0,{"$f":"+IF(K287=0,IF(B286=$S$5,\"ok\",\"Problema en reparto\"),IF(K287=VLOOKUP(A286,$T$6:$X$105,5,FALSE),\"OK\",\"REVISAR\"))","v":"ok"}]
[null,null,"PORCENTAJE ANTICIPO",{"$f":"+K288","v":0},{"$f":"+K288","v":0},{"$f":"+K288","v":0},{"$f":"+K288","v":0},{"$f":"+K288","v":0},{"$f":"+K288","v":0},{"$f":"+K288","v":0},0,{"$f":"+IF(K288<=0.7,\"OK; Porcentaje inferior o igual al 70%\",\"Revisar Porcentaje de Anticipo: es mayor del 70% (Máximo Permitido)\")","v":"OK; Porcentaje inferior o igual al 70%"}]
[null,null,"TOTAL ANTICIPO",{"$f":"+ROUND(D287*D288,2)","v":0},{"$f":"+ROUND(E287*E288,2)","v":0},{"$f":"+ROUND(F287*F288,2)","v":0},{"$f":"+ROUND(G287*G288,2)","v":0},{"$f":"+ROUND(H287*H288,2)","v":0},{"$f":"+ROUND(I287*I288,2)","v":0},{"$f":"+ROUND(J287*J288,2)","v":0},{"$f":"+ROUND(K287*K288,2)","v":0},{"$f":"+IFERROR(IF(K289/K287>0.7,\"Revisar, % anticipo mayor 70%\",\"OK\"),\"\")","v":""}]
[null,null,null,null,null,null,null,null,null,null,null,""]
[{"$f":"+'Datos Previos'!BJ32","v":0},{"$f":"+IF(A291=$T$106,\"no hay\",S291)","v":"no hay"},"IMPORTE SUBVENCIONABLE",{"$f":"+SUMIF(Intensidades!$BS$6:$BS$15000,'Cálculos Anticipos'!$B291,Intensidades!JV291:JV15285)","v":0},{"$f":"+SUMIF(Intensidades!$BS$6:$BT$15000,'Cálculos Anticipos'!$B291,Intensidades!$JW$6:$JW$15000)","v":0},{"$f":"+SUMIF(Intensidades!$BS$6:$BU$15000,'Cálculos Anticipos'!$B291,Intensidades!$JX$6:$JX$15000)","v":0},{"$f":"+SUMIF(Intensidades!$BS$6:$BV$15000,'Cálculos Anticipos'!$B291,Intensidades!$JY$6:$JY$15000)","v":0},{"$f":"+SUMIF(Intensidades!$BS$6:$BW$15000,'Cálculos Anticipos'!$B291,Intensidades!$JZ$6:$JZ$15000)","v":0},{"$f":"+SUMIF(Intensidades!$BS$6:$BX$15000,'Cálculos Anticipos'!$B291,Intensidades!$KA$6:$KA$15000)","v":0},{"$f":"+SUMIF(Intensidades!$BS$6:$BY$15000,'Cálculos Anticipos'!$B291,Intensidades!$KB$6:$KB$15000)","v":0},{"$f":"+SUM(D291:J291)","v":0},{"$f":"+IF(K291=0,IF(B291=$S$5,\"ok\",\"Problema en reparto\"),IF(K291=VLOOKUP(A291,$T$6:$X$105,3,FALSE),\"OK\",\"REVISAR\"))","v":"ok"},null,null,null,null,null,null,{"$f":"+'Datos Previos'!BJ34","v":0}]
[null,null,"IMPORTE AYUDA",{"$f":"+SUMIF(Intensidades!BS291:$BS15285,'Cálculos Anticipos'!$B291,Intensidades!$JN$6:$JN$15000)","v":0},{"$f":"+SUMIF(Intensidades!$BS$6:$BT$15000,'Cálculos Anticipos'!$B291,Intensidades!$JO$6:$JO$15000)","v":0},{"$f":"+SUMIF(Intensidades!$BS$6:$BU$15000,'Cálculos Anticipos'!$B291,Intensidades!$JP$6:$JP$15000)","v":0},{"$f":"+SUMIF(Intensidades!$BS$6:$BV$15000,'Cálculos Anticipos'!$B291,Intensidades!$JQ$6:$JQ$15000)","v":0},{"$f":"+SUMIF(Intensidades!$BS$6:$BW$15000,'Cálculos Anticipos'!$B291,Intensidades!$JR$6:$JR$15000)","v":0},{"$f":"+SUMIF(Intensidades!$BS$6:$BX$15000,'Cálculos Anticipos'!$B291,Intensidades!$JS$6:$JS$15000)","v":0},{"$f":"+SUMIF(Intensidades!$BS$6:$BY$15000,'Cálculos Anticipos'!$B291,Intensidades!$JT$6:$JT$15000)","v":0},0,{"$f":"+IF(K292=0,IF(B291=$S$5,\"ok\",\"Problema en reparto\"),IF(K292=VLOOKUP(A291,$T$6:$X$105,5,FALSE),\"OK\",\"REVISAR\"))","v":"ok"}]
[null,null,"PORCENTAJE ANTICIPO",{"$f":"+K293","v":0},{"$f":"+K293","v":0},{"$f":"+K293","v":0},{"$f":"+K293","v":0},{"$f":"+K293","v":0},{"$f":"+K293","v":0},{"$f":"+K293","v":0},0,{"$f":"+IF(K293<=0.7,\"OK; Porcentaje inferior o igual al 70%\",\"Revisar Porcentaje de Anticipo: es mayor del 70% (Máximo Permitido)\")","v":"OK; Porcentaje inferior o igual al 70%"}]
[null,null,"TOTAL ANTICIPO",{"$f":"+ROUND(D292*D293,2)","v":0},{"$f":"+ROUND(E292*E293,2)","v":0},{"$f":"+ROUND(F292*F293,2)","v":0},{"$f":"+ROUND(G292*G293,2)","v":0},{"$f":"+ROUND(H292*H293,2)","v":0},{"$f":"+ROUND(I292*I293,2)","v":0},{"$f":"+ROUND(J292*J293,2)","v":0},{"$f":"+ROUND(K292*K293,2)","v":0},{"$f":"+IFERROR(IF(K294/K292>0.7,\"Revisar, % anticipo mayor 70%\",\"OK\"),\"\")","v":""}]
[null,null,null,null,null,null,null,null,null,null,null,""]
[{"$f":"+'Datos Previos'!BK32","v":0},{"$f":"+IF(A296=$T$106,\"no hay\",S296)","v":"no hay"},"IMPORTE SUBVENCIONABLE",{"$f":"+SUMIF(Intensidades!$BS$6:$BS$15000,'Cálculos Anticipos'!$B296,Intensidades!JV296:JV15290)","v":0},{"$f":"+SUMIF(Intensidades!$BS$6:$BT$15000,'Cálculos Anticipos'!$B296,Intensidades!$JW$6:$JW$15000)","v":0},{"$f":"+SUMIF(Intensidades!$BS$6:$BU$15000,'Cálculos Anticipos'!$B296,Intensidades!$JX$6:$JX$15000)","v":0},{"$f":"+SUMIF(Intensidades!$BS$6:$BV$15000,'Cálculos Anticipos'!$B296,Intensidades!$JY$6:$JY$15000)","v":0},{"$f":"+SUMIF(Intensidades!$BS$6:$BW$15000,'Cálculos Anticipos'!$B296,Intensidades!$JZ$6:$JZ$15000)","v":0},{"$f":"+SUMIF(Intensidades!$BS$6:$BX$15000,'Cálculos Anticipos'!$B296,Intensidades!$KA$6:$KA$15000)","v":0},{"$f":"+SUMIF(Intensidades!$BS$6:$BY$15000,'Cálculos Anticipos'!$B296,Intensidades!$KB$6:$KB$15000)","v":0},{"$f":"+SUM(D296:J296)","v":0},{"$f":"+IF(K296=0,IF(B296=$S$5,\"ok\",\"Problema en reparto\"),IF(K296=VLOOKUP(A296,$T$6:$X$105,3,FALSE),\"OK\",\"REVISAR\"))","v":"ok"},null,null,null,null,null,null,{"$f":"+'Datos Previos'!BK34","v":0}]
[null,null,"IMPORTE AYUDA",{"$f":"+SUMIF(Intensidades!BS296:$BS15290,'Cálculos Anticipos'!$B296,Intensidades!$JN$6:$JN$15000)","v":0},{"$f":"+SUMIF(Intensidades!$BS$6:$BT$15000,'Cálculos Anticipos'!$B296,Intensidades!$JO$6:$JO$15000)","v":0},{"$f":"+SUMIF(Intensidades!$BS$6:$BU$15000,'Cálculos Anticipos'!$B296,Intensidades!$JP$6:$JP$15000)","v":0},{"$f":"+SUMIF(Intensidades!$BS$6:$BV$15000,'Cálculos Anticipos'!$B296,Intensidades!$JQ$6:$JQ$15000)","v":0},{"$f":"+SUMIF(Intensidades!$BS$6:$BW$15000,'Cálculos Anticipos'!$B296,Intensidades!$JR$6:$JR$15000)","v":0},{"$f":"+SUMIF(Intensidades!$BS$6:$BX$15000,'Cálculos Anticipos'!$B296,Intensidades!$JS$6:$JS$15000)","v":0},{"$f":"+SUMIF(Intensidades!$BS$6:$BY$15000,'Cálculos Anticipos'!$B296,Intensidades!$JT$6:$JT$15000)","v":0},0,{"$f":"+IF(K297=0,IF(B296=$S$5,\"ok\",\"Problema en reparto\"),IF(K297=VLOOKUP(A296,$T$6:$X$105,5,FALSE),\"OK\",\"REVISAR\"))","v":"ok"}]
[null,null,"PORCENTAJE ANTICIPO",{"$f":"+K298","v":0},{"$f":"+K298","v":0},{"$f":"+K298","v":0},{"$f":"+K298","v":0},{"$f":"+K298","v":0},{"$f":"+K298","v":0},{"$f":"+K298","v":0},0,{"$f":"+IF(K298<=0.7,\"OK; Porcentaje inferior o igual al 70%\",\"Revisar Porcentaje de Anticipo: es mayor del 70% (Máximo Permitido)\")","v":"OK; Porcentaje inferior o igual al 70%"}]
[null,null,"TOTAL ANTICIPO",{"$f":"+ROUND(D297*D298,2)","v":0},{"$f":"+ROUND(E297*E298,2)","v":0},{"$f":"+ROUND(F297*F298,2)","v":0},{"$f":"+ROUND(G297*G298,2)","v":0},{"$f":"+ROUND(H297*H298,2)","v":0},{"$f":"+ROUND(I297*I298,2)","v":0},{"$f":"+ROUND(J297*J298,2)","v":0},{"$f":"+ROUND(K297*K298,2)","v":0},{"$f":"+IFERROR(IF(K299/K297>0.7,\"Revisar, % anticipo mayor 70%\",\"OK\"),\"\")","v":""}]
[null,null,null,null,null,null,null,null,null,null,null,""]
[{"$f":"+'Datos Previos'!BL32","v":0},{"$f":"+IF(A301=$T$106,\"no hay\",S301)","v":"no hay"},"IMPORTE SUBVENCIONABLE",{"$f":"+SUMIF(Intensidades!$BS$6:$BS$15000,'Cálculos Anticipos'!$B301,Intensidades!JV301:JV15295)","v":0},{"$f":"+SUMIF(Intensidades!$BS$6:$BT$15000,'Cálculos Anticipos'!$B301,Intensidades!$JW$6:$JW$15000)","v":0},{"$f":"+SUMIF(Intensidades!$BS$6:$BU$15000,'Cálculos Anticipos'!$B301,Intensidades!$JX$6:$JX$15000)","v":0},{"$f":"+SUMIF(Intensidades!$BS$6:$BV$15000,'Cálculos Anticipos'!$B301,Intensidades!$JY$6:$JY$15000)","v":0},{"$f":"+SUMIF(Intensidades!$BS$6:$BW$15000,'Cálculos Anticipos'!$B301,Intensidades!$JZ$6:$JZ$15000)","v":0},{"$f":"+SUMIF(Intensidades!$BS$6:$BX$15000,'Cálculos Anticipos'!$B301,Intensidades!$KA$6:$KA$15000)","v":0},{"$f":"+SUMIF(Intensidades!$BS$6:$BY$15000,'Cálculos Anticipos'!$B301,Intensidades!$KB$6:$KB$15000)","v":0},{"$f":"+SUM(D301:J301)","v":0},{"$f":"+IF(K301=0,IF(B301=$S$5,\"ok\",\"Problema en reparto\"),IF(K301=VLOOKUP(A301,$T$6:$X$105,3,FALSE),\"OK\",\"REVISAR\"))","v":"ok"},null,null,null,null,null,null,{"$f":"+'Datos Previos'!BL34","v":0}]
[null,null,"IMPORTE AYUDA",{"$f":"+SUMIF(Intensidades!BS301:$BS15295,'Cálculos Anticipos'!$B301,Intensidades!$JN$6:$JN$15000)","v":0},{"$f":"+SUMIF(Intensidades!$BS$6:$BT$15000,'Cálculos Anticipos'!$B301,Intensidades!$JO$6:$JO$15000)","v":0},{"$f":"+SUMIF(Intensidades!$BS$6:$BU$15000,'Cálculos Anticipos'!$B301,Intensidades!$JP$6:$JP$15000)","v":0},{"$f":"+SUMIF(Intensidades!$BS$6:$BV$15000,'Cálculos Anticipos'!$B301,Intensidades!$JQ$6:$JQ$15000)","v":0},{"$f":"+SUMIF(Intensidades!$BS$6:$BW$15000,'Cálculos Anticipos'!$B301,Intensidades!$JR$6:$JR$15000)","v":0},{"$f":"+SUMIF(Intensidades!$BS$6:$BX$15000,'Cálculos Anticipos'!$B301,Intensidades!$JS$6:$JS$15000)","v":0},{"$f":"+SUMIF(Intensidades!$BS$6:$BY$15000,'Cálculos Anticipos'!$B301,Intensidades!$JT$6:$JT$15000)","v":0},0,{"$f":"+IF(K302=0,IF(B301=$S$5,\"ok\",\"Problema en reparto\"),IF(K302=VLOOKUP(A301,$T$6:$X$105,5,FALSE),\"OK\",\"REVISAR\"))","v":"ok"}]
[null,null,"PORCENTAJE ANTICIPO",{"$f":"+K303","v":0},{"$f":"+K303","v":0},{"$f":"+K303","v":0},{"$f":"+K303","v":0},{"$f":"+K303","v":0},{"$f":"+K303","v":0},{"$f":"+K303","v":0},0,{"$f":"+IF(K303<=0.7,\"OK; Porcentaje inferior o igual al 70%\",\"Revisar Porcentaje de Anticipo: es mayor del 70% (Máximo Permitido)\")","v":"OK; Porcentaje inferior o igual al 70%"}]
[null,null,"TOTAL ANTICIPO",{"$f":"+ROUND(D302*D303,2)","v":0},{"$f":"+ROUND(E302*E303,2)","v":0},{"$f":"+ROUND(F302*F303,2)","v":0},{"$f":"+ROUND(G302*G303,2)","v":0},{"$f":"+ROUND(H302*H303,2)","v":0},{"$f":"+ROUND(I302*I303,2)","v":0},{"$f":"+ROUND(J302*J303,2)","v":0},{"$f":"+ROUND(K302*K303,2)","v":0},{"$f":"+IFERROR(IF(K304/K302>0.7,\"Revisar, % anticipo mayor 70%\",\"OK\"),\"\")","v":""}]
[null,null,null,null,null,null,null,null,null,null,null,""]
[{"$f":"+'Datos Previos'!BM32","v":0},{"$f":"+IF(A306=$T$106,\"no hay\",S306)","v":"no hay"},"IMPORTE SUBVENCIONABLE",{"$f":"+SUMIF(Intensidades!$BS$6:$BS$15000,'Cálculos Anticipos'!$B306,Intensidades!JV306:JV15300)","v":0},{"$f":"+SUMIF(Intensidades!$BS$6:$BT$15000,'Cálculos Anticipos'!$B306,Intensidades!$JW$6:$JW$15000)","v":0},{"$f":"+SUMIF(Intensidades!$BS$6:$BU$15000,'Cálculos Anticipos'!$B306,Intensidades!$JX$6:$JX$15000)","v":0},{"$f":"+SUMIF(Intensidades!$BS$6:$BV$15000,'Cálculos Anticipos'!$B306,Intensidades!$JY$6:$JY$15000)","v":0},{"$f":"+SUMIF(Intensidades!$BS$6:$BW$15000,'Cálculos Anticipos'!$B306,Intensidades!$JZ$6:$JZ$15000)","v":0},{"$f":"+SUMIF(Intensidades!$BS$6:$BX$15000,'Cálculos Anticipos'!$B306,Intensidades!$KA$6:$KA$15000)","v":0},{"$f":"+SUMIF(Intensidades!$BS$6:$BY$15000,'Cálculos Anticipos'!$B306,Intensidades!$KB$6:$KB$15000)","v":0},{"$f":"+SUM(D306:J306)","v":0},{"$f":"+IF(K306=0,IF(B306=$S$5,\"ok\",\"Problema en reparto\"),IF(K306=VLOOKUP(A306,$T$6:$X$105,3,FALSE),\"OK\",\"REVISAR\"))","v":"ok"},null,null,null,null,null,null,{"$f":"+'Datos Previos'!BM34","v":0}]
[null,null,"IMPORTE AYUDA",{"$f":"+SUMIF(Intensidades!BS306:$BS15300,'Cálculos Anticipos'!$B306,Intensidades!$JN$6:$JN$15000)","v":0},{"$f":"+SUMIF(Intensidades!$BS$6:$BT$15000,'Cálculos Anticipos'!$B306,Intensidades!$JO$6:$JO$15000)","v":0},{"$f":"+SUMIF(Intensidades!$BS$6:$BU$15000,'Cálculos Anticipos'!$B306,Intensidades!$JP$6:$JP$15000)","v":0},{"$f":"+SUMIF(Intensidades!$BS$6:$BV$15000,'Cálculos Anticipos'!$B306,Intensidades!$JQ$6:$JQ$15000)","v":0},{"$f":"+SUMIF(Intensidades!$BS$6:$BW$15000,'Cálculos Anticipos'!$B306,Intensidades!$JR$6:$JR$15000)","v":0},{"$f":"+SUMIF(Intensidades!$BS$6:$BX$15000,'Cálculos Anticipos'!$B306,Intensidades!$JS$6:$JS$15000)","v":0},{"$f":"+SUMIF(Intensidades!$BS$6:$BY$15000,'Cálculos Anticipos'!$B306,Intensidades!$JT$6:$JT$15000)","v":0},0,{"$f":"+IF(K307=0,IF(B306=$S$5,\"ok\",\"Problema en reparto\"),IF(K307=VLOOKUP(A306,$T$6:$X$105,5,FALSE),\"OK\",\"REVISAR\"))","v":"ok"}]
[null,null,"PORCENTAJE ANTICIPO",{"$f":"+K308","v":0},{"$f":"+K308","v":0},{"$f":"+K308","v":0},{"$f":"+K308","v":0},{"$f":"+K308","v":0},{"$f":"+K308","v":0},{"$f":"+K308","v":0},0,{"$f":"+IF(K308<=0.7,\"OK; Porcentaje inferior o igual al 70%\",\"Revisar Porcentaje de Anticipo: es mayor del 70% (Máximo Permitido)\")","v":"OK; Porcentaje inferior o igual al 70%"}]
[null,null,"TOTAL ANTICIPO",{"$f":"+ROUND(D307*D308,2)","v":0},{"$f":"+ROUND(E307*E308,2)","v":0},{"$f":"+ROUND(F307*F308,2)","v":0},{"$f":"+ROUND(G307*G308,2)","v":0},{"$f":"+ROUND(H307*H308,2)","v":0},{"$f":"+ROUND(I307*I308,2)","v":0},{"$f":"+ROUND(J307*J308,2)","v":0},{"$f":"+ROUND(K307*K308,2)","v":0},{"$f":"+IFERROR(IF(K309/K307>0.7,\"Revisar, % anticipo mayor 70%\",\"OK\"),\"\")","v":""}]
[null,null,null,null,null,null,null,null,null,null,null,""]
[{"$f":"+'Datos Previos'!BN32","v":0},{"$f":"+IF(A311=$T$106,\"no hay\",S311)","v":"no hay"},"IMPORTE SUBVENCIONABLE",{"$f":"+SUMIF(Intensidades!$BS$6:$BS$15000,'Cálculos Anticipos'!$B311,Intensidades!JV311:JV15305)","v":0},{"$f":"+SUMIF(Intensidades!$BS$6:$BT$15000,'Cálculos Anticipos'!$B311,Intensidades!$JW$6:$JW$15000)","v":0},{"$f":"+SUMIF(Intensidades!$BS$6:$BU$15000,'Cálculos Anticipos'!$B311,Intensidades!$JX$6:$JX$15000)","v":0},{"$f":"+SUMIF(Intensidades!$BS$6:$BV$15000,'Cálculos Anticipos'!$B311,Intensidades!$JY$6:$JY$15000)","v":0},{"$f":"+SUMIF(Intensidades!$BS$6:$BW$15000,'Cálculos Anticipos'!$B311,Intensidades!$JZ$6:$JZ$15000)","v":0},{"$f":"+SUMIF(Intensidades!$BS$6:$BX$15000,'Cálculos Anticipos'!$B311,Intensidades!$KA$6:$KA$15000)","v":0},{"$f":"+SUMIF(Intensidades!$BS$6:$BY$15000,'Cálculos Anticipos'!$B311,Intensidades!$KB$6:$KB$15000)","v":0},{"$f":"+SUM(D311:J311)","v":0},{"$f":"+IF(K311=0,IF(B311=$S$5,\"ok\",\"Problema en reparto\"),IF(K311=VLOOKUP(A311,$T$6:$X$105,3,FALSE),\"OK\",\"REVISAR\"))","v":"ok"},null,null,null,null,null,null,{"$f":"+'Datos Previos'!BN34","v":0}]
[null,null,"IMPORTE AYUDA",{"$f":"+SUMIF(Intensidades!BS311:$BS15305,'Cálculos Anticipos'!$B311,Intensidades!$JN$6:$JN$15000)","v":0},{"$f":"+SUMIF(Intensidades!$BS$6:$BT$15000,'Cálculos Anticipos'!$B311,Intensidades!$JO$6:$JO$15000)","v":0},{"$f":"+SUMIF(Intensidades!$BS$6:$BU$15000,'Cálculos Anticipos'!$B311,Intensidades!$JP$6:$JP$15000)","v":0},{"$f":"+SUMIF(Intensidades!$BS$6:$BV$15000,'Cálculos Anticipos'!$B311,Intensidades!$JQ$6:$JQ$15000)","v":0},{"$f":"+SUMIF(Intensidades!$BS$6:$BW$15000,'Cálculos Anticipos'!$B311,Intensidades!$JR$6:$JR$15000)","v":0},{"$f":"+SUMIF(Intensidades!$BS$6:$BX$15000,'Cálculos Anticipos'!$B311,Intensidades!$JS$6:$JS$15000)","v":0},{"$f":"+SUMIF(Intensidades!$BS$6:$BY$15000,'Cálculos Anticipos'!$B311,Intensidades!$JT$6:$JT$15000)","v":0},0,{"$f":"+IF(K312=0,IF(B311=$S$5,\"ok\",\"Problema en reparto\"),IF(K312=VLOOKUP(A311,$T$6:$X$105,5,FALSE),\"OK\",\"REVISAR\"))","v":"ok"}]
[null,null,"PORCENTAJE ANTICIPO",{"$f":"+K313","v":0},{"$f":"+K313","v":0},{"$f":"+K313","v":0},{"$f":"+K313","v":0},{"$f":"+K313","v":0},{"$f":"+K313","v":0},{"$f":"+K313","v":0},0,{"$f":"+IF(K313<=0.7,\"OK; Porcentaje inferior o igual al 70%\",\"Revisar Porcentaje de Anticipo: es mayor del 70% (Máximo Permitido)\")","v":"OK; Porcentaje inferior o igual al 70%"}]
[null,null,"TOTAL ANTICIPO",{"$f":"+ROUND(D312*D313,2)","v":0},{"$f":"+ROUND(E312*E313,2)","v":0},{"$f":"+ROUND(F312*F313,2)","v":0},{"$f":"+ROUND(G312*G313,2)","v":0},{"$f":"+ROUND(H312*H313,2)","v":0},{"$f":"+ROUND(I312*I313,2)","v":0},{"$f":"+ROUND(J312*J313,2)","v":0},{"$f":"+ROUND(K312*K313,2)","v":0},{"$f":"+IFERROR(IF(K314/K312>0.7,\"Revisar, % anticipo mayor 70%\",\"OK\"),\"\")","v":""}]
[null,null,null,null,null,null,null,null,null,null,null,""]
[{"$f":"+'Datos Previos'!BO32","v":0},{"$f":"+IF(A316=$T$106,\"no hay\",S316)","v":"no hay"},"IMPORTE SUBVENCIONABLE",{"$f":"+SUMIF(Intensidades!$BS$6:$BS$15000,'Cálculos Anticipos'!$B316,Intensidades!JV316:JV15310)","v":0},{"$f":"+SUMIF(Intensidades!$BS$6:$BT$15000,'Cálculos Anticipos'!$B316,Intensidades!$JW$6:$JW$15000)","v":0},{"$f":"+SUMIF(Intensidades!$BS$6:$BU$15000,'Cálculos Anticipos'!$B316,Intensidades!$JX$6:$JX$15000)","v":0},{"$f":"+SUMIF(Intensidades!$BS$6:$BV$15000,'Cálculos Anticipos'!$B316,Intensidades!$JY$6:$JY$15000)","v":0},{"$f":"+SUMIF(Intensidades!$BS$6:$BW$15000,'Cálculos Anticipos'!$B316,Intensidades!$JZ$6:$JZ$15000)","v":0},{"$f":"+SUMIF(Intensidades!$BS$6:$BX$15000,'Cálculos Anticipos'!$B316,Intensidades!$KA$6:$KA$15000)","v":0},{"$f":"+SUMIF(Intensidades!$BS$6:$BY$15000,'Cálculos Anticipos'!$B316,Intensidades!$KB$6:$KB$15000)","v":0},{"$f":"+SUM(D316:J316)","v":0},{"$f":"+IF(K316=0,IF(B316=$S$5,\"ok\",\"Problema en reparto\"),IF(K316=VLOOKUP(A316,$T$6:$X$105,3,FALSE),\"OK\",\"REVISAR\"))","v":"ok"},null,null,null,null,null,null,{"$f":"+'Datos Previos'!BO34","v":0}]
[null,null,"IMPORTE AYUDA",{"$f":"+SUMIF(Intensidades!BS316:$BS15310,'Cálculos Anticipos'!$B316,Intensidades!$JN$6:$JN$15000)","v":0},{"$f":"+SUMIF(Intensidades!$BS$6:$BT$15000,'Cálculos Anticipos'!$B316,Intensidades!$JO$6:$JO$15000)","v":0},{"$f":"+SUMIF(Intensidades!$BS$6:$BU$15000,'Cálculos Anticipos'!$B316,Intensidades!$JP$6:$JP$15000)","v":0},{"$f":"+SUMIF(Intensidades!$BS$6:$BV$15000,'Cálculos Anticipos'!$B316,Intensidades!$JQ$6:$JQ$15000)","v":0},{"$f":"+SUMIF(Intensidades!$BS$6:$BW$15000,'Cálculos Anticipos'!$B316,Intensidades!$JR$6:$JR$15000)","v":0},{"$f":"+SUMIF(Intensidades!$BS$6:$BX$15000,'Cálculos Anticipos'!$B316,Intensidades!$JS$6:$JS$15000)","v":0},{"$f":"+SUMIF(Intensidades!$BS$6:$BY$15000,'Cálculos Anticipos'!$B316,Intensidades!$JT$6:$JT$15000)","v":0},0,{"$f":"+IF(K317=0,IF(B316=$S$5,\"ok\",\"Problema en reparto\"),IF(K317=VLOOKUP(A316,$T$6:$X$105,5,FALSE),\"OK\",\"REVISAR\"))","v":"ok"}]
[null,null,"PORCENTAJE ANTICIPO",{"$f":"+K318","v":0},{"$f":"+K318","v":0},{"$f":"+K318","v":0},{"$f":"+K318","v":0},{"$f":"+K318","v":0},{"$f":"+K318","v":0},{"$f":"+K318","v":0},0,{"$f":"+IF(K318<=0.7,\"OK; Porcentaje inferior o igual al 70%\",\"Revisar Porcentaje de Anticipo: es mayor del 70% (Máximo Permitido)\")","v":"OK; Porcentaje inferior o igual al 70%"}]
[null,null,"TOTAL ANTICIPO",{"$f":"+ROUND(D317*D318,2)","v":0},{"$f":"+ROUND(E317*E318,2)","v":0},{"$f":"+ROUND(F317*F318,2)","v":0},{"$f":"+ROUND(G317*G318,2)","v":0},{"$f":"+ROUND(H317*H318,2)","v":0},{"$f":"+ROUND(I317*I318,2)","v":0},{"$f":"+ROUND(J317*J318,2)","v":0},{"$f":"+ROUND(K317*K318,2)","v":0},{"$f":"+IFERROR(IF(K319/K317>0.7,\"Revisar, % anticipo mayor 70%\",\"OK\"),\"\")","v":""}]
[null,null,null,null,null,null,null,null,null,null,null,""]
[{"$f":"+'Datos Previos'!BP32","v":0},{"$f":"+IF(A321=$T$106,\"no hay\",S321)","v":"no hay"},"IMPORTE SUBVENCIONABLE",{"$f":"+SUMIF(Intensidades!$BS$6:$BS$15000,'Cálculos Anticipos'!$B321,Intensidades!JV321:JV15315)","v":0},{"$f":"+SUMIF(Intensidades!$BS$6:$BT$15000,'Cálculos Anticipos'!$B321,Intensidades!$JW$6:$JW$15000)","v":0},{"$f":"+SUMIF(Intensidades!$BS$6:$BU$15000,'Cálculos Anticipos'!$B321,Intensidades!$JX$6:$JX$15000)","v":0},{"$f":"+SUMIF(Intensidades!$BS$6:$BV$15000,'Cálculos Anticipos'!$B321,Intensidades!$JY$6:$JY$15000)","v":0},{"$f":"+SUMIF(Intensidades!$BS$6:$BW$15000,'Cálculos Anticipos'!$B321,Intensidades!$JZ$6:$JZ$15000)","v":0},{"$f":"+SUMIF(Intensidades!$BS$6:$BX$15000,'Cálculos Anticipos'!$B321,Intensidades!$KA$6:$KA$15000)","v":0},{"$f":"+SUMIF(Intensidades!$BS$6:$BY$15000,'Cálculos Anticipos'!$B321,Intensidades!$KB$6:$KB$15000)","v":0},{"$f":"+SUM(D321:J321)","v":0},{"$f":"+IF(K321=0,IF(B321=$S$5,\"ok\",\"Problema en reparto\"),IF(K321=VLOOKUP(A321,$T$6:$X$105,3,FALSE),\"OK\",\"REVISAR\"))","v":"ok"},null,null,null,null,null,null,{"$f":"+'Datos Previos'!BP34","v":0}]
[null,null,"IMPORTE AYUDA",{"$f":"+SUMIF(Intensidades!BS321:$BS15315,'Cálculos Anticipos'!$B321,Intensidades!$JN$6:$JN$15000)","v":0},{"$f":"+SUMIF(Intensidades!$BS$6:$BT$15000,'Cálculos Anticipos'!$B321,Intensidades!$JO$6:$JO$15000)","v":0},{"$f":"+SUMIF(Intensidades!$BS$6:$BU$15000,'Cálculos Anticipos'!$B321,Intensidades!$JP$6:$JP$15000)","v":0},{"$f":"+SUMIF(Intensidades!$BS$6:$BV$15000,'Cálculos Anticipos'!$B321,Intensidades!$JQ$6:$JQ$15000)","v":0},{"$f":"+SUMIF(Intensidades!$BS$6:$BW$15000,'Cálculos Anticipos'!$B321,Intensidades!$JR$6:$JR$15000)","v":0},{"$f":"+SUMIF(Intensidades!$BS$6:$BX$15000,'Cálculos Anticipos'!$B321,Intensidades!$JS$6:$JS$15000)","v":0},{"$f":"+SUMIF(Intensidades!$BS$6:$BY$15000,'Cálculos Anticipos'!$B321,Intensidades!$JT$6:$JT$15000)","v":0},0,{"$f":"+IF(K322=0,IF(B321=$S$5,\"ok\",\"Problema en reparto\"),IF(K322=VLOOKUP(A321,$T$6:$X$105,5,FALSE),\"OK\",\"REVISAR\"))","v":"ok"}]
[null,null,"PORCENTAJE ANTICIPO",{"$f":"+K323","v":0},{"$f":"+K323","v":0},{"$f":"+K323","v":0},{"$f":"+K323","v":0},{"$f":"+K323","v":0},{"$f":"+K323","v":0},{"$f":"+K323","v":0},0,{"$f":"+IF(K323<=0.7,\"OK; Porcentaje inferior o igual al 70%\",\"Revisar Porcentaje de Anticipo: es mayor del 70% (Máximo Permitido)\")","v":"OK; Porcentaje inferior o igual al 70%"}]
[null,null,"TOTAL ANTICIPO",{"$f":"+ROUND(D322*D323,2)","v":0},{"$f":"+ROUND(E322*E323,2)","v":0},{"$f":"+ROUND(F322*F323,2)","v":0},{"$f":"+ROUND(G322*G323,2)","v":0},{"$f":"+ROUND(H322*H323,2)","v":0},{"$f":"+ROUND(I322*I323,2)","v":0},{"$f":"+ROUND(J322*J323,2)","v":0},{"$f":"+ROUND(K322*K323,2)","v":0},{"$f":"+IFERROR(IF(K324/K322>0.7,\"Revisar, % anticipo mayor 70%\",\"OK\"),\"\")","v":""}]
[null,null,null,null,null,null,null,null,null,null,null,""]
[{"$f":"+'Datos Previos'!BQ32","v":0},{"$f":"+IF(A326=$T$106,\"no hay\",S326)","v":"no hay"},"IMPORTE SUBVENCIONABLE",{"$f":"+SUMIF(Intensidades!$BS$6:$BS$15000,'Cálculos Anticipos'!$B326,Intensidades!JV326:JV15320)","v":0},{"$f":"+SUMIF(Intensidades!$BS$6:$BT$15000,'Cálculos Anticipos'!$B326,Intensidades!$JW$6:$JW$15000)","v":0},{"$f":"+SUMIF(Intensidades!$BS$6:$BU$15000,'Cálculos Anticipos'!$B326,Intensidades!$JX$6:$JX$15000)","v":0},{"$f":"+SUMIF(Intensidades!$BS$6:$BV$15000,'Cálculos Anticipos'!$B326,Intensidades!$JY$6:$JY$15000)","v":0},{"$f":"+SUMIF(Intensidades!$BS$6:$BW$15000,'Cálculos Anticipos'!$B326,Intensidades!$JZ$6:$JZ$15000)","v":0},{"$f":"+SUMIF(Intensidades!$BS$6:$BX$15000,'Cálculos Anticipos'!$B326,Intensidades!$KA$6:$KA$15000)","v":0},{"$f":"+SUMIF(Intensidades!$BS$6:$BY$15000,'Cálculos Anticipos'!$B326,Intensidades!$KB$6:$KB$15000)","v":0},{"$f":"+SUM(D326:J326)","v":0},{"$f":"+IF(K326=0,IF(B326=$S$5,\"ok\",\"Problema en reparto\"),IF(K326=VLOOKUP(A326,$T$6:$X$105,3,FALSE),\"OK\",\"REVISAR\"))","v":"ok"},null,null,null,null,null,null,{"$f":"+'Datos Previos'!BQ34","v":0}]
[null,null,"IMPORTE AYUDA",{"$f":"+SUMIF(Intensidades!BS326:$BS15320,'Cálculos Anticipos'!$B326,Intensidades!$JN$6:$JN$15000)","v":0},{"$f":"+SUMIF(Intensidades!$BS$6:$BT$15000,'Cálculos Anticipos'!$B326,Intensidades!$JO$6:$JO$15000)","v":0},{"$f":"+SUMIF(Intensidades!$BS$6:$BU$15000,'Cálculos Anticipos'!$B326,Intensidades!$JP$6:$JP$15000)","v":0},{"$f":"+SUMIF(Intensidades!$BS$6:$BV$15000,'Cálculos Anticipos'!$B326,Intensidades!$JQ$6:$JQ$15000)","v":0},{"$f":"+SUMIF(Intensidades!$BS$6:$BW$15000,'Cálculos Anticipos'!$B326,Intensidades!$JR$6:$JR$15000)","v":0},{"$f":"+SUMIF(Intensidades!$BS$6:$BX$15000,'Cálculos Anticipos'!$B326,Intensidades!$JS$6:$JS$15000)","v":0},{"$f":"+SUMIF(Intensidades!$BS$6:$BY$15000,'Cálculos Anticipos'!$B326,Intensidades!$JT$6:$JT$15000)","v":0},0,{"$f":"+IF(K327=0,IF(B326=$S$5,\"ok\",\"Problema en reparto\"),IF(K327=VLOOKUP(A326,$T$6:$X$105,5,FALSE),\"OK\",\"REVISAR\"))","v":"ok"}]
[null,null,"PORCENTAJE ANTICIPO",{"$f":"+K328","v":0},{"$f":"+K328","v":0},{"$f":"+K328","v":0},{"$f":"+K328","v":0},{"$f":"+K328","v":0},{"$f":"+K328","v":0},{"$f":"+K328","v":0},0,{"$f":"+IF(K328<=0.7,\"OK; Porcentaje inferior o igual al 70%\",\"Revisar Porcentaje de Anticipo: es mayor del 70% (Máximo Permitido)\")","v":"OK; Porcentaje inferior o igual al 70%"}]
[null,null,"TOTAL ANTICIPO",{"$f":"+ROUND(D327*D328,2)","v":0},{"$f":"+ROUND(E327*E328,2)","v":0},{"$f":"+ROUND(F327*F328,2)","v":0},{"$f":"+ROUND(G327*G328,2)","v":0},{"$f":"+ROUND(H327*H328,2)","v":0},{"$f":"+ROUND(I327*I328,2)","v":0},{"$f":"+ROUND(J327*J328,2)","v":0},{"$f":"+ROUND(K327*K328,2)","v":0},{"$f":"+IFERROR(IF(K329/K327>0.7,\"Revisar, % anticipo mayor 70%\",\"OK\"),\"\")","v":""}]
[null,null,null,null,null,null,null,null,null,null,null,""]
[{"$f":"+'Datos Previos'!BR32","v":0},{"$f":"+IF(A331=$T$106,\"no hay\",S331)","v":"no hay"},"IMPORTE SUBVENCIONABLE",{"$f":"+SUMIF(Intensidades!$BS$6:$BS$15000,'Cálculos Anticipos'!$B331,Intensidades!JV331:JV15325)","v":0},{"$f":"+SUMIF(Intensidades!$BS$6:$BT$15000,'Cálculos Anticipos'!$B331,Intensidades!$JW$6:$JW$15000)","v":0},{"$f":"+SUMIF(Intensidades!$BS$6:$BU$15000,'Cálculos Anticipos'!$B331,Intensidades!$JX$6:$JX$15000)","v":0},{"$f":"+SUMIF(Intensidades!$BS$6:$BV$15000,'Cálculos Anticipos'!$B331,Intensidades!$JY$6:$JY$15000)","v":0},{"$f":"+SUMIF(Intensidades!$BS$6:$BW$15000,'Cálculos Anticipos'!$B331,Intensidades!$JZ$6:$JZ$15000)","v":0},{"$f":"+SUMIF(Intensidades!$BS$6:$BX$15000,'Cálculos Anticipos'!$B331,Intensidades!$KA$6:$KA$15000)","v":0},{"$f":"+SUMIF(Intensidades!$BS$6:$BY$15000,'Cálculos Anticipos'!$B331,Intensidades!$KB$6:$KB$15000)","v":0},{"$f":"+SUM(D331:J331)","v":0},{"$f":"+IF(K331=0,IF(B331=$S$5,\"ok\",\"Problema en reparto\"),IF(K331=VLOOKUP(A331,$T$6:$X$105,3,FALSE),\"OK\",\"REVISAR\"))","v":"ok"},null,null,null,null,null,null,{"$f":"+'Datos Previos'!BR34","v":0}]
[null,null,"IMPORTE AYUDA",{"$f":"+SUMIF(Intensidades!BS331:$BS15325,'Cálculos Anticipos'!$B331,Intensidades!$JN$6:$JN$15000)","v":0},{"$f":"+SUMIF(Intensidades!$BS$6:$BT$15000,'Cálculos Anticipos'!$B331,Intensidades!$JO$6:$JO$15000)","v":0},{"$f":"+SUMIF(Intensidades!$BS$6:$BU$15000,'Cálculos Anticipos'!$B331,Intensidades!$JP$6:$JP$15000)","v":0},{"$f":"+SUMIF(Intensidades!$BS$6:$BV$15000,'Cálculos Anticipos'!$B331,Intensidades!$JQ$6:$JQ$15000)","v":0},{"$f":"+SUMIF(Intensidades!$BS$6:$BW$15000,'Cálculos Anticipos'!$B331,Intensidades!$JR$6:$JR$15000)","v":0},{"$f":"+SUMIF(Intensidades!$BS$6:$BX$15000,'Cálculos Anticipos'!$B331,Intensidades!$JS$6:$JS$15000)","v":0},{"$f":"+SUMIF(Intensidades!$BS$6:$BY$15000,'Cálculos Anticipos'!$B331,Intensidades!$JT$6:$JT$15000)","v":0},0,{"$f":"+IF(K332=0,IF(B331=$S$5,\"ok\",\"Problema en reparto\"),IF(K332=VLOOKUP(A331,$T$6:$X$105,5,FALSE),\"OK\",\"REVISAR\"))","v":"ok"}]
[null,null,"PORCENTAJE ANTICIPO",{"$f":"+K333","v":0},{"$f":"+K333","v":0},{"$f":"+K333","v":0},{"$f":"+K333","v":0},{"$f":"+K333","v":0},{"$f":"+K333","v":0},{"$f":"+K333","v":0},0,{"$f":"+IF(K333<=0.7,\"OK; Porcentaje inferior o igual al 70%\",\"Revisar Porcentaje de Anticipo: es mayor del 70% (Máximo Permitido)\")","v":"OK; Porcentaje inferior o igual al 70%"}]
[null,null,"TOTAL ANTICIPO",{"$f":"+ROUND(D332*D333,2)","v":0},{"$f":"+ROUND(E332*E333,2)","v":0},{"$f":"+ROUND(F332*F333,2)","v":0},{"$f":"+ROUND(G332*G333,2)","v":0},{"$f":"+ROUND(H332*H333,2)","v":0},{"$f":"+ROUND(I332*I333,2)","v":0},{"$f":"+ROUND(J332*J333,2)","v":0},{"$f":"+ROUND(K332*K333,2)","v":0},{"$f":"+IFERROR(IF(K334/K332>0.7,\"Revisar, % anticipo mayor 70%\",\"OK\"),\"\")","v":""}]
[null,null,null,null,null,null,null,null,null,null,null,""]
[{"$f":"+'Datos Previos'!BS32","v":0},{"$f":"+IF(A336=$T$106,\"no hay\",S336)","v":"no hay"},"IMPORTE SUBVENCIONABLE",{"$f":"+SUMIF(Intensidades!$BS$6:$BS$15000,'Cálculos Anticipos'!$B336,Intensidades!JV336:JV15330)","v":0},{"$f":"+SUMIF(Intensidades!$BS$6:$BT$15000,'Cálculos Anticipos'!$B336,Intensidades!$JW$6:$JW$15000)","v":0},{"$f":"+SUMIF(Intensidades!$BS$6:$BU$15000,'Cálculos Anticipos'!$B336,Intensidades!$JX$6:$JX$15000)","v":0},{"$f":"+SUMIF(Intensidades!$BS$6:$BV$15000,'Cálculos Anticipos'!$B336,Intensidades!$JY$6:$JY$15000)","v":0},{"$f":"+SUMIF(Intensidades!$BS$6:$BW$15000,'Cálculos Anticipos'!$B336,Intensidades!$JZ$6:$JZ$15000)","v":0},{"$f":"+SUMIF(Intensidades!$BS$6:$BX$15000,'Cálculos Anticipos'!$B336,Intensidades!$KA$6:$KA$15000)","v":0},{"$f":"+SUMIF(Intensidades!$BS$6:$BY$15000,'Cálculos Anticipos'!$B336,Intensidades!$KB$6:$KB$15000)","v":0},{"$f":"+SUM(D336:J336)","v":0},{"$f":"+IF(K336=0,IF(B336=$S$5,\"ok\",\"Problema en reparto\"),IF(K336=VLOOKUP(A336,$T$6:$X$105,3,FALSE),\"OK\",\"REVISAR\"))","v":"ok"},null,null,null,null,null,null,{"$f":"+'Datos Previos'!BS34","v":0}]
[null,null,"IMPORTE AYUDA",{"$f":"+SUMIF(Intensidades!BS336:$BS15330,'Cálculos Anticipos'!$B336,Intensidades!$JN$6:$JN$15000)","v":0},{"$f":"+SUMIF(Intensidades!$BS$6:$BT$15000,'Cálculos Anticipos'!$B336,Intensidades!$JO$6:$JO$15000)","v":0},{"$f":"+SUMIF(Intensidades!$BS$6:$BU$15000,'Cálculos Anticipos'!$B336,Intensidades!$JP$6:$JP$15000)","v":0},{"$f":"+SUMIF(Intensidades!$BS$6:$BV$15000,'Cálculos Anticipos'!$B336,Intensidades!$JQ$6:$JQ$15000)","v":0},{"$f":"+SUMIF(Intensidades!$BS$6:$BW$15000,'Cálculos Anticipos'!$B336,Intensidades!$JR$6:$JR$15000)","v":0},{"$f":"+SUMIF(Intensidades!$BS$6:$BX$15000,'Cálculos Anticipos'!$B336,Intensidades!$JS$6:$JS$15000)","v":0},{"$f":"+SUMIF(Intensidades!$BS$6:$BY$15000,'Cálculos Anticipos'!$B336,Intensidades!$JT$6:$JT$15000)","v":0},0,{"$f":"+IF(K337=0,IF(B336=$S$5,\"ok\",\"Problema en reparto\"),IF(K337=VLOOKUP(A336,$T$6:$X$105,5,FALSE),\"OK\",\"REVISAR\"))","v":"ok"}]
[null,null,"PORCENTAJE ANTICIPO",{"$f":"+K338","v":0},{"$f":"+K338","v":0},{"$f":"+K338","v":0},{"$f":"+K338","v":0},{"$f":"+K338","v":0},{"$f":"+K338","v":0},{"$f":"+K338","v":0},0,{"$f":"+IF(K338<=0.7,\"OK; Porcentaje inferior o igual al 70%\",\"Revisar Porcentaje de Anticipo: es mayor del 70% (Máximo Permitido)\")","v":"OK; Porcentaje inferior o igual al 70%"}]
[null,null,"TOTAL ANTICIPO",{"$f":"+ROUND(D337*D338,2)","v":0},{"$f":"+ROUND(E337*E338,2)","v":0},{"$f":"+ROUND(F337*F338,2)","v":0},{"$f":"+ROUND(G337*G338,2)","v":0},{"$f":"+ROUND(H337*H338,2)","v":0},{"$f":"+ROUND(I337*I338,2)","v":0},{"$f":"+ROUND(J337*J338,2)","v":0},{"$f":"+ROUND(K337*K338,2)","v":0},{"$f":"+IFERROR(IF(K339/K337>0.7,\"Revisar, % anticipo mayor 70%\",\"OK\"),\"\")","v":""}]
[null,null,null,null,null,null,null,null,null,null,null,""]
[{"$f":"+'Datos Previos'!BT32","v":0},{"$f":"+IF(A341=$T$106,\"no hay\",S341)","v":"no hay"},"IMPORTE SUBVENCIONABLE",{"$f":"+SUMIF(Intensidades!$BS$6:$BS$15000,'Cálculos Anticipos'!$B341,Intensidades!JV341:JV15335)","v":0},{"$f":"+SUMIF(Intensidades!$BS$6:$BT$15000,'Cálculos Anticipos'!$B341,Intensidades!$JW$6:$JW$15000)","v":0},{"$f":"+SUMIF(Intensidades!$BS$6:$BU$15000,'Cálculos Anticipos'!$B341,Intensidades!$JX$6:$JX$15000)","v":0},{"$f":"+SUMIF(Intensidades!$BS$6:$BV$15000,'Cálculos Anticipos'!$B341,Intensidades!$JY$6:$JY$15000)","v":0},{"$f":"+SUMIF(Intensidades!$BS$6:$BW$15000,'Cálculos Anticipos'!$B341,Intensidades!$JZ$6:$JZ$15000)","v":0},{"$f":"+SUMIF(Intensidades!$BS$6:$BX$15000,'Cálculos Anticipos'!$B341,Intensidades!$KA$6:$KA$15000)","v":0},{"$f":"+SUMIF(Intensidades!$BS$6:$BY$15000,'Cálculos Anticipos'!$B341,Intensidades!$KB$6:$KB$15000)","v":0},{"$f":"+SUM(D341:J341)","v":0},{"$f":"+IF(K341=0,IF(B341=$S$5,\"ok\",\"Problema en reparto\"),IF(K341=VLOOKUP(A341,$T$6:$X$105,3,FALSE),\"OK\",\"REVISAR\"))","v":"ok"},null,null,null,null,null,null,{"$f":"+'Datos Previos'!BT34","v":0}]
[null,null,"IMPORTE AYUDA",{"$f":"+SUMIF(Intensidades!BS341:$BS15335,'Cálculos Anticipos'!$B341,Intensidades!$JN$6:$JN$15000)","v":0},{"$f":"+SUMIF(Intensidades!$BS$6:$BT$15000,'Cálculos Anticipos'!$B341,Intensidades!$JO$6:$JO$15000)","v":0},{"$f":"+SUMIF(Intensidades!$BS$6:$BU$15000,'Cálculos Anticipos'!$B341,Intensidades!$JP$6:$JP$15000)","v":0},{"$f":"+SUMIF(Intensidades!$BS$6:$BV$15000,'Cálculos Anticipos'!$B341,Intensidades!$JQ$6:$JQ$15000)","v":0},{"$f":"+SUMIF(Intensidades!$BS$6:$BW$15000,'Cálculos Anticipos'!$B341,Intensidades!$JR$6:$JR$15000)","v":0},{"$f":"+SUMIF(Intensidades!$BS$6:$BX$15000,'Cálculos Anticipos'!$B341,Intensidades!$JS$6:$JS$15000)","v":0},{"$f":"+SUMIF(Intensidades!$BS$6:$BY$15000,'Cálculos Anticipos'!$B341,Intensidades!$JT$6:$JT$15000)","v":0},0,{"$f":"+IF(K342=0,IF(B341=$S$5,\"ok\",\"Problema en reparto\"),IF(K342=VLOOKUP(A341,$T$6:$X$105,5,FALSE),\"OK\",\"REVISAR\"))","v":"ok"}]
[null,null,"PORCENTAJE ANTICIPO",{"$f":"+K343","v":0},{"$f":"+K343","v":0},{"$f":"+K343","v":0},{"$f":"+K343","v":0},{"$f":"+K343","v":0},{"$f":"+K343","v":0},{"$f":"+K343","v":0},0,{"$f":"+IF(K343<=0.7,\"OK; Porcentaje inferior o igual al 70%\",\"Revisar Porcentaje de Anticipo: es mayor del 70% (Máximo Permitido)\")","v":"OK; Porcentaje inferior o igual al 70%"}]
[null,null,"TOTAL ANTICIPO",{"$f":"+ROUND(D342*D343,2)","v":0},{"$f":"+ROUND(E342*E343,2)","v":0},{"$f":"+ROUND(F342*F343,2)","v":0},{"$f":"+ROUND(G342*G343,2)","v":0},{"$f":"+ROUND(H342*H343,2)","v":0},{"$f":"+ROUND(I342*I343,2)","v":0},{"$f":"+ROUND(J342*J343,2)","v":0},{"$f":"+ROUND(K342*K343,2)","v":0},{"$f":"+IFERROR(IF(K344/K342>0.7,\"Revisar, % anticipo mayor 70%\",\"OK\"),\"\")","v":""}]
[null,null,null,null,null,null,null,null,null,null,null,""]
[{"$f":"+'Datos Previos'!BU32","v":0},{"$f":"+IF(A346=$T$106,\"no hay\",S346)","v":"no hay"},"IMPORTE SUBVENCIONABLE",{"$f":"+SUMIF(Intensidades!$BS$6:$BS$15000,'Cálculos Anticipos'!$B346,Intensidades!JV346:JV15340)","v":0},{"$f":"+SUMIF(Intensidades!$BS$6:$BT$15000,'Cálculos Anticipos'!$B346,Intensidades!$JW$6:$JW$15000)","v":0},{"$f":"+SUMIF(Intensidades!$BS$6:$BU$15000,'Cálculos Anticipos'!$B346,Intensidades!$JX$6:$JX$15000)","v":0},{"$f":"+SUMIF(Intensidades!$BS$6:$BV$15000,'Cálculos Anticipos'!$B346,Intensidades!$JY$6:$JY$15000)","v":0},{"$f":"+SUMIF(Intensidades!$BS$6:$BW$15000,'Cálculos Anticipos'!$B346,Intensidades!$JZ$6:$JZ$15000)","v":0},{"$f":"+SUMIF(Intensidades!$BS$6:$BX$15000,'Cálculos Anticipos'!$B346,Intensidades!$KA$6:$KA$15000)","v":0},{"$f":"+SUMIF(Intensidades!$BS$6:$BY$15000,'Cálculos Anticipos'!$B346,Intensidades!$KB$6:$KB$15000)","v":0},{"$f":"+SUM(D346:J346)","v":0},{"$f":"+IF(K346=0,IF(B346=$S$5,\"ok\",\"Problema en reparto\"),IF(K346=VLOOKUP(A346,$T$6:$X$105,3,FALSE),\"OK\",\"REVISAR\"))","v":"ok"},null,null,null,null,null,null,{"$f":"+'Datos Previos'!BU34","v":0}]
[null,null,"IMPORTE AYUDA",{"$f":"+SUMIF(Intensidades!BS346:$BS15340,'Cálculos Anticipos'!$B346,Intensidades!$JN$6:$JN$15000)","v":0},{"$f":"+SUMIF(Intensidades!$BS$6:$BT$15000,'Cálculos Anticipos'!$B346,Intensidades!$JO$6:$JO$15000)","v":0},{"$f":"+SUMIF(Intensidades!$BS$6:$BU$15000,'Cálculos Anticipos'!$B346,Intensidades!$JP$6:$JP$15000)","v":0},{"$f":"+SUMIF(Intensidades!$BS$6:$BV$15000,'Cálculos Anticipos'!$B346,Intensidades!$JQ$6:$JQ$15000)","v":0},{"$f":"+SUMIF(Intensidades!$BS$6:$BW$15000,'Cálculos Anticipos'!$B346,Intensidades!$JR$6:$JR$15000)","v":0},{"$f":"+SUMIF(Intensidades!$BS$6:$BX$15000,'Cálculos Anticipos'!$B346,Intensidades!$JS$6:$JS$15000)","v":0},{"$f":"+SUMIF(Intensidades!$BS$6:$BY$15000,'Cálculos Anticipos'!$B346,Intensidades!$JT$6:$JT$15000)","v":0},0,{"$f":"+IF(K347=0,IF(B346=$S$5,\"ok\",\"Problema en reparto\"),IF(K347=VLOOKUP(A346,$T$6:$X$105,5,FALSE),\"OK\",\"REVISAR\"))","v":"ok"}]
[null,null,"PORCENTAJE ANTICIPO",{"$f":"+K348","v":0},{"$f":"+K348","v":0},{"$f":"+K348","v":0},{"$f":"+K348","v":0},{"$f":"+K348","v":0},{"$f":"+K348","v":0},{"$f":"+K348","v":0},0,{"$f":"+IF(K348<=0.7,\"OK; Porcentaje inferior o igual al 70%\",\"Revisar Porcentaje de Anticipo: es mayor del 70% (Máximo Permitido)\")","v":"OK; Porcentaje inferior o igual al 70%"}]
[null,null,"TOTAL ANTICIPO",{"$f":"+ROUND(D347*D348,2)","v":0},{"$f":"+ROUND(E347*E348,2)","v":0},{"$f":"+ROUND(F347*F348,2)","v":0},{"$f":"+ROUND(G347*G348,2)","v":0},{"$f":"+ROUND(H347*H348,2)","v":0},{"$f":"+ROUND(I347*I348,2)","v":0},{"$f":"+ROUND(J347*J348,2)","v":0},{"$f":"+ROUND(K347*K348,2)","v":0},{"$f":"+IFERROR(IF(K349/K347>0.7,\"Revisar, % anticipo mayor 70%\",\"OK\"),\"\")","v":""}]
[null,null,null,null,null,null,null,null,null,null,null,""]
[{"$f":"+'Datos Previos'!BV32","v":0},{"$f":"+IF(A351=$T$106,\"no hay\",S351)","v":"no hay"},"IMPORTE SUBVENCIONABLE",{"$f":"+SUMIF(Intensidades!$BS$6:$BS$15000,'Cálculos Anticipos'!$B351,Intensidades!JV351:JV15345)","v":0},{"$f":"+SUMIF(Intensidades!$BS$6:$BT$15000,'Cálculos Anticipos'!$B351,Intensidades!$JW$6:$JW$15000)","v":0},{"$f":"+SUMIF(Intensidades!$BS$6:$BU$15000,'Cálculos Anticipos'!$B351,Intensidades!$JX$6:$JX$15000)","v":0},{"$f":"+SUMIF(Intensidades!$BS$6:$BV$15000,'Cálculos Anticipos'!$B351,Intensidades!$JY$6:$JY$15000)","v":0},{"$f":"+SUMIF(Intensidades!$BS$6:$BW$15000,'Cálculos Anticipos'!$B351,Intensidades!$JZ$6:$JZ$15000)","v":0},{"$f":"+SUMIF(Intensidades!$BS$6:$BX$15000,'Cálculos Anticipos'!$B351,Intensidades!$KA$6:$KA$15000)","v":0},{"$f":"+SUMIF(Intensidades!$BS$6:$BY$15000,'Cálculos Anticipos'!$B351,Intensidades!$KB$6:$KB$15000)","v":0},{"$f":"+SUM(D351:J351)","v":0},{"$f":"+IF(K351=0,IF(B351=$S$5,\"ok\",\"Problema en reparto\"),IF(K351=VLOOKUP(A351,$T$6:$X$105,3,FALSE),\"OK\",\"REVISAR\"))","v":"ok"},null,null,null,null,null,null,{"$f":"+'Datos Previos'!BV34","v":0}]
[null,null,"IMPORTE AYUDA",{"$f":"+SUMIF(Intensidades!BS351:$BS15345,'Cálculos Anticipos'!$B351,Intensidades!$JN$6:$JN$15000)","v":0},{"$f":"+SUMIF(Intensidades!$BS$6:$BT$15000,'Cálculos Anticipos'!$B351,Intensidades!$JO$6:$JO$15000)","v":0},{"$f":"+SUMIF(Intensidades!$BS$6:$BU$15000,'Cálculos Anticipos'!$B351,Intensidades!$JP$6:$JP$15000)","v":0},{"$f":"+SUMIF(Intensidades!$BS$6:$BV$15000,'Cálculos Anticipos'!$B351,Intensidades!$JQ$6:$JQ$15000)","v":0},{"$f":"+SUMIF(Intensidades!$BS$6:$BW$15000,'Cálculos Anticipos'!$B351,Intensidades!$JR$6:$JR$15000)","v":0},{"$f":"+SUMIF(Intensidades!$BS$6:$BX$15000,'Cálculos Anticipos'!$B351,Intensidades!$JS$6:$JS$15000)","v":0},{"$f":"+SUMIF(Intensidades!$BS$6:$BY$15000,'Cálculos Anticipos'!$B351,Intensidades!$JT$6:$JT$15000)","v":0},0,{"$f":"+IF(K352=0,IF(B351=$S$5,\"ok\",\"Problema en reparto\"),IF(K352=VLOOKUP(A351,$T$6:$X$105,5,FALSE),\"OK\",\"REVISAR\"))","v":"ok"}]
[null,null,"PORCENTAJE ANTICIPO",{"$f":"+K353","v":0},{"$f":"+K353","v":0},{"$f":"+K353","v":0},{"$f":"+K353","v":0},{"$f":"+K353","v":0},{"$f":"+K353","v":0},{"$f":"+K353","v":0},0,{"$f":"+IF(K353<=0.7,\"OK; Porcentaje inferior o igual al 70%\",\"Revisar Porcentaje de Anticipo: es mayor del 70% (Máximo Permitido)\")","v":"OK; Porcentaje inferior o igual al 70%"}]
[null,null,"TOTAL ANTICIPO",{"$f":"+ROUND(D352*D353,2)","v":0},{"$f":"+ROUND(E352*E353,2)","v":0},{"$f":"+ROUND(F352*F353,2)","v":0},{"$f":"+ROUND(G352*G353,2)","v":0},{"$f":"+ROUND(H352*H353,2)","v":0},{"$f":"+ROUND(I352*I353,2)","v":0},{"$f":"+ROUND(J352*J353,2)","v":0},{"$f":"+ROUND(K352*K353,2)","v":0},{"$f":"+IFERROR(IF(K354/K352>0.7,\"Revisar, % anticipo mayor 70%\",\"OK\"),\"\")","v":""}]
[null,null,null,null,null,null,null,null,null,null,null,""]
[{"$f":"+'Datos Previos'!BW32","v":0},{"$f":"+IF(A356=$T$106,\"no hay\",S356)","v":"no hay"},"IMPORTE SUBVENCIONABLE",{"$f":"+SUMIF(Intensidades!$BS$6:$BS$15000,'Cálculos Anticipos'!$B356,Intensidades!JV356:JV15350)","v":0},{"$f":"+SUMIF(Intensidades!$BS$6:$BT$15000,'Cálculos Anticipos'!$B356,Intensidades!$JW$6:$JW$15000)","v":0},{"$f":"+SUMIF(Intensidades!$BS$6:$BU$15000,'Cálculos Anticipos'!$B356,Intensidades!$JX$6:$JX$15000)","v":0},{"$f":"+SUMIF(Intensidades!$BS$6:$BV$15000,'Cálculos Anticipos'!$B356,Intensidades!$JY$6:$JY$15000)","v":0},{"$f":"+SUMIF(Intensidades!$BS$6:$BW$15000,'Cálculos Anticipos'!$B356,Intensidades!$JZ$6:$JZ$15000)","v":0},{"$f":"+SUMIF(Intensidades!$BS$6:$BX$15000,'Cálculos Anticipos'!$B356,Intensidades!$KA$6:$KA$15000)","v":0},{"$f":"+SUMIF(Intensidades!$BS$6:$BY$15000,'Cálculos Anticipos'!$B356,Intensidades!$KB$6:$KB$15000)","v":0},{"$f":"+SUM(D356:J356)","v":0},{"$f":"+IF(K356=0,IF(B356=$S$5,\"ok\",\"Problema en reparto\"),IF(K356=VLOOKUP(A356,$T$6:$X$105,3,FALSE),\"OK\",\"REVISAR\"))","v":"ok"},null,null,null,null,null,null,{"$f":"+'Datos Previos'!BW34","v":0}]
[null,null,"IMPORTE AYUDA",{"$f":"+SUMIF(Intensidades!BS356:$BS15350,'Cálculos Anticipos'!$B356,Intensidades!$JN$6:$JN$15000)","v":0},{"$f":"+SUMIF(Intensidades!$BS$6:$BT$15000,'Cálculos Anticipos'!$B356,Intensidades!$JO$6:$JO$15000)","v":0},{"$f":"+SUMIF(Intensidades!$BS$6:$BU$15000,'Cálculos Anticipos'!$B356,Intensidades!$JP$6:$JP$15000)","v":0},{"$f":"+SUMIF(Intensidades!$BS$6:$BV$15000,'Cálculos Anticipos'!$B356,Intensidades!$JQ$6:$JQ$15000)","v":0},{"$f":"+SUMIF(Intensidades!$BS$6:$BW$15000,'Cálculos Anticipos'!$B356,Intensidades!$JR$6:$JR$15000)","v":0},{"$f":"+SUMIF(Intensidades!$BS$6:$BX$15000,'Cálculos Anticipos'!$B356,Intensidades!$JS$6:$JS$15000)","v":0},{"$f":"+SUMIF(Intensidades!$BS$6:$BY$15000,'Cálculos Anticipos'!$B356,Intensidades!$JT$6:$JT$15000)","v":0},0,{"$f":"+IF(K357=0,IF(B356=$S$5,\"ok\",\"Problema en reparto\"),IF(K357=VLOOKUP(A356,$T$6:$X$105,5,FALSE),\"OK\",\"REVISAR\"))","v":"ok"}]
[null,null,"PORCENTAJE ANTICIPO",{"$f":"+K358","v":0},{"$f":"+K358","v":0},{"$f":"+K358","v":0},{"$f":"+K358","v":0},{"$f":"+K358","v":0},{"$f":"+K358","v":0},{"$f":"+K358","v":0},0,{"$f":"+IF(K358<=0.7,\"OK; Porcentaje inferior o igual al 70%\",\"Revisar Porcentaje de Anticipo: es mayor del 70% (Máximo Permitido)\")","v":"OK; Porcentaje inferior o igual al 70%"}]
[null,null,"TOTAL ANTICIPO",{"$f":"+ROUND(D357*D358,2)","v":0},{"$f":"+ROUND(E357*E358,2)","v":0},{"$f":"+ROUND(F357*F358,2)","v":0},{"$f":"+ROUND(G357*G358,2)","v":0},{"$f":"+ROUND(H357*H358,2)","v":0},{"$f":"+ROUND(I357*I358,2)","v":0},{"$f":"+ROUND(J357*J358,2)","v":0},{"$f":"+ROUND(K357*K358,2)","v":0},{"$f":"+IFERROR(IF(K359/K357>0.7,\"Revisar, % anticipo mayor 70%\",\"OK\"),\"\")","v":""}]
[null,null,null,null,null,null,null,null,null,null,null,""]
[{"$f":"+'Datos Previos'!BX32","v":0},{"$f":"+IF(A361=$T$106,\"no hay\",S361)","v":"no hay"},"IMPORTE SUBVENCIONABLE",{"$f":"+SUMIF(Intensidades!$BS$6:$BS$15000,'Cálculos Anticipos'!$B361,Intensidades!JV361:JV15355)","v":0},{"$f":"+SUMIF(Intensidades!$BS$6:$BT$15000,'Cálculos Anticipos'!$B361,Intensidades!$JW$6:$JW$15000)","v":0},{"$f":"+SUMIF(Intensidades!$BS$6:$BU$15000,'Cálculos Anticipos'!$B361,Intensidades!$JX$6:$JX$15000)","v":0},{"$f":"+SUMIF(Intensidades!$BS$6:$BV$15000,'Cálculos Anticipos'!$B361,Intensidades!$JY$6:$JY$15000)","v":0},{"$f":"+SUMIF(Intensidades!$BS$6:$BW$15000,'Cálculos Anticipos'!$B361,Intensidades!$JZ$6:$JZ$15000)","v":0},{"$f":"+SUMIF(Intensidades!$BS$6:$BX$15000,'Cálculos Anticipos'!$B361,Intensidades!$KA$6:$KA$15000)","v":0},{"$f":"+SUMIF(Intensidades!$BS$6:$BY$15000,'Cálculos Anticipos'!$B361,Intensidades!$KB$6:$KB$15000)","v":0},{"$f":"+SUM(D361:J361)","v":0},{"$f":"+IF(K361=0,IF(B361=$S$5,\"ok\",\"Problema en reparto\"),IF(K361=VLOOKUP(A361,$T$6:$X$105,3,FALSE),\"OK\",\"REVISAR\"))","v":"ok"},null,null,null,null,null,null,{"$f":"+'Datos Previos'!BX34","v":0}]
[null,null,"IMPORTE AYUDA",{"$f":"+SUMIF(Intensidades!BS361:$BS15355,'Cálculos Anticipos'!$B361,Intensidades!$JN$6:$JN$15000)","v":0},{"$f":"+SUMIF(Intensidades!$BS$6:$BT$15000,'Cálculos Anticipos'!$B361,Intensidades!$JO$6:$JO$15000)","v":0},{"$f":"+SUMIF(Intensidades!$BS$6:$BU$15000,'Cálculos Anticipos'!$B361,Intensidades!$JP$6:$JP$15000)","v":0},{"$f":"+SUMIF(Intensidades!$BS$6:$BV$15000,'Cálculos Anticipos'!$B361,Intensidades!$JQ$6:$JQ$15000)","v":0},{"$f":"+SUMIF(Intensidades!$BS$6:$BW$15000,'Cálculos Anticipos'!$B361,Intensidades!$JR$6:$JR$15000)","v":0},{"$f":"+SUMIF(Intensidades!$BS$6:$BX$15000,'Cálculos Anticipos'!$B361,Intensidades!$JS$6:$JS$15000)","v":0},{"$f":"+SUMIF(Intensidades!$BS$6:$BY$15000,'Cálculos Anticipos'!$B361,Intensidades!$JT$6:$JT$15000)","v":0},0,{"$f":"+IF(K362=0,IF(B361=$S$5,\"ok\",\"Problema en reparto\"),IF(K362=VLOOKUP(A361,$T$6:$X$105,5,FALSE),\"OK\",\"REVISAR\"))","v":"ok"}]
[null,null,"PORCENTAJE ANTICIPO",{"$f":"+K363","v":0},{"$f":"+K363","v":0},{"$f":"+K363","v":0},{"$f":"+K363","v":0},{"$f":"+K363","v":0},{"$f":"+K363","v":0},{"$f":"+K363","v":0},0,{"$f":"+IF(K363<=0.7,\"OK; Porcentaje inferior o igual al 70%\",\"Revisar Porcentaje de Anticipo: es mayor del 70% (Máximo Permitido)\")","v":"OK; Porcentaje inferior o igual al 70%"}]
[null,null,"TOTAL ANTICIPO",{"$f":"+ROUND(D362*D363,2)","v":0},{"$f":"+ROUND(E362*E363,2)","v":0},{"$f":"+ROUND(F362*F363,2)","v":0},{"$f":"+ROUND(G362*G363,2)","v":0},{"$f":"+ROUND(H362*H363,2)","v":0},{"$f":"+ROUND(I362*I363,2)","v":0},{"$f":"+ROUND(J362*J363,2)","v":0},{"$f":"+ROUND(K362*K363,2)","v":0},{"$f":"+IFERROR(IF(K364/K362>0.7,\"Revisar, % anticipo mayor 70%\",\"OK\"),\"\")","v":""}]
[null,null,null,null,null,null,null,null,null,null,null,""]
[{"$f":"+'Datos Previos'!BY32","v":0},{"$f":"+IF(A366=$T$106,\"no hay\",S366)","v":"no hay"},"IMPORTE SUBVENCIONABLE",{"$f":"+SUMIF(Intensidades!$BS$6:$BS$15000,'Cálculos Anticipos'!$B366,Intensidades!JV366:JV15360)","v":0},{"$f":"+SUMIF(Intensidades!$BS$6:$BT$15000,'Cálculos Anticipos'!$B366,Intensidades!$JW$6:$JW$15000)","v":0},{"$f":"+SUMIF(Intensidades!$BS$6:$BU$15000,'Cálculos Anticipos'!$B366,Intensidades!$JX$6:$JX$15000)","v":0},{"$f":"+SUMIF(Intensidades!$BS$6:$BV$15000,'Cálculos Anticipos'!$B366,Intensidades!$JY$6:$JY$15000)","v":0},{"$f":"+SUMIF(Intensidades!$BS$6:$BW$15000,'Cálculos Anticipos'!$B366,Intensidades!$JZ$6:$JZ$15000)","v":0},{"$f":"+SUMIF(Intensidades!$BS$6:$BX$15000,'Cálculos Anticipos'!$B366,Intensidades!$KA$6:$KA$15000)","v":0},{"$f":"+SUMIF(Intensidades!$BS$6:$BY$15000,'Cálculos Anticipos'!$B366,Intensidades!$KB$6:$KB$15000)","v":0},{"$f":"+SUM(D366:J366)","v":0},{"$f":"+IF(K366=0,IF(B366=$S$5,\"ok\",\"Problema en reparto\"),IF(K366=VLOOKUP(A366,$T$6:$X$105,3,FALSE),\"OK\",\"REVISAR\"))","v":"ok"},null,null,null,null,null,null,{"$f":"+'Datos Previos'!BY34","v":0}]
[null,null,"IMPORTE AYUDA",{"$f":"+SUMIF(Intensidades!BS366:$BS15360,'Cálculos Anticipos'!$B366,Intensidades!$JN$6:$JN$15000)","v":0},{"$f":"+SUMIF(Intensidades!$BS$6:$BT$15000,'Cálculos Anticipos'!$B366,Intensidades!$JO$6:$JO$15000)","v":0},{"$f":"+SUMIF(Intensidades!$BS$6:$BU$15000,'Cálculos Anticipos'!$B366,Intensidades!$JP$6:$JP$15000)","v":0},{"$f":"+SUMIF(Intensidades!$BS$6:$BV$15000,'Cálculos Anticipos'!$B366,Intensidades!$JQ$6:$JQ$15000)","v":0},{"$f":"+SUMIF(Intensidades!$BS$6:$BW$15000,'Cálculos Anticipos'!$B366,Intensidades!$JR$6:$JR$15000)","v":0},{"$f":"+SUMIF(Intensidades!$BS$6:$BX$15000,'Cálculos Anticipos'!$B366,Intensidades!$JS$6:$JS$15000)","v":0},{"$f":"+SUMIF(Intensidades!$BS$6:$BY$15000,'Cálculos Anticipos'!$B366,Intensidades!$JT$6:$JT$15000)","v":0},0,{"$f":"+IF(K367=0,IF(B366=$S$5,\"ok\",\"Problema en reparto\"),IF(K367=VLOOKUP(A366,$T$6:$X$105,5,FALSE),\"OK\",\"REVISAR\"))","v":"ok"}]
[null,null,"PORCENTAJE ANTICIPO",{"$f":"+K368","v":0},{"$f":"+K368","v":0},{"$f":"+K368","v":0},{"$f":"+K368","v":0},{"$f":"+K368","v":0},{"$f":"+K368","v":0},{"$f":"+K368","v":0},0,{"$f":"+IF(K368<=0.7,\"OK; Porcentaje inferior o igual al 70%\",\"Revisar Porcentaje de Anticipo: es mayor del 70% (Máximo Permitido)\")","v":"OK; Porcentaje inferior o igual al 70%"}]
[null,null,"TOTAL ANTICIPO",{"$f":"+ROUND(D367*D368,2)","v":0},{"$f":"+ROUND(E367*E368,2)","v":0},{"$f":"+ROUND(F367*F368,2)","v":0},{"$f":"+ROUND(G367*G368,2)","v":0},{"$f":"+ROUND(H367*H368,2)","v":0},{"$f":"+ROUND(I367*I368,2)","v":0},{"$f":"+ROUND(J367*J368,2)","v":0},{"$f":"+ROUND(K367*K368,2)","v":0},{"$f":"+IFERROR(IF(K369/K367>0.7,\"Revisar, % anticipo mayor 70%\",\"OK\"),\"\")","v":""}]
[null,null,null,null,null,null,null,null,null,null,null,""]
[{"$f":"+'Datos Previos'!BZ32","v":0},{"$f":"+IF(A371=$T$106,\"no hay\",S371)","v":"no hay"},"IMPORTE SUBVENCIONABLE",{"$f":"+SUMIF(Intensidades!$BS$6:$BS$15000,'Cálculos Anticipos'!$B371,Intensidades!JV371:JV15365)","v":0},{"$f":"+SUMIF(Intensidades!$BS$6:$BT$15000,'Cálculos Anticipos'!$B371,Intensidades!$JW$6:$JW$15000)","v":0},{"$f":"+SUMIF(Intensidades!$BS$6:$BU$15000,'Cálculos Anticipos'!$B371,Intensidades!$JX$6:$JX$15000)","v":0},{"$f":"+SUMIF(Intensidades!$BS$6:$BV$15000,'Cálculos Anticipos'!$B371,Intensidades!$JY$6:$JY$15000)","v":0},{"$f":"+SUMIF(Intensidades!$BS$6:$BW$15000,'Cálculos Anticipos'!$B371,Intensidades!$JZ$6:$JZ$15000)","v":0},{"$f":"+SUMIF(Intensidades!$BS$6:$BX$15000,'Cálculos Anticipos'!$B371,Intensidades!$KA$6:$KA$15000)","v":0},{"$f":"+SUMIF(Intensidades!$BS$6:$BY$15000,'Cálculos Anticipos'!$B371,Intensidades!$KB$6:$KB$15000)","v":0},{"$f":"+SUM(D371:J371)","v":0},{"$f":"+IF(K371=0,IF(B371=$S$5,\"ok\",\"Problema en reparto\"),IF(K371=VLOOKUP(A371,$T$6:$X$105,3,FALSE),\"OK\",\"REVISAR\"))","v":"ok"},null,null,null,null,null,null,{"$f":"+'Datos Previos'!BZ34","v":0}]
[null,null,"IMPORTE AYUDA",{"$f":"+SUMIF(Intensidades!BS371:$BS15365,'Cálculos Anticipos'!$B371,Intensidades!$JN$6:$JN$15000)","v":0},{"$f":"+SUMIF(Intensidades!$BS$6:$BT$15000,'Cálculos Anticipos'!$B371,Intensidades!$JO$6:$JO$15000)","v":0},{"$f":"+SUMIF(Intensidades!$BS$6:$BU$15000,'Cálculos Anticipos'!$B371,Intensidades!$JP$6:$JP$15000)","v":0},{"$f":"+SUMIF(Intensidades!$BS$6:$BV$15000,'Cálculos Anticipos'!$B371,Intensidades!$JQ$6:$JQ$15000)","v":0},{"$f":"+SUMIF(Intensidades!$BS$6:$BW$15000,'Cálculos Anticipos'!$B371,Intensidades!$JR$6:$JR$15000)","v":0},{"$f":"+SUMIF(Intensidades!$BS$6:$BX$15000,'Cálculos Anticipos'!$B371,Intensidades!$JS$6:$JS$15000)","v":0},{"$f":"+SUMIF(Intensidades!$BS$6:$BY$15000,'Cálculos Anticipos'!$B371,Intensidades!$JT$6:$JT$15000)","v":0},0,{"$f":"+IF(K372=0,IF(B371=$S$5,\"ok\",\"Problema en reparto\"),IF(K372=VLOOKUP(A371,$T$6:$X$105,5,FALSE),\"OK\",\"REVISAR\"))","v":"ok"}]
[null,null,"PORCENTAJE ANTICIPO",{"$f":"+K373","v":0},{"$f":"+K373","v":0},{"$f":"+K373","v":0},{"$f":"+K373","v":0},{"$f":"+K373","v":0},{"$f":"+K373","v":0},{"$f":"+K373","v":0},0,{"$f":"+IF(K373<=0.7,\"OK; Porcentaje inferior o igual al 70%\",\"Revisar Porcentaje de Anticipo: es mayor del 70% (Máximo Permitido)\")","v":"OK; Porcentaje inferior o igual al 70%"}]
[null,null,"TOTAL ANTICIPO",{"$f":"+ROUND(D372*D373,2)","v":0},{"$f":"+ROUND(E372*E373,2)","v":0},{"$f":"+ROUND(F372*F373,2)","v":0},{"$f":"+ROUND(G372*G373,2)","v":0},{"$f":"+ROUND(H372*H373,2)","v":0},{"$f":"+ROUND(I372*I373,2)","v":0},{"$f":"+ROUND(J372*J373,2)","v":0},{"$f":"+ROUND(K372*K373,2)","v":0},{"$f":"+IFERROR(IF(K374/K372>0.7,\"Revisar, % anticipo mayor 70%\",\"OK\"),\"\")","v":""}]
[null,null,null,null,null,null,null,null,null,null,null,""]
[{"$f":"+'Datos Previos'!CA32","v":0},{"$f":"+IF(A376=$T$106,\"no hay\",S376)","v":"no hay"},"IMPORTE SUBVENCIONABLE",{"$f":"+SUMIF(Intensidades!$BS$6:$BS$15000,'Cálculos Anticipos'!$B376,Intensidades!JV376:JV15370)","v":0},{"$f":"+SUMIF(Intensidades!$BS$6:$BT$15000,'Cálculos Anticipos'!$B376,Intensidades!$JW$6:$JW$15000)","v":0},{"$f":"+SUMIF(Intensidades!$BS$6:$BU$15000,'Cálculos Anticipos'!$B376,Intensidades!$JX$6:$JX$15000)","v":0},{"$f":"+SUMIF(Intensidades!$BS$6:$BV$15000,'Cálculos Anticipos'!$B376,Intensidades!$JY$6:$JY$15000)","v":0},{"$f":"+SUMIF(Intensidades!$BS$6:$BW$15000,'Cálculos Anticipos'!$B376,Intensidades!$JZ$6:$JZ$15000)","v":0},{"$f":"+SUMIF(Intensidades!$BS$6:$BX$15000,'Cálculos Anticipos'!$B376,Intensidades!$KA$6:$KA$15000)","v":0},{"$f":"+SUMIF(Intensidades!$BS$6:$BY$15000,'Cálculos Anticipos'!$B376,Intensidades!$KB$6:$KB$15000)","v":0},{"$f":"+SUM(D376:J376)","v":0},{"$f":"+IF(K376=0,IF(B376=$S$5,\"ok\",\"Problema en reparto\"),IF(K376=VLOOKUP(A376,$T$6:$X$105,3,FALSE),\"OK\",\"REVISAR\"))","v":"ok"},null,null,null,null,null,null,{"$f":"+'Datos Previos'!CA34","v":0}]
[null,null,"IMPORTE AYUDA",{"$f":"+SUMIF(Intensidades!BS376:$BS15370,'Cálculos Anticipos'!$B376,Intensidades!$JN$6:$JN$15000)","v":0},{"$f":"+SUMIF(Intensidades!$BS$6:$BT$15000,'Cálculos Anticipos'!$B376,Intensidades!$JO$6:$JO$15000)","v":0},{"$f":"+SUMIF(Intensidades!$BS$6:$BU$15000,'Cálculos Anticipos'!$B376,Intensidades!$JP$6:$JP$15000)","v":0},{"$f":"+SUMIF(Intensidades!$BS$6:$BV$15000,'Cálculos Anticipos'!$B376,Intensidades!$JQ$6:$JQ$15000)","v":0},{"$f":"+SUMIF(Intensidades!$BS$6:$BW$15000,'Cálculos Anticipos'!$B376,Intensidades!$JR$6:$JR$15000)","v":0},{"$f":"+SUMIF(Intensidades!$BS$6:$BX$15000,'Cálculos Anticipos'!$B376,Intensidades!$JS$6:$JS$15000)","v":0},{"$f":"+SUMIF(Intensidades!$BS$6:$BY$15000,'Cálculos Anticipos'!$B376,Intensidades!$JT$6:$JT$15000)","v":0},0,{"$f":"+IF(K377=0,IF(B376=$S$5,\"ok\",\"Problema en reparto\"),IF(K377=VLOOKUP(A376,$T$6:$X$105,5,FALSE),\"OK\",\"REVISAR\"))","v":"ok"}]
[null,null,"PORCENTAJE ANTICIPO",{"$f":"+K378","v":0},{"$f":"+K378","v":0},{"$f":"+K378","v":0},{"$f":"+K378","v":0},{"$f":"+K378","v":0},{"$f":"+K378","v":0},{"$f":"+K378","v":0},0,{"$f":"+IF(K378<=0.7,\"OK; Porcentaje inferior o igual al 70%\",\"Revisar Porcentaje de Anticipo: es mayor del 70% (Máximo Permitido)\")","v":"OK; Porcentaje inferior o igual al 70%"}]
[null,null,"TOTAL ANTICIPO",{"$f":"+ROUND(D377*D378,2)","v":0},{"$f":"+ROUND(E377*E378,2)","v":0},{"$f":"+ROUND(F377*F378,2)","v":0},{"$f":"+ROUND(G377*G378,2)","v":0},{"$f":"+ROUND(H377*H378,2)","v":0},{"$f":"+ROUND(I377*I378,2)","v":0},{"$f":"+ROUND(J377*J378,2)","v":0},{"$f":"+ROUND(K377*K378,2)","v":0},{"$f":"+IFERROR(IF(K379/K377>0.7,\"Revisar, % anticipo mayor 70%\",\"OK\"),\"\")","v":""}]
[null,null,null,null,null,null,null,null,null,null,null,""]
[{"$f":"+'Datos Previos'!CB32","v":0},{"$f":"+IF(A381=$T$106,\"no hay\",S381)","v":"no hay"},"IMPORTE SUBVENCIONABLE",{"$f":"+SUMIF(Intensidades!$BS$6:$BS$15000,'Cálculos Anticipos'!$B381,Intensidades!JV381:JV15375)","v":0},{"$f":"+SUMIF(Intensidades!$BS$6:$BT$15000,'Cálculos Anticipos'!$B381,Intensidades!$JW$6:$JW$15000)","v":0},{"$f":"+SUMIF(Intensidades!$BS$6:$BU$15000,'Cálculos Anticipos'!$B381,Intensidades!$JX$6:$JX$15000)","v":0},{"$f":"+SUMIF(Intensidades!$BS$6:$BV$15000,'Cálculos Anticipos'!$B381,Intensidades!$JY$6:$JY$15000)","v":0},{"$f":"+SUMIF(Intensidades!$BS$6:$BW$15000,'Cálculos Anticipos'!$B381,Intensidades!$JZ$6:$JZ$15000)","v":0},{"$f":"+SUMIF(Intensidades!$BS$6:$BX$15000,'Cálculos Anticipos'!$B381,Intensidades!$KA$6:$KA$15000)","v":0},{"$f":"+SUMIF(Intensidades!$BS$6:$BY$15000,'Cálculos Anticipos'!$B381,Intensidades!$KB$6:$KB$15000)","v":0},{"$f":"+SUM(D381:J381)","v":0},{"$f":"+IF(K381=0,IF(B381=$S$5,\"ok\",\"Problema en reparto\"),IF(K381=VLOOKUP(A381,$T$6:$X$105,3,FALSE),\"OK\",\"REVISAR\"))","v":"ok"},null,null,null,null,null,null,{"$f":"+'Datos Previos'!CB34","v":0}]
[null,null,"IMPORTE AYUDA",{"$f":"+SUMIF(Intensidades!BS381:$BS15375,'Cálculos Anticipos'!$B381,Intensidades!$JN$6:$JN$15000)","v":0},{"$f":"+SUMIF(Intensidades!$BS$6:$BT$15000,'Cálculos Anticipos'!$B381,Intensidades!$JO$6:$JO$15000)","v":0},{"$f":"+SUMIF(Intensidades!$BS$6:$BU$15000,'Cálculos Anticipos'!$B381,Intensidades!$JP$6:$JP$15000)","v":0},{"$f":"+SUMIF(Intensidades!$BS$6:$BV$15000,'Cálculos Anticipos'!$B381,Intensidades!$JQ$6:$JQ$15000)","v":0},{"$f":"+SUMIF(Intensidades!$BS$6:$BW$15000,'Cálculos Anticipos'!$B381,Intensidades!$JR$6:$JR$15000)","v":0},{"$f":"+SUMIF(Intensidades!$BS$6:$BX$15000,'Cálculos Anticipos'!$B381,Intensidades!$JS$6:$JS$15000)","v":0},{"$f":"+SUMIF(Intensidades!$BS$6:$BY$15000,'Cálculos Anticipos'!$B381,Intensidades!$JT$6:$JT$15000)","v":0},0,{"$f":"+IF(K382=0,IF(B381=$S$5,\"ok\",\"Problema en reparto\"),IF(K382=VLOOKUP(A381,$T$6:$X$105,5,FALSE),\"OK\",\"REVISAR\"))","v":"ok"}]
[null,null,"PORCENTAJE ANTICIPO",{"$f":"+K383","v":0},{"$f":"+K383","v":0},{"$f":"+K383","v":0},{"$f":"+K383","v":0},{"$f":"+K383","v":0},{"$f":"+K383","v":0},{"$f":"+K383","v":0},0,{"$f":"+IF(K383<=0.7,\"OK; Porcentaje inferior o igual al 70%\",\"Revisar Porcentaje de Anticipo: es mayor del 70% (Máximo Permitido)\")","v":"OK; Porcentaje inferior o igual al 70%"}]
[null,null,"TOTAL ANTICIPO",{"$f":"+ROUND(D382*D383,2)","v":0},{"$f":"+ROUND(E382*E383,2)","v":0},{"$f":"+ROUND(F382*F383,2)","v":0},{"$f":"+ROUND(G382*G383,2)","v":0},{"$f":"+ROUND(H382*H383,2)","v":0},{"$f":"+ROUND(I382*I383,2)","v":0},{"$f":"+ROUND(J382*J383,2)","v":0},{"$f":"+ROUND(K382*K383,2)","v":0},{"$f":"+IFERROR(IF(K384/K382>0.7,\"Revisar, % anticipo mayor 70%\",\"OK\"),\"\")","v":""}]
[null,null,null,null,null,null,null,null,null,null,null,""]
[{"$f":"+'Datos Previos'!CC32","v":0},{"$f":"+IF(A386=$T$106,\"no hay\",S386)","v":"no hay"},"IMPORTE SUBVENCIONABLE",{"$f":"+SUMIF(Intensidades!$BS$6:$BS$15000,'Cálculos Anticipos'!$B386,Intensidades!JV386:JV15380)","v":0},{"$f":"+SUMIF(Intensidades!$BS$6:$BT$15000,'Cálculos Anticipos'!$B386,Intensidades!$JW$6:$JW$15000)","v":0},{"$f":"+SUMIF(Intensidades!$BS$6:$BU$15000,'Cálculos Anticipos'!$B386,Intensidades!$JX$6:$JX$15000)","v":0},{"$f":"+SUMIF(Intensidades!$BS$6:$BV$15000,'Cálculos Anticipos'!$B386,Intensidades!$JY$6:$JY$15000)","v":0},{"$f":"+SUMIF(Intensidades!$BS$6:$BW$15000,'Cálculos Anticipos'!$B386,Intensidades!$JZ$6:$JZ$15000)","v":0},{"$f":"+SUMIF(Intensidades!$BS$6:$BX$15000,'Cálculos Anticipos'!$B386,Intensidades!$KA$6:$KA$15000)","v":0},{"$f":"+SUMIF(Intensidades!$BS$6:$BY$15000,'Cálculos Anticipos'!$B386,Intensidades!$KB$6:$KB$15000)","v":0},{"$f":"+SUM(D386:J386)","v":0},{"$f":"+IF(K386=0,IF(B386=$S$5,\"ok\",\"Problema en reparto\"),IF(K386=VLOOKUP(A386,$T$6:$X$105,3,FALSE),\"OK\",\"REVISAR\"))","v":"ok"},null,null,null,null,null,null,{"$f":"+'Datos Previos'!CC34","v":0}]
[null,null,"IMPORTE AYUDA",{"$f":"+SUMIF(Intensidades!BS386:$BS15380,'Cálculos Anticipos'!$B386,Intensidades!$JN$6:$JN$15000)","v":0},{"$f":"+SUMIF(Intensidades!$BS$6:$BT$15000,'Cálculos Anticipos'!$B386,Intensidades!$JO$6:$JO$15000)","v":0},{"$f":"+SUMIF(Intensidades!$BS$6:$BU$15000,'Cálculos Anticipos'!$B386,Intensidades!$JP$6:$JP$15000)","v":0},{"$f":"+SUMIF(Intensidades!$BS$6:$BV$15000,'Cálculos Anticipos'!$B386,Intensidades!$JQ$6:$JQ$15000)","v":0},{"$f":"+SUMIF(Intensidades!$BS$6:$BW$15000,'Cálculos Anticipos'!$B386,Intensidades!$JR$6:$JR$15000)","v":0},{"$f":"+SUMIF(Intensidades!$BS$6:$BX$15000,'Cálculos Anticipos'!$B386,Intensidades!$JS$6:$JS$15000)","v":0},{"$f":"+SUMIF(Intensidades!$BS$6:$BY$15000,'Cálculos Anticipos'!$B386,Intensidades!$JT$6:$JT$15000)","v":0},0,{"$f":"+IF(K387=0,IF(B386=$S$5,\"ok\",\"Problema en reparto\"),IF(K387=VLOOKUP(A386,$T$6:$X$105,5,FALSE),\"OK\",\"REVISAR\"))","v":"ok"}]
[null,null,"PORCENTAJE ANTICIPO",{"$f":"+K388","v":0},{"$f":"+K388","v":0},{"$f":"+K388","v":0},{"$f":"+K388","v":0},{"$f":"+K388","v":0},{"$f":"+K388","v":0},{"$f":"+K388","v":0},0,{"$f":"+IF(K388<=0.7,\"OK; Porcentaje inferior o igual al 70%\",\"Revisar Porcentaje de Anticipo: es mayor del 70% (Máximo Permitido)\")","v":"OK; Porcentaje inferior o igual al 70%"}]
[null,null,"TOTAL ANTICIPO",{"$f":"+ROUND(D387*D388,2)","v":0},{"$f":"+ROUND(E387*E388,2)","v":0},{"$f":"+ROUND(F387*F388,2)","v":0},{"$f":"+ROUND(G387*G388,2)","v":0},{"$f":"+ROUND(H387*H388,2)","v":0},{"$f":"+ROUND(I387*I388,2)","v":0},{"$f":"+ROUND(J387*J388,2)","v":0},{"$f":"+ROUND(K387*K388,2)","v":0},{"$f":"+IFERROR(IF(K389/K387>0.7,\"Revisar, % anticipo mayor 70%\",\"OK\"),\"\")","v":""}]
[null,null,null,null,null,null,null,null,null,null,null,""]
[{"$f":"+'Datos Previos'!CD32","v":0},{"$f":"+IF(A391=$T$106,\"no hay\",S391)","v":"no hay"},"IMPORTE SUBVENCIONABLE",{"$f":"+SUMIF(Intensidades!$BS$6:$BS$15000,'Cálculos Anticipos'!$B391,Intensidades!JV391:JV15385)","v":0},{"$f":"+SUMIF(Intensidades!$BS$6:$BT$15000,'Cálculos Anticipos'!$B391,Intensidades!$JW$6:$JW$15000)","v":0},{"$f":"+SUMIF(Intensidades!$BS$6:$BU$15000,'Cálculos Anticipos'!$B391,Intensidades!$JX$6:$JX$15000)","v":0},{"$f":"+SUMIF(Intensidades!$BS$6:$BV$15000,'Cálculos Anticipos'!$B391,Intensidades!$JY$6:$JY$15000)","v":0},{"$f":"+SUMIF(Intensidades!$BS$6:$BW$15000,'Cálculos Anticipos'!$B391,Intensidades!$JZ$6:$JZ$15000)","v":0},{"$f":"+SUMIF(Intensidades!$BS$6:$BX$15000,'Cálculos Anticipos'!$B391,Intensidades!$KA$6:$KA$15000)","v":0},{"$f":"+SUMIF(Intensidades!$BS$6:$BY$15000,'Cálculos Anticipos'!$B391,Intensidades!$KB$6:$KB$15000)","v":0},{"$f":"+SUM(D391:J391)","v":0},{"$f":"+IF(K391=0,IF(B391=$S$5,\"ok\",\"Problema en reparto\"),IF(K391=VLOOKUP(A391,$T$6:$X$105,3,FALSE),\"OK\",\"REVISAR\"))","v":"ok"},null,null,null,null,null,null,{"$f":"+'Datos Previos'!CD34","v":0}]
[null,null,"IMPORTE AYUDA",{"$f":"+SUMIF(Intensidades!BS391:$BS15385,'Cálculos Anticipos'!$B391,Intensidades!$JN$6:$JN$15000)","v":0},{"$f":"+SUMIF(Intensidades!$BS$6:$BT$15000,'Cálculos Anticipos'!$B391,Intensidades!$JO$6:$JO$15000)","v":0},{"$f":"+SUMIF(Intensidades!$BS$6:$BU$15000,'Cálculos Anticipos'!$B391,Intensidades!$JP$6:$JP$15000)","v":0},{"$f":"+SUMIF(Intensidades!$BS$6:$BV$15000,'Cálculos Anticipos'!$B391,Intensidades!$JQ$6:$JQ$15000)","v":0},{"$f":"+SUMIF(Intensidades!$BS$6:$BW$15000,'Cálculos Anticipos'!$B391,Intensidades!$JR$6:$JR$15000)","v":0},{"$f":"+SUMIF(Intensidades!$BS$6:$BX$15000,'Cálculos Anticipos'!$B391,Intensidades!$JS$6:$JS$15000)","v":0},{"$f":"+SUMIF(Intensidades!$BS$6:$BY$15000,'Cálculos Anticipos'!$B391,Intensidades!$JT$6:$JT$15000)","v":0},0,{"$f":"+IF(K392=0,IF(B391=$S$5,\"ok\",\"Problema en reparto\"),IF(K392=VLOOKUP(A391,$T$6:$X$105,5,FALSE),\"OK\",\"REVISAR\"))","v":"ok"}]
[null,null,"PORCENTAJE ANTICIPO",{"$f":"+K393","v":0},{"$f":"+K393","v":0},{"$f":"+K393","v":0},{"$f":"+K393","v":0},{"$f":"+K393","v":0},{"$f":"+K393","v":0},{"$f":"+K393","v":0},0,{"$f":"+IF(K393<=0.7,\"OK; Porcentaje inferior o igual al 70%\",\"Revisar Porcentaje de Anticipo: es mayor del 70% (Máximo Permitido)\")","v":"OK; Porcentaje inferior o igual al 70%"}]
[null,null,"TOTAL ANTICIPO",{"$f":"+ROUND(D392*D393,2)","v":0},{"$f":"+ROUND(E392*E393,2)","v":0},{"$f":"+ROUND(F392*F393,2)","v":0},{"$f":"+ROUND(G392*G393,2)","v":0},{"$f":"+ROUND(H392*H393,2)","v":0},{"$f":"+ROUND(I392*I393,2)","v":0},{"$f":"+ROUND(J392*J393,2)","v":0},{"$f":"+ROUND(K392*K393,2)","v":0},{"$f":"+IFERROR(IF(K394/K392>0.7,\"Revisar, % anticipo mayor 70%\",\"OK\"),\"\")","v":""}]
[null,null,null,null,null,null,null,null,null,null,null,""]
[{"$f":"+'Datos Previos'!CE32","v":0},{"$f":"+IF(A396=$T$106,\"no hay\",S396)","v":"no hay"},"IMPORTE SUBVENCIONABLE",{"$f":"+SUMIF(Intensidades!$BS$6:$BS$15000,'Cálculos Anticipos'!$B396,Intensidades!JV396:JV15390)","v":0},{"$f":"+SUMIF(Intensidades!$BS$6:$BT$15000,'Cálculos Anticipos'!$B396,Intensidades!$JW$6:$JW$15000)","v":0},{"$f":"+SUMIF(Intensidades!$BS$6:$BU$15000,'Cálculos Anticipos'!$B396,Intensidades!$JX$6:$JX$15000)","v":0},{"$f":"+SUMIF(Intensidades!$BS$6:$BV$15000,'Cálculos Anticipos'!$B396,Intensidades!$JY$6:$JY$15000)","v":0},{"$f":"+SUMIF(Intensidades!$BS$6:$BW$15000,'Cálculos Anticipos'!$B396,Intensidades!$JZ$6:$JZ$15000)","v":0},{"$f":"+SUMIF(Intensidades!$BS$6:$BX$15000,'Cálculos Anticipos'!$B396,Intensidades!$KA$6:$KA$15000)","v":0},{"$f":"+SUMIF(Intensidades!$BS$6:$BY$15000,'Cálculos Anticipos'!$B396,Intensidades!$KB$6:$KB$15000)","v":0},{"$f":"+SUM(D396:J396)","v":0},{"$f":"+IF(K396=0,IF(B396=$S$5,\"ok\",\"Problema en reparto\"),IF(K396=VLOOKUP(A396,$T$6:$X$105,3,FALSE),\"OK\",\"REVISAR\"))","v":"ok"},null,null,null,null,null,null,{"$f":"+'Datos Previos'!CE34","v":0}]
[null,null,"IMPORTE AYUDA",{"$f":"+SUMIF(Intensidades!BS396:$BS15390,'Cálculos Anticipos'!$B396,Intensidades!$JN$6:$JN$15000)","v":0},{"$f":"+SUMIF(Intensidades!$BS$6:$BT$15000,'Cálculos Anticipos'!$B396,Intensidades!$JO$6:$JO$15000)","v":0},{"$f":"+SUMIF(Intensidades!$BS$6:$BU$15000,'Cálculos Anticipos'!$B396,Intensidades!$JP$6:$JP$15000)","v":0},{"$f":"+SUMIF(Intensidades!$BS$6:$BV$15000,'Cálculos Anticipos'!$B396,Intensidades!$JQ$6:$JQ$15000)","v":0},{"$f":"+SUMIF(Intensidades!$BS$6:$BW$15000,'Cálculos Anticipos'!$B396,Intensidades!$JR$6:$JR$15000)","v":0},{"$f":"+SUMIF(Intensidades!$BS$6:$BX$15000,'Cálculos Anticipos'!$B396,Intensidades!$JS$6:$JS$15000)","v":0},{"$f":"+SUMIF(Intensidades!$BS$6:$BY$15000,'Cálculos Anticipos'!$B396,Intensidades!$JT$6:$JT$15000)","v":0},0,{"$f":"+IF(K397=0,IF(B396=$S$5,\"ok\",\"Problema en reparto\"),IF(K397=VLOOKUP(A396,$T$6:$X$105,5,FALSE),\"OK\",\"REVISAR\"))","v":"ok"}]
[null,null,"PORCENTAJE ANTICIPO",{"$f":"+K398","v":0},{"$f":"+K398","v":0},{"$f":"+K398","v":0},{"$f":"+K398","v":0},{"$f":"+K398","v":0},{"$f":"+K398","v":0},{"$f":"+K398","v":0},0,{"$f":"+IF(K398<=0.7,\"OK; Porcentaje inferior o igual al 70%\",\"Revisar Porcentaje de Anticipo: es mayor del 70% (Máximo Permitido)\")","v":"OK; Porcentaje inferior o igual al 70%"}]
[null,null,"TOTAL ANTICIPO",{"$f":"+ROUND(D397*D398,2)","v":0},{"$f":"+ROUND(E397*E398,2)","v":0},{"$f":"+ROUND(F397*F398,2)","v":0},{"$f":"+ROUND(G397*G398,2)","v":0},{"$f":"+ROUND(H397*H398,2)","v":0},{"$f":"+ROUND(I397*I398,2)","v":0},{"$f":"+ROUND(J397*J398,2)","v":0},{"$f":"+ROUND(K397*K398,2)","v":0},{"$f":"+IFERROR(IF(K399/K397>0.7,\"Revisar, % anticipo mayor 70%\",\"OK\"),\"\")","v":""}]
[null,null,null,null,null,null,null,null,null,null,null,""]
[{"$f":"+'Datos Previos'!CF32","v":0},{"$f":"+IF(A401=$T$106,\"no hay\",S401)","v":"no hay"},"IMPORTE SUBVENCIONABLE",{"$f":"+SUMIF(Intensidades!$BS$6:$BS$15000,'Cálculos Anticipos'!$B401,Intensidades!JV401:JV15395)","v":0},{"$f":"+SUMIF(Intensidades!$BS$6:$BT$15000,'Cálculos Anticipos'!$B401,Intensidades!$JW$6:$JW$15000)","v":0},{"$f":"+SUMIF(Intensidades!$BS$6:$BU$15000,'Cálculos Anticipos'!$B401,Intensidades!$JX$6:$JX$15000)","v":0},{"$f":"+SUMIF(Intensidades!$BS$6:$BV$15000,'Cálculos Anticipos'!$B401,Intensidades!$JY$6:$JY$15000)","v":0},{"$f":"+SUMIF(Intensidades!$BS$6:$BW$15000,'Cálculos Anticipos'!$B401,Intensidades!$JZ$6:$JZ$15000)","v":0},{"$f":"+SUMIF(Intensidades!$BS$6:$BX$15000,'Cálculos Anticipos'!$B401,Intensidades!$KA$6:$KA$15000)","v":0},{"$f":"+SUMIF(Intensidades!$BS$6:$BY$15000,'Cálculos Anticipos'!$B401,Intensidades!$KB$6:$KB$15000)","v":0},{"$f":"+SUM(D401:J401)","v":0},{"$f":"+IF(K401=0,IF(B401=$S$5,\"ok\",\"Problema en reparto\"),IF(K401=VLOOKUP(A401,$T$6:$X$105,3,FALSE),\"OK\",\"REVISAR\"))","v":"ok"},null,null,null,null,null,null,{"$f":"+'Datos Previos'!CF34","v":0}]
[null,null,"IMPORTE AYUDA",{"$f":"+SUMIF(Intensidades!BS401:$BS15395,'Cálculos Anticipos'!$B401,Intensidades!$JN$6:$JN$15000)","v":0},{"$f":"+SUMIF(Intensidades!$BS$6:$BT$15000,'Cálculos Anticipos'!$B401,Intensidades!$JO$6:$JO$15000)","v":0},{"$f":"+SUMIF(Intensidades!$BS$6:$BU$15000,'Cálculos Anticipos'!$B401,Intensidades!$JP$6:$JP$15000)","v":0},{"$f":"+SUMIF(Intensidades!$BS$6:$BV$15000,'Cálculos Anticipos'!$B401,Intensidades!$JQ$6:$JQ$15000)","v":0},{"$f":"+SUMIF(Intensidades!$BS$6:$BW$15000,'Cálculos Anticipos'!$B401,Intensidades!$JR$6:$JR$15000)","v":0},{"$f":"+SUMIF(Intensidades!$BS$6:$BX$15000,'Cálculos Anticipos'!$B401,Intensidades!$JS$6:$JS$15000)","v":0},{"$f":"+SUMIF(Intensidades!$BS$6:$BY$15000,'Cálculos Anticipos'!$B401,Intensidades!$JT$6:$JT$15000)","v":0},0,{"$f":"+IF(K402=0,IF(B401=$S$5,\"ok\",\"Problema en reparto\"),IF(K402=VLOOKUP(A401,$T$6:$X$105,5,FALSE),\"OK\",\"REVISAR\"))","v":"ok"}]
[null,null,"PORCENTAJE ANTICIPO",{"$f":"+K403","v":0},{"$f":"+K403","v":0},{"$f":"+K403","v":0},{"$f":"+K403","v":0},{"$f":"+K403","v":0},{"$f":"+K403","v":0},{"$f":"+K403","v":0},0,{"$f":"+IF(K403<=0.7,\"OK; Porcentaje inferior o igual al 70%\",\"Revisar Porcentaje de Anticipo: es mayor del 70% (Máximo Permitido)\")","v":"OK; Porcentaje inferior o igual al 70%"}]
[null,null,"TOTAL ANTICIPO",{"$f":"+ROUND(D402*D403,2)","v":0},{"$f":"+ROUND(E402*E403,2)","v":0},{"$f":"+ROUND(F402*F403,2)","v":0},{"$f":"+ROUND(G402*G403,2)","v":0},{"$f":"+ROUND(H402*H403,2)","v":0},{"$f":"+ROUND(I402*I403,2)","v":0},{"$f":"+ROUND(J402*J403,2)","v":0},{"$f":"+ROUND(K402*K403,2)","v":0},{"$f":"+IFERROR(IF(K404/K402>0.7,\"Revisar, % anticipo mayor 70%\",\"OK\"),\"\")","v":""}]
[null,null,null,null,null,null,null,null,null,null,null,""]
[{"$f":"+'Datos Previos'!CG32","v":0},{"$f":"+IF(A406=$T$106,\"no hay\",S406)","v":"no hay"},"IMPORTE SUBVENCIONABLE",{"$f":"+SUMIF(Intensidades!$BS$6:$BS$15000,'Cálculos Anticipos'!$B406,Intensidades!JV406:JV15400)","v":0},{"$f":"+SUMIF(Intensidades!$BS$6:$BT$15000,'Cálculos Anticipos'!$B406,Intensidades!$JW$6:$JW$15000)","v":0},{"$f":"+SUMIF(Intensidades!$BS$6:$BU$15000,'Cálculos Anticipos'!$B406,Intensidades!$JX$6:$JX$15000)","v":0},{"$f":"+SUMIF(Intensidades!$BS$6:$BV$15000,'Cálculos Anticipos'!$B406,Intensidades!$JY$6:$JY$15000)","v":0},{"$f":"+SUMIF(Intensidades!$BS$6:$BW$15000,'Cálculos Anticipos'!$B406,Intensidades!$JZ$6:$JZ$15000)","v":0},{"$f":"+SUMIF(Intensidades!$BS$6:$BX$15000,'Cálculos Anticipos'!$B406,Intensidades!$KA$6:$KA$15000)","v":0},{"$f":"+SUMIF(Intensidades!$BS$6:$BY$15000,'Cálculos Anticipos'!$B406,Intensidades!$KB$6:$KB$15000)","v":0},{"$f":"+SUM(D406:J406)","v":0},{"$f":"+IF(K406=0,IF(B406=$S$5,\"ok\",\"Problema en reparto\"),IF(K406=VLOOKUP(A406,$T$6:$X$105,3,FALSE),\"OK\",\"REVISAR\"))","v":"ok"},null,null,null,null,null,null,{"$f":"+'Datos Previos'!CG34","v":0}]
[null,null,"IMPORTE AYUDA",{"$f":"+SUMIF(Intensidades!BS406:$BS15400,'Cálculos Anticipos'!$B406,Intensidades!$JN$6:$JN$15000)","v":0},{"$f":"+SUMIF(Intensidades!$BS$6:$BT$15000,'Cálculos Anticipos'!$B406,Intensidades!$JO$6:$JO$15000)","v":0},{"$f":"+SUMIF(Intensidades!$BS$6:$BU$15000,'Cálculos Anticipos'!$B406,Intensidades!$JP$6:$JP$15000)","v":0},{"$f":"+SUMIF(Intensidades!$BS$6:$BV$15000,'Cálculos Anticipos'!$B406,Intensidades!$JQ$6:$JQ$15000)","v":0},{"$f":"+SUMIF(Intensidades!$BS$6:$BW$15000,'Cálculos Anticipos'!$B406,Intensidades!$JR$6:$JR$15000)","v":0},{"$f":"+SUMIF(Intensidades!$BS$6:$BX$15000,'Cálculos Anticipos'!$B406,Intensidades!$JS$6:$JS$15000)","v":0},{"$f":"+SUMIF(Intensidades!$BS$6:$BY$15000,'Cálculos Anticipos'!$B406,Intensidades!$JT$6:$JT$15000)","v":0},0,{"$f":"+IF(K407=0,IF(B406=$S$5,\"ok\",\"Problema en reparto\"),IF(K407=VLOOKUP(A406,$T$6:$X$105,5,FALSE),\"OK\",\"REVISAR\"))","v":"ok"}]
[null,null,"PORCENTAJE ANTICIPO",{"$f":"+K408","v":0},{"$f":"+K408","v":0},{"$f":"+K408","v":0},{"$f":"+K408","v":0},{"$f":"+K408","v":0},{"$f":"+K408","v":0},{"$f":"+K408","v":0},0,{"$f":"+IF(K408<=0.7,\"OK; Porcentaje inferior o igual al 70%\",\"Revisar Porcentaje de Anticipo: es mayor del 70% (Máximo Permitido)\")","v":"OK; Porcentaje inferior o igual al 70%"}]
[null,null,"TOTAL ANTICIPO",{"$f":"+ROUND(D407*D408,2)","v":0},{"$f":"+ROUND(E407*E408,2)","v":0},{"$f":"+ROUND(F407*F408,2)","v":0},{"$f":"+ROUND(G407*G408,2)","v":0},{"$f":"+ROUND(H407*H408,2)","v":0},{"$f":"+ROUND(I407*I408,2)","v":0},{"$f":"+ROUND(J407*J408,2)","v":0},{"$f":"+ROUND(K407*K408,2)","v":0},{"$f":"+IFERROR(IF(K409/K407>0.7,\"Revisar, % anticipo mayor 70%\",\"OK\"),\"\")","v":""}]
[null,null,null,null,null,null,null,null,null,null,null,""]
[{"$f":"+'Datos Previos'!CH32","v":0},{"$f":"+IF(A411=$T$106,\"no hay\",S411)","v":"no hay"},"IMPORTE SUBVENCIONABLE",{"$f":"+SUMIF(Intensidades!$BS$6:$BS$15000,'Cálculos Anticipos'!$B411,Intensidades!JV411:JV15405)","v":0},{"$f":"+SUMIF(Intensidades!$BS$6:$BT$15000,'Cálculos Anticipos'!$B411,Intensidades!$JW$6:$JW$15000)","v":0},{"$f":"+SUMIF(Intensidades!$BS$6:$BU$15000,'Cálculos Anticipos'!$B411,Intensidades!$JX$6:$JX$15000)","v":0},{"$f":"+SUMIF(Intensidades!$BS$6:$BV$15000,'Cálculos Anticipos'!$B411,Intensidades!$JY$6:$JY$15000)","v":0},{"$f":"+SUMIF(Intensidades!$BS$6:$BW$15000,'Cálculos Anticipos'!$B411,Intensidades!$JZ$6:$JZ$15000)","v":0},{"$f":"+SUMIF(Intensidades!$BS$6:$BX$15000,'Cálculos Anticipos'!$B411,Intensidades!$KA$6:$KA$15000)","v":0},{"$f":"+SUMIF(Intensidades!$BS$6:$BY$15000,'Cálculos Anticipos'!$B411,Intensidades!$KB$6:$KB$15000)","v":0},{"$f":"+SUM(D411:J411)","v":0},{"$f":"+IF(K411=0,IF(B411=$S$5,\"ok\",\"Problema en reparto\"),IF(K411=VLOOKUP(A411,$T$6:$X$105,3,FALSE),\"OK\",\"REVISAR\"))","v":"ok"},null,null,null,null,null,null,{"$f":"+'Datos Previos'!CH34","v":0}]
[null,null,"IMPORTE AYUDA",{"$f":"+SUMIF(Intensidades!BS411:$BS15405,'Cálculos Anticipos'!$B411,Intensidades!$JN$6:$JN$15000)","v":0},{"$f":"+SUMIF(Intensidades!$BS$6:$BT$15000,'Cálculos Anticipos'!$B411,Intensidades!$JO$6:$JO$15000)","v":0},{"$f":"+SUMIF(Intensidades!$BS$6:$BU$15000,'Cálculos Anticipos'!$B411,Intensidades!$JP$6:$JP$15000)","v":0},{"$f":"+SUMIF(Intensidades!$BS$6:$BV$15000,'Cálculos Anticipos'!$B411,Intensidades!$JQ$6:$JQ$15000)","v":0},{"$f":"+SUMIF(Intensidades!$BS$6:$BW$15000,'Cálculos Anticipos'!$B411,Intensidades!$JR$6:$JR$15000)","v":0},{"$f":"+SUMIF(Intensidades!$BS$6:$BX$15000,'Cálculos Anticipos'!$B411,Intensidades!$JS$6:$JS$15000)","v":0},{"$f":"+SUMIF(Intensidades!$BS$6:$BY$15000,'Cálculos Anticipos'!$B411,Intensidades!$JT$6:$JT$15000)","v":0},0,{"$f":"+IF(K412=0,IF(B411=$S$5,\"ok\",\"Problema en reparto\"),IF(K412=VLOOKUP(A411,$T$6:$X$105,5,FALSE),\"OK\",\"REVISAR\"))","v":"ok"}]
[null,null,"PORCENTAJE ANTICIPO",{"$f":"+K413","v":0},{"$f":"+K413","v":0},{"$f":"+K413","v":0},{"$f":"+K413","v":0},{"$f":"+K413","v":0},{"$f":"+K413","v":0},{"$f":"+K413","v":0},0,{"$f":"+IF(K413<=0.7,\"OK; Porcentaje inferior o igual al 70%\",\"Revisar Porcentaje de Anticipo: es mayor del 70% (Máximo Permitido)\")","v":"OK; Porcentaje inferior o igual al 70%"}]
[null,null,"TOTAL ANTICIPO",{"$f":"+ROUND(D412*D413,2)","v":0},{"$f":"+ROUND(E412*E413,2)","v":0},{"$f":"+ROUND(F412*F413,2)","v":0},{"$f":"+ROUND(G412*G413,2)","v":0},{"$f":"+ROUND(H412*H413,2)","v":0},{"$f":"+ROUND(I412*I413,2)","v":0},{"$f":"+ROUND(J412*J413,2)","v":0},{"$f":"+ROUND(K412*K413,2)","v":0},{"$f":"+IFERROR(IF(K414/K412>0.7,\"Revisar, % anticipo mayor 70%\",\"OK\"),\"\")","v":""}]
[null,null,null,null,null,null,null,null,null,null,null,""]
[{"$f":"+'Datos Previos'!CI32","v":0},{"$f":"+IF(A416=$T$106,\"no hay\",S416)","v":"no hay"},"IMPORTE SUBVENCIONABLE",{"$f":"+SUMIF(Intensidades!$BS$6:$BS$15000,'Cálculos Anticipos'!$B416,Intensidades!JV416:JV15410)","v":0},{"$f":"+SUMIF(Intensidades!$BS$6:$BT$15000,'Cálculos Anticipos'!$B416,Intensidades!$JW$6:$JW$15000)","v":0},{"$f":"+SUMIF(Intensidades!$BS$6:$BU$15000,'Cálculos Anticipos'!$B416,Intensidades!$JX$6:$JX$15000)","v":0},{"$f":"+SUMIF(Intensidades!$BS$6:$BV$15000,'Cálculos Anticipos'!$B416,Intensidades!$JY$6:$JY$15000)","v":0},{"$f":"+SUMIF(Intensidades!$BS$6:$BW$15000,'Cálculos Anticipos'!$B416,Intensidades!$JZ$6:$JZ$15000)","v":0},{"$f":"+SUMIF(Intensidades!$BS$6:$BX$15000,'Cálculos Anticipos'!$B416,Intensidades!$KA$6:$KA$15000)","v":0},{"$f":"+SUMIF(Intensidades!$BS$6:$BY$15000,'Cálculos Anticipos'!$B416,Intensidades!$KB$6:$KB$15000)","v":0},{"$f":"+SUM(D416:J416)","v":0},{"$f":"+IF(K416=0,IF(B416=$S$5,\"ok\",\"Problema en reparto\"),IF(K416=VLOOKUP(A416,$T$6:$X$105,3,FALSE),\"OK\",\"REVISAR\"))","v":"ok"},null,null,null,null,null,null,{"$f":"+'Datos Previos'!CI34","v":0}]
[null,null,"IMPORTE AYUDA",{"$f":"+SUMIF(Intensidades!BS416:$BS15410,'Cálculos Anticipos'!$B416,Intensidades!$JN$6:$JN$15000)","v":0},{"$f":"+SUMIF(Intensidades!$BS$6:$BT$15000,'Cálculos Anticipos'!$B416,Intensidades!$JO$6:$JO$15000)","v":0},{"$f":"+SUMIF(Intensidades!$BS$6:$BU$15000,'Cálculos Anticipos'!$B416,Intensidades!$JP$6:$JP$15000)","v":0},{"$f":"+SUMIF(Intensidades!$BS$6:$BV$15000,'Cálculos Anticipos'!$B416,Intensidades!$JQ$6:$JQ$15000)","v":0},{"$f":"+SUMIF(Intensidades!$BS$6:$BW$15000,'Cálculos Anticipos'!$B416,Intensidades!$JR$6:$JR$15000)","v":0},{"$f":"+SUMIF(Intensidades!$BS$6:$BX$15000,'Cálculos Anticipos'!$B416,Intensidades!$JS$6:$JS$15000)","v":0},{"$f":"+SUMIF(Intensidades!$BS$6:$BY$15000,'Cálculos Anticipos'!$B416,Intensidades!$JT$6:$JT$15000)","v":0},0,{"$f":"+IF(K417=0,IF(B416=$S$5,\"ok\",\"Problema en reparto\"),IF(K417=VLOOKUP(A416,$T$6:$X$105,5,FALSE),\"OK\",\"REVISAR\"))","v":"ok"}]
[null,null,"PORCENTAJE ANTICIPO",{"$f":"+K418","v":0},{"$f":"+K418","v":0},{"$f":"+K418","v":0},{"$f":"+K418","v":0},{"$f":"+K418","v":0},{"$f":"+K418","v":0},{"$f":"+K418","v":0},0,{"$f":"+IF(K418<=0.7,\"OK; Porcentaje inferior o igual al 70%\",\"Revisar Porcentaje de Anticipo: es mayor del 70% (Máximo Permitido)\")","v":"OK; Porcentaje inferior o igual al 70%"}]
[null,null,"TOTAL ANTICIPO",{"$f":"+ROUND(D417*D418,2)","v":0},{"$f":"+ROUND(E417*E418,2)","v":0},{"$f":"+ROUND(F417*F418,2)","v":0},{"$f":"+ROUND(G417*G418,2)","v":0},{"$f":"+ROUND(H417*H418,2)","v":0},{"$f":"+ROUND(I417*I418,2)","v":0},{"$f":"+ROUND(J417*J418,2)","v":0},{"$f":"+ROUND(K417*K418,2)","v":0},{"$f":"+IFERROR(IF(K419/K417>0.7,\"Revisar, % anticipo mayor 70%\",\"OK\"),\"\")","v":""}]
[null,null,null,null,null,null,null,null,null,null,null,""]
[{"$f":"+'Datos Previos'!CJ32","v":0},{"$f":"+IF(A421=$T$106,\"no hay\",S421)","v":"no hay"},"IMPORTE SUBVENCIONABLE",{"$f":"+SUMIF(Intensidades!$BS$6:$BS$15000,'Cálculos Anticipos'!$B421,Intensidades!JV421:JV15415)","v":0},{"$f":"+SUMIF(Intensidades!$BS$6:$BT$15000,'Cálculos Anticipos'!$B421,Intensidades!$JW$6:$JW$15000)","v":0},{"$f":"+SUMIF(Intensidades!$BS$6:$BU$15000,'Cálculos Anticipos'!$B421,Intensidades!$JX$6:$JX$15000)","v":0},{"$f":"+SUMIF(Intensidades!$BS$6:$BV$15000,'Cálculos Anticipos'!$B421,Intensidades!$JY$6:$JY$15000)","v":0},{"$f":"+SUMIF(Intensidades!$BS$6:$BW$15000,'Cálculos Anticipos'!$B421,Intensidades!$JZ$6:$JZ$15000)","v":0},{"$f":"+SUMIF(Intensidades!$BS$6:$BX$15000,'Cálculos Anticipos'!$B421,Intensidades!$KA$6:$KA$15000)","v":0},{"$f":"+SUMIF(Intensidades!$BS$6:$BY$15000,'Cálculos Anticipos'!$B421,Intensidades!$KB$6:$KB$15000)","v":0},{"$f":"+SUM(D421:J421)","v":0},{"$f":"+IF(K421=0,IF(B421=$S$5,\"ok\",\"Problema en reparto\"),IF(K421=VLOOKUP(A421,$T$6:$X$105,3,FALSE),\"OK\",\"REVISAR\"))","v":"ok"},null,null,null,null,null,null,{"$f":"+'Datos Previos'!CJ34","v":0}]
[null,null,"IMPORTE AYUDA",{"$f":"+SUMIF(Intensidades!BS421:$BS15415,'Cálculos Anticipos'!$B421,Intensidades!$JN$6:$JN$15000)","v":0},{"$f":"+SUMIF(Intensidades!$BS$6:$BT$15000,'Cálculos Anticipos'!$B421,Intensidades!$JO$6:$JO$15000)","v":0},{"$f":"+SUMIF(Intensidades!$BS$6:$BU$15000,'Cálculos Anticipos'!$B421,Intensidades!$JP$6:$JP$15000)","v":0},{"$f":"+SUMIF(Intensidades!$BS$6:$BV$15000,'Cálculos Anticipos'!$B421,Intensidades!$JQ$6:$JQ$15000)","v":0},{"$f":"+SUMIF(Intensidades!$BS$6:$BW$15000,'Cálculos Anticipos'!$B421,Intensidades!$JR$6:$JR$15000)","v":0},{"$f":"+SUMIF(Intensidades!$BS$6:$BX$15000,'Cálculos Anticipos'!$B421,Intensidades!$JS$6:$JS$15000)","v":0},{"$f":"+SUMIF(Intensidades!$BS$6:$BY$15000,'Cálculos Anticipos'!$B421,Intensidades!$JT$6:$JT$15000)","v":0},0,{"$f":"+IF(K422=0,IF(B421=$S$5,\"ok\",\"Problema en reparto\"),IF(K422=VLOOKUP(A421,$T$6:$X$105,5,FALSE),\"OK\",\"REVISAR\"))","v":"ok"}]
[null,null,"PORCENTAJE ANTICIPO",{"$f":"+K423","v":0},{"$f":"+K423","v":0},{"$f":"+K423","v":0},{"$f":"+K423","v":0},{"$f":"+K423","v":0},{"$f":"+K423","v":0},{"$f":"+K423","v":0},0,{"$f":"+IF(K423<=0.7,\"OK; Porcentaje inferior o igual al 70%\",\"Revisar Porcentaje de Anticipo: es mayor del 70% (Máximo Permitido)\")","v":"OK; Porcentaje inferior o igual al 70%"}]
[null,null,"TOTAL ANTICIPO",{"$f":"+ROUND(D422*D423,2)","v":0},{"$f":"+ROUND(E422*E423,2)","v":0},{"$f":"+ROUND(F422*F423,2)","v":0},{"$f":"+ROUND(G422*G423,2)","v":0},{"$f":"+ROUND(H422*H423,2)","v":0},{"$f":"+ROUND(I422*I423,2)","v":0},{"$f":"+ROUND(J422*J423,2)","v":0},{"$f":"+ROUND(K422*K423,2)","v":0},{"$f":"+IFERROR(IF(K424/K422>0.7,\"Revisar, % anticipo mayor 70%\",\"OK\"),\"\")","v":""}]
[null,null,null,null,null,null,null,null,null,null,null,""]
[{"$f":"+'Datos Previos'!CK32","v":0},{"$f":"+IF(A426=$T$106,\"no hay\",S426)","v":"no hay"},"IMPORTE SUBVENCIONABLE",{"$f":"+SUMIF(Intensidades!$BS$6:$BS$15000,'Cálculos Anticipos'!$B426,Intensidades!JV426:JV15420)","v":0},{"$f":"+SUMIF(Intensidades!$BS$6:$BT$15000,'Cálculos Anticipos'!$B426,Intensidades!$JW$6:$JW$15000)","v":0},{"$f":"+SUMIF(Intensidades!$BS$6:$BU$15000,'Cálculos Anticipos'!$B426,Intensidades!$JX$6:$JX$15000)","v":0},{"$f":"+SUMIF(Intensidades!$BS$6:$BV$15000,'Cálculos Anticipos'!$B426,Intensidades!$JY$6:$JY$15000)","v":0},{"$f":"+SUMIF(Intensidades!$BS$6:$BW$15000,'Cálculos Anticipos'!$B426,Intensidades!$JZ$6:$JZ$15000)","v":0},{"$f":"+SUMIF(Intensidades!$BS$6:$BX$15000,'Cálculos Anticipos'!$B426,Intensidades!$KA$6:$KA$15000)","v":0},{"$f":"+SUMIF(Intensidades!$BS$6:$BY$15000,'Cálculos Anticipos'!$B426,Intensidades!$KB$6:$KB$15000)","v":0},{"$f":"+SUM(D426:J426)","v":0},{"$f":"+IF(K426=0,IF(B426=$S$5,\"ok\",\"Problema en reparto\"),IF(K426=VLOOKUP(A426,$T$6:$X$105,3,FALSE),\"OK\",\"REVISAR\"))","v":"ok"},null,null,null,null,null,null,{"$f":"+'Datos Previos'!CK34","v":0}]
[null,null,"IMPORTE AYUDA",{"$f":"+SUMIF(Intensidades!BS426:$BS15420,'Cálculos Anticipos'!$B426,Intensidades!$JN$6:$JN$15000)","v":0},{"$f":"+SUMIF(Intensidades!$BS$6:$BT$15000,'Cálculos Anticipos'!$B426,Intensidades!$JO$6:$JO$15000)","v":0},{"$f":"+SUMIF(Intensidades!$BS$6:$BU$15000,'Cálculos Anticipos'!$B426,Intensidades!$JP$6:$JP$15000)","v":0},{"$f":"+SUMIF(Intensidades!$BS$6:$BV$15000,'Cálculos Anticipos'!$B426,Intensidades!$JQ$6:$JQ$15000)","v":0},{"$f":"+SUMIF(Intensidades!$BS$6:$BW$15000,'Cálculos Anticipos'!$B426,Intensidades!$JR$6:$JR$15000)","v":0},{"$f":"+SUMIF(Intensidades!$BS$6:$BX$15000,'Cálculos Anticipos'!$B426,Intensidades!$JS$6:$JS$15000)","v":0},{"$f":"+SUMIF(Intensidades!$BS$6:$BY$15000,'Cálculos Anticipos'!$B426,Intensidades!$JT$6:$JT$15000)","v":0},0,{"$f":"+IF(K427=0,IF(B426=$S$5,\"ok\",\"Problema en reparto\"),IF(K427=VLOOKUP(A426,$T$6:$X$105,5,FALSE),\"OK\",\"REVISAR\"))","v":"ok"}]
[null,null,"PORCENTAJE ANTICIPO",{"$f":"+K428","v":0},{"$f":"+K428","v":0},{"$f":"+K428","v":0},{"$f":"+K428","v":0},{"$f":"+K428","v":0},{"$f":"+K428","v":0},{"$f":"+K428","v":0},0,{"$f":"+IF(K428<=0.7,\"OK; Porcentaje inferior o igual al 70%\",\"Revisar Porcentaje de Anticipo: es mayor del 70% (Máximo Permitido)\")","v":"OK; Porcentaje inferior o igual al 70%"}]
[null,null,"TOTAL ANTICIPO",{"$f":"+ROUND(D427*D428,2)","v":0},{"$f":"+ROUND(E427*E428,2)","v":0},{"$f":"+ROUND(F427*F428,2)","v":0},{"$f":"+ROUND(G427*G428,2)","v":0},{"$f":"+ROUND(H427*H428,2)","v":0},{"$f":"+ROUND(I427*I428,2)","v":0},{"$f":"+ROUND(J427*J428,2)","v":0},{"$f":"+ROUND(K427*K428,2)","v":0},{"$f":"+IFERROR(IF(K429/K427>0.7,\"Revisar, % anticipo mayor 70%\",\"OK\"),\"\")","v":""}]
[null,null,null,null,null,null,null,null,null,null,null,""]
[{"$f":"+'Datos Previos'!CL32","v":0},{"$f":"+IF(A431=$T$106,\"no hay\",S431)","v":"no hay"},"IMPORTE SUBVENCIONABLE",{"$f":"+SUMIF(Intensidades!$BS$6:$BS$15000,'Cálculos Anticipos'!$B431,Intensidades!JV431:JV15425)","v":0},{"$f":"+SUMIF(Intensidades!$BS$6:$BT$15000,'Cálculos Anticipos'!$B431,Intensidades!$JW$6:$JW$15000)","v":0},{"$f":"+SUMIF(Intensidades!$BS$6:$BU$15000,'Cálculos Anticipos'!$B431,Intensidades!$JX$6:$JX$15000)","v":0},{"$f":"+SUMIF(Intensidades!$BS$6:$BV$15000,'Cálculos Anticipos'!$B431,Intensidades!$JY$6:$JY$15000)","v":0},{"$f":"+SUMIF(Intensidades!$BS$6:$BW$15000,'Cálculos Anticipos'!$B431,Intensidades!$JZ$6:$JZ$15000)","v":0},{"$f":"+SUMIF(Intensidades!$BS$6:$BX$15000,'Cálculos Anticipos'!$B431,Intensidades!$KA$6:$KA$15000)","v":0},{"$f":"+SUMIF(Intensidades!$BS$6:$BY$15000,'Cálculos Anticipos'!$B431,Intensidades!$KB$6:$KB$15000)","v":0},{"$f":"+SUM(D431:J431)","v":0},{"$f":"+IF(K431=0,IF(B431=$S$5,\"ok\",\"Problema en reparto\"),IF(K431=VLOOKUP(A431,$T$6:$X$105,3,FALSE),\"OK\",\"REVISAR\"))","v":"ok"},null,null,null,null,null,null,{"$f":"+'Datos Previos'!CL34","v":0}]
[null,null,"IMPORTE AYUDA",{"$f":"+SUMIF(Intensidades!BS431:$BS15425,'Cálculos Anticipos'!$B431,Intensidades!$JN$6:$JN$15000)","v":0},{"$f":"+SUMIF(Intensidades!$BS$6:$BT$15000,'Cálculos Anticipos'!$B431,Intensidades!$JO$6:$JO$15000)","v":0},{"$f":"+SUMIF(Intensidades!$BS$6:$BU$15000,'Cálculos Anticipos'!$B431,Intensidades!$JP$6:$JP$15000)","v":0},{"$f":"+SUMIF(Intensidades!$BS$6:$BV$15000,'Cálculos Anticipos'!$B431,Intensidades!$JQ$6:$JQ$15000)","v":0},{"$f":"+SUMIF(Intensidades!$BS$6:$BW$15000,'Cálculos Anticipos'!$B431,Intensidades!$JR$6:$JR$15000)","v":0},{"$f":"+SUMIF(Intensidades!$BS$6:$BX$15000,'Cálculos Anticipos'!$B431,Intensidades!$JS$6:$JS$15000)","v":0},{"$f":"+SUMIF(Intensidades!$BS$6:$BY$15000,'Cálculos Anticipos'!$B431,Intensidades!$JT$6:$JT$15000)","v":0},0,{"$f":"+IF(K432=0,IF(B431=$S$5,\"ok\",\"Problema en reparto\"),IF(K432=VLOOKUP(A431,$T$6:$X$105,5,FALSE),\"OK\",\"REVISAR\"))","v":"ok"}]
[null,null,"PORCENTAJE ANTICIPO",{"$f":"+K433","v":0},{"$f":"+K433","v":0},{"$f":"+K433","v":0},{"$f":"+K433","v":0},{"$f":"+K433","v":0},{"$f":"+K433","v":0},{"$f":"+K433","v":0},0,{"$f":"+IF(K433<=0.7,\"OK; Porcentaje inferior o igual al 70%\",\"Revisar Porcentaje de Anticipo: es mayor del 70% (Máximo Permitido)\")","v":"OK; Porcentaje inferior o igual al 70%"}]
[null,null,"TOTAL ANTICIPO",{"$f":"+ROUND(D432*D433,2)","v":0},{"$f":"+ROUND(E432*E433,2)","v":0},{"$f":"+ROUND(F432*F433,2)","v":0},{"$f":"+ROUND(G432*G433,2)","v":0},{"$f":"+ROUND(H432*H433,2)","v":0},{"$f":"+ROUND(I432*I433,2)","v":0},{"$f":"+ROUND(J432*J433,2)","v":0},{"$f":"+ROUND(K432*K433,2)","v":0},{"$f":"+IFERROR(IF(K434/K432>0.7,\"Revisar, % anticipo mayor 70%\",\"OK\"),\"\")","v":""}]
[null,null,null,null,null,null,null,null,null,null,null,""]
[{"$f":"+'Datos Previos'!CM32","v":0},{"$f":"+IF(A436=$T$106,\"no hay\",S436)","v":"no hay"},"IMPORTE SUBVENCIONABLE",{"$f":"+SUMIF(Intensidades!$BS$6:$BS$15000,'Cálculos Anticipos'!$B436,Intensidades!JV436:JV15430)","v":0},{"$f":"+SUMIF(Intensidades!$BS$6:$BT$15000,'Cálculos Anticipos'!$B436,Intensidades!$JW$6:$JW$15000)","v":0},{"$f":"+SUMIF(Intensidades!$BS$6:$BU$15000,'Cálculos Anticipos'!$B436,Intensidades!$JX$6:$JX$15000)","v":0},{"$f":"+SUMIF(Intensidades!$BS$6:$BV$15000,'Cálculos Anticipos'!$B436,Intensidades!$JY$6:$JY$15000)","v":0},{"$f":"+SUMIF(Intensidades!$BS$6:$BW$15000,'Cálculos Anticipos'!$B436,Intensidades!$JZ$6:$JZ$15000)","v":0},{"$f":"+SUMIF(Intensidades!$BS$6:$BX$15000,'Cálculos Anticipos'!$B436,Intensidades!$KA$6:$KA$15000)","v":0},{"$f":"+SUMIF(Intensidades!$BS$6:$BY$15000,'Cálculos Anticipos'!$B436,Intensidades!$KB$6:$KB$15000)","v":0},{"$f":"+SUM(D436:J436)","v":0},{"$f":"+IF(K436=0,IF(B436=$S$5,\"ok\",\"Problema en reparto\"),IF(K436=VLOOKUP(A436,$T$6:$X$105,3,FALSE),\"OK\",\"REVISAR\"))","v":"ok"},null,null,null,null,null,null,{"$f":"+'Datos Previos'!CM34","v":0}]
[null,null,"IMPORTE AYUDA",{"$f":"+SUMIF(Intensidades!BS436:$BS15430,'Cálculos Anticipos'!$B436,Intensidades!$JN$6:$JN$15000)","v":0},{"$f":"+SUMIF(Intensidades!$BS$6:$BT$15000,'Cálculos Anticipos'!$B436,Intensidades!$JO$6:$JO$15000)","v":0},{"$f":"+SUMIF(Intensidades!$BS$6:$BU$15000,'Cálculos Anticipos'!$B436,Intensidades!$JP$6:$JP$15000)","v":0},{"$f":"+SUMIF(Intensidades!$BS$6:$BV$15000,'Cálculos Anticipos'!$B436,Intensidades!$JQ$6:$JQ$15000)","v":0},{"$f":"+SUMIF(Intensidades!$BS$6:$BW$15000,'Cálculos Anticipos'!$B436,Intensidades!$JR$6:$JR$15000)","v":0},{"$f":"+SUMIF(Intensidades!$BS$6:$BX$15000,'Cálculos Anticipos'!$B436,Intensidades!$JS$6:$JS$15000)","v":0},{"$f":"+SUMIF(Intensidades!$BS$6:$BY$15000,'Cálculos Anticipos'!$B436,Intensidades!$JT$6:$JT$15000)","v":0},0,{"$f":"+IF(K437=0,IF(B436=$S$5,\"ok\",\"Problema en reparto\"),IF(K437=VLOOKUP(A436,$T$6:$X$105,5,FALSE),\"OK\",\"REVISAR\"))","v":"ok"}]
[null,null,"PORCENTAJE ANTICIPO",{"$f":"+K438","v":0},{"$f":"+K438","v":0},{"$f":"+K438","v":0},{"$f":"+K438","v":0},{"$f":"+K438","v":0},{"$f":"+K438","v":0},{"$f":"+K438","v":0},0,{"$f":"+IF(K438<=0.7,\"OK; Porcentaje inferior o igual al 70%\",\"Revisar Porcentaje de Anticipo: es mayor del 70% (Máximo Permitido)\")","v":"OK; Porcentaje inferior o igual al 70%"}]
[null,null,"TOTAL ANTICIPO",{"$f":"+ROUND(D437*D438,2)","v":0},{"$f":"+ROUND(E437*E438,2)","v":0},{"$f":"+ROUND(F437*F438,2)","v":0},{"$f":"+ROUND(G437*G438,2)","v":0},{"$f":"+ROUND(H437*H438,2)","v":0},{"$f":"+ROUND(I437*I438,2)","v":0},{"$f":"+ROUND(J437*J438,2)","v":0},{"$f":"+ROUND(K437*K438,2)","v":0},{"$f":"+IFERROR(IF(K439/K437>0.7,\"Revisar, % anticipo mayor 70%\",\"OK\"),\"\")","v":""}]
[null,null,null,null,null,null,null,null,null,null,null,""]
[{"$f":"+'Datos Previos'!CN32","v":0},{"$f":"+IF(A441=$T$106,\"no hay\",S441)","v":"no hay"},"IMPORTE SUBVENCIONABLE",{"$f":"+SUMIF(Intensidades!$BS$6:$BS$15000,'Cálculos Anticipos'!$B441,Intensidades!JV441:JV15435)","v":0},{"$f":"+SUMIF(Intensidades!$BS$6:$BT$15000,'Cálculos Anticipos'!$B441,Intensidades!$JW$6:$JW$15000)","v":0},{"$f":"+SUMIF(Intensidades!$BS$6:$BU$15000,'Cálculos Anticipos'!$B441,Intensidades!$JX$6:$JX$15000)","v":0},{"$f":"+SUMIF(Intensidades!$BS$6:$BV$15000,'Cálculos Anticipos'!$B441,Intensidades!$JY$6:$JY$15000)","v":0},{"$f":"+SUMIF(Intensidades!$BS$6:$BW$15000,'Cálculos Anticipos'!$B441,Intensidades!$JZ$6:$JZ$15000)","v":0},{"$f":"+SUMIF(Intensidades!$BS$6:$BX$15000,'Cálculos Anticipos'!$B441,Intensidades!$KA$6:$KA$15000)","v":0},{"$f":"+SUMIF(Intensidades!$BS$6:$BY$15000,'Cálculos Anticipos'!$B441,Intensidades!$KB$6:$KB$15000)","v":0},{"$f":"+SUM(D441:J441)","v":0},{"$f":"+IF(K441=0,IF(B441=$S$5,\"ok\",\"Problema en reparto\"),IF(K441=VLOOKUP(A441,$T$6:$X$105,3,FALSE),\"OK\",\"REVISAR\"))","v":"ok"},null,null,null,null,null,null,{"$f":"+'Datos Previos'!CN34","v":0}]
[null,null,"IMPORTE AYUDA",{"$f":"+SUMIF(Intensidades!BS441:$BS15435,'Cálculos Anticipos'!$B441,Intensidades!$JN$6:$JN$15000)","v":0},{"$f":"+SUMIF(Intensidades!$BS$6:$BT$15000,'Cálculos Anticipos'!$B441,Intensidades!$JO$6:$JO$15000)","v":0},{"$f":"+SUMIF(Intensidades!$BS$6:$BU$15000,'Cálculos Anticipos'!$B441,Intensidades!$JP$6:$JP$15000)","v":0},{"$f":"+SUMIF(Intensidades!$BS$6:$BV$15000,'Cálculos Anticipos'!$B441,Intensidades!$JQ$6:$JQ$15000)","v":0},{"$f":"+SUMIF(Intensidades!$BS$6:$BW$15000,'Cálculos Anticipos'!$B441,Intensidades!$JR$6:$JR$15000)","v":0},{"$f":"+SUMIF(Intensidades!$BS$6:$BX$15000,'Cálculos Anticipos'!$B441,Intensidades!$JS$6:$JS$15000)","v":0},{"$f":"+SUMIF(Intensidades!$BS$6:$BY$15000,'Cálculos Anticipos'!$B441,Intensidades!$JT$6:$JT$15000)","v":0},0,{"$f":"+IF(K442=0,IF(B441=$S$5,\"ok\",\"Problema en reparto\"),IF(K442=VLOOKUP(A441,$T$6:$X$105,5,FALSE),\"OK\",\"REVISAR\"))","v":"ok"}]
[null,null,"PORCENTAJE ANTICIPO",{"$f":"+K443","v":0},{"$f":"+K443","v":0},{"$f":"+K443","v":0},{"$f":"+K443","v":0},{"$f":"+K443","v":0},{"$f":"+K443","v":0},{"$f":"+K443","v":0},0,{"$f":"+IF(K443<=0.7,\"OK; Porcentaje inferior o igual al 70%\",\"Revisar Porcentaje de Anticipo: es mayor del 70% (Máximo Permitido)\")","v":"OK; Porcentaje inferior o igual al 70%"}]
[null,null,"TOTAL ANTICIPO",{"$f":"+ROUND(D442*D443,2)","v":0},{"$f":"+ROUND(E442*E443,2)","v":0},{"$f":"+ROUND(F442*F443,2)","v":0},{"$f":"+ROUND(G442*G443,2)","v":0},{"$f":"+ROUND(H442*H443,2)","v":0},{"$f":"+ROUND(I442*I443,2)","v":0},{"$f":"+ROUND(J442*J443,2)","v":0},{"$f":"+ROUND(K442*K443,2)","v":0},{"$f":"+IFERROR(IF(K444/K442>0.7,\"Revisar, % anticipo mayor 70%\",\"OK\"),\"\")","v":""}]
[null,null,null,null,null,null,null,null,null,null,null,""]
[{"$f":"+'Datos Previos'!CO32","v":0},{"$f":"+IF(A446=$T$106,\"no hay\",S446)","v":"no hay"},"IMPORTE SUBVENCIONABLE",{"$f":"+SUMIF(Intensidades!$BS$6:$BS$15000,'Cálculos Anticipos'!$B446,Intensidades!JV446:JV15440)","v":0},{"$f":"+SUMIF(Intensidades!$BS$6:$BT$15000,'Cálculos Anticipos'!$B446,Intensidades!$JW$6:$JW$15000)","v":0},{"$f":"+SUMIF(Intensidades!$BS$6:$BU$15000,'Cálculos Anticipos'!$B446,Intensidades!$JX$6:$JX$15000)","v":0},{"$f":"+SUMIF(Intensidades!$BS$6:$BV$15000,'Cálculos Anticipos'!$B446,Intensidades!$JY$6:$JY$15000)","v":0},{"$f":"+SUMIF(Intensidades!$BS$6:$BW$15000,'Cálculos Anticipos'!$B446,Intensidades!$JZ$6:$JZ$15000)","v":0},{"$f":"+SUMIF(Intensidades!$BS$6:$BX$15000,'Cálculos Anticipos'!$B446,Intensidades!$KA$6:$KA$15000)","v":0},{"$f":"+SUMIF(Intensidades!$BS$6:$BY$15000,'Cálculos Anticipos'!$B446,Intensidades!$KB$6:$KB$15000)","v":0},{"$f":"+SUM(D446:J446)","v":0},{"$f":"+IF(K446=0,IF(B446=$S$5,\"ok\",\"Problema en reparto\"),IF(K446=VLOOKUP(A446,$T$6:$X$105,3,FALSE),\"OK\",\"REVISAR\"))","v":"ok"},null,null,null,null,null,null,{"$f":"+'Datos Previos'!CO34","v":0}]
[null,null,"IMPORTE AYUDA",{"$f":"+SUMIF(Intensidades!BS446:$BS15440,'Cálculos Anticipos'!$B446,Intensidades!$JN$6:$JN$15000)","v":0},{"$f":"+SUMIF(Intensidades!$BS$6:$BT$15000,'Cálculos Anticipos'!$B446,Intensidades!$JO$6:$JO$15000)","v":0},{"$f":"+SUMIF(Intensidades!$BS$6:$BU$15000,'Cálculos Anticipos'!$B446,Intensidades!$JP$6:$JP$15000)","v":0},{"$f":"+SUMIF(Intensidades!$BS$6:$BV$15000,'Cálculos Anticipos'!$B446,Intensidades!$JQ$6:$JQ$15000)","v":0},{"$f":"+SUMIF(Intensidades!$BS$6:$BW$15000,'Cálculos Anticipos'!$B446,Intensidades!$JR$6:$JR$15000)","v":0},{"$f":"+SUMIF(Intensidades!$BS$6:$BX$15000,'Cálculos Anticipos'!$B446,Intensidades!$JS$6:$JS$15000)","v":0},{"$f":"+SUMIF(Intensidades!$BS$6:$BY$15000,'Cálculos Anticipos'!$B446,Intensidades!$JT$6:$JT$15000)","v":0},0,{"$f":"+IF(K447=0,IF(B446=$S$5,\"ok\",\"Problema en reparto\"),IF(K447=VLOOKUP(A446,$T$6:$X$105,5,FALSE),\"OK\",\"REVISAR\"))","v":"ok"}]
[null,null,"PORCENTAJE ANTICIPO",{"$f":"+K448","v":0},{"$f":"+K448","v":0},{"$f":"+K448","v":0},{"$f":"+K448","v":0},{"$f":"+K448","v":0},{"$f":"+K448","v":0},{"$f":"+K448","v":0},0,{"$f":"+IF(K448<=0.7,\"OK; Porcentaje inferior o igual al 70%\",\"Revisar Porcentaje de Anticipo: es mayor del 70% (Máximo Permitido)\")","v":"OK; Porcentaje inferior o igual al 70%"}]
[null,null,"TOTAL ANTICIPO",{"$f":"+ROUND(D447*D448,2)","v":0},{"$f":"+ROUND(E447*E448,2)","v":0},{"$f":"+ROUND(F447*F448,2)","v":0},{"$f":"+ROUND(G447*G448,2)","v":0},{"$f":"+ROUND(H447*H448,2)","v":0},{"$f":"+ROUND(I447*I448,2)","v":0},{"$f":"+ROUND(J447*J448,2)","v":0},{"$f":"+ROUND(K447*K448,2)","v":0},{"$f":"+IFERROR(IF(K449/K447>0.7,\"Revisar, % anticipo mayor 70%\",\"OK\"),\"\")","v":""}]
[null,null,null,null,null,null,null,null,null,null,null,""]
[{"$f":"+'Datos Previos'!CP32","v":0},{"$f":"+IF(A451=$T$106,\"no hay\",S451)","v":"no hay"},"IMPORTE SUBVENCIONABLE",{"$f":"+SUMIF(Intensidades!$BS$6:$BS$15000,'Cálculos Anticipos'!$B451,Intensidades!JV451:JV15445)","v":0},{"$f":"+SUMIF(Intensidades!$BS$6:$BT$15000,'Cálculos Anticipos'!$B451,Intensidades!$JW$6:$JW$15000)","v":0},{"$f":"+SUMIF(Intensidades!$BS$6:$BU$15000,'Cálculos Anticipos'!$B451,Intensidades!$JX$6:$JX$15000)","v":0},{"$f":"+SUMIF(Intensidades!$BS$6:$BV$15000,'Cálculos Anticipos'!$B451,Intensidades!$JY$6:$JY$15000)","v":0},{"$f":"+SUMIF(Intensidades!$BS$6:$BW$15000,'Cálculos Anticipos'!$B451,Intensidades!$JZ$6:$JZ$15000)","v":0},{"$f":"+SUMIF(Intensidades!$BS$6:$BX$15000,'Cálculos Anticipos'!$B451,Intensidades!$KA$6:$KA$15000)","v":0},{"$f":"+SUMIF(Intensidades!$BS$6:$BY$15000,'Cálculos Anticipos'!$B451,Intensidades!$KB$6:$KB$15000)","v":0},{"$f":"+SUM(D451:J451)","v":0},{"$f":"+IF(K451=0,IF(B451=$S$5,\"ok\",\"Problema en reparto\"),IF(K451=VLOOKUP(A451,$T$6:$X$105,3,FALSE),\"OK\",\"REVISAR\"))","v":"ok"},null,null,null,null,null,null,{"$f":"+'Datos Previos'!CP34","v":0}]
[null,null,"IMPORTE AYUDA",{"$f":"+SUMIF(Intensidades!BS451:$BS15445,'Cálculos Anticipos'!$B451,Intensidades!$JN$6:$JN$15000)","v":0},{"$f":"+SUMIF(Intensidades!$BS$6:$BT$15000,'Cálculos Anticipos'!$B451,Intensidades!$JO$6:$JO$15000)","v":0},{"$f":"+SUMIF(Intensidades!$BS$6:$BU$15000,'Cálculos Anticipos'!$B451,Intensidades!$JP$6:$JP$15000)","v":0},{"$f":"+SUMIF(Intensidades!$BS$6:$BV$15000,'Cálculos Anticipos'!$B451,Intensidades!$JQ$6:$JQ$15000)","v":0},{"$f":"+SUMIF(Intensidades!$BS$6:$BW$15000,'Cálculos Anticipos'!$B451,Intensidades!$JR$6:$JR$15000)","v":0},{"$f":"+SUMIF(Intensidades!$BS$6:$BX$15000,'Cálculos Anticipos'!$B451,Intensidades!$JS$6:$JS$15000)","v":0},{"$f":"+SUMIF(Intensidades!$BS$6:$BY$15000,'Cálculos Anticipos'!$B451,Intensidades!$JT$6:$JT$15000)","v":0},0,{"$f":"+IF(K452=0,IF(B451=$S$5,\"ok\",\"Problema en reparto\"),IF(K452=VLOOKUP(A451,$T$6:$X$105,5,FALSE),\"OK\",\"REVISAR\"))","v":"ok"}]
[null,null,"PORCENTAJE ANTICIPO",{"$f":"+K453","v":0},{"$f":"+K453","v":0},{"$f":"+K453","v":0},{"$f":"+K453","v":0},{"$f":"+K453","v":0},{"$f":"+K453","v":0},{"$f":"+K453","v":0},0,{"$f":"+IF(K453<=0.7,\"OK; Porcentaje inferior o igual al 70%\",\"Revisar Porcentaje de Anticipo: es mayor del 70% (Máximo Permitido)\")","v":"OK; Porcentaje inferior o igual al 70%"}]
[null,null,"TOTAL ANTICIPO",{"$f":"+ROUND(D452*D453,2)","v":0},{"$f":"+ROUND(E452*E453,2)","v":0},{"$f":"+ROUND(F452*F453,2)","v":0},{"$f":"+ROUND(G452*G453,2)","v":0},{"$f":"+ROUND(H452*H453,2)","v":0},{"$f":"+ROUND(I452*I453,2)","v":0},{"$f":"+ROUND(J452*J453,2)","v":0},{"$f":"+ROUND(K452*K453,2)","v":0},{"$f":"+IFERROR(IF(K454/K452>0.7,\"Revisar, % anticipo mayor 70%\",\"OK\"),\"\")","v":""}]
[null,null,null,null,null,null,null,null,null,null,null,""]
[{"$f":"+'Datos Previos'!CQ32","v":0},{"$f":"+IF(A456=$T$106,\"no hay\",S456)","v":"no hay"},"IMPORTE SUBVENCIONABLE",{"$f":"+SUMIF(Intensidades!$BS$6:$BS$15000,'Cálculos Anticipos'!$B456,Intensidades!JV456:JV15450)","v":0},{"$f":"+SUMIF(Intensidades!$BS$6:$BT$15000,'Cálculos Anticipos'!$B456,Intensidades!$JW$6:$JW$15000)","v":0},{"$f":"+SUMIF(Intensidades!$BS$6:$BU$15000,'Cálculos Anticipos'!$B456,Intensidades!$JX$6:$JX$15000)","v":0},{"$f":"+SUMIF(Intensidades!$BS$6:$BV$15000,'Cálculos Anticipos'!$B456,Intensidades!$JY$6:$JY$15000)","v":0},{"$f":"+SUMIF(Intensidades!$BS$6:$BW$15000,'Cálculos Anticipos'!$B456,Intensidades!$JZ$6:$JZ$15000)","v":0},{"$f":"+SUMIF(Intensidades!$BS$6:$BX$15000,'Cálculos Anticipos'!$B456,Intensidades!$KA$6:$KA$15000)","v":0},{"$f":"+SUMIF(Intensidades!$BS$6:$BY$15000,'Cálculos Anticipos'!$B456,Intensidades!$KB$6:$KB$15000)","v":0},{"$f":"+SUM(D456:J456)","v":0},{"$f":"+IF(K456=0,IF(B456=$S$5,\"ok\",\"Problema en reparto\"),IF(K456=VLOOKUP(A456,$T$6:$X$105,3,FALSE),\"OK\",\"REVISAR\"))","v":"ok"},null,null,null,null,null,null,{"$f":"+'Datos Previos'!CQ34","v":0}]
[null,null,"IMPORTE AYUDA",{"$f":"+SUMIF(Intensidades!BS456:$BS15450,'Cálculos Anticipos'!$B456,Intensidades!$JN$6:$JN$15000)","v":0},{"$f":"+SUMIF(Intensidades!$BS$6:$BT$15000,'Cálculos Anticipos'!$B456,Intensidades!$JO$6:$JO$15000)","v":0},{"$f":"+SUMIF(Intensidades!$BS$6:$BU$15000,'Cálculos Anticipos'!$B456,Intensidades!$JP$6:$JP$15000)","v":0},{"$f":"+SUMIF(Intensidades!$BS$6:$BV$15000,'Cálculos Anticipos'!$B456,Intensidades!$JQ$6:$JQ$15000)","v":0},{"$f":"+SUMIF(Intensidades!$BS$6:$BW$15000,'Cálculos Anticipos'!$B456,Intensidades!$JR$6:$JR$15000)","v":0},{"$f":"+SUMIF(Intensidades!$BS$6:$BX$15000,'Cálculos Anticipos'!$B456,Intensidades!$JS$6:$JS$15000)","v":0},{"$f":"+SUMIF(Intensidades!$BS$6:$BY$15000,'Cálculos Anticipos'!$B456,Intensidades!$JT$6:$JT$15000)","v":0},0,{"$f":"+IF(K457=0,IF(B456=$S$5,\"ok\",\"Problema en reparto\"),IF(K457=VLOOKUP(A456,$T$6:$X$105,5,FALSE),\"OK\",\"REVISAR\"))","v":"ok"}]
[null,null,"PORCENTAJE ANTICIPO",{"$f":"+K458","v":0},{"$f":"+K458","v":0},{"$f":"+K458","v":0},{"$f":"+K458","v":0},{"$f":"+K458","v":0},{"$f":"+K458","v":0},{"$f":"+K458","v":0},0,{"$f":"+IF(K458<=0.7,\"OK; Porcentaje inferior o igual al 70%\",\"Revisar Porcentaje de Anticipo: es mayor del 70% (Máximo Permitido)\")","v":"OK; Porcentaje inferior o igual al 70%"}]
[null,null,"TOTAL ANTICIPO",{"$f":"+ROUND(D457*D458,2)","v":0},{"$f":"+ROUND(E457*E458,2)","v":0},{"$f":"+ROUND(F457*F458,2)","v":0},{"$f":"+ROUND(G457*G458,2)","v":0},{"$f":"+ROUND(H457*H458,2)","v":0},{"$f":"+ROUND(I457*I458,2)","v":0},{"$f":"+ROUND(J457*J458,2)","v":0},{"$f":"+ROUND(K457*K458,2)","v":0},{"$f":"+IFERROR(IF(K459/K457>0.7,\"Revisar, % anticipo mayor 70%\",\"OK\"),\"\")","v":""}]
[null,null,null,null,null,null,null,null,null,null,null,""]
[{"$f":"+'Datos Previos'!CR32","v":0},{"$f":"+IF(A461=$T$106,\"no hay\",S461)","v":"no hay"},"IMPORTE SUBVENCIONABLE",{"$f":"+SUMIF(Intensidades!$BS$6:$BS$15000,'Cálculos Anticipos'!$B461,Intensidades!JV461:JV15455)","v":0},{"$f":"+SUMIF(Intensidades!$BS$6:$BT$15000,'Cálculos Anticipos'!$B461,Intensidades!$JW$6:$JW$15000)","v":0},{"$f":"+SUMIF(Intensidades!$BS$6:$BU$15000,'Cálculos Anticipos'!$B461,Intensidades!$JX$6:$JX$15000)","v":0},{"$f":"+SUMIF(Intensidades!$BS$6:$BV$15000,'Cálculos Anticipos'!$B461,Intensidades!$JY$6:$JY$15000)","v":0},{"$f":"+SUMIF(Intensidades!$BS$6:$BW$15000,'Cálculos Anticipos'!$B461,Intensidades!$JZ$6:$JZ$15000)","v":0},{"$f":"+SUMIF(Intensidades!$BS$6:$BX$15000,'Cálculos Anticipos'!$B461,Intensidades!$KA$6:$KA$15000)","v":0},{"$f":"+SUMIF(Intensidades!$BS$6:$BY$15000,'Cálculos Anticipos'!$B461,Intensidades!$KB$6:$KB$15000)","v":0},{"$f":"+SUM(D461:J461)","v":0},{"$f":"+IF(K461=0,IF(B461=$S$5,\"ok\",\"Problema en reparto\"),IF(K461=VLOOKUP(A461,$T$6:$X$105,3,FALSE),\"OK\",\"REVISAR\"))","v":"ok"},null,null,null,null,null,null,{"$f":"+'Datos Previos'!CR34","v":0}]
[null,null,"IMPORTE AYUDA",{"$f":"+SUMIF(Intensidades!BS461:$BS15455,'Cálculos Anticipos'!$B461,Intensidades!$JN$6:$JN$15000)","v":0},{"$f":"+SUMIF(Intensidades!$BS$6:$BT$15000,'Cálculos Anticipos'!$B461,Intensidades!$JO$6:$JO$15000)","v":0},{"$f":"+SUMIF(Intensidades!$BS$6:$BU$15000,'Cálculos Anticipos'!$B461,Intensidades!$JP$6:$JP$15000)","v":0},{"$f":"+SUMIF(Intensidades!$BS$6:$BV$15000,'Cálculos Anticipos'!$B461,Intensidades!$JQ$6:$JQ$15000)","v":0},{"$f":"+SUMIF(Intensidades!$BS$6:$BW$15000,'Cálculos Anticipos'!$B461,Intensidades!$JR$6:$JR$15000)","v":0},{"$f":"+SUMIF(Intensidades!$BS$6:$BX$15000,'Cálculos Anticipos'!$B461,Intensidades!$JS$6:$JS$15000)","v":0},{"$f":"+SUMIF(Intensidades!$BS$6:$BY$15000,'Cálculos Anticipos'!$B461,Intensidades!$JT$6:$JT$15000)","v":0},0,{"$f":"+IF(K462=0,IF(B461=$S$5,\"ok\",\"Problema en reparto\"),IF(K462=VLOOKUP(A461,$T$6:$X$105,5,FALSE),\"OK\",\"REVISAR\"))","v":"ok"}]
[null,null,"PORCENTAJE ANTICIPO",{"$f":"+K463","v":0},{"$f":"+K463","v":0},{"$f":"+K463","v":0},{"$f":"+K463","v":0},{"$f":"+K463","v":0},{"$f":"+K463","v":0},{"$f":"+K463","v":0},0,{"$f":"+IF(K463<=0.7,\"OK; Porcentaje inferior o igual al 70%\",\"Revisar Porcentaje de Anticipo: es mayor del 70% (Máximo Permitido)\")","v":"OK; Porcentaje inferior o igual al 70%"}]
[null,null,"TOTAL ANTICIPO",{"$f":"+ROUND(D462*D463,2)","v":0},{"$f":"+ROUND(E462*E463,2)","v":0},{"$f":"+ROUND(F462*F463,2)","v":0},{"$f":"+ROUND(G462*G463,2)","v":0},{"$f":"+ROUND(H462*H463,2)","v":0},{"$f":"+ROUND(I462*I463,2)","v":0},{"$f":"+ROUND(J462*J463,2)","v":0},{"$f":"+ROUND(K462*K463,2)","v":0},{"$f":"+IFERROR(IF(K464/K462>0.7,\"Revisar, % anticipo mayor 70%\",\"OK\"),\"\")","v":""}]
[null,null,null,null,null,null,null,null,null,null,null,""]
[{"$f":"+'Datos Previos'!CS32","v":0},{"$f":"+IF(A466=$T$106,\"no hay\",S466)","v":"no hay"},"IMPORTE SUBVENCIONABLE",{"$f":"+SUMIF(Intensidades!$BS$6:$BS$15000,'Cálculos Anticipos'!$B466,Intensidades!JV466:JV15460)","v":0},{"$f":"+SUMIF(Intensidades!$BS$6:$BT$15000,'Cálculos Anticipos'!$B466,Intensidades!$JW$6:$JW$15000)","v":0},{"$f":"+SUMIF(Intensidades!$BS$6:$BU$15000,'Cálculos Anticipos'!$B466,Intensidades!$JX$6:$JX$15000)","v":0},{"$f":"+SUMIF(Intensidades!$BS$6:$BV$15000,'Cálculos Anticipos'!$B466,Intensidades!$JY$6:$JY$15000)","v":0},{"$f":"+SUMIF(Intensidades!$BS$6:$BW$15000,'Cálculos Anticipos'!$B466,Intensidades!$JZ$6:$JZ$15000)","v":0},{"$f":"+SUMIF(Intensidades!$BS$6:$BX$15000,'Cálculos Anticipos'!$B466,Intensidades!$KA$6:$KA$15000)","v":0},{"$f":"+SUMIF(Intensidades!$BS$6:$BY$15000,'Cálculos Anticipos'!$B466,Intensidades!$KB$6:$KB$15000)","v":0},{"$f":"+SUM(D466:J466)","v":0},{"$f":"+IF(K466=0,IF(B466=$S$5,\"ok\",\"Problema en reparto\"),IF(K466=VLOOKUP(A466,$T$6:$X$105,3,FALSE),\"OK\",\"REVISAR\"))","v":"ok"},null,null,null,null,null,null,{"$f":"+'Datos Previos'!CS34","v":0}]
[null,null,"IMPORTE AYUDA",{"$f":"+SUMIF(Intensidades!BS466:$BS15460,'Cálculos Anticipos'!$B466,Intensidades!$JN$6:$JN$15000)","v":0},{"$f":"+SUMIF(Intensidades!$BS$6:$BT$15000,'Cálculos Anticipos'!$B466,Intensidades!$JO$6:$JO$15000)","v":0},{"$f":"+SUMIF(Intensidades!$BS$6:$BU$15000,'Cálculos Anticipos'!$B466,Intensidades!$JP$6:$JP$15000)","v":0},{"$f":"+SUMIF(Intensidades!$BS$6:$BV$15000,'Cálculos Anticipos'!$B466,Intensidades!$JQ$6:$JQ$15000)","v":0},{"$f":"+SUMIF(Intensidades!$BS$6:$BW$15000,'Cálculos Anticipos'!$B466,Intensidades!$JR$6:$JR$15000)","v":0},{"$f":"+SUMIF(Intensidades!$BS$6:$BX$15000,'Cálculos Anticipos'!$B466,Intensidades!$JS$6:$JS$15000)","v":0},{"$f":"+SUMIF(Intensidades!$BS$6:$BY$15000,'Cálculos Anticipos'!$B466,Intensidades!$JT$6:$JT$15000)","v":0},0,{"$f":"+IF(K467=0,IF(B466=$S$5,\"ok\",\"Problema en reparto\"),IF(K467=VLOOKUP(A466,$T$6:$X$105,5,FALSE),\"OK\",\"REVISAR\"))","v":"ok"}]
[null,null,"PORCENTAJE ANTICIPO",{"$f":"+K468","v":0},{"$f":"+K468","v":0},{"$f":"+K468","v":0},{"$f":"+K468","v":0},{"$f":"+K468","v":0},{"$f":"+K468","v":0},{"$f":"+K468","v":0},0,{"$f":"+IF(K468<=0.7,\"OK; Porcentaje inferior o igual al 70%\",\"Revisar Porcentaje de Anticipo: es mayor del 70% (Máximo Permitido)\")","v":"OK; Porcentaje inferior o igual al 70%"}]
[null,null,"TOTAL ANTICIPO",{"$f":"+ROUND(D467*D468,2)","v":0},{"$f":"+ROUND(E467*E468,2)","v":0},{"$f":"+ROUND(F467*F468,2)","v":0},{"$f":"+ROUND(G467*G468,2)","v":0},{"$f":"+ROUND(H467*H468,2)","v":0},{"$f":"+ROUND(I467*I468,2)","v":0},{"$f":"+ROUND(J467*J468,2)","v":0},{"$f":"+ROUND(K467*K468,2)","v":0},{"$f":"+IFERROR(IF(K469/K467>0.7,\"Revisar, % anticipo mayor 70%\",\"OK\"),\"\")","v":""}]
[null,null,null,null,null,null,null,null,null,null,null,""]
[{"$f":"+'Datos Previos'!CT32","v":0},{"$f":"+IF(A471=$T$106,\"no hay\",S471)","v":"no hay"},"IMPORTE SUBVENCIONABLE",{"$f":"+SUMIF(Intensidades!$BS$6:$BS$15000,'Cálculos Anticipos'!$B471,Intensidades!JV471:JV15465)","v":0},{"$f":"+SUMIF(Intensidades!$BS$6:$BT$15000,'Cálculos Anticipos'!$B471,Intensidades!$JW$6:$JW$15000)","v":0},{"$f":"+SUMIF(Intensidades!$BS$6:$BU$15000,'Cálculos Anticipos'!$B471,Intensidades!$JX$6:$JX$15000)","v":0},{"$f":"+SUMIF(Intensidades!$BS$6:$BV$15000,'Cálculos Anticipos'!$B471,Intensidades!$JY$6:$JY$15000)","v":0},{"$f":"+SUMIF(Intensidades!$BS$6:$BW$15000,'Cálculos Anticipos'!$B471,Intensidades!$JZ$6:$JZ$15000)","v":0},{"$f":"+SUMIF(Intensidades!$BS$6:$BX$15000,'Cálculos Anticipos'!$B471,Intensidades!$KA$6:$KA$15000)","v":0},{"$f":"+SUMIF(Intensidades!$BS$6:$BY$15000,'Cálculos Anticipos'!$B471,Intensidades!$KB$6:$KB$15000)","v":0},{"$f":"+SUM(D471:J471)","v":0},{"$f":"+IF(K471=0,IF(B471=$S$5,\"ok\",\"Problema en reparto\"),IF(K471=VLOOKUP(A471,$T$6:$X$105,3,FALSE),\"OK\",\"REVISAR\"))","v":"ok"},null,null,null,null,null,null,{"$f":"+'Datos Previos'!CT34","v":0}]
[null,null,"IMPORTE AYUDA",{"$f":"+SUMIF(Intensidades!BS471:$BS15465,'Cálculos Anticipos'!$B471,Intensidades!$JN$6:$JN$15000)","v":0},{"$f":"+SUMIF(Intensidades!$BS$6:$BT$15000,'Cálculos Anticipos'!$B471,Intensidades!$JO$6:$JO$15000)","v":0},{"$f":"+SUMIF(Intensidades!$BS$6:$BU$15000,'Cálculos Anticipos'!$B471,Intensidades!$JP$6:$JP$15000)","v":0},{"$f":"+SUMIF(Intensidades!$BS$6:$BV$15000,'Cálculos Anticipos'!$B471,Intensidades!$JQ$6:$JQ$15000)","v":0},{"$f":"+SUMIF(Intensidades!$BS$6:$BW$15000,'Cálculos Anticipos'!$B471,Intensidades!$JR$6:$JR$15000)","v":0},{"$f":"+SUMIF(Intensidades!$BS$6:$BX$15000,'Cálculos Anticipos'!$B471,Intensidades!$JS$6:$JS$15000)","v":0},{"$f":"+SUMIF(Intensidades!$BS$6:$BY$15000,'Cálculos Anticipos'!$B471,Intensidades!$JT$6:$JT$15000)","v":0},0,{"$f":"+IF(K472=0,IF(B471=$S$5,\"ok\",\"Problema en reparto\"),IF(K472=VLOOKUP(A471,$T$6:$X$105,5,FALSE),\"OK\",\"REVISAR\"))","v":"ok"}]
[null,null,"PORCENTAJE ANTICIPO",{"$f":"+K473","v":0},{"$f":"+K473","v":0},{"$f":"+K473","v":0},{"$f":"+K473","v":0},{"$f":"+K473","v":0},{"$f":"+K473","v":0},{"$f":"+K473","v":0},0,{"$f":"+IF(K473<=0.7,\"OK; Porcentaje inferior o igual al 70%\",\"Revisar Porcentaje de Anticipo: es mayor del 70% (Máximo Permitido)\")","v":"OK; Porcentaje inferior o igual al 70%"}]
[null,null,"TOTAL ANTICIPO",{"$f":"+ROUND(D472*D473,2)","v":0},{"$f":"+ROUND(E472*E473,2)","v":0},{"$f":"+ROUND(F472*F473,2)","v":0},{"$f":"+ROUND(G472*G473,2)","v":0},{"$f":"+ROUND(H472*H473,2)","v":0},{"$f":"+ROUND(I472*I473,2)","v":0},{"$f":"+ROUND(J472*J473,2)","v":0},{"$f":"+ROUND(K472*K473,2)","v":0},{"$f":"+IFERROR(IF(K474/K472>0.7,\"Revisar, % anticipo mayor 70%\",\"OK\"),\"\")","v":""}]
[null,null,null,null,null,null,null,null,null,null,null,""]
[{"$f":"+'Datos Previos'!CU32","v":0},{"$f":"+IF(A476=$T$106,\"no hay\",S476)","v":"no hay"},"IMPORTE SUBVENCIONABLE",{"$f":"+SUMIF(Intensidades!$BS$6:$BS$15000,'Cálculos Anticipos'!$B476,Intensidades!JV476:JV15470)","v":0},{"$f":"+SUMIF(Intensidades!$BS$6:$BT$15000,'Cálculos Anticipos'!$B476,Intensidades!$JW$6:$JW$15000)","v":0},{"$f":"+SUMIF(Intensidades!$BS$6:$BU$15000,'Cálculos Anticipos'!$B476,Intensidades!$JX$6:$JX$15000)","v":0},{"$f":"+SUMIF(Intensidades!$BS$6:$BV$15000,'Cálculos Anticipos'!$B476,Intensidades!$JY$6:$JY$15000)","v":0},{"$f":"+SUMIF(Intensidades!$BS$6:$BW$15000,'Cálculos Anticipos'!$B476,Intensidades!$JZ$6:$JZ$15000)","v":0},{"$f":"+SUMIF(Intensidades!$BS$6:$BX$15000,'Cálculos Anticipos'!$B476,Intensidades!$KA$6:$KA$15000)","v":0},{"$f":"+SUMIF(Intensidades!$BS$6:$BY$15000,'Cálculos Anticipos'!$B476,Intensidades!$KB$6:$KB$15000)","v":0},{"$f":"+SUM(D476:J476)","v":0},{"$f":"+IF(K476=0,IF(B476=$S$5,\"ok\",\"Problema en reparto\"),IF(K476=VLOOKUP(A476,$T$6:$X$105,3,FALSE),\"OK\",\"REVISAR\"))","v":"ok"},null,null,null,null,null,null,{"$f":"+'Datos Previos'!CU34","v":0}]
[null,null,"IMPORTE AYUDA",{"$f":"+SUMIF(Intensidades!BS476:$BS15470,'Cálculos Anticipos'!$B476,Intensidades!$JN$6:$JN$15000)","v":0},{"$f":"+SUMIF(Intensidades!$BS$6:$BT$15000,'Cálculos Anticipos'!$B476,Intensidades!$JO$6:$JO$15000)","v":0},{"$f":"+SUMIF(Intensidades!$BS$6:$BU$15000,'Cálculos Anticipos'!$B476,Intensidades!$JP$6:$JP$15000)","v":0},{"$f":"+SUMIF(Intensidades!$BS$6:$BV$15000,'Cálculos Anticipos'!$B476,Intensidades!$JQ$6:$JQ$15000)","v":0},{"$f":"+SUMIF(Intensidades!$BS$6:$BW$15000,'Cálculos Anticipos'!$B476,Intensidades!$JR$6:$JR$15000)","v":0},{"$f":"+SUMIF(Intensidades!$BS$6:$BX$15000,'Cálculos Anticipos'!$B476,Intensidades!$JS$6:$JS$15000)","v":0},{"$f":"+SUMIF(Intensidades!$BS$6:$BY$15000,'Cálculos Anticipos'!$B476,Intensidades!$JT$6:$JT$15000)","v":0},0,{"$f":"+IF(K477=0,IF(B476=$S$5,\"ok\",\"Problema en reparto\"),IF(K477=VLOOKUP(A476,$T$6:$X$105,5,FALSE),\"OK\",\"REVISAR\"))","v":"ok"}]
[null,null,"PORCENTAJE ANTICIPO",{"$f":"+K478","v":0},{"$f":"+K478","v":0},{"$f":"+K478","v":0},{"$f":"+K478","v":0},{"$f":"+K478","v":0},{"$f":"+K478","v":0},{"$f":"+K478","v":0},0,{"$f":"+IF(K478<=0.7,\"OK; Porcentaje inferior o igual al 70%\",\"Revisar Porcentaje de Anticipo: es mayor del 70% (Máximo Permitido)\")","v":"OK; Porcentaje inferior o igual al 70%"}]
[null,null,"TOTAL ANTICIPO",{"$f":"+ROUND(D477*D478,2)","v":0},{"$f":"+ROUND(E477*E478,2)","v":0},{"$f":"+ROUND(F477*F478,2)","v":0},{"$f":"+ROUND(G477*G478,2)","v":0},{"$f":"+ROUND(H477*H478,2)","v":0},{"$f":"+ROUND(I477*I478,2)","v":0},{"$f":"+ROUND(J477*J478,2)","v":0},{"$f":"+ROUND(K477*K478,2)","v":0},{"$f":"+IFERROR(IF(K479/K477>0.7,\"Revisar, % anticipo mayor 70%\",\"OK\"),\"\")","v":""}]
[null,null,null,null,null,null,null,null,null,null,null,""]
[{"$f":"+'Datos Previos'!CV32","v":0},{"$f":"+IF(A481=$T$106,\"no hay\",S481)","v":"no hay"},"IMPORTE SUBVENCIONABLE",{"$f":"+SUMIF(Intensidades!$BS$6:$BS$15000,'Cálculos Anticipos'!$B481,Intensidades!JV481:JV15475)","v":0},{"$f":"+SUMIF(Intensidades!$BS$6:$BT$15000,'Cálculos Anticipos'!$B481,Intensidades!$JW$6:$JW$15000)","v":0},{"$f":"+SUMIF(Intensidades!$BS$6:$BU$15000,'Cálculos Anticipos'!$B481,Intensidades!$JX$6:$JX$15000)","v":0},{"$f":"+SUMIF(Intensidades!$BS$6:$BV$15000,'Cálculos Anticipos'!$B481,Intensidades!$JY$6:$JY$15000)","v":0},{"$f":"+SUMIF(Intensidades!$BS$6:$BW$15000,'Cálculos Anticipos'!$B481,Intensidades!$JZ$6:$JZ$15000)","v":0},{"$f":"+SUMIF(Intensidades!$BS$6:$BX$15000,'Cálculos Anticipos'!$B481,Intensidades!$KA$6:$KA$15000)","v":0},{"$f":"+SUMIF(Intensidades!$BS$6:$BY$15000,'Cálculos Anticipos'!$B481,Intensidades!$KB$6:$KB$15000)","v":0},{"$f":"+SUM(D481:J481)","v":0},{"$f":"+IF(K481=0,IF(B481=$S$5,\"ok\",\"Problema en reparto\"),IF(K481=VLOOKUP(A481,$T$6:$X$105,3,FALSE),\"OK\",\"REVISAR\"))","v":"ok"},null,null,null,null,null,null,{"$f":"+'Datos Previos'!CV34","v":0}]
[null,null,"IMPORTE AYUDA",{"$f":"+SUMIF(Intensidades!BS481:$BS15475,'Cálculos Anticipos'!$B481,Intensidades!$JN$6:$JN$15000)","v":0},{"$f":"+SUMIF(Intensidades!$BS$6:$BT$15000,'Cálculos Anticipos'!$B481,Intensidades!$JO$6:$JO$15000)","v":0},{"$f":"+SUMIF(Intensidades!$BS$6:$BU$15000,'Cálculos Anticipos'!$B481,Intensidades!$JP$6:$JP$15000)","v":0},{"$f":"+SUMIF(Intensidades!$BS$6:$BV$15000,'Cálculos Anticipos'!$B481,Intensidades!$JQ$6:$JQ$15000)","v":0},{"$f":"+SUMIF(Intensidades!$BS$6:$BW$15000,'Cálculos Anticipos'!$B481,Intensidades!$JR$6:$JR$15000)","v":0},{"$f":"+SUMIF(Intensidades!$BS$6:$BX$15000,'Cálculos Anticipos'!$B481,Intensidades!$JS$6:$JS$15000)","v":0},{"$f":"+SUMIF(Intensidades!$BS$6:$BY$15000,'Cálculos Anticipos'!$B481,Intensidades!$JT$6:$JT$15000)","v":0},0,{"$f":"+IF(K482=0,IF(B481=$S$5,\"ok\",\"Problema en reparto\"),IF(K482=VLOOKUP(A481,$T$6:$X$105,5,FALSE),\"OK\",\"REVISAR\"))","v":"ok"}]
[null,null,"PORCENTAJE ANTICIPO",{"$f":"+K483","v":0},{"$f":"+K483","v":0},{"$f":"+K483","v":0},{"$f":"+K483","v":0},{"$f":"+K483","v":0},{"$f":"+K483","v":0},{"$f":"+K483","v":0},0,{"$f":"+IF(K483<=0.7,\"OK; Porcentaje inferior o igual al 70%\",\"Revisar Porcentaje de Anticipo: es mayor del 70% (Máximo Permitido)\")","v":"OK; Porcentaje inferior o igual al 70%"}]
[null,null,"TOTAL ANTICIPO",{"$f":"+ROUND(D482*D483,2)","v":0},{"$f":"+ROUND(E482*E483,2)","v":0},{"$f":"+ROUND(F482*F483,2)","v":0},{"$f":"+ROUND(G482*G483,2)","v":0},{"$f":"+ROUND(H482*H483,2)","v":0},{"$f":"+ROUND(I482*I483,2)","v":0},{"$f":"+ROUND(J482*J483,2)","v":0},{"$f":"+ROUND(K482*K483,2)","v":0},{"$f":"+IFERROR(IF(K484/K482>0.7,\"Revisar, % anticipo mayor 70%\",\"OK\"),\"\")","v":""}]
[null,null,null,null,null,null,null,null,null,null,null,""]
[{"$f":"+'Datos Previos'!CW32","v":0},{"$f":"+IF(A486=$T$106,\"no hay\",S486)","v":"no hay"},"IMPORTE SUBVENCIONABLE",{"$f":"+SUMIF(Intensidades!$BS$6:$BS$15000,'Cálculos Anticipos'!$B486,Intensidades!JV486:JV15480)","v":0},{"$f":"+SUMIF(Intensidades!$BS$6:$BT$15000,'Cálculos Anticipos'!$B486,Intensidades!$JW$6:$JW$15000)","v":0},{"$f":"+SUMIF(Intensidades!$BS$6:$BU$15000,'Cálculos Anticipos'!$B486,Intensidades!$JX$6:$JX$15000)","v":0},{"$f":"+SUMIF(Intensidades!$BS$6:$BV$15000,'Cálculos Anticipos'!$B486,Intensidades!$JY$6:$JY$15000)","v":0},{"$f":"+SUMIF(Intensidades!$BS$6:$BW$15000,'Cálculos Anticipos'!$B486,Intensidades!$JZ$6:$JZ$15000)","v":0},{"$f":"+SUMIF(Intensidades!$BS$6:$BX$15000,'Cálculos Anticipos'!$B486,Intensidades!$KA$6:$KA$15000)","v":0},{"$f":"+SUMIF(Intensidades!$BS$6:$BY$15000,'Cálculos Anticipos'!$B486,Intensidades!$KB$6:$KB$15000)","v":0},{"$f":"+SUM(D486:J486)","v":0},{"$f":"+IF(K486=0,IF(B486=$S$5,\"ok\",\"Problema en reparto\"),IF(K486=VLOOKUP(A486,$T$6:$X$105,3,FALSE),\"OK\",\"REVISAR\"))","v":"ok"},null,null,null,null,null,null,{"$f":"+'Datos Previos'!CW34","v":0}]
[null,null,"IMPORTE AYUDA",{"$f":"+SUMIF(Intensidades!BS486:$BS15480,'Cálculos Anticipos'!$B486,Intensidades!$JN$6:$JN$15000)","v":0},{"$f":"+SUMIF(Intensidades!$BS$6:$BT$15000,'Cálculos Anticipos'!$B486,Intensidades!$JO$6:$JO$15000)","v":0},{"$f":"+SUMIF(Intensidades!$BS$6:$BU$15000,'Cálculos Anticipos'!$B486,Intensidades!$JP$6:$JP$15000)","v":0},{"$f":"+SUMIF(Intensidades!$BS$6:$BV$15000,'Cálculos Anticipos'!$B486,Intensidades!$JQ$6:$JQ$15000)","v":0},{"$f":"+SUMIF(Intensidades!$BS$6:$BW$15000,'Cálculos Anticipos'!$B486,Intensidades!$JR$6:$JR$15000)","v":0},{"$f":"+SUMIF(Intensidades!$BS$6:$BX$15000,'Cálculos Anticipos'!$B486,Intensidades!$JS$6:$JS$15000)","v":0},{"$f":"+SUMIF(Intensidades!$BS$6:$BY$15000,'Cálculos Anticipos'!$B486,Intensidades!$JT$6:$JT$15000)","v":0},0,{"$f":"+IF(K487=0,IF(B486=$S$5,\"ok\",\"Problema en reparto\"),IF(K487=VLOOKUP(A486,$T$6:$X$105,5,FALSE),\"OK\",\"REVISAR\"))","v":"ok"}]
[null,null,"PORCENTAJE ANTICIPO",{"$f":"+K488","v":0},{"$f":"+K488","v":0},{"$f":"+K488","v":0},{"$f":"+K488","v":0},{"$f":"+K488","v":0},{"$f":"+K488","v":0},{"$f":"+K488","v":0},0,{"$f":"+IF(K488<=0.7,\"OK; Porcentaje inferior o igual al 70%\",\"Revisar Porcentaje de Anticipo: es mayor del 70% (Máximo Permitido)\")","v":"OK; Porcentaje inferior o igual al 70%"}]
[null,null,"TOTAL ANTICIPO",{"$f":"+ROUND(D487*D488,2)","v":0},{"$f":"+ROUND(E487*E488,2)","v":0},{"$f":"+ROUND(F487*F488,2)","v":0},{"$f":"+ROUND(G487*G488,2)","v":0},{"$f":"+ROUND(H487*H488,2)","v":0},{"$f":"+ROUND(I487*I488,2)","v":0},{"$f":"+ROUND(J487*J488,2)","v":0},{"$f":"+ROUND(K487*K488,2)","v":0},{"$f":"+IFERROR(IF(K489/K487>0.7,\"Revisar, % anticipo mayor 70%\",\"OK\"),\"\")","v":""}]
[null,null,null,null,null,null,null,null,null,null,null,""]
[{"$f":"+'Datos Previos'!CX32","v":0},{"$f":"+IF(A491=$T$106,\"no hay\",S491)","v":"no hay"},"IMPORTE SUBVENCIONABLE",{"$f":"+SUMIF(Intensidades!$BS$6:$BS$15000,'Cálculos Anticipos'!$B491,Intensidades!JV491:JV15485)","v":0},{"$f":"+SUMIF(Intensidades!$BS$6:$BT$15000,'Cálculos Anticipos'!$B491,Intensidades!$JW$6:$JW$15000)","v":0},{"$f":"+SUMIF(Intensidades!$BS$6:$BU$15000,'Cálculos Anticipos'!$B491,Intensidades!$JX$6:$JX$15000)","v":0},{"$f":"+SUMIF(Intensidades!$BS$6:$BV$15000,'Cálculos Anticipos'!$B491,Intensidades!$JY$6:$JY$15000)","v":0},{"$f":"+SUMIF(Intensidades!$BS$6:$BW$15000,'Cálculos Anticipos'!$B491,Intensidades!$JZ$6:$JZ$15000)","v":0},{"$f":"+SUMIF(Intensidades!$BS$6:$BX$15000,'Cálculos Anticipos'!$B491,Intensidades!$KA$6:$KA$15000)","v":0},{"$f":"+SUMIF(Intensidades!$BS$6:$BY$15000,'Cálculos Anticipos'!$B491,Intensidades!$KB$6:$KB$15000)","v":0},{"$f":"+SUM(D491:J491)","v":0},{"$f":"+IF(K491=0,IF(B491=$S$5,\"ok\",\"Problema en reparto\"),IF(K491=VLOOKUP(A491,$T$6:$X$105,3,FALSE),\"OK\",\"REVISAR\"))","v":"ok"},null,null,null,null,null,null,{"$f":"+'Datos Previos'!CX34","v":0}]
[null,null,"IMPORTE AYUDA",{"$f":"+SUMIF(Intensidades!BS491:$BS15485,'Cálculos Anticipos'!$B491,Intensidades!$JN$6:$JN$15000)","v":0},{"$f":"+SUMIF(Intensidades!$BS$6:$BT$15000,'Cálculos Anticipos'!$B491,Intensidades!$JO$6:$JO$15000)","v":0},{"$f":"+SUMIF(Intensidades!$BS$6:$BU$15000,'Cálculos Anticipos'!$B491,Intensidades!$JP$6:$JP$15000)","v":0},{"$f":"+SUMIF(Intensidades!$BS$6:$BV$15000,'Cálculos Anticipos'!$B491,Intensidades!$JQ$6:$JQ$15000)","v":0},{"$f":"+SUMIF(Intensidades!$BS$6:$BW$15000,'Cálculos Anticipos'!$B491,Intensidades!$JR$6:$JR$15000)","v":0},{"$f":"+SUMIF(Intensidades!$BS$6:$BX$15000,'Cálculos Anticipos'!$B491,Intensidades!$JS$6:$JS$15000)","v":0},{"$f":"+SUMIF(Intensidades!$BS$6:$BY$15000,'Cálculos Anticipos'!$B491,Intensidades!$JT$6:$JT$15000)","v":0},0,{"$f":"+IF(K492=0,IF(B491=$S$5,\"ok\",\"Problema en reparto\"),IF(K492=VLOOKUP(A491,$T$6:$X$105,5,FALSE),\"OK\",\"REVISAR\"))","v":"ok"}]
[null,null,"PORCENTAJE ANTICIPO",{"$f":"+K493","v":0},{"$f":"+K493","v":0},{"$f":"+K493","v":0},{"$f":"+K493","v":0},{"$f":"+K493","v":0},{"$f":"+K493","v":0},{"$f":"+K493","v":0},0,{"$f":"+IF(K493<=0.7,\"OK; Porcentaje inferior o igual al 70%\",\"Revisar Porcentaje de Anticipo: es mayor del 70% (Máximo Permitido)\")","v":"OK; Porcentaje inferior o igual al 70%"}]
[null,null,"TOTAL ANTICIPO",{"$f":"+ROUND(D492*D493,2)","v":0},{"$f":"+ROUND(E492*E493,2)","v":0},{"$f":"+ROUND(F492*F493,2)","v":0},{"$f":"+ROUND(G492*G493,2)","v":0},{"$f":"+ROUND(H492*H493,2)","v":0},{"$f":"+ROUND(I492*I493,2)","v":0},{"$f":"+ROUND(J492*J493,2)","v":0},{"$f":"+ROUND(K492*K493,2)","v":0},{"$f":"+IFERROR(IF(K494/K492>0.7,\"Revisar, % anticipo mayor 70%\",\"OK\"),\"\")","v":""}]
[null,null,null,null,null,null,null,null,null,null,null,""]
[{"$f":"+'Datos Previos'!CY32","v":0},{"$f":"+IF(A496=$T$106,\"no hay\",S496)","v":"no hay"},"IMPORTE SUBVENCIONABLE",{"$f":"+SUMIF(Intensidades!$BS$6:$BS$15000,'Cálculos Anticipos'!$B496,Intensidades!JV496:JV15490)","v":0},{"$f":"+SUMIF(Intensidades!$BS$6:$BT$15000,'Cálculos Anticipos'!$B496,Intensidades!$JW$6:$JW$15000)","v":0},{"$f":"+SUMIF(Intensidades!$BS$6:$BU$15000,'Cálculos Anticipos'!$B496,Intensidades!$JX$6:$JX$15000)","v":0},{"$f":"+SUMIF(Intensidades!$BS$6:$BV$15000,'Cálculos Anticipos'!$B496,Intensidades!$JY$6:$JY$15000)","v":0},{"$f":"+SUMIF(Intensidades!$BS$6:$BW$15000,'Cálculos Anticipos'!$B496,Intensidades!$JZ$6:$JZ$15000)","v":0},{"$f":"+SUMIF(Intensidades!$BS$6:$BX$15000,'Cálculos Anticipos'!$B496,Intensidades!$KA$6:$KA$15000)","v":0},{"$f":"+SUMIF(Intensidades!$BS$6:$BY$15000,'Cálculos Anticipos'!$B496,Intensidades!$KB$6:$KB$15000)","v":0},{"$f":"+SUM(D496:J496)","v":0},{"$f":"+IF(K496=0,IF(B496=$S$5,\"ok\",\"Problema en reparto\"),IF(K496=VLOOKUP(A496,$T$6:$X$105,3,FALSE),\"OK\",\"REVISAR\"))","v":"ok"},null,null,null,null,null,null,{"$f":"+'Datos Previos'!CY34","v":0}]
[null,null,"IMPORTE AYUDA",{"$f":"+SUMIF(Intensidades!BS496:$BS15490,'Cálculos Anticipos'!$B496,Intensidades!$JN$6:$JN$15000)","v":0},{"$f":"+SUMIF(Intensidades!$BS$6:$BT$15000,'Cálculos Anticipos'!$B496,Intensidades!$JO$6:$JO$15000)","v":0},{"$f":"+SUMIF(Intensidades!$BS$6:$BU$15000,'Cálculos Anticipos'!$B496,Intensidades!$JP$6:$JP$15000)","v":0},{"$f":"+SUMIF(Intensidades!$BS$6:$BV$15000,'Cálculos Anticipos'!$B496,Intensidades!$JQ$6:$JQ$15000)","v":0},{"$f":"+SUMIF(Intensidades!$BS$6:$BW$15000,'Cálculos Anticipos'!$B496,Intensidades!$JR$6:$JR$15000)","v":0},{"$f":"+SUMIF(Intensidades!$BS$6:$BX$15000,'Cálculos Anticipos'!$B496,Intensidades!$JS$6:$JS$15000)","v":0},{"$f":"+SUMIF(Intensidades!$BS$6:$BY$15000,'Cálculos Anticipos'!$B496,Intensidades!$JT$6:$JT$15000)","v":0},0,{"$f":"+IF(K497=0,IF(B496=$S$5,\"ok\",\"Problema en reparto\"),IF(K497=VLOOKUP(A496,$T$6:$X$105,5,FALSE),\"OK\",\"REVISAR\"))","v":"ok"}]
[null,null,"PORCENTAJE ANTICIPO",{"$f":"+K498","v":0},{"$f":"+K498","v":0},{"$f":"+K498","v":0},{"$f":"+K498","v":0},{"$f":"+K498","v":0},{"$f":"+K498","v":0},{"$f":"+K498","v":0},0,{"$f":"+IF(K498<=0.7,\"OK; Porcentaje inferior o igual al 70%\",\"Revisar Porcentaje de Anticipo: es mayor del 70% (Máximo Permitido)\")","v":"OK; Porcentaje inferior o igual al 70%"}]
[null,null,"TOTAL ANTICIPO",{"$f":"+ROUND(D497*D498,2)","v":0},{"$f":"+ROUND(E497*E498,2)","v":0},{"$f":"+ROUND(F497*F498,2)","v":0},{"$f":"+ROUND(G497*G498,2)","v":0},{"$f":"+ROUND(H497*H498,2)","v":0},{"$f":"+ROUND(I497*I498,2)","v":0},{"$f":"+ROUND(J497*J498,2)","v":0},{"$f":"+ROUND(K497*K498,2)","v":0},{"$f":"+IFERROR(IF(K499/K497>0.7,\"Revisar, % anticipo mayor 70%\",\"OK\"),\"\")","v":""}]
[null,null,null,null,null,null,null,null,null,null,null,""]
[{"$f":"+'Datos Previos'!CZ32","v":0},{"$f":"+IF(A501=$T$106,\"no hay\",S501)","v":"no hay"},"IMPORTE SUBVENCIONABLE",{"$f":"+SUMIF(Intensidades!$BS$6:$BS$15000,'Cálculos Anticipos'!$B501,Intensidades!JV501:JV15495)","v":0},{"$f":"+SUMIF(Intensidades!$BS$6:$BT$15000,'Cálculos Anticipos'!$B501,Intensidades!$JW$6:$JW$15000)","v":0},{"$f":"+SUMIF(Intensidades!$BS$6:$BU$15000,'Cálculos Anticipos'!$B501,Intensidades!$JX$6:$JX$15000)","v":0},{"$f":"+SUMIF(Intensidades!$BS$6:$BV$15000,'Cálculos Anticipos'!$B501,Intensidades!$JY$6:$JY$15000)","v":0},{"$f":"+SUMIF(Intensidades!$BS$6:$BW$15000,'Cálculos Anticipos'!$B501,Intensidades!$JZ$6:$JZ$15000)","v":0},{"$f":"+SUMIF(Intensidades!$BS$6:$BX$15000,'Cálculos Anticipos'!$B501,Intensidades!$KA$6:$KA$15000)","v":0},{"$f":"+SUMIF(Intensidades!$BS$6:$BY$15000,'Cálculos Anticipos'!$B501,Intensidades!$KB$6:$KB$15000)","v":0},{"$f":"+SUM(D501:J501)","v":0},{"$f":"+IF(K501=0,IF(B501=$S$5,\"ok\",\"Problema en reparto\"),IF(K501=VLOOKUP(A501,$T$6:$X$105,3,FALSE),\"OK\",\"REVISAR\"))","v":"ok"},null,null,null,null,null,null,{"$f":"+'Datos Previos'!CZ34","v":0}]
[null,null,"IMPORTE AYUDA",{"$f":"+SUMIF(Intensidades!BS501:$BS15495,'Cálculos Anticipos'!$B501,Intensidades!$JN$6:$JN$15000)","v":0},{"$f":"+SUMIF(Intensidades!$BS$6:$BT$15000,'Cálculos Anticipos'!$B501,Intensidades!$JO$6:$JO$15000)","v":0},{"$f":"+SUMIF(Intensidades!$BS$6:$BU$15000,'Cálculos Anticipos'!$B501,Intensidades!$JP$6:$JP$15000)","v":0},{"$f":"+SUMIF(Intensidades!$BS$6:$BV$15000,'Cálculos Anticipos'!$B501,Intensidades!$JQ$6:$JQ$15000)","v":0},{"$f":"+SUMIF(Intensidades!$BS$6:$BW$15000,'Cálculos Anticipos'!$B501,Intensidades!$JR$6:$JR$15000)","v":0},{"$f":"+SUMIF(Intensidades!$BS$6:$BX$15000,'Cálculos Anticipos'!$B501,Intensidades!$JS$6:$JS$15000)","v":0},{"$f":"+SUMIF(Intensidades!$BS$6:$BY$15000,'Cálculos Anticipos'!$B501,Intensidades!$JT$6:$JT$15000)","v":0},0,{"$f":"+IF(K502=0,IF(B501=$S$5,\"ok\",\"Problema en reparto\"),IF(K502=VLOOKUP(A501,$T$6:$X$105,5,FALSE),\"OK\",\"REVISAR\"))","v":"ok"}]
[null,null,"PORCENTAJE ANTICIPO",{"$f":"+K503","v":0},{"$f":"+K503","v":0},{"$f":"+K503","v":0},{"$f":"+K503","v":0},{"$f":"+K503","v":0},{"$f":"+K503","v":0},{"$f":"+K503","v":0},0,{"$f":"+IF(K503<=0.7,\"OK; Porcentaje inferior o igual al 70%\",\"Revisar Porcentaje de Anticipo: es mayor del 70% (Máximo Permitido)\")","v":"OK; Porcentaje inferior o igual al 70%"}]
[null,null,"TOTAL ANTICIPO",{"$f":"+ROUND(D502*D503,2)","v":0},{"$f":"+ROUND(E502*E503,2)","v":0},{"$f":"+ROUND(F502*F503,2)","v":0},{"$f":"+ROUND(G502*G503,2)","v":0},{"$f":"+ROUND(H502*H503,2)","v":0},{"$f":"+ROUND(I502*I503,2)","v":0},{"$f":"+ROUND(J502*J503,2)","v":0},{"$f":"+ROUND(K502*K503,2)","v":0},{"$f":"+IFERROR(IF(K504/K502>0.7,\"Revisar, % anticipo mayor 70%\",\"OK\"),\"\")","v":""}]
[null,null,null,null,null,null,null,null,null,null,null,""]
["TOTAL ENTIDADES",null,"IMPORTE SUBVENCIONABLE",{"$f":"+SUMIF($C$6:$C$504,$C506,D$6:D$504)","v":0},{"$f":"+SUMIF($C$6:$C$504,$C506,E$6:E$504)","v":0},0,0,0,0,0,0]
[null,null,"IMPORTE AYUDA",{"$f":"+SUMIF($C$6:$C$504,$C507,D$6:D$504)","v":0},0,0,0,0,0,0,0]
[null,null,"PORCENTAJE ANTICIPO",{"$f":"IFERROR(+D509/D507,0)","v":0},{"$f":"IFERROR(+E509/E507,0)","v":0},0,0,0,0,0,0,{"$f":"+IF(ROUND(K508,4)<=0.7,\"OK; Porcentaje inferior o igual al 70%\",\"Revisar Porcentaje de Anticipo: es mayor del 70% (Máximo Permitido)\")","v":"OK; Porcentaje inferior o igual al 70%"}]
[null,null,"TOTAL ANTICIPO",0,0,0,0,0,0,0,0]

{"sheet":"Comprobación de Presupuesto","index":9,"n_rows":42,"n_cols":30,"rows_kept":42,"cut":false,"hidden":false,"merged":[[1,1,1,21],[3,0,3,21],[2,1,2,21],[36,3,36,16],[37,3,37,16],[10,0,10,22],[0,0,0,22],[33,2,33,16],[34,2,34,16],[21,2,21,16],[22,2,22,16],[24,3,24,16],[25,3,25,16],[27,8,27,16],[28,8,28,16],[30,2,30,16],[31,2,31,16],[11,2,11,16],[12,2,15,16]]}
["Tercera convocatoria de subvenciones (2024) en concurrencia competitivade proyectos de mejora de la eficiencia del ciclo urbano del agua (PERTE digitalización del ciclo del agua), en el marco del Plan de Recuperación, Transformación y Resiliencia"]
["TÍTULO:",{"$f":"+'Datos Previos'!E6","v":0}]
["SOLICITANTE:",{"$f":"+'Datos Previos'!E14","v":0}]
["RESULTADOS PRESUPUESTO Y COMPROBACIONES"]
[null,"A.1 ","A.2 ","A.3","A.4 ","A.5 ","A.6","A.7 ","A.8 ","Tipo A","B.1 ","B.2 ","B.3 ","B.4 ","B.5 ","B.6 ","B.7","Tipo B","C.1 -","C.2","Tipo C","TOTAL AYUDA SOLICITADA","PRESUPUESTO SUBVENCIONABLE TOTAL"]
["IMPORTES TOTALES AYUDA POR TIPOLOGÍA DE ACTUACIONES",{"$f":"+Intensidades!V2","v":0},{"$f":"+Intensidades!W2","v":0},{"$f":"+Intensidades!X2","v":0},{"$f":"+Intensidades!Y2","v":0},{"$f":"+Intensidades!Z2","v":0},{"$f":"+Intensidades!AA2","v":0},{"$f":"+Intensidades!AB2","v":0},{"$f":"+Intensidades!AC2","v":0},{"$f":"+Intensidades!AD2","v":0},{"$f":"+Intensidades!AE2","v":0},{"$f":"+Intensidades!AF2","v":0},{"$f":"+Intensidades!AG2","v":0},{"$f":"+Intensidades!AH2","v":0},{"$f":"+Intensidades!AI2","v":0},{"$f":"+Intensidades!AJ2","v":0},{"$f":"+Intensidades!AK2","v":0},{"$f":"+Intensidades!AL2","v":0},{"$f":"+Intensidades!AM2","v":0},{"$f":"+Intensidades!AN2","v":0},{"$f":"+Intensidades!AO2","v":0},{"$f":"+U6+R6+J6","v":0},null,null,{"$f":"+V6/W6","v":{"$error":"#DIV/0!"}}]
["IMPORTES TOTALES SUBVENCIONABLE POR TIPOLOGÍA DE ACTUACIONES",{"$f":"+Intensidades!AX4","v":0},{"$f":"+Intensidades!AY4","v":0},{"$f":"+Intensidades!AZ4","v":0},{"$f":"+Intensidades!BA4","v":0},{"$f":"+Intensidades!BB4","v":0},{"$f":"+Intensidades!BC4","v":0},{"$f":"+Intensidades!BD4","v":0},{"$f":"+Intensidades!BE4","v":0},{"$f":"+Intensidades!BF4","v":0},{"$f":"+Intensidades!BG4","v":0},{"$f":"+Intensidades!BH4","v":0},{"$f":"+Intensidades!BI4","v":0},{"$f":"+Intensidades!BJ4","v":0},{"$f":"+Intensidades!BK4","v":0},{"$f":"+Intensidades!BL4","v":0},{"$f":"+Intensidades!BM4","v":0},{"$f":"+Intensidades!BN4","v":0},{"$f":"+Intensidades!BO4","v":0},{"$f":"+Intensidades!BP4","v":0},{"$f":"+Intensidades!BQ4","v":0},null,{"$f":"+SUM(B7:U7)/2","v":0},null,{"$f":"+V7/W7","v":{"$error":"#DIV/0!"}}]
["% SUBVENCIONABLE SOBRE TOTAL SUBVENCIONABLE PROYECTO",{"$f":"+IFERROR(B7/$W$7,0)","v":0},{"$f":"+IFERROR(C7/$W$7,0)","v":0},0,0,0,0,0,0,0,0,0,0,0,0,0,0,0,0,0,0]
["% SUBVENCIONABLE SOBRE TOTAL TIPO DE ACTUACION (A, B ó C)",{"$f":"+IFERROR(B7/$J$7,0)","v":0},{"$f":"+IFERROR(C7/$J$7,0)","v":0},0,0,0,0,0,0,null,{"$f":"+IFERROR(K7/$R$7,0)","v":0},{"$f":"+IFERROR(L7/$R$7,0)","v":0},0,0,0,0,0,null,{"$f":"+IFERROR(S7/$U$7,0)","v":0},{"$f":"+IFERROR(T7/$U$7,0)","v":0}]
[]
["ANTICIPOS PREVISTOS"]
[null,"TOTALES","Comprobacíon porcentaje máximo anticipos solicitados"]
["IMPORTE ANUAL SUBVENCIONABLE",{"$f":"+Intensidades!KC3","v":0},{"$f":"+IF(ROUND(B15,4)<=0.7,\"OK; Porcentaje de Anticipo inferior o igual al 70%\",\"Revisar Porcentaje de Anticipo: es mayor del 70% (Máximo Permitido)\")","v":"OK; Porcentaje de Anticipo inferior o igual al 70%"}]
["IMPORTE ANUAL AYUDA",{"$f":"+Intensidades!JU3","v":0}]
["PORCENTAJE DE ANTICIPO SOLICITADO",{"$f":"IFERROR(+B16/B14,0)","v":0}]
["IMPORTE DE ANTICIPO SOLICITADO",{"$f":"+'Cálculos Anticipos'!K509","v":0}]
[]
[]
[]
["COMPROBACIONES ADICIONALES"]
[]
[null,"Ayuda Total Tipologia A.1.","Resultado Validación Presencia Tipología A.1"]
["Comprobación presencia Tipología A.1 según Art.5.3.a)",{"$f":"+B6","v":0},{"$f":"+IF(B23>0,AA23,AB23)","v":"REVISAR: Presentar nuevas actuaciones tipo A.1 o justificar que ya dispongan de Planes de Sequía y se justifique expresamente en la solicitud o que no les sea de aplicación conforme al artículo 27.3 de la Ley 10/2001, de 5 de julio, del Plan Hidrológico Nacional."},null,null,null,null,null,null,null,null,null,null,null,null,null,null,null,null,null,null,null,null,null,null,null,"OK. Cumple con la presencia de la tipología A.1 en proyecto","REVISAR: Presentar nuevas actuaciones tipo A.1 o justificar que ya dispongan de Planes de Sequía y se justifique expresamente en la solicitud o que no les sea de aplicación conforme al artículo 27.3 de la Ley 10/2001, de 5 de julio, del Plan Hidrológico Nacional."]
[]
[null,"Ayuda Total Tipologia B.1.","Ayuda Total Tipologia B.4.","Resultado Validación Presencia Tipologia B.1 o B.4"]
["Comprobación  Presencia Tipología B.1 o B.4 según Art.5.3.b)",{"$f":"+K6","v":0},{"$f":"+N6","v":0},{"$f":"+IF(B26>0,AA26,IF(C26>0,AA26,AB26))","v":"REVISAR: No presenta actuaciones tipo B.1. ó tipo B.4."},null,null,null,null,null,null,null,null,null,null,null,null,null,null,null,null,null,null,null,null,null,null,"OK. Cumple con presencia de actuaciones tipo B1 ó B4","REVISAR: No presenta actuaciones tipo B.1. ó tipo B.4.","REVISAR: No presenta actuaciones tipo B.4","REVISAR: No presenta actuaciones tipo B.1 ni B.4"]
[]
[null,"Ayuda total tipología B.2.","Ayuda total tipología B.5.","Ayuda total tipología B.6.","Ayuda total tipología B.7.","Ayuda total tipología B.2+B.5+B.6+B.7","Suma Ayuda Solicitada Total Municipios","Porcentaje de B.2+B.5+B.6+B.7 en Ayuda Solicitada Total Municipios","Resultado Validación Comprobación porcentaje máximo Tipologías B.2, B.5, B.6 y B.7"]
["Comprobación  porcentaje máximo Tipologías B.2, B.5, B.6 y B.7",{"$f":"+L6","v":0},{"$f":"+O6","v":0},{"$f":"+P6","v":0},{"$f":"+Q6","v":0},{"$f":"+B29+C29+D29+E29","v":0},{"$f":"+V6","v":0},{"$f":"IFERROR(+F29/G29,0)","v":0},{"$f":"+IF(H29>0.4,AB29,AA29)","v":"OK. Cumple con porcentaje máximo de B.2+B.5+B.6+B.7"},null,null,null,null,null,null,null,null,null,null,null,null,null,null,null,null,null,"OK. Cumple con porcentaje máximo de B.2+B.5+B.6+B.7","REVISAR: B.2+B.5+B.6+B.7 Superan el 40%, reducir intensidades de estas actuaciones o eliminar alguna de ellas"]
[]
[null,"Suma Ayuda Solicitada Total Municipios","Resultado Validación Importe Mínimo de 500.000€ por proyecto"]
["Comprobación Importe mínimo 500.000€ por proyecto",{"$f":"+V6","v":0},{"$f":"+IF(B32<500000,AB32,AA32)","v":"REVISAR: NO CUMPLE presupuesto mínimo. Incrementar actuaciones para poder llegar a importe mínimo de las bases de 500.000€ por proyecto"},null,null,null,null,null,null,null,null,null,null,null,null,null,null,null,null,null,null,null,null,null,null,null,"OK. Cumple con importe mínimo de las bases de 500.000€ por proyecto","REVISAR: NO CUMPLE presupuesto mínimo. Incrementar actuaciones para poder llegar a importe mínimo de las bases de 500.000€ por proyecto"]
[]
[null,"Suma Ayuda Solicitada Total Municipios","Resultado Validación Importe Máximo de 6.000.000€ por proyecto"]
["Comprobación Importe Máximo de 6.000.000€ por proyecto",{"$f":"+V6","v":0},{"$f":"+IF(B35>6000000,AB35,AA35)","v":"OK. Cumple con Importe Máximo de las bases de 6.000.000€ por proyecto"},null,null,null,null,null,null,null,null,null,null,null,null,null,null,null,null,null,null,null,null,null,null,null,"OK. Cumple con Importe Máximo de las bases de 6.000.000€ por proyecto","REVISAR: NO CUMPLE presupuesto máximo. Rebajar intensidades actuaciones para poder llegar a importe máximo de las bases de 6.000.000€ por proyecto"]
[]
[null,"Fecha inicio de Actuaciones","Fecha fin de Actuaciones","Comprobación Fechas de Inicio - Fin proyecto",null,null,null,null,null,null,null,null,null,null,null,null,null,null,null,null,null,null,null,null,null,null,"00:00:00"]
["Comprobación  Liquidación Parcial (Art.22.5 Orden TED/934/2023)",null,null,{"$f":"+AB38","v":"Rellenar fecha de Inicio y Fin de las actuaciones"},null,null,null,null,null,null,null,null,null,null,null,null,null,null,null,null,null,null,null,null,null,null,{"$f":"+B38","v":"00:00:00"},{"$f":"IF(AND(AA38<AA40,AA39>AA42),\"Fechas no válidas, inicio anterior a 1/2/20 y fin posterior a 30/5/26\",IF(AA38=AA37,\"Rellenar fecha de Inicio y Fin de las actuaciones\",IF(AA38<AA40,\"Revisar Fecha de Inicio de Actuaciones, no pueden empezar antes del 1 de febrero de 2020\",IF(AA39<AA41,\"Revisar Fecha Fin de las Actuaciones: No pueden acabar antes de la fecha de publicación de las bases\",IF(AA39>AA42,\"Revisar Fecha Fin de las Actuaciones: No pueden acabar despues del 30 de junio de 2026\",IF(AA38<AA41,\"Recordar presentar el listado de Actuaciones Previas a Tercera Convocatoria en el apartado de Cronograma de la Memoria\",\"OK, Todas las Actuaciones se inician despues de la publicación de las bases y terminan antes del limite impuesto en la convocatoria\"))))))","v":"Rellenar fecha de Inicio y Fin de las actuaciones"}]
[null,null,null,null,null,null,null,null,null,null,null,null,null,null,null,null,null,null,null,null,null,null,null,null,null,null,{"$f":"+C38","v":"00:00:00"},{"$f":"+IF(AA38<(365*3),\"La duracion del proyecto es inferior a 3 años y no da lugar a liquidacion parcial\",CONCATENATE(\"El proyecto dura mas de tres años, por lo que puede presentar liquidacíon parcial a partir del \",TEXT(AA39,\"d/mm/aaaa\")))","v":"La duracion del proyecto es inferior a 3 años y no da lugar a liquidacion parcial"}]
[null,null,null,null,null,null,null,null,null,null,null,null,null,null,null,null,null,null,null,null,null,null,null,null,null,null,"2020-01-31"]
[null,null,null,null,null,null,null,null,null,null,null,null,null,null,null,null,null,null,null,null,null,null,null,null,null,null,"2024-12-20"]
[null,null,null,null,null,null,null,null,null,null,null,null,null,null,null,null,null,null,null,null,null,null,null,null,null,null,"2026-06-30"]

{"sheet":"POBLACIÓN MUNICIPIOS (INE 2021)","index":10,"n_rows":8132,"n_cols":72,"rows_kept":4500,"cut":true,"hidden":true,"merged":[],"bounds":{"rows_first":2000,"rows_last":500,"rows_between":2000,"halvings":0}}
["Nombre municipio","Total","Municipios","Provincia","Comunidad Autónoma","Densidad INE 2021","Riesgo despoblación","POB21","HOMBRES","MUJERES","DDHH","DDHH bien","Nombre municipio",null,null,null,null,null,null,null,null,null,null,null,null,null,null,null,null,null,null,null,null,null,null,null,null,null,null,null,null,null,null,"FID","Shape","CodDemarc","Nombre","Internacio","NombreInt","Label","UnidadArea","AreaRBD","AreaRBDExc","localId","namespace","versionId","FechaIni","FechaFin","IdiomaNom","PredecesId","Evolucion","DesigIni","DesigFin","TipoZona","BaseLegal","LinkLegal","NivelLegal","CodDemarTr","EsqDemarTr","EsqCodDema","EsqPredeId","link"]
["02001 Abengibre",748,"Abengibre","Albacete","Castilla La Mancha",24.310004558125854,"No",748,365,383,"JÚCAR","JÚCAR","02001 Abengibre",null,null,null,null,null,null,null,null,null,null,null,null,null,null,null,null,null,null,null,null,null,null,null,null,null,null,null,null,null,null,0,"Polígono","ES120","GRAN CANARIA","No","GRAN CANARIA","Gran Canaria","km2",2110.9079999999999,1575.115,"ES120","https://www.miteco.gob.es/","2023-02-07","2016-01-01","9999-12-31","spa","NotApplicable","noChange","2009-01-01","9999-12-31","riverBasinDistrict","Directive 2000/60/EC of the European Parliament and of the Council of 23 October 2000 establishing a framework for Community action in the field of water policy","http://data.europa.eu/eli/dir/2000/60/oj","european","NotApplicable","NotApplicable","euRBDCode","NotApplicable","NotApplicable"]
["02002 Alatoz",496,"Alatoz","Albacete","Castilla La Mancha",7.7677687710638086,"Sí",496,272,224,"JÚCAR","JÚCAR","02002 Alatoz",null,null,null,null,null,null,null,null,null,null,null,null,null,null,null,null,null,null,null,null,null,null,null,null,null,null,null,null,null,null,1,"Polígono","ES122","FUERTEVENTURA","No","FUERTEVENTURA","Fuerteventura","km2",2894.2359999999999,1657.874,"ES122","https://www.miteco.gob.es/","2023-02-07","2016-01-01","9999-12-31","spa","NotApplicable","noChange","2009-01-01","9999-12-31","riverBasinDistrict","Directive 2000/60/EC of the European Parliament and of the Council of 23 October 2000 establishing a framework for Community action in the field of water policy","http://data.europa.eu/eli/dir/2000/60/oj","european","NotApplicable","NotApplicable","euRBDCode","NotApplicable","NotApplicable"]
["02003 Albacete",172722,"Albacete","Albacete","Castilla La Mancha",153.25962191665297,"No",172722,84365,88357,"SEGURA","JÚCAR","02003 Albacete",null,null,"comnunidades autonomas y provincias",null,null,null,null,null,null,null,null,null,null,null,null,null,null,null,null,null,null,null,null,null,null,null,null,null,null,null,2,"Polígono","ES123","LANZAROTE","No","LANZAROTE","Lanzarote","km2",2117.7379999999998,844.84900000000005,"ES123","https://www.miteco.gob.es/","2023-02-07","2016-01-01","9999-12-31","spa","NotApplicable","noChange","2009-01-01","9999-12-31","riverBasinDistrict","Directive 2000/60/EC of the European Parliament and of the Council of 23 October 2000 establishing a framework for Community action in the field of water policy","http://data.europa.eu/eli/dir/2000/60/oj","european","NotApplicable","NotApplicable","euRBDCode","NotApplicable","NotApplicable"]
["02004 Albatana",681,"Albatana","Albacete","Castilla La Mancha",22.307243794262352,"No",681,354,327,"SEGURA","SEGURA","02004 Albatana","Nombre",null,null,null,null,null,null,null,null,null,null,null,null,null,null,null,null,null,null,null,null,null,null,null,null,null,null,null,null,null,3,"Polígono","ES125","LA PALMA","No","LA PALMA","La Palma","km2",981.42,706.07799999999997,"ES125","https://www.miteco.gob.es/","2023-02-07","2016-01-01","9999-12-31","spa","NotApplicable","noChange","2009-01-01","9999-12-31","riverBasinDistrict","Directive 2000/60/EC of the European Parliament and of the Council of 23 October 2000 establishing a framework for Community action in the field of water policy","http://data.europa.eu/eli/dir/2000/60/oj","european","NotApplicable","NotApplicable","euRBDCode","NotApplicable","NotApplicable"]
["02005 Alborea",670,"Alborea","Albacete","Castilla La Mancha",9.3226989630932451,"Sí",670,350,320,"JÚCAR","JÚCAR","02005 Alborea",null,null,"Andalucía","Aragón","Principado de Asturias","Illes Balears","Canarias","Cantabria","Castilla y León"," Castilla - La Mancha","Cataluña","Comunitat Valenciana","Extremadura","Galicia","Comunidad de Madrid","Región de Murcia","Comunidad Foral de Navarra","País Vasco","La Rioja","Ciudad Autónoma de Ceuta","Ciudad Autónoma de Melilla",null,null,null,null,null,null,null,null,null,4,"Polígono","ES127","EL HIERRO","No","EL HIERRO","El Hierro","km2",528.97900000000004,267.87099999999998,"ES127","https://www.miteco.gob.es/","2023-02-07","2016-01-01","9999-12-31","spa","NotApplicable","noChange","2009-01-01","9999-12-31","riverBasinDistrict","Directive 2000/60/EC of the European Parliament and of the Council of 23 October 2000 establishing a framework for Community action in the field of water policy","http://data.europa.eu/eli/dir/2000/60/oj","european","NotApplicable","NotApplicable","euRBDCode","NotApplicable","NotApplicable"]
["02006 Alcadozo",632,"Alcadozo","Albacete","Castilla La Mancha",6.3462098466667332,"Sí",632,344,288,"SEGURA","JÚCAR - SEGURA","02006 Alcadozo",null,null,"Almería","Huesca","Asturias","Illes Balears","Las Palmas","Cantabria","Ávila","Albacete","Barcelona","Alicante/Alacant","Badajoz","A Coruña","Madrid","Murcia","Navarra","Araba/Álava","La Rioja","Ceuta","Melilla",null,null,null,null,null,null,null,null,null,5,"Polígono","ES150","CEUTA","Yes","CEUTA","Ceuta","km2",60.186999999999998,19.751999999999999,"ES150","https://www.miteco.gob.es/","2023-02-07","2016-01-01","9999-12-31","spa","NotApplicable","noChange","2009-01-01","9999-12-31","riverBasinDistrict","Directive 2000/60/EC of the European Parliament and of the Council of 23 October 2000 establishing a framework for Community action in the field of water policy","http://data.europa.eu/eli/dir/2000/60/oj","european","NotApplicable","NotApplicable","euRBDCode","NotApplicable","NotApplicable"]
["02007 Alcalá del Júcar",1153,"Alcalá del Júcar","Albacete","Castilla La Mancha",7.8529157194981005,"Sí",1153,621,532,"JÚCAR","JÚCAR","02007 Alcalá del Júcar",null,null,"Cádiz","Teruel",null,null,"Santa Cruz de Tenerife",null,"Burgos","Ciudad Real","Girona","Castellón/Castelló","Cáceres","Lugo",null,null,null,"Bizkaia",null,null,null,null,null,null,null,null,null,null,null,null,6,"Polígono","ES017","CANTÁBRICO ORIENTAL","Yes","EASTERN CANTABRIAN","Cantábrico Oriental","km2",6391.4989999999998,5811.2790000000005,"ES017","https://www.miteco.gob.es/","2023-02-07","2021-12-22","9999-12-31","spa","NotApplicable","change","2009-01-01","9999-12-31","riverBasinDistrict","Directive 2000/60/EC of the European Parliament and of the Council of 23 October 2000 establishing a framework for Community action in the field of water policy","http://data.europa.eu/eli/dir/2000/60/oj","european","NotApplicable","NotApplicable","euRBDCode","NotApplicable","NotApplicable"]
["02008 Alcaraz",1310,"Alcaraz","Albacete","Castilla La Mancha",3.5321483469950175,"Sí",1310,682,628,"GUADIANA","GUADALQUIVIR - GUADIANA - JÚCAR - SEGURA","02008 Alcaraz",null,null,"Córdoba","Zaragoza",null,null,null,null,"León","Cuenca","Lleida","Valencia/València",null,"Ourense",null,null,null,"Gipuzkoa",null,null,null,null,null,null,null,null,null,null,null,null,7,"Polígono","ES070","SEGURA","No","SEGURA","Segura","km2",20241.381000000001,19032.603999999999,"ES070","https://www.miteco.gob.es/","2023-02-07","2021-12-22","9999-12-31","spa","NotApplicable","change","2009-01-01","9999-12-31","riverBasinDistrict","Directive 2000/60/EC of the European Parliament and of the Council of 23 October 2000 establishing a framework for Community action in the field of water policy","http://data.europa.eu/eli/dir/2000/60/oj","european","NotApplicable","NotApplicable","euRBDCode","NotApplicable","NotApplicable"]
["02009 Almansa",24388,"Almansa","Albacete","Castilla La Mancha",45.806983705538549,"No",24388,12127,12261,"SEGURA","JÚCAR","02009 Almansa",null,null,"Granada",null,null,null,null,null,"Palencia","Guadalajara","Tarragona",null,null,"Pontevedra",null,null,null,null,null,null,null,null,null,null,null,null,null,null,null,null,8,"Polígono","ES110","ISLAS BALEARES","No","BALEARIC ISLANDS","Islas Baleares","km2",8731.0490000000009,4994.558,"ES110","https://www.miteco.gob.es/","2023-02-07","2016-01-01","9999-12-31","spa","NotApplicable","noChange","2009-01-01","9999-12-31","riverBasinDistrict","Directive 2000/60/EC of the European Parliament and of the Council of 23 October 2000 establishing a framework for Community action in the field of water policy","http://data.europa.eu/eli/dir/2000/60/oj","european","NotApplicable","NotApplicable","euRBDCode","NotApplicable","NotApplicable"]
["02010 Alpera",2285,"Alpera","Albacete","Castilla La Mancha",12.809882838625187,"No",2285,1189,1096,"JÚCAR","JÚCAR","02010 Alpera",null,null,"Huelva",null,null,null,null,null,"Salamanca","Toledo",null,null,null,null,null,null,null,null,null,null,null,null,null,null,null,null,null,null,null,null,9,"Polígono","ES160","MELILLA","Yes","MELILLA","Melilla","km2",24.105,13.58,"ES160","https://www.miteco.gob.es/","2023-02-07","2016-01-01","9999-12-31","spa","NotApplicable","noChange","2009-01-01","9999-12-31","riverBasinDistrict","Directive 2000/60/EC of the European Parliament and of the Council of 23 October 2000 establishing a framework for Community action in the field of water policy","http://data.europa.eu/eli/dir/2000/60/oj","european","NotApplicable","NotApplicable","euRBDCode","NotApplicable","NotApplicable"]
["02011 Ayna",582,"Ayna","Albacete","Castilla La Mancha",3.9702680135562143,"Sí",582,314,268,"SEGURA","SEGURA","02011 Ayna",null,null,"Jaén",null,null,null,null,null,"Segovia",null,null,null,null,null,null,null,null,null,null,null,null,null,null,null,null,null,null,null,null,null,10,"Polígono","ES063","GUADALETE Y BARBATE","No","GUADALETE AND BARBATE","Guadalete\ny Barbate","km2",6499.0990000000002,5964.3609999999999,"ES063","https://www.miteco.gob.es/","2023-02-07","2021-12-22","9999-12-31","spa","NotApplicable","change","2009-01-01","9999-12-31","riverBasinDistrict","Directive 2000/60/EC of the European Parliament and of the Council of 23 October 2000 establishing a framework for Community action in the field of water policy","http://data.europa.eu/eli/dir/2000/60/oj","european","NotApplicable","NotApplicable","euRBDCode","NotApplicable","NotApplicable"]
["02012 Balazote",2363,"Balazote","Albacete","Castilla La Mancha",36.268067709949939,"No",2363,1208,1155,"JÚCAR","JÚCAR","02012 Balazote",null,null,"Málaga",null,null,null,null,null,"Soria",null,null,null,null,null,null,null,null,null,null,null,null,null,null,null,null,null,null,null,null,null,11,"Polígono","ES124","TENERIFE","No","TENERIFE","Tenerife","km2",2834.4009999999998,2034.18,"ES124","https://www.miteco.gob.es/","2023-02-07","2016-01-01","9999-12-31","spa","NotApplicable","noChange","2009-01-01","9999-12-31","riverBasinDistrict","Directive 2000/60/EC of the European Parliament and of the Council of 23 October 2000 establishing a framework for Community action in the field of water policy","http://data.europa.eu/eli/dir/2000/60/oj","european","NotApplicable","NotApplicable","euRBDCode","NotApplicable","NotApplicable"]
["02014 Ballestero El",413,"Ballestero El","Albacete","Castilla La Mancha",2.9777850100220493,"Sí",413,217,196,"GUADIANA","GUADIANA - JÚCAR","02014 Ballestero El",null,null,"Sevilla",null,null,null,null,null,"Valladolid",null,null,null,null,null,null,null,null,null,null,null,null,null,null,null,null,null,null,null,null,null,12,"Polígono","ES014","GALICIA-COSTA","No","GALICIAN COAST","Galicia-Costa","km2",16299.672,13104.379000000001,"ES014","https://www.miteco.gob.es/","2023-02-07","2016-01-01","9999-12-31","spa","NotApplicable","noChange","2009-01-01","9999-12-31","riverBasinDistrict","Directive 2000/60/EC of the European Parliament and of the Council of 23 October 2000 establishing a framework for Community action in the field of water policy","http://data.europa.eu/eli/dir/2000/60/oj","european","NotApplicable","NotApplicable","euRBDCode","NotApplicable","NotApplicable"]
["02013 Balsa de Ves",129,"Balsa de Ves","Albacete","Castilla La Mancha",1.6997771842466234,"Sí",129,73,56,"JÚCAR","JÚCAR","02013 Balsa de Ves",null,null,null,null,null,null,null,null,"Zamora",null,null,null,null,null,null,null,null,null,null,null,null,null,null,null,null,null,null,null,null,null,13,"Polígono","ES018","CANTÁBRICO OCCIDENTAL","No","WESTERN CANTABRIAN","Cantábrico Occidental","km2",18977.114000000001,17427.094000000001,"ES018","https://www.miteco.gob.es/","2023-02-07","2021-12-22","9999-12-31","spa","NotApplicable","change","2009-01-01","9999-12-31","riverBasinDistrict","Directive 2000/60/EC of the European Parliament and of the Council of 23 October 2000 establishing a framework for Community action in the field of water policy","http://data.europa.eu/eli/dir/2000/60/oj","european","NotApplicable","NotApplicable","euRBDCode","NotApplicable","NotApplicable"]
["02015 Barrax",1808,"Barrax","Albacete","Castilla La Mancha",9.5273074869987564,"Sí",1808,926,882,"JÚCAR","JÚCAR","02015 Barrax",null,null,null,null,null,null,null,null,null,null,null,null,null,null,null,null,null,null,null,null,null,null,null,null,null,null,null,null,null,null,14,"Polígono","ES020","DUERO","Yes","DUERO","Duero","km2",78887.764999999999,78887.764999999999,"ES020","https://www.miteco.gob.es/","2023-02-07","2016-01-01","9999-12-31","spa","NotApplicable","noChange","2009-01-01","9999-12-31","riverBasinDistrict","Directive 2000/60/EC of the European Parliament and of the Council of 23 October 2000 establishing a framework for Community action in the field of water policy","http://data.europa.eu/eli/dir/2000/60/oj","european","NotApplicable","NotApplicable","euRBDCode","NotApplicable","NotApplicable"]
["02016 Bienservida",595,"Bienservida","Albacete","Castilla La Mancha",6.5582516031894036,"Sí",595,319,276,"GUADALQUIVIR","GUADALQUIVIR","02016 Bienservida",null,null,null,null,null,null,null,null,null,null,null,null,null,null,null,null,null,null,null,null,null,null,null,null,null,null,null,null,null,null,15,"Polígono","ES030","TAJO","Yes","TAGUS","Tajo","km2",55782.396000000001,55782.396000000001,"ES030","https://www.miteco.gob.es/","2023-02-07","2016-01-01","9999-12-31","spa","NotApplicable","noChange","2009-01-01","9999-12-31","riverBasinDistrict","Directive 2000/60/EC of the European Parliament and of the Council of 23 October 2000 establishing a framework for Community action in the field of water policy","http://data.europa.eu/eli/dir/2000/60/oj","european","NotApplicable","NotApplicable","euRBDCode","NotApplicable","NotApplicable"]
["02017 Bogarra",768,"Bogarra","Albacete","Castilla La Mancha",4.6260986208690458,"Sí",768,400,368,"GUADALQUIVIR","JÚCAR - SEGURA","02017 Bogarra",null,null,null,null,null,null,null,null,null,null,null,null,null,null,null,null,null,null,null,null,null,null,null,null,null,null,null,null,null,null,16,"Polígono","ES080","JÚCAR","No","JUCAR","Júcar","km2",44888.792000000001,42756.33,"ES080","https://www.miteco.gob.es/","2023-02-07","2021-12-22","9999-12-31","spa","NotApplicable","change","2009-01-01","9999-12-31","riverBasinDistrict","Directive 2000/60/EC of the European Parliament and of the Council of 23 October 2000 establishing a framework for Community action in the field of water policy","http://data.europa.eu/eli/dir/2000/60/oj","european","NotApplicable","NotApplicable","euRBDCode","NotApplicable","NotApplicable"]
["02018 Bonete",1031,"Bonete","Albacete","Castilla La Mancha",8.2128620908305905,"Sí",1031,536,495,"SEGURA","JÚCAR - SEGURA","02018 Bonete",null,null,null,null,null,null,null,null,null,null,null,null,null,null,null,null,null,null,null,null,null,null,null,null,null,null,null,null,null,null,17,"Polígono","ES126","LA GOMERA","No","LA GOMERA","La Gomera","km2",530.005,367.76299999999998,"ES126","https://www.miteco.gob.es/","2023-02-07","2021-12-22","9999-12-31","spa","NotApplicable","change","2009-01-01","9999-12-31","riverBasinDistrict","Directive 2000/60/EC of the European Parliament and of the Council of 23 October 2000 establishing a framework for Community action in the field of water policy","http://data.europa.eu/eli/dir/2000/60/oj","european","NotApplicable","NotApplicable","euRBDCode","NotApplicable","NotApplicable"]
["02019 Bonillo El",2718,"Bonillo El","Albacete","Castilla La Mancha",5.4050044614155661,"Sí",2718,1376,1342,"GUADIANA","GUADIANA","02019 Bonillo El",null,null,null,null,null,null,null,null,null,null,null,null,null,null,null,null,null,null,null,null,null,null,null,null,null,null,null,null,null,null,18,"Polígono","ES050","GUADALQUIVIR","No","GUADALQUIVIR","Guadalquivir","km2",57685.800999999999,57195.851999999999,"ES050","https://www.miteco.gob.es/","2023-02-07","2021-12-22","9999-12-31","spa","NotApplicable","change","2009-01-01","9999-12-31","riverBasinDistrict","Directive 2000/60/EC of the European Parliament and of the Council of 23 October 2000 establishing a framework for Community action in the field of water policy","http://data.europa.eu/eli/dir/2000/60/oj","european","NotApplicable","NotApplicable","euRBDCode","NotApplicable","NotApplicable"]
["02020 Carcelén",496,"Carcelén","Albacete","Castilla La Mancha",6.5814151372097012,"Sí",496,265,231,"JÚCAR","JÚCAR","02020 Carcelén",null,null,null,null,null,null,null,null,null,null,null,null,null,null,null,null,null,null,null,null,null,null,null,null,null,null,null,null,null,null,19,"Polígono","ES064","TINTO, ODIEL Y PIEDRAS","No","TINTO ODIEL AND PIEDRAS","Tinto, Odiel\ny Piedras","km2",4945.6580000000004,4768.0159999999996,"ES064","https://www.miteco.gob.es/","2023-02-07","2021-12-22","9999-12-31","spa","NotApplicable","change","2009-01-01","9999-12-31","riverBasinDistrict","Directive 2000/60/EC of the European Parliament and of the Council of 23 October 2000 establishing a framework for Community action in the field of water policy","http://data.europa.eu/eli/dir/2000/60/oj","european","NotApplicable","NotApplicable","euRBDCode","NotApplicable","NotApplicable"]
["02021 Casas de Juan Núñez",1361,"Casas de Juan Núñez","Albacete","Castilla La Mancha",15.295094346289186,"No",1361,729,632,"JÚCAR","JÚCAR","02021 Casas de Juan Núñez",null,null,null,null,null,null,null,null,null,null,null,null,null,null,null,null,null,null,null,null,null,null,null,null,null,null,null,null,null,null,20,"Polígono","ES040","GUADIANA","Yes","GUADIANA","Guadiana","km2",55537.578999999998,55476.053999999996,"ES040","https://www.miteco.gob.es/","2023-02-07","2021-12-22","9999-12-31","spa","NotApplicable","change","2009-01-01","9999-12-31","riverBasinDistrict","Directive 2000/60/EC of the European Parliament and of the Council of 23 October 2000 establishing a framework for Community action in the field of water policy","http://data.europa.eu/eli/dir/2000/60/oj","european","NotApplicable","NotApplicable","euRBDCode","NotApplicable","NotApplicable"]
["02022 Casas de Lázaro",328,"Casas de Lázaro","Albacete","Castilla La Mancha",2.9203118219929629,"Sí",328,179,149,"SEGURA","JÚCAR","02022 Casas de Lázaro",null,null,null,null,null,null,null,null,null,null,null,null,null,null,null,null,null,null,null,null,null,null,null,null,null,null,null,null,null,null,21,"Polígono","ES060","CUENCAS MEDITERRÁNEAS ANDALUZAS","No","ANDALUSIA MEDITERRANEAN BASINS","Cuencas Mediterráneas\nAndaluzas","km2",20018.388999999999,17952.349999999999,"ES060","https://www.miteco.gob.es/","2023-02-07","2021-12-22","9999-12-31","spa","NotApplicable","change","2009-01-01","9999-12-31","riverBasinDistrict","Directive 2000/60/EC of the European Parliament and of the Council of 23 October 2000 establishing a framework for Community action in the field of water policy","http://data.europa.eu/eli/dir/2000/60/oj","european","NotApplicable","NotApplicable","euRBDCode","NotApplicable","NotApplicable"]
["02023 Casas de Ves",564,"Casas de Ves","Albacete","Castilla La Mancha",4.4973028144025324,"Sí",564,295,269,"JÚCAR","JÚCAR","02023 Casas de Ves",null,null,null,null,null,null,null,null,null,null,null,null,null,null,null,null,null,null,null,null,null,null,null,null,null,null,null,null,null,null,22,"Polígono","ES100","DISTRITO DE CUENCA FLUVIAL DE CATALUÑA","No","CATALAN RIVER BASIN DISTRICT","Cuencas Internas\nde Cataluña","km2",18042.142,16441.199000000001,"ES100","https://www.miteco.gob.es/","2023-03-01","2021-12-22","9999-12-31","spa","NotApplicable","change","2009-01-01","9999-12-31","riverBasinDistrict","Directive 2000/60/EC of the European Parliament and of the Council of 23 October 2000 establishing a framework for Community action in the field of water policy","http://data.europa.eu/eli/dir/2000/60/oj","european","NotApplicable","NotApplicable","euRBDCode","NotApplicable","NotApplicable"]
["02024 Casas-Ibáñez",4540,"Casas-Ibáñez","Albacete","Castilla La Mancha",43.970348101817507,"No",4540,2274,2266,"JÚCAR","JÚCAR","02024 Casas-Ibáñez",null,null,null,null,null,null,null,null,null,null,null,null,null,null,null,null,null,null,null,null,null,null,null,null,null,null,null,null,null,null,23,"Polígono","ES091","EBRO","Yes","EBRO","Ebro","km2",85946.656000000003,85634.126000000004,"ES091","https://www.miteco.gob.es/","2023-02-07","2021-12-22","9999-12-31","spa","NotApplicable","change","2009-01-01","9999-12-31","riverBasinDistrict","Directive 2000/60/EC of the European Parliament and of the Council of 23 October 2000 establishing a framework for Community action in the field of water policy","http://data.europa.eu/eli/dir/2000/60/oj","european","NotApplicable","NotApplicable","euRBDCode","NotApplicable","NotApplicable"]
["02025 Caudete",10077,"Caudete","Albacete","Castilla La Mancha",71.347351219850651,"No",10077,5135,4942,"JÚCAR","JÚCAR","02025 Caudete",null,null,null,null,null,null,null,null,null,null,null,null,null,null,null,null,null,null,null,null,null,null,null,null,null,null,null,null,null,null,24,"Polígono","ES010","MIÑO-SIL","Yes","MINHO","Miño-Sil","km2",17573.150000000001,17556.964,"ES010","https://www.miteco.gob.es/","2023-02-07","2021-12-22","9999-12-31","spa","NotApplicable","change","2009-01-01","9999-12-31","riverBasinDistrict","Directive 2000/60/EC of the European Parliament and of the Council of 23 October 2000 establishing a framework for Community action in the field of water policy","http://data.europa.eu/eli/dir/2000/60/oj","european","NotApplicable","NotApplicable","euRBDCode","NotApplicable","NotApplicable"]
["02026 Cenizate",1186,"Cenizate","Albacete","Castilla La Mancha",18.747978684148929,"No",1186,594,592,"JÚCAR","JÚCAR","02026 Cenizate"]
["02029 Chinchilla de Monte-Aragón",4344,"Chinchilla de Monte-Aragón","Albacete","Castilla La Mancha",6.395069554478293,"Sí",4344,2261,2083,"SEGURA","JÚCAR - SEGURA","02029 Chinchilla de Monte-Aragón"]
["02027 Corral-Rubio",306,"Corral-Rubio","Albacete","Castilla La Mancha",3.2293576556450656,"Sí",306,165,141,"SEGURA","SEGURA","02027 Corral-Rubio"]
["02028 Cotillas",134,"Cotillas","Albacete","Castilla La Mancha",9.260994735884724,"Sí",134,71,63,"GUADALQUIVIR","GUADALQUIVIR","02028 Cotillas"]
["02030 Elche de la Sierra",3557,"Elche de la Sierra","Albacete","Castilla La Mancha",14.85213885726842,"No",3557,1745,1812,"SEGURA","SEGURA","02030 Elche de la Sierra"]
["02031 Férez",628,"Férez","Albacete","Castilla La Mancha",4.9778612001084346,"Sí",628,309,319,"SEGURA","SEGURA","02031 Férez"]
["02032 Fuensanta",280,"Fuensanta","Albacete","Castilla La Mancha",11.612234318299636,"Sí",280,159,121,"JÚCAR","JÚCAR","02032 Fuensanta"]
["02033 Fuente-Álamo",2447,"Fuente-Álamo","Albacete","Castilla La Mancha",18.34728936981897,"No",2447,1280,1167,"SEGURA","SEGURA","02033 Fuente-Álamo"]
["02034 Fuentealbilla",1836,"Fuentealbilla","Albacete","Castilla La Mancha",16.953880734989514,"No",1836,942,894,"JÚCAR","JÚCAR","02034 Fuentealbilla"]
["02035 Gineta La",2554,"Gineta La","Albacete","Castilla La Mancha",18.623956504238155,"No",2554,1321,1233,"JÚCAR","JÚCAR","02035 Gineta La"]
["02036 Golosalvo",99,"Golosalvo","Albacete","Castilla La Mancha",3.5135443229712404,"Sí",99,52,47,"JÚCAR","JÚCAR","02036 Golosalvo"]
["02037 Hellín",30427,"Hellín","Albacete","Castilla La Mancha",39.044454755808871,"No",30427,15281,15146,"SEGURA","SEGURA","02037 Hellín"]
["02038 Herrera La",311,"Herrera La","Albacete","Castilla La Mancha",4.9033673993863696,"Sí",311,161,150,"JÚCAR","JÚCAR","02038 Herrera La"]
["02039 Higueruela",1144,"Higueruela","Albacete","Castilla La Mancha",5.5681318757910985,"Sí",1144,599,545,"SEGURA","JÚCAR - SEGURA","02039 Higueruela"]
["02040 Hoya-Gonzalo",598,"Hoya-Gonzalo","Albacete","Castilla La Mancha",5.2192899510374744,"Sí",598,322,276,"JÚCAR","JÚCAR","02040 Hoya-Gonzalo"]
["02041 Jorquera",363,"Jorquera","Albacete","Castilla La Mancha",5.3429417972596447,"Sí",363,196,167,"JÚCAR","JÚCAR","02041 Jorquera"]
["02042 Letur",909,"Letur","Albacete","Castilla La Mancha",3.4379519639820639,"Sí",909,444,465,"SEGURA","SEGURA","02042 Letur"]
["02043 Lezuza",1322,"Lezuza","Albacete","Castilla La Mancha",3.6659930889652221,"Sí",1322,684,638,"GUADIANA","JÚCAR","02043 Lezuza"]
["02044 Liétor",1123,"Liétor","Albacete","Castilla La Mancha",3.5856873919185057,"Sí",1123,585,538,"SEGURA","SEGURA","02044 Liétor"]
["02045 Madrigueras",4654,"Madrigueras","Albacete","Castilla La Mancha",63.453108916020753,"No",4654,2379,2275,"JÚCAR","JÚCAR","02045 Madrigueras"]
["02046 Mahora",1380,"Mahora","Albacete","Castilla La Mancha",12.760161665700407,"No",1380,709,671,"JÚCAR","JÚCAR","02046 Mahora"]
["02047 Masegoso",105,"Masegoso","Albacete","Castilla La Mancha",1.0108764821868113,"Sí",105,61,44,"JÚCAR","JÚCAR","02047 Masegoso"]
["02048 Minaya",1483,"Minaya","Albacete","Castilla La Mancha",21.191435973427112,"No",1483,764,719,"GUADIANA","GUADIANA - JÚCAR","02048 Minaya"]
["02049 Molinicos",829,"Molinicos","Albacete","Castilla La Mancha",5.7734509813606119,"Sí",829,430,399,"SEGURA","SEGURA","02049 Molinicos"]
["02050 Montalvos",86,"Montalvos","Albacete","Castilla La Mancha",3.4872451979417143,"Sí",86,48,38,"JÚCAR","JÚCAR","02050 Montalvos"]
["02051 Montealegre del Castillo",2038,"Montealegre del Castillo","Albacete","Castilla La Mancha",11.487404720207293,"Sí",2038,1054,984,"SEGURA","SEGURA","02051 Montealegre del Castillo"]
["02052 Motilleja",605,"Motilleja","Albacete","Castilla La Mancha",25.394133745235976,"No",605,330,275,"JÚCAR","JÚCAR","02052 Motilleja"]
["02053 Munera",3433,"Munera","Albacete","Castilla La Mancha",14.891234992190016,"No",3433,1769,1664,"GUADIANA","GUADIANA - JÚCAR","02053 Munera"]
["02054 Navas de Jorquera",536,"Navas de Jorquera","Albacete","Castilla La Mancha",12.683471983085926,"No",536,281,255,"JÚCAR","JÚCAR","02054 Navas de Jorquera"]
["02055 Nerpio",1197,"Nerpio","Albacete","Castilla La Mancha",2.7407485426178386,"Sí",1197,660,537,"GUADALQUIVIR","SEGURA","02055 Nerpio"]
["02056 Ontur",1963,"Ontur","Albacete","Castilla La Mancha",36.07858993916448,"No",1963,990,973,"SEGURA","SEGURA","02056 Ontur"]
["02057 Ossa de Montiel",2241,"Ossa de Montiel","Albacete","Castilla La Mancha",9.1954456898348678,"Sí",2241,1127,1114,"GUADIANA","GUADIANA","02057 Ossa de Montiel"]
["02058 Paterna del Madera",323,"Paterna del Madera","Albacete","Castilla La Mancha",2.8752416961105958,"Sí",323,178,145,"GUADALQUIVIR","JÚCAR - SEGURA","02058 Paterna del Madera"]
["02060 Peñas de San Pedro",1410,"Peñas de San Pedro","Albacete","Castilla La Mancha",8.8812967449102622,"Sí",1410,827,583,"SEGURA","JÚCAR","02060 Peñas de San Pedro"]
["02059 Peñascosa",320,"Peñascosa","Albacete","Castilla La Mancha",1.6908131784747837,"Sí",320,176,144,"GUADALQUIVIR","GUADALQUIVIR - JÚCAR - SEGURA","02059 Peñascosa"]
["02061 Pétrola",676,"Pétrola","Albacete","Castilla La Mancha",9.0607699676115008,"Sí",676,356,320,"SEGURA","SEGURA","02061 Pétrola"]
["02062 Povedilla",401,"Povedilla","Albacete","Castilla La Mancha",8.1129213446206112,"Sí",401,220,181,"GUADIANA","GUADALQUIVIR - GUADIANA","02062 Povedilla"]
["02901 Pozo Cañada",2797,"Pozo Cañada","Albacete","Castilla La Mancha",23.939989968656331,"No",2797,1422,1375,"SEGURA","JÚCAR - SEGURA","02901 Pozo Cañada"]
["02063 Pozohondo",1584,"Pozohondo","Albacete","Castilla La Mancha",11.610817705030989,"Sí",1584,826,758,"SEGURA","JÚCAR","02063 Pozohondo"]
["02064 Pozo-Lorente",394,"Pozo-Lorente","Albacete","Castilla La Mancha",4.864972322752636,"Sí",394,204,190,"JÚCAR","JÚCAR","02064 Pozo-Lorente"]
["02065 Pozuelo",465,"Pozuelo","Albacete","Castilla La Mancha",3.4707216637967901,"Sí",465,250,215,"JÚCAR","JÚCAR","02065 Pozuelo"]
["02066 Recueja La",225,"Recueja La","Albacete","Castilla La Mancha",7.5657954356195027,"Sí",225,128,97,"JÚCAR","JÚCAR","02066 Recueja La"]
["02067 Riópar",1326,"Riópar","Albacete","Castilla La Mancha",16.369804500585165,"No",1326,684,642,"GUADALQUIVIR","SEGURA","02067 Riópar"]
["02068 Robledo",391,"Robledo","Albacete","Castilla La Mancha",3.2560434664981273,"Sí",391,211,180,"GUADIANA","GUADIANA - JÚCAR","02068 Robledo"]
["02069 Roda La",15401,"Roda La","Albacete","Castilla La Mancha",38.70758244870887,"No",15401,7794,7607,"JÚCAR","JÚCAR","02069 Roda La"]
["02070 Salobre",461,"Salobre","Albacete","Castilla La Mancha",9.3077444795181972,"Sí",461,242,219,"GUADALQUIVIR","GUADALQUIVIR","02070 Salobre"]
["02071 San Pedro",1148,"San Pedro","Albacete","Castilla La Mancha",13.812026738062492,"No",1148,594,554,"JÚCAR","JÚCAR","02071 San Pedro"]
["02072 Socovos",1750,"Socovos","Albacete","Castilla La Mancha",12.578950886744158,"No",1750,902,848,"SEGURA","SEGURA","02072 Socovos"]
["02073 Tarazona de la Mancha",6184,"Tarazona de la Mancha","Albacete","Castilla La Mancha",29.077695376345499,"No",6184,3169,3015,"JÚCAR","JÚCAR","02073 Tarazona de la Mancha"]
["02074 Tobarra",7691,"Tobarra","Albacete","Castilla La Mancha",23.648767072405015,"No",7691,3974,3717,"SEGURA","SEGURA","02074 Tobarra"]
["02075 Valdeganga",1947,"Valdeganga","Albacete","Castilla La Mancha",27.555968195289303,"No",1947,997,950,"JÚCAR","JÚCAR","02075 Valdeganga"]
["02076 Vianos",327,"Vianos","Albacete","Castilla La Mancha",2.5536540681193078,"Sí",327,171,156,"GUADALQUIVIR","GUADALQUIVIR","02076 Vianos"]
["02077 Villa de Ves",62,"Villa de Ves","Albacete","Castilla La Mancha",1.0734741084970669,"Sí",62,36,26,"JÚCAR","JÚCAR","02077 Villa de Ves"]
["02078 Villalgordo del Júcar",1081,"Villalgordo del Júcar","Albacete","Castilla La Mancha",23.155219784162504,"No",1081,577,504,"JÚCAR","JÚCAR","02078 Villalgordo del Júcar"]
["02079 Villamalea",4040,"Villamalea","Albacete","Castilla La Mancha",31.481607026944047,"No",4040,2062,1978,"JÚCAR","JÚCAR","02079 Villamalea"]
["02080 Villapalacios",556,"Villapalacios","Albacete","Castilla La Mancha",6.3559240899182639,"Sí",556,285,271,"GUADALQUIVIR","GUADALQUIVIR","02080 Villapalacios"]
["02081 Villarrobledo",24978,"Villarrobledo","Albacete","Castilla La Mancha",28.963532711468115,"No",24978,12350,12628,"GUADIANA","GUADIANA","02081 Villarrobledo"]
["02082 Villatoya",108,"Villatoya","Albacete","Castilla La Mancha",5.7835661040185071,"Sí",108,63,45,"JÚCAR","JÚCAR","02082 Villatoya"]
["02083 Villavaliente",214,"Villavaliente","Albacete","Castilla La Mancha",6.1420632832278734,"Sí",214,131,83,"JÚCAR","JÚCAR","02083 Villavaliente"]
["02084 Villaverde de Guadalimar",333,"Villaverde de Guadalimar","Albacete","Castilla La Mancha",4.8059160393478955,"Sí",333,182,151,"GUADALQUIVIR","GUADALQUIVIR","02084 Villaverde de Guadalimar"]
["02085 Viveros",328,"Viveros","Albacete","Castilla La Mancha",5.017848087892383,"Sí",328,172,156,"GUADIANA","GUADIANA","02085 Viveros"]
["02086 Yeste",2567,"Yeste","Albacete","Castilla La Mancha",5.0115497968828819,"Sí",2567,1334,1233,"GUADALQUIVIR","SEGURA","02086 Yeste"]
["03002 Agost",4906,"Agost","Alicante/Alacant","Comunitat Valenciana",73.624582939098161,"No",4906,2474,2432,"JÚCAR","JÚCAR","03002 Agost"]
["03003 Agres",580,"Agres","Alicante/Alacant","Comunitat Valenciana",22.44878290827079,"No",580,319,261,"JÚCAR","JÚCAR","03003 Agres"]
["03004 Aigües",1049,"Aigües","Alicante/Alacant","Comunitat Valenciana",56.786144570486705,"No",1049,544,505,"JÚCAR","JÚCAR","03004 Aigües"]
["03005 Albatera",12714,"Albatera","Alicante/Alacant","Comunitat Valenciana",206.58827123281884,"No",12714,6420,6294,"SEGURA","SEGURA","03005 Albatera"]
["03006 Alcalalí",1336,"Alcalalí","Alicante/Alacant","Comunitat Valenciana",92.792038109745604,"No",1336,667,669,"JÚCAR","JÚCAR","03006 Alcalalí"]
["03007 Alcocer de Planes",243,"Alcocer de Planes","Alicante/Alacant","Comunitat Valenciana",55.388970756674887,"No",243,118,125,"JÚCAR","JÚCAR","03007 Alcocer de Planes"]
["03008 Alcoleja",181,"Alcoleja","Alicante/Alacant","Comunitat Valenciana",12.432312583231242,"Sí",181,100,81,"JÚCAR","JÚCAR","03008 Alcoleja"]
["03009 Alcoy/Alcoi",59128,"Alcoy/Alcoi","Alicante/Alacant","Comunitat Valenciana",455.31935141203019,"No",59128,28964,30164,"JÚCAR","JÚCAR","03009 Alcoy/Alcoi"]
["03010 Alfafara",408,"Alfafara","Alicante/Alacant","Comunitat Valenciana",20.629318599954889,"No",408,195,213,"JÚCAR","JÚCAR","03010 Alfafara"]
["03011 Alfàs del Pi l'",20495,"Alfàs del Pi l'","Alicante/Alacant","Comunitat Valenciana",1064.1497728887869,"No",20495,10144,10351,"JÚCAR","JÚCAR","03011 Alfàs del Pi l'"]
["03012 Algorfa",3396,"Algorfa","Alicante/Alacant","Comunitat Valenciana",183.85676929656918,"No",3396,1731,1665,"SEGURA","SEGURA","03012 Algorfa"]
["03013 Algueña",1334,"Algueña","Alicante/Alacant","Comunitat Valenciana",72.209982732395432,"No",1334,672,662,"SEGURA","SEGURA","03013 Algueña"]
["03014 Alicante/Alacant",337304,"Alicante/Alacant","Alicante/Alacant","Comunitat Valenciana",1667.1568072620548,"No",337304,163052,174252,"JÚCAR","JÚCAR","03014 Alicante/Alacant"]
["03015 Almoradí",21404,"Almoradí","Alicante/Alacant","Comunitat Valenciana",501.33508221295739,"No",21404,10773,10631,"SEGURA","SEGURA","03015 Almoradí"]
["03016 Almudaina",117,"Almudaina","Alicante/Alacant","Comunitat Valenciana",13.265014352292024,"No",117,56,61,"JÚCAR","JÚCAR","03016 Almudaina"]
["03017 Alqueria d'Asnar l'",498,"Alqueria d'Asnar l'","Alicante/Alacant","Comunitat Valenciana",459.53592408245072,"No",498,246,252,"JÚCAR","JÚCAR","03017 Alqueria d'Asnar l'"]
["03018 Altea",22657,"Altea","Alicante/Alacant","Comunitat Valenciana",658.09832733172357,"No",22657,11117,11540,"JÚCAR","JÚCAR","03018 Altea"]
["03019 Aspe",21088,"Aspe","Alicante/Alacant","Comunitat Valenciana",298.82005189107696,"No",21088,10612,10476,"SEGURA","JÚCAR - SEGURA","03019 Aspe"]
["03001 Atzúbia l'",609,"Atzúbia l'","Alicante/Alacant","Comunitat Valenciana",41.514497967016624,"No",609,315,294,"JÚCAR","JÚCAR","03001 Atzúbia l'"]
["03020 Balones",134,"Balones","Alicante/Alacant","Comunitat Valenciana",11.911111111111111,"Sí",134,71,63,"JÚCAR","JÚCAR","03020 Balones"]
["03021 Banyeres de Mariola",7113,"Banyeres de Mariola","Alicante/Alacant","Comunitat Valenciana",141.47935652491535,"No",7113,3572,3541,"JÚCAR","JÚCAR","03021 Banyeres de Mariola"]
["03022 Benasau",170,"Benasau","Alicante/Alacant","Comunitat Valenciana",18.804498478494843,"No",170,79,91,"JÚCAR","JÚCAR","03022 Benasau"]
["03023 Beneixama",1707,"Beneixama","Alicante/Alacant","Comunitat Valenciana",48.927712071392378,"No",1707,861,846,"JÚCAR","JÚCAR","03023 Beneixama"]
["03024 Benejúzar",5453,"Benejúzar","Alicante/Alacant","Comunitat Valenciana",584.58668017158732,"No",5453,2736,2717,"SEGURA","SEGURA","03024 Benejúzar"]
["03025 Benferri",1958,"Benferri","Alicante/Alacant","Comunitat Valenciana",158.30025305403066,"No",1958,1010,948,"SEGURA","SEGURA","03025 Benferri"]
["03026 Beniarbeig",2227,"Beniarbeig","Alicante/Alacant","Comunitat Valenciana",300.81431935593588,"No",2227,1143,1084,"JÚCAR","JÚCAR","03026 Beniarbeig"]
["03027 Beniardá",192,"Beniardá","Alicante/Alacant","Comunitat Valenciana",12.198645022797169,"Sí",192,96,96,"JÚCAR","JÚCAR","03027 Beniardá"]
["03028 Beniarrés",1083,"Beniarrés","Alicante/Alacant","Comunitat Valenciana",53.577375723739813,"No",1083,557,526,"JÚCAR","JÚCAR","03028 Beniarrés"]
["03030 Benidoleig",1166,"Benidoleig","Alicante/Alacant","Comunitat Valenciana",155.79325086534732,"No",1166,585,581,"JÚCAR","JÚCAR","03030 Benidoleig"]
["03031 Benidorm",69118,"Benidorm","Alicante/Alacant","Comunitat Valenciana",1794.8124161611124,"No",69118,34455,34663,"JÚCAR","JÚCAR","03031 Benidorm"]
["03032 Benifallim",103,"Benifallim","Alicante/Alacant","Comunitat Valenciana",7.5246309296374685,"Sí",103,56,47,"JÚCAR","JÚCAR","03032 Benifallim"]
["03033 Benifato",135,"Benifato","Alicante/Alacant","Comunitat Valenciana",11.36315333397023,"Sí",135,70,65,"JÚCAR","JÚCAR","03033 Benifato"]
["03029 Benigembla",483,"Benigembla","Alicante/Alacant","Comunitat Valenciana",26.172811542480829,"No",483,239,244,"JÚCAR","JÚCAR","03029 Benigembla"]
["03034 Benijófar",3323,"Benijófar","Alicante/Alacant","Comunitat Valenciana",762.16400448261606,"No",3323,1614,1709,"SEGURA","SEGURA","03034 Benijófar"]
["03035 Benilloba",737,"Benilloba","Alicante/Alacant","Comunitat Valenciana",77.269033475524438,"No",737,392,345,"JÚCAR","JÚCAR","03035 Benilloba"]
["03036 Benillup",101,"Benillup","Alicante/Alacant","Comunitat Valenciana",29.892074811872302,"No",101,54,47,"JÚCAR","JÚCAR","03036 Benillup"]
["03037 Benimantell",501,"Benimantell","Alicante/Alacant","Comunitat Valenciana",13.209273384500591,"No",501,259,242,"JÚCAR","JÚCAR","03037 Benimantell"]
["03038 Benimarfull",397,"Benimarfull","Alicante/Alacant","Comunitat Valenciana",71.356508801025512,"No",397,203,194,"JÚCAR","JÚCAR","03038 Benimarfull"]
["03039 Benimassot",97,"Benimassot","Alicante/Alacant","Comunitat Valenciana",10.19686573576641,"Sí",97,55,42,"JÚCAR","JÚCAR","03039 Benimassot"]
["03040 Benimeli",415,"Benimeli","Alicante/Alacant","Comunitat Valenciana",118.40424178203234,"No",415,189,226,"JÚCAR","JÚCAR","03040 Benimeli"]
["03041 Benissa",11462,"Benissa","Alicante/Alacant","Comunitat Valenciana",164.42239139759033,"No",11462,5626,5836,"JÚCAR","JÚCAR","03041 Benissa"]
["03042 Benitachell/Poble Nou de Benitatxell el",4447,"Benitachell/Poble Nou de Benitatxell el","Alicante/Alacant","Comunitat Valenciana",350.47483942152343,"No",4447,2220,2227,"JÚCAR","JÚCAR","03042 Benitachell/Poble Nou de Benitatxell el"]
["03043 Biar",3628,"Biar","Alicante/Alacant","Comunitat Valenciana",36.958122789777171,"No",3628,1776,1852,"JÚCAR","JÚCAR","03043 Biar"]
["03044 Bigastro",6994,"Bigastro","Alicante/Alacant","Comunitat Valenciana",1706.6274684057967,"No",6994,3514,3480,"SEGURA","SEGURA","03044 Bigastro"]
["03045 Bolulla",426,"Bolulla","Alicante/Alacant","Comunitat Valenciana",31.38928072273745,"No",426,222,204,"JÚCAR","JÚCAR","03045 Bolulla"]
["03046 Busot",3207,"Busot","Alicante/Alacant","Comunitat Valenciana",94.764160460456324,"No",3207,1628,1579,"JÚCAR","JÚCAR","03046 Busot"]
["03049 Callosa de Segura",19273,"Callosa de Segura","Alicante/Alacant","Comunitat Valenciana",773.77678388610752,"No",19273,9835,9438,"SEGURA","SEGURA","03049 Callosa de Segura"]
["03048 Callosa d'en Sarrià",7589,"Callosa d'en Sarrià","Alicante/Alacant","Comunitat Valenciana",218.94512016074017,"No",7589,3919,3670,"JÚCAR","JÚCAR","03048 Callosa d'en Sarrià"]
["03047 Calp",23530,"Calp","Alicante/Alacant","Comunitat Valenciana",1000.888208528784,"No",23530,11801,11729,"JÚCAR","JÚCAR","03047 Calp"]
["03050 Campello el",29013,"Campello el","Alicante/Alacant","Comunitat Valenciana",524.95283783753962,"No",29013,14086,14927,"JÚCAR","JÚCAR","03050 Campello el"]
["03051 Campo de Mirra/Camp de Mirra el",429,"Campo de Mirra/Camp de Mirra el","Alicante/Alacant","Comunitat Valenciana",19.66459895013044,"No",429,217,212,"JÚCAR","JÚCAR","03051 Campo de Mirra/Camp de Mirra el"]
["03052 Cañada",1191,"Cañada","Alicante/Alacant","Comunitat Valenciana",61.631763820871292,"No",1191,590,601,"JÚCAR","JÚCAR","03052 Cañada"]
["03053 Castalla",10752,"Castalla","Alicante/Alacant","Comunitat Valenciana",93.822214669363305,"No",10752,5484,5268,"JÚCAR","JÚCAR","03053 Castalla"]
["03054 Castell de Castells",425,"Castell de Castells","Alicante/Alacant","Comunitat Valenciana",9.253876285472284,"Sí",425,226,199,"JÚCAR","JÚCAR","03054 Castell de Castells"]
["03075 Castell de Guadalest el",243,"Castell de Guadalest el","Alicante/Alacant","Comunitat Valenciana",15.225373115625118,"No",243,118,125,"JÚCAR","JÚCAR","03075 Castell de Guadalest el"]
["03055 Catral",8880,"Catral","Alicante/Alacant","Comunitat Valenciana",443.48777162377456,"No",8880,4450,4430,"SEGURA","SEGURA","03055 Catral"]
["03056 Cocentaina",11451,"Cocentaina","Alicante/Alacant","Comunitat Valenciana",216.28223511437184,"No",11451,5783,5668,"JÚCAR","JÚCAR","03056 Cocentaina"]
["03057 Confrides",271,"Confrides","Alicante/Alacant","Comunitat Valenciana",6.7778249974589411,"Sí",271,147,124,"JÚCAR","JÚCAR","03057 Confrides"]
["03058 Cox",7427,"Cox","Alicante/Alacant","Comunitat Valenciana",444.47237233463193,"No",7427,3768,3659,"SEGURA","SEGURA","03058 Cox"]
["03059 Crevillent",29717,"Crevillent","Alicante/Alacant","Comunitat Valenciana",284.23693521096584,"No",29717,15038,14679,"SEGURA","SEGURA","03059 Crevillent"]
["03061 Daya Nueva",1757,"Daya Nueva","Alicante/Alacant","Comunitat Valenciana",247.69270090352148,"No",1757,856,901,"SEGURA","SEGURA","03061 Daya Nueva"]
["03062 Daya Vieja",707,"Daya Vieja","Alicante/Alacant","Comunitat Valenciana",224.95298100881391,"No",707,352,355,"SEGURA","SEGURA","03062 Daya Vieja"]
["03063 Dénia",42953,"Dénia","Alicante/Alacant","Comunitat Valenciana",647.4314818136462,"No",42953,20826,22127,"JÚCAR","JÚCAR","03063 Dénia"]
["03064 Dolores",7620,"Dolores","Alicante/Alacant","Comunitat Valenciana",407.46303302327465,"No",7620,3804,3816,"SEGURA","SEGURA","03064 Dolores"]
["03065 Elche/Elx",234205,"Elche/Elx","Alicante/Alacant","Comunitat Valenciana",717.31698547081271,"No",234205,116222,117983,"SEGURA","JÚCAR - SEGURA","03065 Elche/Elx"]
["03066 Elda",52551,"Elda","Alicante/Alacant","Comunitat Valenciana",1152.4973956905533,"No",52551,25618,26933,"JÚCAR","JÚCAR","03066 Elda"]
["03067 Facheca",105,"Facheca","Alicante/Alacant","Comunitat Valenciana",10.319623304264757,"Sí",105,54,51,"JÚCAR","JÚCAR","03067 Facheca"]
["03068 Famorca",45,"Famorca","Alicante/Alacant","Comunitat Valenciana",4.6277099869683687,"Sí",45,24,21,"JÚCAR","JÚCAR","03068 Famorca"]
["03069 Finestrat",7402,"Finestrat","Alicante/Alacant","Comunitat Valenciana",175.17881397553003,"No",7402,3798,3604,"JÚCAR","JÚCAR","03069 Finestrat"]
["03077 Fondó de les Neus el/Hondón de las Nieves",2634,"Fondó de les Neus el/Hondón de las Nieves","Alicante/Alacant","Comunitat Valenciana",38.256096008683699,"No",2634,1352,1282,"SEGURA","JÚCAR","03077 Fondó de les Neus el/Hondón de las Nieves"]
["03070 Formentera del Segura",4337,"Formentera del Segura","Alicante/Alacant","Comunitat Valenciana",1001.2131369690504,"No",4337,2203,2134,"SEGURA","SEGURA","03070 Formentera del Segura"]
["03072 Gaianes",505,"Gaianes","Alicante/Alacant","Comunitat Valenciana",52.761208204503696,"No",505,248,257,"JÚCAR","JÚCAR","03072 Gaianes"]
["03071 Gata de Gorgos",6223,"Gata de Gorgos","Alicante/Alacant","Comunitat Valenciana",306.10990048845753,"No",6223,3172,3051,"JÚCAR","JÚCAR","03071 Gata de Gorgos"]
["03073 Gorga",261,"Gorga","Alicante/Alacant","Comunitat Valenciana",28.659789195720666,"No",261,141,120,"JÚCAR","JÚCAR","03073 Gorga"]
["03074 Granja de Rocamora",2609,"Granja de Rocamora","Alicante/Alacant","Comunitat Valenciana",363.93309991770008,"No",2609,1353,1256,"SEGURA","SEGURA","03074 Granja de Rocamora"]
["03076 Guardamar del Segura",15983,"Guardamar del Segura","Alicante/Alacant","Comunitat Valenciana",470.95812265007135,"No",15983,7779,8204,"SEGURA","SEGURA","03076 Guardamar del Segura"]
["03078 Hondón de los Frailes",1299,"Hondón de los Frailes","Alicante/Alacant","Comunitat Valenciana",103.53981835337734,"No",1299,658,641,"SEGURA","JÚCAR - SEGURA","03078 Hondón de los Frailes"]
["03079 Ibi",23652,"Ibi","Alicante/Alacant","Comunitat Valenciana",378.28461426172981,"No",23652,11845,11807,"JÚCAR","JÚCAR","03079 Ibi"]
["03080 Jacarilla",2030,"Jacarilla","Alicante/Alacant","Comunitat Valenciana",166.33611120101637,"No",2030,1035,995,"SEGURA","SEGURA","03080 Jacarilla"]
["03082 Jávea/Xàbia",27983,"Jávea/Xàbia","Alicante/Alacant","Comunitat Valenciana",405.96846029972869,"No",27983,13977,14006,"JÚCAR","JÚCAR","03082 Jávea/Xàbia"]
["03083 Jijona/Xixona",6861,"Jijona/Xixona","Alicante/Alacant","Comunitat Valenciana",41.896501279418757,"No",6861,3328,3533,"JÚCAR","JÚCAR","03083 Jijona/Xixona"]
["03085 Llíber",883,"Llíber","Alicante/Alacant","Comunitat Valenciana",40.259447747978598,"No",883,442,441,"JÚCAR","JÚCAR","03085 Llíber"]
["03084 Lorcha/Orxa l'",584,"Lorcha/Orxa l'","Alicante/Alacant","Comunitat Valenciana",18.385190905022355,"No",584,290,294,"JÚCAR","JÚCAR","03084 Lorcha/Orxa l'"]
["03086 Millena",242,"Millena","Alicante/Alacant","Comunitat Valenciana",24.761083680082297,"No",242,130,112,"JÚCAR","JÚCAR","03086 Millena"]
["03088 Monforte del Cid",8500,"Monforte del Cid","Alicante/Alacant","Comunitat Valenciana",106.88830892270531,"No",8500,4417,4083,"JÚCAR","JÚCAR","03088 Monforte del Cid"]
["03089 Monóvar/Monòver",12188,"Monóvar/Monòver","Alicante/Alacant","Comunitat Valenciana",79.996407381560189,"No",12188,6087,6101,"SEGURA","JÚCAR","03089 Monóvar/Monòver"]
["03903 Montesinos Los",5123,"Montesinos Los","Alicante/Alacant","Comunitat Valenciana",341.7543344696237,"No",5123,2624,2499,"SEGURA","SEGURA","03903 Montesinos Los"]
["03091 Murla",549,"Murla","Alicante/Alacant","Comunitat Valenciana",94.43764019431103,"No",549,255,294,"JÚCAR","JÚCAR","03091 Murla"]
["03092 Muro de Alcoy",9326,"Muro de Alcoy","Alicante/Alacant","Comunitat Valenciana",308.3592740655302,"No",9326,4653,4673,"JÚCAR","JÚCAR","03092 Muro de Alcoy"]
["03090 Mutxamel",25679,"Mutxamel","Alicante/Alacant","Comunitat Valenciana",538.87266763501043,"No",25679,12839,12840,"JÚCAR","JÚCAR","03090 Mutxamel"]
["03093 Novelda",25611,"Novelda","Alicante/Alacant","Comunitat Valenciana",338.21402499384612,"No",25611,12726,12885,"JÚCAR","JÚCAR","03093 Novelda"]
["03094 Nucia la",18108,"Nucia la","Alicante/Alacant","Comunitat Valenciana",847.70125637022363,"No",18108,9220,8888,"JÚCAR","JÚCAR","03094 Nucia la"]
["03095 Ondara",7080,"Ondara","Alicante/Alacant","Comunitat Valenciana",679.89589142177851,"No",7080,3564,3516,"JÚCAR","JÚCAR","03095 Ondara"]
["03096 Onil",7569,"Onil","Alicante/Alacant","Comunitat Valenciana",156.35043989750898,"No",7569,3770,3799,"JÚCAR","JÚCAR","03096 Onil"]
["03097 Orba",2233,"Orba","Alicante/Alacant","Comunitat Valenciana",125.94771708905213,"No",2233,1092,1141,"JÚCAR","JÚCAR","03097 Orba"]
["03099 Orihuela",78940,"Orihuela","Alicante/Alacant","Comunitat Valenciana",216.05549018786752,"No",78940,39105,39835,"SEGURA","SEGURA","03099 Orihuela"]
["03098 Orxeta",787,"Orxeta","Alicante/Alacant","Comunitat Valenciana",32.706728655129659,"No",787,397,390,"JÚCAR","JÚCAR","03098 Orxeta"]
["03100 Parcent",983,"Parcent","Alicante/Alacant","Comunitat Valenciana",83.514578943791207,"No",983,489,494,"JÚCAR","JÚCAR","03100 Parcent"]
["03101 Pedreguer",8006,"Pedreguer","Alicante/Alacant","Comunitat Valenciana",270.63534503690914,"No",8006,3989,4017,"JÚCAR","JÚCAR","03101 Pedreguer"]
["03102 Pego",10240,"Pego","Alicante/Alacant","Comunitat Valenciana",193.76816600209611,"No",10240,5085,5155,"JÚCAR","JÚCAR","03102 Pego"]
["03103 Penàguila",275,"Penàguila","Alicante/Alacant","Comunitat Valenciana",5.5093548845940408,"Sí",275,141,134,"JÚCAR","JÚCAR","03103 Penàguila"]
["03104 Petrer",34009,"Petrer","Alicante/Alacant","Comunitat Valenciana",326.12812868295401,"No",34009,16850,17159,"JÚCAR","JÚCAR","03104 Petrer"]
["03902 Pilar de la Horadada",22597,"Pilar de la Horadada","Alicante/Alacant","Comunitat Valenciana",290.40283964293701,"No",22597,11611,10986,"SEGURA","SEGURA","03902 Pilar de la Horadada"]
["03105 Pinós el/Pinoso",8142,"Pinós el/Pinoso","Alicante/Alacant","Comunitat Valenciana",64.383893114197193,"No",8142,4126,4016,"SEGURA","JÚCAR - SEGURA","03105 Pinós el/Pinoso"]
["03106 Planes",693,"Planes","Alicante/Alacant","Comunitat Valenciana",17.829762355253461,"No",693,376,317,"JÚCAR","JÚCAR","03106 Planes"]
["03901 Poblets els",2721,"Poblets els","Alicante/Alacant","Comunitat Valenciana",751.50321356693917,"No",2721,1296,1425,"JÚCAR","JÚCAR","03901 Poblets els"]
["03107 Polop",5069,"Polop","Alicante/Alacant","Comunitat Valenciana",224.69668828376771,"No",5069,2573,2496,"JÚCAR","JÚCAR","03107 Polop"]
["03060 Quatretondeta",117,"Quatretondeta","Alicante/Alacant","Comunitat Valenciana",7.0039698740698189,"Sí",117,63,54,"JÚCAR","JÚCAR","03060 Quatretondeta"]
["03109 Rafal",4597,"Rafal","Alicante/Alacant","Comunitat Valenciana",2938.5067757606748,"No",4597,2275,2322,"SEGURA","SEGURA","03109 Rafal"]
["03110 Ràfol d'Almúnia el",670,"Ràfol d'Almúnia el","Alicante/Alacant","Comunitat Valenciana",137.36331325232041,"No",670,346,324,"JÚCAR","JÚCAR","03110 Ràfol d'Almúnia el"]
["03111 Redován",8058,"Redován","Alicante/Alacant","Comunitat Valenciana",852.89083209037221,"No",8058,4197,3861,"SEGURA","SEGURA","03111 Redován"]
["03112 Relleu",1173,"Relleu","Alicante/Alacant","Comunitat Valenciana",15.278808956273691,"No",1173,601,572,"JÚCAR","JÚCAR","03112 Relleu"]
["03113 Rojales",15978,"Rojales","Alicante/Alacant","Comunitat Valenciana",576.22815432441598,"No",15978,8162,7816,"SEGURA","SEGURA","03113 Rojales"]
["03114 Romana la",2542,"Romana la","Alicante/Alacant","Comunitat Valenciana",58.715184719195328,"No",2542,1329,1213,"SEGURA","JÚCAR","03114 Romana la"]
["03115 Sagra",427,"Sagra","Alicante/Alacant","Comunitat Valenciana",75.99137150900178,"No",427,201,226,"JÚCAR","JÚCAR","03115 Sagra"]
["03116 Salinas",1642,"Salinas","Alicante/Alacant","Comunitat Valenciana",26.607589391939776,"No",1642,842,800,"JÚCAR","JÚCAR","03116 Salinas"]
["03118 San Fulgencio",8447,"San Fulgencio","Alicante/Alacant","Comunitat Valenciana",408.04594924907371,"No",8447,4275,4172,"SEGURA","SEGURA","03118 San Fulgencio"]
["03904 San Isidro",2146,"San Isidro","Alicante/Alacant","Comunitat Valenciana",183.43699033408438,"No",2146,1117,1029,"SEGURA","SEGURA","03904 San Isidro"]
["03120 San Miguel de Salinas",6553,"San Miguel de Salinas","Alicante/Alacant","Comunitat Valenciana",119.47956285029775,"No",6553,3284,3269,"SEGURA","SEGURA","03120 San Miguel de Salinas"]
["03122 San Vicente del Raspeig/Sant Vicent del Raspeig",58912,"San Vicente del Raspeig/Sant Vicent del Raspeig","Alicante/Alacant","Comunitat Valenciana",1452.7935796151201,"No",58912,29148,29764,"JÚCAR","JÚCAR","03122 San Vicente del Raspeig/Sant Vicent del Raspeig"]
["03117 Sanet y Negrals",702,"Sanet y Negrals","Alicante/Alacant","Comunitat Valenciana",178.09913424031967,"No",702,348,354,"JÚCAR","JÚCAR","03117 Sanet y Negrals"]
["03119 Sant Joan d'Alacant",24363,"Sant Joan d'Alacant","Alicante/Alacant","Comunitat Valenciana",2527.6059744168469,"No",24363,11755,12608,"JÚCAR","JÚCAR","03119 Sant Joan d'Alacant"]
["03121 Santa Pola",34148,"Santa Pola","Alicante/Alacant","Comunitat Valenciana",587.1289834585848,"No",34148,17132,17016,"JÚCAR","JÚCAR","03121 Santa Pola"]
["03123 Sax",9935,"Sax","Alicante/Alacant","Comunitat Valenciana",156.49094841232966,"No",9935,5012,4923,"JÚCAR","JÚCAR","03123 Sax"]
["03124 Sella",578,"Sella","Alicante/Alacant","Comunitat Valenciana",14.885206216762596,"No",578,305,273,"JÚCAR","JÚCAR","03124 Sella"]
["03125 Senija",605,"Senija","Alicante/Alacant","Comunitat Valenciana",126.40048604643097,"No",605,312,293,"JÚCAR","JÚCAR","03125 Senija"]
["03127 Tàrbena",642,"Tàrbena","Alicante/Alacant","Comunitat Valenciana",20.271526039848769,"No",642,338,304,"JÚCAR","JÚCAR","03127 Tàrbena"]
["03128 Teulada",11466,"Teulada","Alicante/Alacant","Comunitat Valenciana",354.7132688006385,"No",11466,5723,5743,"JÚCAR","JÚCAR","03128 Teulada"]
["03129 Tibi",1691,"Tibi","Alicante/Alacant","Comunitat Valenciana",24.025792476769929,"No",1691,892,799,"JÚCAR","JÚCAR","03129 Tibi"]
["03130 Tollos",37,"Tollos","Alicante/Alacant","Comunitat Valenciana",2.3163915377834763,"Sí",37,23,14,"JÚCAR","JÚCAR","03130 Tollos"]
["03131 Tormos",327,"Tormos","Alicante/Alacant","Comunitat Valenciana",61.007462686567159,"No",327,156,171,"JÚCAR","JÚCAR","03131 Tormos"]
["03132 Torremanzanas/Torre de les Maçanes la",681,"Torremanzanas/Torre de les Maçanes la","Alicante/Alacant","Comunitat Valenciana",18.667946869323632,"No",681,355,326,"JÚCAR","JÚCAR","03132 Torremanzanas/Torre de les Maçanes la"]
["03133 Torrevieja",82842,"Torrevieja","Alicante/Alacant","Comunitat Valenciana",1154.4282206571331,"No",82842,40721,42121,"SEGURA","SEGURA","03133 Torrevieja"]
["03134 Vall d'Alcalà la",163,"Vall d'Alcalà la","Alicante/Alacant","Comunitat Valenciana",7.1333040794928406,"Sí",163,90,73,"JÚCAR","JÚCAR","03134 Vall d'Alcalà la"]
["03136 Vall de Gallinera",557,"Vall de Gallinera","Alicante/Alacant","Comunitat Valenciana",10.385414671428693,"Sí",557,293,264,"JÚCAR","JÚCAR","03136 Vall de Gallinera"]
["03137 Vall de Laguar la",843,"Vall de Laguar la","Alicante/Alacant","Comunitat Valenciana",36.565891128550923,"No",843,419,424,"JÚCAR","JÚCAR","03137 Vall de Laguar la"]
["03135 Vall d'Ebo la",204,"Vall d'Ebo la","Alicante/Alacant","Comunitat Valenciana",6.2913579686463388,"Sí",204,105,99,"JÚCAR","JÚCAR","03135 Vall d'Ebo la"]
["03138 Verger el",4841,"Verger el","Alicante/Alacant","Comunitat Valenciana",593.33615232352213,"No",4841,2412,2429,"JÚCAR","JÚCAR","03138 Verger el"]
["03139 Villajoyosa/Vila Joiosa la",34684,"Villajoyosa/Vila Joiosa la","Alicante/Alacant","Comunitat Valenciana",585.40247187898444,"No",34684,17216,17468,"JÚCAR","JÚCAR","03139 Villajoyosa/Vila Joiosa la"]
["03140 Villena",34025,"Villena","Alicante/Alacant","Comunitat Valenciana",98.548120446222427,"No",34025,17068,16957,"SEGURA","JÚCAR","03140 Villena"]
["03081 Xaló",2892,"Xaló","Alicante/Alacant","Comunitat Valenciana",83.616916211021447,"No",2892,1448,1444,"JÚCAR","JÚCAR","03081 Xaló"]
["04001 Abla",1258,"Abla","Almería","Andalucía",27.80464184571191,"No",1258,646,612,"GUADALQUIVIR","CUENCAS MEDITERRÁNEAS ANDALUZAS","04001 Abla"]
["04002 Abrucena",1208,"Abrucena","Almería","Andalucía",14.436382935573937,"No",1208,639,569,"CUENCAS MEDITERRÁNEAS ANDALUZAS","CUENCAS MEDITERRÁNEAS ANDALUZAS","04002 Abrucena"]
["04003 Adra",25501,"Adra","Almería","Andalucía",284.30951730596632,"No",25501,13058,12443,"CUENCAS MEDITERRÁNEAS ANDALUZAS","CUENCAS MEDITERRÁNEAS ANDALUZAS","04003 Adra"]
["04004 Albanchez",726,"Albanchez","Almería","Andalucía",20.794546444017985,"No",726,379,347,"CUENCAS MEDITERRÁNEAS ANDALUZAS","CUENCAS MEDITERRÁNEAS ANDALUZAS","04004 Albanchez"]
["04005 Alboloduy",612,"Alboloduy","Almería","Andalucía",8.7761466971351929,"Sí",612,297,315,"CUENCAS MEDITERRÁNEAS ANDALUZAS","CUENCAS MEDITERRÁNEAS ANDALUZAS","04005 Alboloduy"]
["04006 Albox",12070,"Albox","Almería","Andalucía",71.727400223442444,"No",12070,6186,5884,"CUENCAS MEDITERRÁNEAS ANDALUZAS","CUENCAS MEDITERRÁNEAS ANDALUZAS","04006 Albox"]
["04007 Alcolea",849,"Alcolea","Almería","Andalucía",12.574662428447542,"No",849,438,411,"CUENCAS MEDITERRÁNEAS ANDALUZAS","CUENCAS MEDITERRÁNEAS ANDALUZAS","04007 Alcolea"]
["04008 Alcóntar",542,"Alcóntar","Almería","Andalucía",5.7716833865341632,"Sí",542,304,238,"GUADALQUIVIR","CUENCAS MEDITERRÁNEAS ANDALUZAS","04008 Alcóntar"]
["04009 Alcudia de Monteagud",129,"Alcudia de Monteagud","Almería","Andalucía",8.3116414525398827,"Sí",129,69,60,"CUENCAS MEDITERRÁNEAS ANDALUZAS","CUENCAS MEDITERRÁNEAS ANDALUZAS","04009 Alcudia de Monteagud"]
["04010 Alhabia",675,"Alhabia","Almería","Andalucía",41.17211082946676,"No",675,354,321,"CUENCAS MEDITERRÁNEAS ANDALUZAS","CUENCAS MEDITERRÁNEAS ANDALUZAS","04010 Alhabia"]
["04011 Alhama de Almería",3733,"Alhama de Almería","Almería","Andalucía",142.24339128363897,"No",3733,1872,1861,"CUENCAS MEDITERRÁNEAS ANDALUZAS","CUENCAS MEDITERRÁNEAS ANDALUZAS","04011 Alhama de Almería"]
["04012 Alicún",204,"Alicún","Almería","Andalucía",34.734613928171548,"No",204,103,101,"CUENCAS MEDITERRÁNEAS ANDALUZAS","CUENCAS MEDITERRÁNEAS ANDALUZAS","04012 Alicún"]
["04013 Almería",200753,"Almería","Almería","Andalucía",678.85166053257694,"No",200753,98141,102612,"CUENCAS MEDITERRÁNEAS ANDALUZAS","CUENCAS MEDITERRÁNEAS ANDALUZAS","04013 Almería"]
["04014 Almócita",197,"Almócita","Almería","Andalucía",6.3908747910516457,"Sí",197,104,93,"CUENCAS MEDITERRÁNEAS ANDALUZAS","CUENCAS MEDITERRÁNEAS ANDALUZAS","04014 Almócita"]
["04015 Alsodux",131,"Alsodux","Almería","Andalucía",6.5166695162586681,"Sí",131,79,52,"CUENCAS MEDITERRÁNEAS ANDALUZAS","CUENCAS MEDITERRÁNEAS ANDALUZAS","04015 Alsodux"]
["04016 Antas",3355,"Antas","Almería","Andalucía",33.639244916764177,"No",3355,1743,1612,"CUENCAS MEDITERRÁNEAS ANDALUZAS","CUENCAS MEDITERRÁNEAS ANDALUZAS","04016 Antas"]
["04017 Arboleas",4685,"Arboleas","Almería","Andalucía",70.830737970113518,"No",4685,2356,2329,"CUENCAS MEDITERRÁNEAS ANDALUZAS","CUENCAS MEDITERRÁNEAS ANDALUZAS","04017 Arboleas"]
["04018 Armuña de Almanzora",313,"Armuña de Almanzora","Almería","Andalucía",40.535115324345682,"No",313,156,157,"CUENCAS MEDITERRÁNEAS ANDALUZAS","CUENCAS MEDITERRÁNEAS ANDALUZAS","04018 Armuña de Almanzora"]
["04019 Bacares",249,"Bacares","Almería","Andalucía",2.6343380141323243,"Sí",249,135,114,"CUENCAS MEDITERRÁNEAS ANDALUZAS","CUENCAS MEDITERRÁNEAS ANDALUZAS","04019 Bacares"]
["04904 Balanegra",2959,"Balanegra","Almería","Andalucía",93.659395059696379,"No",2959,1568,1391,"CUENCAS MEDITERRÁNEAS ANDALUZAS","CUENCAS MEDITERRÁNEAS ANDALUZAS","04904 Balanegra"]
["04020 Bayárcal",317,"Bayárcal","Almería","Andalucía",8.3368982120482968,"Sí",317,173,144,"GUADALQUIVIR","CUENCAS MEDITERRÁNEAS ANDALUZAS","04020 Bayárcal"]
["04021 Bayarque",219,"Bayarque","Almería","Andalucía",8.3077903553761647,"Sí",219,101,118,"CUENCAS MEDITERRÁNEAS ANDALUZAS","CUENCAS MEDITERRÁNEAS ANDALUZAS","04021 Bayarque"]
["04022 Bédar",974,"Bédar","Almería","Andalucía",20.847022664181004,"No",974,500,474,"CUENCAS MEDITERRÁNEAS ANDALUZAS","CUENCAS MEDITERRÁNEAS ANDALUZAS","04022 Bédar"]
["04023 Beires",132,"Beires","Almería","Andalucía",3.3990104553561609,"Sí",132,63,69,"CUENCAS MEDITERRÁNEAS ANDALUZAS","CUENCAS MEDITERRÁNEAS ANDALUZAS","04023 Beires"]
["04024 Benahadux",4526,"Benahadux","Almería","Andalucía",272.39810905397508,"No",4526,2246,2280,"CUENCAS MEDITERRÁNEAS ANDALUZAS","CUENCAS MEDITERRÁNEAS ANDALUZAS","04024 Benahadux"]
["04026 Benitagla",59,"Benitagla","Almería","Andalucía",9.2233616808404211,"Sí",59,33,26,"CUENCAS MEDITERRÁNEAS ANDALUZAS","CUENCAS MEDITERRÁNEAS ANDALUZAS","04026 Benitagla"]
["04027 Benizalón",263,"Benizalón","Almería","Andalucía",8.2257933355435586,"Sí",263,148,115,"CUENCAS MEDITERRÁNEAS ANDALUZAS","CUENCAS MEDITERRÁNEAS ANDALUZAS","04027 Benizalón"]
["04028 Bentarique",239,"Bentarique","Almería","Andalucía",21.069215988907896,"No",239,132,107,"CUENCAS MEDITERRÁNEAS ANDALUZAS","CUENCAS MEDITERRÁNEAS ANDALUZAS","04028 Bentarique"]
["04029 Berja",12708,"Berja","Almería","Andalucía",68.391560520180562,"No",12708,6508,6200,"CUENCAS MEDITERRÁNEAS ANDALUZAS","CUENCAS MEDITERRÁNEAS ANDALUZAS","04029 Berja"]
["04030 Canjáyar",1178,"Canjáyar","Almería","Andalucía",17.60138198042532,"No",1178,619,559,"CUENCAS MEDITERRÁNEAS ANDALUZAS","CUENCAS MEDITERRÁNEAS ANDALUZAS","04030 Canjáyar"]
["04031 Cantoria",3547,"Cantoria","Almería","Andalucía",44.92603100618097,"No",3547,1790,1757,"CUENCAS MEDITERRÁNEAS ANDALUZAS","CUENCAS MEDITERRÁNEAS ANDALUZAS","04031 Cantoria"]
["04032 Carboneras",8183,"Carboneras","Almería","Andalucía",85.717954701931504,"No",8183,4205,3978,"CUENCAS MEDITERRÁNEAS ANDALUZAS","CUENCAS MEDITERRÁNEAS ANDALUZAS","04032 Carboneras"]
["04033 Castro de Filabres",115,"Castro de Filabres","Almería","Andalucía",3.9335518427082756,"Sí",115,61,54,"CUENCAS MEDITERRÁNEAS ANDALUZAS","CUENCAS MEDITERRÁNEAS ANDALUZAS","04033 Castro de Filabres"]
["04036 Chercos",288,"Chercos","Almería","Andalucía",21.247399406843432,"No",288,143,145,"CUENCAS MEDITERRÁNEAS ANDALUZAS","CUENCAS MEDITERRÁNEAS ANDALUZAS","04036 Chercos"]
["04037 Chirivel",1501,"Chirivel","Almería","Andalucía",7.6397887936870204,"Sí",1501,769,732,"GUADALQUIVIR","CUENCAS MEDITERRÁNEAS ANDALUZAS - GUADALQUIVIR - SEGURA","04037 Chirivel"]
["04034 Cóbdar",170,"Cóbdar","Almería","Andalucía",5.3139779501173763,"Sí",170,92,78,"CUENCAS MEDITERRÁNEAS ANDALUZAS","CUENCAS MEDITERRÁNEAS ANDALUZAS","04034 Cóbdar"]
["04035 Cuevas del Almanzora",14623,"Cuevas del Almanzora","Almería","Andalucía",55.441350762560276,"No",14623,7592,7031,"SEGURA","CUENCAS MEDITERRÁNEAS ANDALUZAS - SEGURA","04035 Cuevas del Almanzora"]
["04038 Dalías",4102,"Dalías","Almería","Andalucía",29.148324610864183,"No",4102,2031,2071,"CUENCAS MEDITERRÁNEAS ANDALUZAS","CUENCAS MEDITERRÁNEAS ANDALUZAS","04038 Dalías"]
["04902 Ejido El",84005,"Ejido El","Almería","Andalucía",371.48229417347017,"No",84005,43349,40656,"CUENCAS MEDITERRÁNEAS ANDALUZAS","CUENCAS MEDITERRÁNEAS ANDALUZAS","04902 Ejido El"]
["04041 Enix",540,"Enix","Almería","Andalucía",8.0784382846884455,"Sí",540,298,242,"CUENCAS MEDITERRÁNEAS ANDALUZAS","CUENCAS MEDITERRÁNEAS ANDALUZAS","04041 Enix"]
["04043 Felix",664,"Felix","Almería","Andalucía",8.1710981686440078,"Sí",664,381,283,"CUENCAS MEDITERRÁNEAS ANDALUZAS","CUENCAS MEDITERRÁNEAS ANDALUZAS","04043 Felix"]
["04044 Fines",2160,"Fines","Almería","Andalucía",93.407828959886515,"No",2160,1131,1029,"CUENCAS MEDITERRÁNEAS ANDALUZAS","CUENCAS MEDITERRÁNEAS ANDALUZAS","04044 Fines"]
["04045 Fiñana",1977,"Fiñana","Almería","Andalucía",14.758167824748632,"No",1977,1001,976,"GUADALQUIVIR","CUENCAS MEDITERRÁNEAS ANDALUZAS","04045 Fiñana"]
["04046 Fondón",1032,"Fondón","Almería","Andalucía",11.320906597946133,"Sí",1032,533,499,"CUENCAS MEDITERRÁNEAS ANDALUZAS","CUENCAS MEDITERRÁNEAS ANDALUZAS","04046 Fondón"]
["04047 Gádor",3008,"Gádor","Almería","Andalucía",34.31040265401915,"No",3008,1564,1444,"CUENCAS MEDITERRÁNEAS ANDALUZAS","CUENCAS MEDITERRÁNEAS ANDALUZAS","04047 Gádor"]
["04048 Gallardos Los",3003,"Gallardos Los","Almería","Andalucía",86.051023127466124,"No",3003,1517,1486,"CUENCAS MEDITERRÁNEAS ANDALUZAS","CUENCAS MEDITERRÁNEAS ANDALUZAS","04048 Gallardos Los"]
["04049 Garrucha",9875,"Garrucha","Almería","Andalucía",1271.5683749678085,"No",9875,5220,4655,"CUENCAS MEDITERRÁNEAS ANDALUZAS","CUENCAS MEDITERRÁNEAS ANDALUZAS","04049 Garrucha"]
["04050 Gérgal",1107,"Gérgal","Almería","Andalucía",4.8237878574967139,"Sí",1107,587,520,"GUADALQUIVIR","CUENCAS MEDITERRÁNEAS ANDALUZAS","04050 Gérgal"]
["04051 Huécija",491,"Huécija","Almería","Andalucía",25.816814296605116,"No",491,244,247,"CUENCAS MEDITERRÁNEAS ANDALUZAS","CUENCAS MEDITERRÁNEAS ANDALUZAS","04051 Huécija"]
["04052 Huércal de Almería",17974,"Huércal de Almería","Almería","Andalucía",858.86990801576883,"No",17974,9131,8843,"CUENCAS MEDITERRÁNEAS ANDALUZAS","CUENCAS MEDITERRÁNEAS ANDALUZAS","04052 Huércal de Almería"]
["04053 Huércal-Overa",19744,"Huércal-Overa","Almería","Andalucía",62.04654936776565,"No",19744,9799,9945,"SEGURA","CUENCAS MEDITERRÁNEAS ANDALUZAS","04053 Huércal-Overa"]
["04054 Íllar",436,"Íllar","Almería","Andalucía",22.722362024971041,"No",436,229,207,"CUENCAS MEDITERRÁNEAS ANDALUZAS","CUENCAS MEDITERRÁNEAS ANDALUZAS","04054 Íllar"]
["04055 Instinción",462,"Instinción","Almería","Andalucía",13.797224285169392,"No",462,239,223,"CUENCAS MEDITERRÁNEAS ANDALUZAS","CUENCAS MEDITERRÁNEAS ANDALUZAS","04055 Instinción"]
["04056 Laroya",197,"Laroya","Almería","Andalucía",9.0727384932806476,"Sí",197,110,87,"CUENCAS MEDITERRÁNEAS ANDALUZAS","CUENCAS MEDITERRÁNEAS ANDALUZAS","04056 Laroya"]
["04057 Láujar de Andarax",1591,"Láujar de Andarax","Almería","Andalucía",17.142787937528446,"No",1591,802,789,"CUENCAS MEDITERRÁNEAS ANDALUZAS","CUENCAS MEDITERRÁNEAS ANDALUZAS","04057 Láujar de Andarax"]
["04058 Líjar",398,"Líjar","Almería","Andalucía",14.093184988987487,"No",398,210,188,"CUENCAS MEDITERRÁNEAS ANDALUZAS","CUENCAS MEDITERRÁNEAS ANDALUZAS","04058 Líjar"]
["04059 Lubrín",1489,"Lubrín","Almería","Andalucía",10.779021374893494,"Sí",1489,759,730,"CUENCAS MEDITERRÁNEAS ANDALUZAS","CUENCAS MEDITERRÁNEAS ANDALUZAS","04059 Lubrín"]
["04060 Lucainena de las Torres",584,"Lucainena de las Torres","Almería","Andalucía",4.7401515863140498,"Sí",584,303,281,"CUENCAS MEDITERRÁNEAS ANDALUZAS","CUENCAS MEDITERRÁNEAS ANDALUZAS","04060 Lucainena de las Torres"]
["04061 Lúcar",772,"Lúcar","Almería","Andalucía",7.6649351061970803,"Sí",772,388,384,"GUADALQUIVIR","CUENCAS MEDITERRÁNEAS ANDALUZAS","04061 Lúcar"]
["04062 Macael",5449,"Macael","Almería","Andalucía",124.34365308828194,"No",5449,2800,2649,"CUENCAS MEDITERRÁNEAS ANDALUZAS","CUENCAS MEDITERRÁNEAS ANDALUZAS","04062 Macael"]
["04063 María",1235,"María","Almería","Andalucía",5.4750649582099591,"Sí",1235,632,603,"GUADALQUIVIR","GUADALQUIVIR - SEGURA","04063 María"]
["04064 Mojácar",7257,"Mojácar","Almería","Andalucía",101.44341099464572,"No",7257,3546,3711,"CUENCAS MEDITERRÁNEAS ANDALUZAS","CUENCAS MEDITERRÁNEAS ANDALUZAS","04064 Mojácar"]
["04903 Mojonera La",9086,"Mojonera La","Almería","Andalucía",380.69689906747277,"No",9086,5107,3979,"CUENCAS MEDITERRÁNEAS ANDALUZAS","CUENCAS MEDITERRÁNEAS ANDALUZAS","04903 Mojonera La"]
["04065 Nacimiento",485,"Nacimiento","Almería","Andalucía",6.0055864088601743,"Sí",485,251,234,"GUADALQUIVIR","CUENCAS MEDITERRÁNEAS ANDALUZAS","04065 Nacimiento"]
["04066 Níjar",31458,"Níjar","Almería","Andalucía",52.450289520329441,"No",31458,17679,13779,"CUENCAS MEDITERRÁNEAS ANDALUZAS","CUENCAS MEDITERRÁNEAS ANDALUZAS","04066 Níjar"]
["04067 Ohanes",561,"Ohanes","Almería","Andalucía",17.307820639023866,"No",561,292,269,"CUENCAS MEDITERRÁNEAS ANDALUZAS","CUENCAS MEDITERRÁNEAS ANDALUZAS","04067 Ohanes"]
["04068 Olula de Castro",190,"Olula de Castro","Almería","Andalucía",5.6541158883662073,"Sí",190,106,84,"CUENCAS MEDITERRÁNEAS ANDALUZAS","CUENCAS MEDITERRÁNEAS ANDALUZAS","04068 Olula de Castro"]
["04069 Olula del Río",6258,"Olula del Río","Almería","Andalucía",266.97952218430032,"No",6258,3201,3057,"CUENCAS MEDITERRÁNEAS ANDALUZAS","CUENCAS MEDITERRÁNEAS ANDALUZAS","04069 Olula del Río"]
["04070 Oria",2215,"Oria","Almería","Andalucía",9.437157690005348,"Sí",2215,1145,1070,"GUADALQUIVIR","CUENCAS MEDITERRÁNEAS ANDALUZAS","04070 Oria"]
["04071 Padules",436,"Padules","Almería","Andalucía",16.45793276889167,"No",436,237,199,"CUENCAS MEDITERRÁNEAS ANDALUZAS","CUENCAS MEDITERRÁNEAS ANDALUZAS","04071 Padules"]
["04072 Partaloa",1065,"Partaloa","Almería","Andalucía",20.244992928509511,"No",1065,527,538,"CUENCAS MEDITERRÁNEAS ANDALUZAS","CUENCAS MEDITERRÁNEAS ANDALUZAS","04072 Partaloa"]
["04073 Paterna del Río",387,"Paterna del Río","Almería","Andalucía",8.5090819718563999,"Sí",387,220,167,"CUENCAS MEDITERRÁNEAS ANDALUZAS","CUENCAS MEDITERRÁNEAS ANDALUZAS","04073 Paterna del Río"]
["04074 Pechina",4143,"Pechina","Almería","Andalucía",89.954198266435171,"No",4143,2102,2041,"CUENCAS MEDITERRÁNEAS ANDALUZAS","CUENCAS MEDITERRÁNEAS ANDALUZAS","04074 Pechina"]
["04075 Pulpí",10342,"Pulpí","Almería","Andalucía",109.03543388026768,"No",10342,5297,5045,"SEGURA","SEGURA","04075 Pulpí"]
["04076 Purchena",1636,"Purchena","Almería","Andalucía",28.902602117521937,"No",1636,854,782,"CUENCAS MEDITERRÁNEAS ANDALUZAS","CUENCAS MEDITERRÁNEAS ANDALUZAS","04076 Purchena"]
["04077 Rágol",305,"Rágol","Almería","Andalucía",11.329048575728727,"Sí",305,154,151,"CUENCAS MEDITERRÁNEAS ANDALUZAS","CUENCAS MEDITERRÁNEAS ANDALUZAS","04077 Rágol"]
["04078 Rioja",1488,"Rioja","Almería","Andalucía",40.874200254244123,"No",1488,761,727,"CUENCAS MEDITERRÁNEAS ANDALUZAS","CUENCAS MEDITERRÁNEAS ANDALUZAS","04078 Rioja"]
["04079 Roquetas de Mar",98725,"Roquetas de Mar","Almería","Andalucía",1655.1064321032004,"No",98725,50709,48016,"CUENCAS MEDITERRÁNEAS ANDALUZAS","CUENCAS MEDITERRÁNEAS ANDALUZAS","04079 Roquetas de Mar"]
["04080 Santa Cruz de Marchena",203,"Santa Cruz de Marchena","Almería","Andalucía",10.16394696802953,"Sí",203,104,99,"CUENCAS MEDITERRÁNEAS ANDALUZAS","CUENCAS MEDITERRÁNEAS ANDALUZAS","04080 Santa Cruz de Marchena"]
["04081 Santa Fe de Mondújar",477,"Santa Fe de Mondújar","Almería","Andalucía",13.679683023676837,"No",477,257,220,"CUENCAS MEDITERRÁNEAS ANDALUZAS","CUENCAS MEDITERRÁNEAS ANDALUZAS","04081 Santa Fe de Mondújar"]
["04082 Senés",291,"Senés","Almería","Andalucía",5.7913098509981547,"Sí",291,162,129,"CUENCAS MEDITERRÁNEAS ANDALUZAS","CUENCAS MEDITERRÁNEAS ANDALUZAS","04082 Senés"]
["04083 Serón",2039,"Serón","Almería","Andalucía",12.262323514854613,"Sí",2039,1044,995,"GUADALQUIVIR","CUENCAS MEDITERRÁNEAS ANDALUZAS","04083 Serón"]
["04084 Sierro",380,"Sierro","Almería","Andalucía",13.746301159753722,"No",380,202,178,"CUENCAS MEDITERRÁNEAS ANDALUZAS","CUENCAS MEDITERRÁNEAS ANDALUZAS","04084 Sierro"]
["04085 Somontín",444,"Somontín","Almería","Andalucía",27.531298249530295,"No",444,221,223,"CUENCAS MEDITERRÁNEAS ANDALUZAS","CUENCAS MEDITERRÁNEAS ANDALUZAS","04085 Somontín"]
["04086 Sorbas",2471,"Sorbas","Almería","Andalucía",9.9174057896618972,"Sí",2471,1285,1186,"CUENCAS MEDITERRÁNEAS ANDALUZAS","CUENCAS MEDITERRÁNEAS ANDALUZAS","04086 Sorbas"]
["04087 Suflí",197,"Suflí","Almería","Andalucía",19.520992498786132,"No",197,111,86,"CUENCAS MEDITERRÁNEAS ANDALUZAS","CUENCAS MEDITERRÁNEAS ANDALUZAS","04087 Suflí"]
["04088 Tabernas",3887,"Tabernas","Almería","Andalucía",13.863496701641591,"No",3887,2014,1873,"CUENCAS MEDITERRÁNEAS ANDALUZAS","CUENCAS MEDITERRÁNEAS ANDALUZAS","04088 Tabernas"]
["04089 Taberno",996,"Taberno","Almería","Andalucía",22.605640515844378,"No",996,488,508,"CUENCAS MEDITERRÁNEAS ANDALUZAS","CUENCAS MEDITERRÁNEAS ANDALUZAS","04089 Taberno"]
["04090 Tahal",349,"Tahal","Almería","Andalucía",3.6892879568533021,"Sí",349,180,169,"CUENCAS MEDITERRÁNEAS ANDALUZAS","CUENCAS MEDITERRÁNEAS ANDALUZAS","04090 Tahal"]
["04091 Terque",372,"Terque","Almería","Andalucía",23.667334993185463,"No",372,195,177,"CUENCAS MEDITERRÁNEAS ANDALUZAS","CUENCAS MEDITERRÁNEAS ANDALUZAS","04091 Terque"]
["04092 Tíjola",3528,"Tíjola","Almería","Andalucía",52.086639806417224,"No",3528,1773,1755,"GUADALQUIVIR","CUENCAS MEDITERRÁNEAS ANDALUZAS","04092 Tíjola"]
["04901 Tres Villas Las",564,"Tres Villas Las","Almería","Andalucía",6.6077682540388851,"Sí",564,310,254,"GUADALQUIVIR","CUENCAS MEDITERRÁNEAS ANDALUZAS","04901 Tres Villas Las"]
["04093 Turre",3892,"Turre","Almería","Andalucía",36.051369793192684,"No",3892,2021,1871,"CUENCAS MEDITERRÁNEAS ANDALUZAS","CUENCAS MEDITERRÁNEAS ANDALUZAS","04093 Turre"]
["04094 Turrillas",260,"Turrillas","Almería","Andalucía",6.6378854760512747,"Sí",260,146,114,"CUENCAS MEDITERRÁNEAS ANDALUZAS","CUENCAS MEDITERRÁNEAS ANDALUZAS","04094 Turrillas"]
["04095 Uleila del Campo",816,"Uleila del Campo","Almería","Andalucía",21.103320928235778,"No",816,401,415,"CUENCAS MEDITERRÁNEAS ANDALUZAS","CUENCAS MEDITERRÁNEAS ANDALUZAS","04095 Uleila del Campo"]
["04096 Urrácal",369,"Urrácal","Almería","Andalucía",14.489265751157109,"No",369,190,179,"CUENCAS MEDITERRÁNEAS ANDALUZAS","CUENCAS MEDITERRÁNEAS ANDALUZAS","04096 Urrácal"]
["04097 Velefique",235,"Velefique","Almería","Andalucía",3.536653272532996,"Sí",235,132,103,"CUENCAS MEDITERRÁNEAS ANDALUZAS","CUENCAS MEDITERRÁNEAS ANDALUZAS","04097 Velefique"]
["04098 Vélez-Blanco",1946,"Vélez-Blanco","Almería","Andalucía",4.4095437391163461,"Sí",1946,992,954,"GUADALQUIVIR","SEGURA","04098 Vélez-Blanco"]
["04099 Vélez-Rubio",6521,"Vélez-Rubio","Almería","Andalucía",23.079542132463335,"No",6521,3188,3333,"SEGURA","CUENCAS MEDITERRÁNEAS ANDALUZAS - SEGURA","04099 Vélez-Rubio"]
["04100 Vera",17700,"Vera","Almería","Andalucía",307.33702021999778,"No",17700,9009,8691,"CUENCAS MEDITERRÁNEAS ANDALUZAS","CUENCAS MEDITERRÁNEAS ANDALUZAS","04100 Vera"]
["04101 Viator",6039,"Viator","Almería","Andalucía",292.86247732849677,"No",6039,3099,2940,"CUENCAS MEDITERRÁNEAS ANDALUZAS","CUENCAS MEDITERRÁNEAS ANDALUZAS","04101 Viator"]
["04102 Vícar",27398,"Vícar","Almería","Andalucía",425.8295345219093,"No",27398,14898,12500,"CUENCAS MEDITERRÁNEAS ANDALUZAS","CUENCAS MEDITERRÁNEAS ANDALUZAS","04102 Vícar"]
["04103 Zurgena",2895,"Zurgena","Almería","Andalucía",40.393582792194202,"No",2895,1466,1429,"CUENCAS MEDITERRÁNEAS ANDALUZAS","CUENCAS MEDITERRÁNEAS ANDALUZAS","04103 Zurgena"]
["01051 Agurain/Salvatierra",5029,"Agurain/Salvatierra","Araba/Álava","País Vasco",133.14840998717389,"No",5029,2522,2507,"EBRO","EBRO","01051 Agurain/Salvatierra"]
["01001 Alegría-Dulantzi",2925,"Alegría-Dulantzi","Araba/Álava","País Vasco",146.64688512991563,"No",2925,1517,1408,"EBRO","EBRO","01001 Alegría-Dulantzi"]
["01002 Amurrio",10307,"Amurrio","Araba/Álava","País Vasco",107.03367090079836,"No",10307,5084,5223,"CANTÁBRICO ORIENTAL","CANTÁBRICO ORIENTAL","01002 Amurrio"]
["01049 Añana",155,"Añana","Araba/Álava","País Vasco",7.0701083345858065,"Sí",155,94,61,"EBRO","EBRO","01049 Añana"]
["01003 Aramaio",1456,"Aramaio","Araba/Álava","País Vasco",19.939469467687378,"No",1456,756,700,"CANTÁBRICO ORIENTAL","CANTÁBRICO ORIENTAL - EBRO","01003 Aramaio"]
["01006 Armiñón",231,"Armiñón","Araba/Álava","País Vasco",17.806624681060999,"No",231,117,114,"EBRO","EBRO","01006 Armiñón"]
["01037 Arraia-Maeztu",800,"Arraia-Maeztu","Araba/Álava","País Vasco",6.4983622258911611,"Sí",800,447,353,"EBRO","EBRO","01037 Arraia-Maeztu"]
["01008 Arratzua-Ubarrundia",1017,"Arratzua-Ubarrundia","Araba/Álava","País Vasco",17.668581197293946,"No",1017,550,467,"CANTÁBRICO ORIENTAL","EBRO","01008 Arratzua-Ubarrundia"]
["01004 Artziniega",1809,"Artziniega","Araba/Álava","País Vasco",66.294576597904509,"No",1809,888,921,"CANTÁBRICO ORIENTAL","CANTÁBRICO ORIENTAL","01004 Artziniega"]
["01009 Asparrena",1633,"Asparrena","Araba/Álava","País Vasco",24.99372478434686,"No",1633,830,803,"CANTÁBRICO ORIENTAL","EBRO","01009 Asparrena"]
["01010 Ayala/Aiara",2951,"Ayala/Aiara","Araba/Álava","País Vasco",20.933621055349601,"No",2951,1502,1449,"CANTÁBRICO ORIENTAL","CANTÁBRICO ORIENTAL","01010 Ayala/Aiara"]
["01011 Baños de Ebro/Mañueta",287,"Baños de Ebro/Mañueta","Araba/Álava","País Vasco",30.19812918906975,"No",287,158,129,"EBRO","EBRO","01011 Baños de Ebro/Mañueta"]
["01013 Barrundia",895,"Barrundia","Araba/Álava","País Vasco",9.1867046315361609,"Sí",895,493,402,"CANTÁBRICO ORIENTAL","EBRO","01013 Barrundia"]
["01014 Berantevilla",465,"Berantevilla","Araba/Álava","País Vasco",13.007902650535001,"No",465,242,223,"EBRO","EBRO","01014 Berantevilla"]
["01016 Bernedo",538,"Bernedo","Araba/Álava","País Vasco",4.1231740776505568,"Sí",538,314,224,"EBRO","EBRO","01016 Bernedo"]
["01017 Campezo/Kanpezu",1081,"Campezo/Kanpezu","Araba/Álava","País Vasco",12.663881432799279,"No",1081,576,505,"EBRO","EBRO","01017 Campezo/Kanpezu"]
["01021 Elburgo/Burgelu",634,"Elburgo/Burgelu","Araba/Álava","País Vasco",19.755067696784387,"No",634,332,302,"EBRO","EBRO","01021 Elburgo/Burgelu"]
["01022 Elciego",996,"Elciego","Araba/Álava","País Vasco",61.270438858745798,"No",996,499,497,"EBRO","EBRO","01022 Elciego"]
["01023 Elvillar/Bilar",327,"Elvillar/Bilar","Araba/Álava","País Vasco",18.68333563018377,"No",327,159,168,"EBRO","EBRO","01023 Elvillar/Bilar"]
["01047 Erriberabeitia",1421,"Erriberabeitia","Araba/Álava","País Vasco",56.133614593949737,"No",1421,764,657,"EBRO","EBRO","01047 Erriberabeitia"]
["01046 Erriberagoitia/Ribera Alta",826,"Erriberagoitia/Ribera Alta","Araba/Álava","País Vasco",6.8937601455534834,"Sí",826,475,351,"EBRO","EBRO","01046 Erriberagoitia/Ribera Alta"]
["01056 Harana/Valle de Arana",226,"Harana/Valle de Arana","Araba/Álava","País Vasco",5.7768218926826505,"Sí",226,125,101,"EBRO","EBRO","01056 Harana/Valle de Arana"]
["01901 Iruña Oka/Iruña de Oca",3468,"Iruña Oka/Iruña de Oca","Araba/Álava","País Vasco",65.14511129895746,"No",3468,1825,1643,"EBRO","EBRO","01901 Iruña Oka/Iruña de Oca"]
["01027 Iruraiz-Gauna",529,"Iruraiz-Gauna","Araba/Álava","País Vasco",11.224600045645293,"Sí",529,290,239,"EBRO","EBRO","01027 Iruraiz-Gauna"]
["01019 Kripan",175,"Kripan","Araba/Álava","País Vasco",13.982114079669289,"No",175,91,84,"EBRO","EBRO","01019 Kripan"]
["01020 Kuartango",396,"Kuartango","Araba/Álava","País Vasco",4.696416965924886,"Sí",396,227,169,"CANTÁBRICO ORIENTAL","EBRO","01020 Kuartango"]
["01028 Labastida/Bastida",1532,"Labastida/Bastida","Araba/Álava","País Vasco",40.202270955958568,"No",1532,789,743,"EBRO","EBRO","01028 Labastida/Bastida"]
["01030 Lagrán",171,"Lagrán","Araba/Álava","País Vasco",3.7483395513390994,"Sí",171,97,74,"EBRO","EBRO","01030 Lagrán"]
["01031 Laguardia",1464,"Laguardia","Araba/Álava","País Vasco",18.088477862001223,"No",1464,751,713,"EBRO","EBRO","01031 Laguardia"]
["01032 Lanciego/Lantziego",692,"Lanciego/Lantziego","Araba/Álava","País Vasco",28.532552673896014,"No",692,366,326,"EBRO","EBRO","01032 Lanciego/Lantziego"]
["01902 Lantarón",915,"Lantarón","Araba/Álava","País Vasco",13.564618730440635,"No",915,514,401,"EBRO","EBRO","01902 Lantarón"]
["01033 Lapuebla de Labarca",858,"Lapuebla de Labarca","Araba/Álava","País Vasco",141.81818181818181,"No",858,436,422,"EBRO","EBRO","01033 Lapuebla de Labarca"]
["01036 Laudio/Llodio",18009,"Laudio/Llodio","Araba/Álava","País Vasco",477.25809144465381,"No",18009,8767,9242,"CANTÁBRICO ORIENTAL","CANTÁBRICO ORIENTAL","01036 Laudio/Llodio"]
["01058 Legutio",1993,"Legutio","Araba/Álava","País Vasco",43.468588328694935,"No",1993,1054,939,"EBRO","EBRO","01058 Legutio"]
["01034 Leza",219,"Leza","Araba/Álava","País Vasco",22.070954996113397,"No",219,112,107,"EBRO","EBRO","01034 Leza"]
["01039 Moreda de Álava/Moreda Araba",209,"Moreda de Álava/Moreda Araba","Araba/Álava","País Vasco",24.103038297536671,"No",209,107,102,"EBRO","EBRO","01039 Moreda de Álava/Moreda Araba"]
["01041 Navaridas",197,"Navaridas","Araba/Álava","País Vasco",22.094123658454905,"No",197,111,86,"EBRO","EBRO","01041 Navaridas"]
["01042 Okondo",1196,"Okondo","Araba/Álava","País Vasco",40.063512055901327,"No",1196,626,570,"CANTÁBRICO ORIENTAL","CANTÁBRICO ORIENTAL","01042 Okondo"]
["01043 Oyón-Oion",3418,"Oyón-Oion","Araba/Álava","País Vasco",75.657173749909077,"No",3418,1737,1681,"EBRO","EBRO","01043 Oyón-Oion"]
["01044 Peñacerrada-Urizaharra",299,"Peñacerrada-Urizaharra","Araba/Álava","País Vasco",4.8106084373888853,"Sí",299,177,122,"EBRO","EBRO","01044 Peñacerrada-Urizaharra"]
["01052 Samaniego",308,"Samaniego","Araba/Álava","País Vasco",29.117035356400077,"No",308,147,161,"EBRO","EBRO","01052 Samaniego"]
["01053 San Millán/Donemiliaga",716,"San Millán/Donemiliaga","Araba/Álava","País Vasco",8.383505569879329,"Sí",716,389,327,"CANTÁBRICO ORIENTAL","EBRO","01053 San Millán/Donemiliaga"]
["01054 Urkabustaiz",1414,"Urkabustaiz","Araba/Álava","País Vasco",23.237621939996316,"No",1414,733,681,"CANTÁBRICO ORIENTAL","CANTÁBRICO ORIENTAL - EBRO","01054 Urkabustaiz"]
["01055 Valdegovía/Gaubea",1049,"Valdegovía/Gaubea","Araba/Álava","País Vasco",4.4032264022324235,"Sí",1049,568,481,"CANTÁBRICO ORIENTAL","EBRO","01055 Valdegovía/Gaubea"]
["01057 Villabuena de Álava/Eskuernaga",287,"Villabuena de Álava/Eskuernaga","Araba/Álava","País Vasco",33.847177516888507,"No",287,148,139,"EBRO","EBRO","01057 Villabuena de Álava/Eskuernaga"]
["01059 Vitoria-Gasteiz",253093,"Vitoria-Gasteiz","Araba/Álava","País Vasco",913.7462502333168,"No",253093,123092,130001,"EBRO","EBRO","01059 Vitoria-Gasteiz"]
["01060 Yécora/Iekora",266,"Yécora/Iekora","Araba/Álava","País Vasco",14.147067703770828,"No",266,135,131,"EBRO","EBRO","01060 Yécora/Iekora"]
["01061 Zalduondo",192,"Zalduondo","Araba/Álava","País Vasco",16.163520953647737,"No",192,105,87,"EBRO","EBRO","01061 Zalduondo"]
["01062 Zambrana",432,"Zambrana","Araba/Álava","País Vasco",10.917223689364551,"Sí",432,231,201,"EBRO","EBRO","01062 Zambrana"]
["01018 Zigoitia",1802,"Zigoitia","Araba/Álava","País Vasco",17.650884699170934,"No",1802,972,830,"EBRO","EBRO","01018 Zigoitia"]
["01063 Zuia",2318,"Zuia","Araba/Álava","País Vasco",18.910500630621957,"No",2318,1211,1107,"CANTÁBRICO ORIENTAL","CANTÁBRICO ORIENTAL - EBRO","01063 Zuia"]
["33001 Allande",1620,"Allande","Asturias","Principado de Asturias",4.7735397388343364,"Sí",1620,800,820,"CANTÁBRICO OCCIDENTAL","CANTÁBRICO OCCIDENTAL","33001 Allande"]
["33002 Aller",10346,"Aller","Asturias","Principado de Asturias",27.492435328603165,"No",10346,5109,5237,"CANTÁBRICO OCCIDENTAL","CANTÁBRICO OCCIDENTAL","33002 Aller"]
["33003 Amieva",616,"Amieva","Asturias","Principado de Asturias",5.3575140439055229,"Sí",616,353,263,"CANTÁBRICO OCCIDENTAL","CANTÁBRICO OCCIDENTAL","33003 Amieva"]
["33004 Avilés",76874,"Avilés","Asturias","Principado de Asturias",2876.6549166647956,"No",76874,36292,40582,"CANTÁBRICO OCCIDENTAL","CANTÁBRICO OCCIDENTAL","33004 Avilés"]
["33005 Belmonte de Miranda",1439,"Belmonte de Miranda","Asturias","Principado de Asturias",6.9179607163288237,"Sí",1439,770,669,"CANTÁBRICO OCCIDENTAL","CANTÁBRICO OCCIDENTAL","33005 Belmonte de Miranda"]
["33006 Bimenes",1691,"Bimenes","Asturias","Principado de Asturias",51.822045974827532,"No",1691,816,875,"CANTÁBRICO OCCIDENTAL","CANTÁBRICO OCCIDENTAL","33006 Bimenes"]
["33007 Boal",1452,"Boal","Asturias","Principado de Asturias",12.071700112231893,"Sí",1452,732,720,"CANTÁBRICO OCCIDENTAL","CANTÁBRICO OCCIDENTAL","33007 Boal"]
["33008 Cabrales",1942,"Cabrales","Asturias","Principado de Asturias",8.1313816900712563,"Sí",1942,977,965,"CANTÁBRICO OCCIDENTAL","CANTÁBRICO OCCIDENTAL","33008 Cabrales"]
["33009 Cabranes",1111,"Cabranes","Asturias","Principado de Asturias",28.998778162192124,"No",1111,565,546,"CANTÁBRICO OCCIDENTAL","CANTÁBRICO OCCIDENTAL","33009 Cabranes"]
["33010 Candamo",1967,"Candamo","Asturias","Principado de Asturias",27.329882561674491,"No",1967,964,1003,"CANTÁBRICO OCCIDENTAL","CANTÁBRICO OCCIDENTAL","33010 Candamo"]
["33012 Cangas de Onís",6195,"Cangas de Onís","Asturias","Principado de Asturias",29.052426616243473,"No",6195,2996,3199,"CANTÁBRICO OCCIDENTAL","CANTÁBRICO OCCIDENTAL","33012 Cangas de Onís"]
["33011 Cangas del Narcea",11966,"Cangas del Narcea","Asturias","Principado de Asturias",14.529276808464523,"No",11966,5865,6101,"CANTÁBRICO OCCIDENTAL","CANTÁBRICO OCCIDENTAL","33011 Cangas del Narcea"]
["33013 Caravia",507,"Caravia","Asturias","Principado de Asturias",38.262995834088031,"No",507,269,238,"CANTÁBRICO OCCIDENTAL","CANTÁBRICO OCCIDENTAL","33013 Caravia"]
["33014 Carreño",10288,"Carreño","Asturias","Principado de Asturias",154.50324084364053,"No",10288,4970,5318,"CANTÁBRICO OCCIDENTAL","CANTÁBRICO OCCIDENTAL","33014 Carreño"]
["33015 Caso",1441,"Caso","Asturias","Principado de Asturias",4.6996511952149005,"Sí",1441,824,617,"CANTÁBRICO OCCIDENTAL","CANTÁBRICO OCCIDENTAL","33015 Caso"]
["33016 Castrillón",22299,"Castrillón","Asturias","Principado de Asturias",402.06124226267855,"No",22299,10809,11490,"CANTÁBRICO OCCIDENTAL","CANTÁBRICO OCCIDENTAL","33016 Castrillón"]
["33017 Castropol",3335,"Castropol","Asturias","Principado de Asturias",26.585885963688543,"No",3335,1631,1704,"CANTÁBRICO OCCIDENTAL","CANTÁBRICO OCCIDENTAL","33017 Castropol"]
["33018 Coaña",3312,"Coaña","Asturias","Principado de Asturias",50.334124667231706,"No",3312,1621,1691,"CANTÁBRICO OCCIDENTAL","CANTÁBRICO OCCIDENTAL","33018 Coaña"]
["33019 Colunga",3236,"Colunga","Asturias","Principado de Asturias",33.165882863041766,"No",3236,1600,1636,"CANTÁBRICO OCCIDENTAL","CANTÁBRICO OCCIDENTAL","33019 Colunga"]
["33020 Corvera de Asturias",15570,"Corvera de Asturias","Asturias","Principado de Asturias",338.41260146808474,"No",15570,7614,7956,"CANTÁBRICO OCCIDENTAL","CANTÁBRICO OCCIDENTAL","33020 Corvera de Asturias"]
["33021 Cudillero",4968,"Cudillero","Asturias","Principado de Asturias",49.293390459821907,"No",4968,2461,2507,"CANTÁBRICO OCCIDENTAL","CANTÁBRICO OCCIDENTAL","33021 Cudillero"]
["33022 Degaña",852,"Degaña","Asturias","Principado de Asturias",9.7746514903653186,"Sí",852,433,419,"CANTÁBRICO OCCIDENTAL","CANTÁBRICO OCCIDENTAL","33022 Degaña"]
["33023 Franco El",3780,"Franco El","Asturias","Principado de Asturias",48.439902592738093,"No",3780,1850,1930,"CANTÁBRICO OCCIDENTAL","CANTÁBRICO OCCIDENTAL","33023 Franco El"]
["33024 Gijón",268896,"Gijón","Asturias","Principado de Asturias",1461.7670738184327,"No",268896,126485,142411,"CANTÁBRICO OCCIDENTAL","CANTÁBRICO OCCIDENTAL","33024 Gijón"]
["33025 Gozón",10412,"Gozón","Asturias","Principado de Asturias",127.40125112139899,"No",10412,5099,5313,"CANTÁBRICO OCCIDENTAL","CANTÁBRICO OCCIDENTAL","33025 Gozón"]
["33026 Grado",9644,"Grado","Asturias","Principado de Asturias",44.501608061269721,"No",9644,4692,4952,"CANTÁBRICO OCCIDENTAL","CANTÁBRICO OCCIDENTAL","33026 Grado"]
["33027 Grandas de Salime",792,"Grandas de Salime","Asturias","Principado de Asturias",6.9167889331377079,"Sí",792,403,389,"CANTÁBRICO OCCIDENTAL","CANTÁBRICO OCCIDENTAL","33027 Grandas de Salime"]
["33028 Ibias",1182,"Ibias","Asturias","Principado de Asturias",3.5452016205950425,"Sí",1182,679,503,"CANTÁBRICO OCCIDENTAL","CANTÁBRICO OCCIDENTAL","33028 Ibias"]
["33029 Illano",320,"Illano","Asturias","Principado de Asturias",3.1231303916698305,"Sí",320,162,158,"CANTÁBRICO OCCIDENTAL","CANTÁBRICO OCCIDENTAL","33029 Illano"]
["33030 Illas",1045,"Illas","Asturias","Principado de Asturias",40.969201941508913,"No",1045,529,516,"CANTÁBRICO OCCIDENTAL","CANTÁBRICO OCCIDENTAL","33030 Illas"]
["33031 Langreo",38683,"Langreo","Asturias","Principado de Asturias",463.05706484331142,"No",38683,18413,20270,"CANTÁBRICO OCCIDENTAL","CANTÁBRICO OCCIDENTAL","33031 Langreo"]
["33032 Laviana",12754,"Laviana","Asturias","Principado de Asturias",97.316880366010366,"No",12754,6136,6618,"CANTÁBRICO OCCIDENTAL","CANTÁBRICO OCCIDENTAL","33032 Laviana"]
["33033 Lena",10596,"Lena","Asturias","Principado de Asturias",33.300198650958542,"No",10596,5112,5484,"CANTÁBRICO OCCIDENTAL","CANTÁBRICO OCCIDENTAL","33033 Lena"]
["33035 Llanera",13790,"Llanera","Asturias","Principado de Asturias",129.25254462549549,"No",13790,6828,6962,"CANTÁBRICO OCCIDENTAL","CANTÁBRICO OCCIDENTAL","33035 Llanera"]
["33036 Llanes",13611,"Llanes","Asturias","Principado de Asturias",51.765803003184836,"No",13611,6632,6979,"CANTÁBRICO OCCIDENTAL","CANTÁBRICO OCCIDENTAL","33036 Llanes"]
["33037 Mieres",37026,"Mieres","Asturias","Principado de Asturias",253.53761876230422,"No",37026,17576,19450,"CANTÁBRICO OCCIDENTAL","CANTÁBRICO OCCIDENTAL","33037 Mieres"]
["33038 Morcín",2543,"Morcín","Asturias","Principado de Asturias",50.804923398642003,"No",2543,1271,1272,"CANTÁBRICO OCCIDENTAL","CANTÁBRICO OCCIDENTAL","33038 Morcín"]
["33039 Muros de Nalón",1921,"Muros de Nalón","Asturias","Principado de Asturias",237.33110852406611,"No",1921,921,1000,"CANTÁBRICO OCCIDENTAL","CANTÁBRICO OCCIDENTAL","33039 Muros de Nalón"]
["33040 Nava",5264,"Nava","Asturias","Principado de Asturias",54.942302232761648,"No",5264,2585,2679,"CANTÁBRICO OCCIDENTAL","CANTÁBRICO OCCIDENTAL","33040 Nava"]
["33041 Navia",8302,"Navia","Asturias","Principado de Asturias",131.53774436122629,"No",8302,4008,4294,"CANTÁBRICO OCCIDENTAL","CANTÁBRICO OCCIDENTAL","33041 Navia"]
["33042 Noreña",5113,"Noreña","Asturias","Principado de Asturias",903.65241353665306,"No",5113,2445,2668,"CANTÁBRICO OCCIDENTAL","CANTÁBRICO OCCIDENTAL","33042 Noreña"]
["33043 Onís",729,"Onís","Asturias","Principado de Asturias",9.7361620289680868,"Sí",729,393,336,"CANTÁBRICO OCCIDENTAL","CANTÁBRICO OCCIDENTAL","33043 Onís"]
["33044 Oviedo",217552,"Oviedo","Asturias","Principado de Asturias",1165.5504326812386,"No",217552,100622,116930,"CANTÁBRICO OCCIDENTAL","CANTÁBRICO OCCIDENTAL","33044 Oviedo"]
["33045 Parres",5292,"Parres","Asturias","Principado de Asturias",41.91889027421545,"No",5292,2585,2707,"CANTÁBRICO OCCIDENTAL","CANTÁBRICO OCCIDENTAL","33045 Parres"]
["33046 Peñamellera Alta",512,"Peñamellera Alta","Asturias","Principado de Asturias",5.553695465300267,"Sí",512,279,233,"CANTÁBRICO OCCIDENTAL","CANTÁBRICO OCCIDENTAL","33046 Peñamellera Alta"]
["33047 Peñamellera Baja",1244,"Peñamellera Baja","Asturias","Principado de Asturias",14.799516517402516,"No",1244,617,627,"CANTÁBRICO OCCIDENTAL","CANTÁBRICO OCCIDENTAL","33047 Peñamellera Baja"]
["33048 Pesoz",141,"Pesoz","Asturias","Principado de Asturias",3.6174623373424732,"Sí",141,78,63,"CANTÁBRICO OCCIDENTAL","CANTÁBRICO OCCIDENTAL","33048 Pesoz"]
["33049 Piloña",6921,"Piloña","Asturias","Principado de Asturias",24.290867076205796,"No",6921,3400,3521,"CANTÁBRICO OCCIDENTAL","CANTÁBRICO OCCIDENTAL","33049 Piloña"]
["33050 Ponga",574,"Ponga","Asturias","Principado de Asturias",2.7815710739868829,"Sí",574,339,235,"CANTÁBRICO OCCIDENTAL","CANTÁBRICO OCCIDENTAL","33050 Ponga"]
["33051 Pravia",7936,"Pravia","Asturias","Principado de Asturias",77.08068783285907,"No",7936,3868,4068,"CANTÁBRICO OCCIDENTAL","CANTÁBRICO OCCIDENTAL","33051 Pravia"]
["33052 Proaza",722,"Proaza","Asturias","Principado de Asturias",9.4007075008922207,"Sí",722,423,299,"CANTÁBRICO OCCIDENTAL","CANTÁBRICO OCCIDENTAL","33052 Proaza"]
["33053 Quirós",1207,"Quirós","Asturias","Principado de Asturias",5.9397267824101414,"Sí",1207,701,506,"CANTÁBRICO OCCIDENTAL","CANTÁBRICO OCCIDENTAL","33053 Quirós"]
["33054 Regueras Las",1877,"Regueras Las","Asturias","Principado de Asturias",28.505074814507438,"No",1877,951,926,"CANTÁBRICO OCCIDENTAL","CANTÁBRICO OCCIDENTAL","33054 Regueras Las"]
["33055 Ribadedeva",1724,"Ribadedeva","Asturias","Principado de Asturias",48.645598194130926,"No",1724,832,892,"CANTÁBRICO OCCIDENTAL","CANTÁBRICO OCCIDENTAL","33055 Ribadedeva"]
["33056 Ribadesella",5686,"Ribadesella","Asturias","Principado de Asturias",67.390188718602701,"No",5686,2696,2990,"CANTÁBRICO OCCIDENTAL","CANTÁBRICO OCCIDENTAL","33056 Ribadesella"]
["33057 Ribera de Arriba",1851,"Ribera de Arriba","Asturias","Principado de Asturias",84.19756761369446,"No",1851,939,912,"CANTÁBRICO OCCIDENTAL","CANTÁBRICO OCCIDENTAL","33057 Ribera de Arriba"]
["33058 Riosa",1836,"Riosa","Asturias","Principado de Asturias",39.496165741916442,"No",1836,933,903,"CANTÁBRICO OCCIDENTAL","CANTÁBRICO OCCIDENTAL","33058 Riosa"]
["33059 Salas",4878,"Salas","Asturias","Principado de Asturias",21.478164154843508,"No",4878,2410,2468,"CANTÁBRICO OCCIDENTAL","CANTÁBRICO OCCIDENTAL","33059 Salas"]
["33061 San Martín de Oscos",353,"San Martín de Oscos","Asturias","Principado de Asturias",5.2129943853244605,"Sí",353,180,173,"CANTÁBRICO OCCIDENTAL","CANTÁBRICO OCCIDENTAL","33061 San Martín de Oscos"]
["33060 San Martín del Rey Aurelio",15665,"San Martín del Rey Aurelio","Asturias","Principado de Asturias",284.56621137283895,"No",15665,7523,8142,"CANTÁBRICO OCCIDENTAL","CANTÁBRICO OCCIDENTAL","33060 San Martín del Rey Aurelio"]
["33063 San Tirso de Abres",419,"San Tirso de Abres","Asturias","Principado de Asturias",13.474575181054554,"No",419,205,214,"CANTÁBRICO OCCIDENTAL","CANTÁBRICO OCCIDENTAL","33063 San Tirso de Abres"]
["33062 Santa Eulalia de Oscos",434,"Santa Eulalia de Oscos","Asturias","Principado de Asturias",9.2106631465238227,"Sí",434,221,213,"CANTÁBRICO OCCIDENTAL","CANTÁBRICO OCCIDENTAL","33062 Santa Eulalia de Oscos"]
["33064 Santo Adriano",277,"Santo Adriano","Asturias","Principado de Asturias",12.256659946005209,"Sí",277,138,139,"CANTÁBRICO OCCIDENTAL","CANTÁBRICO OCCIDENTAL","33064 Santo Adriano"]
["33065 Sariego",1297,"Sariego","Asturias","Principado de Asturias",50.432190653433601,"No",1297,628,669,"CANTÁBRICO OCCIDENTAL","CANTÁBRICO OCCIDENTAL","33065 Sariego"]
["33066 Siero",51608,"Siero","Asturias","Principado de Asturias",244.31814617783627,"No",51608,25270,26338,"CANTÁBRICO OCCIDENTAL","CANTÁBRICO OCCIDENTAL","33066 Siero"]
["33067 Sobrescobio",829,"Sobrescobio","Asturias","Principado de Asturias",11.940984055775832,"Sí",829,440,389,"CANTÁBRICO OCCIDENTAL","CANTÁBRICO OCCIDENTAL","33067 Sobrescobio"]
["33068 Somiedo",1104,"Somiedo","Asturias","Principado de Asturias",3.8053547269640746,"Sí",1104,651,453,"CANTÁBRICO OCCIDENTAL","CANTÁBRICO OCCIDENTAL - MIÑO-SIL","33068 Somiedo"]
["33069 Soto del Barco",3850,"Soto del Barco","Asturias","Principado de Asturias",108.92800218376594,"No",3850,1895,1955,"CANTÁBRICO OCCIDENTAL","CANTÁBRICO OCCIDENTAL","33069 Soto del Barco"]
["33070 Tapia de Casariego",3683,"Tapia de Casariego","Asturias","Principado de Asturias",55.815625183422071,"No",3683,1788,1895,"CANTÁBRICO OCCIDENTAL","CANTÁBRICO OCCIDENTAL","33070 Tapia de Casariego"]
["33071 Taramundi",592,"Taramundi","Asturias","Principado de Asturias",7.2053066694144192,"Sí",592,278,314,"CANTÁBRICO OCCIDENTAL","CANTÁBRICO OCCIDENTAL","33071 Taramundi"]
["33072 Teverga",1584,"Teverga","Asturias","Principado de Asturias",8.983936109694767,"Sí",1584,866,718,"CANTÁBRICO OCCIDENTAL","CANTÁBRICO OCCIDENTAL","33072 Teverga"]
["33073 Tineo",9096,"Tineo","Asturias","Principado de Asturias",16.818709172021844,"No",9096,4608,4488,"CANTÁBRICO OCCIDENTAL","CANTÁBRICO OCCIDENTAL","33073 Tineo"]
["33034 Valdés",11281,"Valdés","Asturias","Principado de Asturias",31.910772715924423,"No",11281,5540,5741,"CANTÁBRICO OCCIDENTAL","CANTÁBRICO OCCIDENTAL","33034 Valdés"]
["33074 Vegadeo",3914,"Vegadeo","Asturias","Principado de Asturias",47.015749194882318,"No",3914,1872,2042,"CANTÁBRICO OCCIDENTAL","CANTÁBRICO OCCIDENTAL","33074 Vegadeo"]
["33075 Villanueva de Oscos",275,"Villanueva de Oscos","Asturias","Principado de Asturias",3.7678252386746021,"Sí",275,138,137,"CANTÁBRICO OCCIDENTAL","CANTÁBRICO OCCIDENTAL","33075 Villanueva de Oscos"]
["33076 Villaviciosa",14869,"Villaviciosa","Asturias","Principado de Asturias",53.828899508532992,"No",14869,7394,7475,"CANTÁBRICO OCCIDENTAL","CANTÁBRICO OCCIDENTAL","33076 Villaviciosa"]
["33077 Villayón",1151,"Villayón","Asturias","Principado de Asturias",8.6895803325278163,"Sí",1151,599,552,"CANTÁBRICO OCCIDENTAL","CANTÁBRICO OCCIDENTAL","33077 Villayón"]
["33078 Yernes y Tameza",128,"Yernes y Tameza","Asturias","Principado de Asturias",4.046606282027466,"Sí",128,68,60,"CANTÁBRICO OCCIDENTAL","CANTÁBRICO OCCIDENTAL","33078 Yernes y Tameza"]
["05001 Adanero",196,"Adanero","Ávila","Castilla y León",6.2385055138044274,"Sí",196,106,90,"DUERO","DUERO","05001 Adanero"]
["05002 Adrada La",2757,"Adrada La","Ávila","Castilla y León",47.017613272030232,"No",2757,1408,1349,"TAJO","TAJO","05002 Adrada La"]
["05005 Albornos",172,"Albornos","Ávila","Castilla y León",10.058674235156248,"Sí",172,88,84,"DUERO","DUERO","05005 Albornos"]
["05007 Aldeanueva de Santa Cruz",113,"Aldeanueva de Santa Cruz","Ávila","Castilla y León",13.321169023354367,"No",113,59,54,"DUERO","DUERO","05007 Aldeanueva de Santa Cruz"]
["05008 Aldeaseca",219,"Aldeaseca","Ávila","Castilla y León",9.0323622114175741,"Sí",219,105,114,"DUERO","DUERO","05008 Aldeaseca"]
["05010 Aldehuela La",147,"Aldehuela La","Ávila","Castilla y León",8.5717219592297411,"Sí",147,75,72,"DUERO","DUERO","05010 Aldehuela La"]
["05012 Amavida",128,"Amavida","Ávila","Castilla y León",8.524228888598385,"Sí",128,72,56,"DUERO","DUERO","05012 Amavida"]
["05013 Arenal El",943,"Arenal El","Ávila","Castilla y León",34.824767714552422,"No",943,473,470,"DUERO","TAJO","05013 Arenal El"]
["05014 Arenas de San Pedro",6434,"Arenas de San Pedro","Ávila","Castilla y León",33.241815869066308,"No",6434,3118,3316,"DUERO","TAJO","05014 Arenas de San Pedro"]
["05015 Arevalillo",67,"Arevalillo","Ávila","Castilla y León",4.4766122067860765,"Sí",67,32,35,"DUERO","DUERO","05015 Arevalillo"]
["05016 Arévalo",7881,"Arévalo","Ávila","Castilla y León",172.40655131769273,"No",7881,3838,4043,"DUERO","DUERO","05016 Arévalo"]
["05017 Aveinte",82,"Aveinte","Ávila","Castilla y León",6.3855657556748602,"Sí",82,48,34,"DUERO","DUERO","05017 Aveinte"]
["05018 Avellaneda",26,"Avellaneda","Ávila","Castilla y León",2.5408485378687091,"Sí",26,15,11,"DUERO","DUERO","05018 Avellaneda"]
["05019 Ávila",57949,"Ávila","Ávila","Castilla y León",251.1828989824208,"No",57949,27608,30341,"DUERO","DUERO","05019 Ávila"]
["05021 Barco de Ávila El",2298,"Barco de Ávila El","Ávila","Castilla y León",181.1765739162972,"No",2298,1103,1195,"DUERO","DUERO","05021 Barco de Ávila El"]
["05022 Barraco El",1973,"Barraco El","Ávila","Castilla y León",12.819945272153955,"No",1973,1010,963,"DUERO","TAJO","05022 Barraco El"]
["05023 Barromán",181,"Barromán","Ávila","Castilla y León",9.0352991165723804,"Sí",181,96,85,"DUERO","DUERO","05023 Barromán"]
["05024 Becedas",183,"Becedas","Ávila","Castilla y León",5.6826657826136264,"Sí",183,94,89,"DUERO","DUERO","05024 Becedas"]
["05025 Becedillas",77,"Becedillas","Ávila","Castilla y León",3.8768707852561497,"Sí",77,40,37,"DUERO","DUERO","05025 Becedillas"]
["05026 Bercial de Zapardiel",195,"Bercial de Zapardiel","Ávila","Castilla y León",11.2675131824126,"Sí",195,102,93,"DUERO","DUERO","05026 Bercial de Zapardiel"]
["05027 Berlanas Las",334,"Berlanas Las","Ávila","Castilla y León",20.008675617973037,"No",334,177,157,"DUERO","DUERO","05027 Berlanas Las"]
["05029 Bernuy-Zapardiel",90,"Bernuy-Zapardiel","Ávila","Castilla y León",4.5498044342394017,"Sí",90,51,39,"DUERO","DUERO","05029 Bernuy-Zapardiel"]
["05030 Berrocalejo de Aragona",49,"Berrocalejo de Aragona","Ávila","Castilla y León",5.4396835125524028,"Sí",49,27,22,"DUERO","DUERO","05030 Berrocalejo de Aragona"]
["05033 Blascomillán",181,"Blascomillán","Ávila","Castilla y León",4.5703035913799122,"Sí",181,94,87,"DUERO","DUERO","05033 Blascomillán"]
["05034 Blasconuño de Matacabras",14,"Blasconuño de Matacabras","Ávila","Castilla y León",1.0779404869057181,"Sí",14,8,6,"DUERO","DUERO","05034 Blasconuño de Matacabras"]
["05035 Blascosancho",101,"Blascosancho","Ávila","Castilla y León",4.4007959079046746,"Sí",101,50,51,"DUERO","DUERO","05035 Blascosancho"]
["05036 Bohodón El",117,"Bohodón El","Ávila","Castilla y León",5.2966859405673814,"Sí",117,63,54,"DUERO","DUERO","05036 Bohodón El"]
["05037 Bohoyo",231,"Bohoyo","Ávila","Castilla y León",3.1061036954566172,"Sí",231,131,100,"DUERO","DUERO","05037 Bohoyo"]
["05038 Bonilla de la Sierra",131,"Bonilla de la Sierra","Ávila","Castilla y León",2.3794082306382558,"Sí",131,78,53,"DUERO","DUERO","05038 Bonilla de la Sierra"]
["05039 Brabos",42,"Brabos","Ávila","Castilla y León",2.288962681896916,"Sí",42,26,16,"DUERO","DUERO","05039 Brabos"]
["05040 Bularros",63,"Bularros","Ávila","Castilla y León",2.0481774910300392,"Sí",63,42,21,"DUERO","DUERO","05040 Bularros"]
["05041 Burgohondo",1231,"Burgohondo","Ávila","Castilla y León",22.245817366176546,"No",1231,651,580,"TAJO","TAJO","05041 Burgohondo"]
["05042 Cabezas de Alambre",160,"Cabezas de Alambre","Ávila","Castilla y León",13.554998219212107,"No",160,76,84,"DUERO","DUERO","05042 Cabezas de Alambre"]
["05043 Cabezas del Pozo",68,"Cabezas del Pozo","Ávila","Castilla y León",3.7849567894304408,"Sí",68,36,32,"DUERO","DUERO","05043 Cabezas del Pozo"]
["05044 Cabezas del Villar",257,"Cabezas del Villar","Ávila","Castilla y León",2.3349367140842645,"Sí",257,141,116,"DUERO","DUERO","05044 Cabezas del Villar"]
["05045 Cabizuela",80,"Cabizuela","Ávila","Castilla y León",4.1727090536363676,"Sí",80,43,37,"DUERO","DUERO","05045 Cabizuela"]
["05046 Canales",39,"Canales","Ávila","Castilla y León",5.8460422294106884,"Sí",39,23,16,"DUERO","DUERO","05046 Canales"]
["05047 Candeleda",5049,"Candeleda","Ávila","Castilla y León",23.651991095720998,"No",5049,2550,2499,"DUERO","TAJO","05047 Candeleda"]
["05048 Cantiveros",100,"Cantiveros","Ávila","Castilla y León",6.9569790848859281,"Sí",100,60,40,"DUERO","DUERO","05048 Cantiveros"]
["05049 Cardeñosa",427,"Cardeñosa","Ávila","Castilla y León",10.542872244313559,"Sí",427,231,196,"DUERO","DUERO","05049 Cardeñosa"]
["05051 Carrera La",164,"Carrera La","Ávila","Castilla y León",11.579708819748769,"Sí",164,92,72,"DUERO","DUERO","05051 Carrera La"]
["05052 Casas del Puerto",83,"Casas del Puerto","Ávila","Castilla y León",3.7487565306839108,"Sí",83,45,38,"DUERO","DUERO","05052 Casas del Puerto"]
["05053 Casasola",68,"Casasola","Ávila","Castilla y León",3.7034616473868809,"Sí",68,40,28,"DUERO","DUERO","05053 Casasola"]
["05054 Casavieja",1422,"Casavieja","Ávila","Castilla y León",36.236500502010593,"No",1422,731,691,"TAJO","TAJO","05054 Casavieja"]
["05055 Casillas",646,"Casillas","Ávila","Castilla y León",53.883175270458501,"No",646,348,298,"TAJO","TAJO","05055 Casillas"]
["05056 Castellanos de Zapardiel",94,"Castellanos de Zapardiel","Ávila","Castilla y León",7.4027650745104046,"Sí",94,54,40,"DUERO","DUERO","05056 Castellanos de Zapardiel"]
["05057 Cebreros",3246,"Cebreros","Ávila","Castilla y León",23.612252937799628,"No",3246,1690,1556,"TAJO","TAJO","05057 Cebreros"]
["05058 Cepeda la Mora",70,"Cepeda la Mora","Ávila","Castilla y León",2.2298106572207641,"Sí",70,40,30,"DUERO","TAJO","05058 Cepeda la Mora"]
["05067 Chamartín",68,"Chamartín","Ávila","Castilla y León",4.4002330311645856,"Sí",68,41,27,"DUERO","DUERO","05067 Chamartín"]
["05059 Cillán",82,"Cillán","Ávila","Castilla y León",5.7859402498651242,"Sí",82,50,32,"DUERO","DUERO","05059 Cillán"]
["05060 Cisla",104,"Cisla","Ávila","Castilla y León",5.1205177867585974,"Sí",104,55,49,"DUERO","DUERO","05060 Cisla"]
["05061 Colilla La",341,"Colilla La","Ávila","Castilla y León",31.574074074074073,"No",341,175,166,"DUERO","DUERO","05061 Colilla La"]
["05062 Collado de Contreras",158,"Collado de Contreras","Ávila","Castilla y León",8.5690504662295606,"Sí",158,80,78,"DUERO","DUERO","05062 Collado de Contreras"]
["05063 Collado del Mirón",29,"Collado del Mirón","Ávila","Castilla y León",5.9903233555891058,"Sí",29,19,10,"DUERO","DUERO","05063 Collado del Mirón"]
["05064 Constanzana",107,"Constanzana","Ávila","Castilla y León",3.9856874336750878,"Sí",107,61,46,"DUERO","DUERO","05064 Constanzana"]
["05065 Crespos",494,"Crespos","Ávila","Castilla y León",15.47468518491544,"No",494,263,231,"DUERO","DUERO","05065 Crespos"]
["05066 Cuevas del Valle",514,"Cuevas del Valle","Ávila","Castilla y León",26.809004049150605,"No",514,284,230,"TAJO","TAJO","05066 Cuevas del Valle"]
["05903 Diego del Carpio",117,"Diego del Carpio","Ávila","Castilla y León",3.4610031324149033,"Sí",117,66,51,"DUERO","DUERO","05903 Diego del Carpio"]
["05069 Donjimeno",72,"Donjimeno","Ávila","Castilla y León",4.8820609349011077,"Sí",72,39,33,"DUERO","DUERO","05069 Donjimeno"]
["05070 Donvidas",30,"Donvidas","Ávila","Castilla y León",2.6135363760704613,"Sí",30,18,12,"DUERO","DUERO","05070 Donvidas"]
["05072 Espinosa de los Caballeros",109,"Espinosa de los Caballeros","Ávila","Castilla y León",5.6176153161137785,"Sí",109,56,53,"DUERO","DUERO","05072 Espinosa de los Caballeros"]
["05073 Flores de Ávila",287,"Flores de Ávila","Ávila","Castilla y León",6.6676526428972043,"Sí",287,156,131,"DUERO","DUERO","05073 Flores de Ávila"]
["05074 Fontiveros",734,"Fontiveros","Ávila","Castilla y León",20.155635003418084,"No",734,383,351,"DUERO","DUERO","05074 Fontiveros"]
["05075 Fresnedilla",110,"Fresnedilla","Ávila","Castilla y León",4.5005236973029596,"Sí",110,57,53,"TAJO","TAJO","05075 Fresnedilla"]
["05076 Fresno El",589,"Fresno El","Ávila","Castilla y León",44.910750367902153,"No",589,316,273,"DUERO","DUERO","05076 Fresno El"]
["05077 Fuente el Saúz",157,"Fuente el Saúz","Ávila","Castilla y León",15.999611932979356,"No",157,89,68,"DUERO","DUERO","05077 Fuente el Saúz"]
["05078 Fuentes de Año",96,"Fuentes de Año","Ávila","Castilla y León",4.7984347505843594,"Sí",96,55,41,"DUERO","DUERO","05078 Fuentes de Año"]
["05079 Gallegos de Altamiros",63,"Gallegos de Altamiros","Ávila","Castilla y León",3.0777610997866329,"Sí",63,36,27,"DUERO","DUERO","05079 Gallegos de Altamiros"]
["05080 Gallegos de Sobrinos",36,"Gallegos de Sobrinos","Ávila","Castilla y León",0.8320667620785297,"Sí",36,18,18,"DUERO","DUERO","05080 Gallegos de Sobrinos"]
["05081 Garganta del Villar",42,"Garganta del Villar","Ávila","Castilla y León",2.3087864441253068,"Sí",42,28,14,"DUERO","TAJO","05081 Garganta del Villar"]
["05082 Gavilanes",576,"Gavilanes","Ávila","Castilla y León",19.737044994294763,"No",576,306,270,"TAJO","TAJO","05082 Gavilanes"]
["05083 Gemuño",147,"Gemuño","Ávila","Castilla y León",8.5536862809287779,"Sí",147,76,71,"DUERO","DUERO","05083 Gemuño"]
["05085 Gil García",42,"Gil García","Ávila","Castilla y León",2.7178245807302615,"Sí",42,19,23,"DUERO","DUERO","05085 Gil García"]
["05084 Gilbuena",60,"Gilbuena","Ávila","Castilla y León",3.965331110104358,"Sí",60,36,24,"DUERO","DUERO","05084 Gilbuena"]
["05086 Gimialcón",74,"Gimialcón","Ávila","Castilla y León",3.8838697744762785,"Sí",74,46,28,"DUERO","DUERO","05086 Gimialcón"]
["05087 Gotarrendura",169,"Gotarrendura","Ávila","Castilla y León",15.89183770766353,"No",169,63,106,"DUERO","DUERO","05087 Gotarrendura"]
["05088 Grandes y San Martín",26,"Grandes y San Martín","Ávila","Castilla y León",2.2430008452662418,"Sí",26,13,13,"DUERO","DUERO","05088 Grandes y San Martín"]
["05089 Guisando",522,"Guisando","Ávila","Castilla y León",13.619362559041699,"No",522,261,261,"TAJO","TAJO","05089 Guisando"]
["05090 Gutierre-Muñoz",71,"Gutierre-Muñoz","Ávila","Castilla y León",3.2049117665220876,"Sí",71,37,34,"DUERO","DUERO","05090 Gutierre-Muñoz"]
["05092 Hernansancho",156,"Hernansancho","Ávila","Castilla y León",8.0499559626127013,"Sí",156,90,66,"DUERO","DUERO","05092 Hernansancho"]
["05093 Herradón de Pinares",436,"Herradón de Pinares","Ávila","Castilla y León",9.0091421096084048,"Sí",436,243,193,"DUERO","TAJO","05093 Herradón de Pinares"]
["05094 Herreros de Suso",131,"Herreros de Suso","Ávila","Castilla y León",6.084078528455537,"Sí",131,72,59,"DUERO","DUERO","05094 Herreros de Suso"]
["05095 Higuera de las Dueñas",266,"Higuera de las Dueñas","Ávila","Castilla y León",7.5832086095075191,"Sí",266,150,116,"TAJO","TAJO","05095 Higuera de las Dueñas"]
["05096 Hija de Dios La",80,"Hija de Dios La","Ávila","Castilla y León",6.3986455347132116,"Sí",80,48,32,"DUERO","DUERO","05096 Hija de Dios La"]
["05097 Horcajada La",495,"Horcajada La","Ávila","Castilla y León",10.640271799401942,"Sí",495,257,238,"DUERO","DUERO","05097 Horcajada La"]
["05099 Horcajo de las Torres",481,"Horcajo de las Torres","Ávila","Castilla y León",10.164572673123276,"Sí",481,273,208,"DUERO","DUERO","05099 Horcajo de las Torres"]
["05100 Hornillo El",281,"Hornillo El","Ávila","Castilla y León",12.075151791318687,"Sí",281,149,132,"DUERO","TAJO","05100 Hornillo El"]
["05102 Hoyo de Pinares El",2163,"Hoyo de Pinares El","Ávila","Castilla y León",26.86505055398889,"No",2163,1106,1057,"TAJO","TAJO","05102 Hoyo de Pinares El"]
["05101 Hoyocasero",278,"Hoyocasero","Ávila","Castilla y León",5.3154875717017207,"Sí",278,164,114,"TAJO","TAJO","05101 Hoyocasero"]
["05103 Hoyorredondo",60,"Hoyorredondo","Ávila","Castilla y León",3.4845567060206695,"Sí",60,31,29,"DUERO","DUERO","05103 Hoyorredondo"]
["05106 Hoyos de Miguel Muñoz",26,"Hoyos de Miguel Muñoz","Ávila","Castilla y León",2.1905317802350672,"Sí",26,13,13,"TAJO","TAJO","05106 Hoyos de Miguel Muñoz"]
["05104 Hoyos del Collado",31,"Hoyos del Collado","Ávila","Castilla y León",3.1367730174380295,"Sí",31,18,13,"DUERO","DUERO","05104 Hoyos del Collado"]
["05105 Hoyos del Espino",371,"Hoyos del Espino","Ávila","Castilla y León",7.011046101558839,"Sí",371,194,177,"DUERO","DUERO","05105 Hoyos del Espino"]
["05107 Hurtumpascual",45,"Hurtumpascual","Ávila","Castilla y León",2.4178917542100198,"Sí",45,28,17,"DUERO","DUERO","05107 Hurtumpascual"]
["05108 Junciana",40,"Junciana","Ávila","Castilla y León",2.6636446729969956,"Sí",40,24,16,"DUERO","DUERO","05108 Junciana"]
["05109 Langa",467,"Langa","Ávila","Castilla y León",19.098525078571821,"No",467,244,223,"DUERO","DUERO","05109 Langa"]
["05110 Lanzahíta",815,"Lanzahíta","Ávila","Castilla y León",24.315656000596704,"No",815,423,392,"TAJO","TAJO","05110 Lanzahíta"]
["05113 Llanos de Tormes Los",58,"Llanos de Tormes Los","Ávila","Castilla y León",3.3216489558826034,"Sí",58,30,28,"DUERO","DUERO","05113 Llanos de Tormes Los"]
["05112 Losar del Barco El",109,"Losar del Barco El","Ávila","Castilla y León",5.5785101866922648,"Sí",109,60,49,"DUERO","DUERO","05112 Losar del Barco El"]
["05114 Madrigal de las Altas Torres",1380,"Madrigal de las Altas Torres","Ávila","Castilla y León",12.921135865968346,"No",1380,698,682,"DUERO","DUERO","05114 Madrigal de las Altas Torres"]
["05115 Maello",636,"Maello","Ávila","Castilla y León",9.7334479962075058,"Sí",636,336,300,"DUERO","DUERO","05115 Maello"]
["05116 Malpartida de Corneja",90,"Malpartida de Corneja","Ávila","Castilla y León",4.7198387619170683,"Sí",90,45,45,"DUERO","DUERO","05116 Malpartida de Corneja"]
["05117 Mamblas",202,"Mamblas","Ávila","Castilla y León",8.4038710726359884,"Sí",202,114,88,"DUERO","DUERO","05117 Mamblas"]
["05118 Mancera de Arriba",72,"Mancera de Arriba","Ávila","Castilla y León",4.0942847821860404,"Sí",72,41,31,"DUERO","DUERO","05118 Mancera de Arriba"]
["05119 Manjabálago y Ortigosa de Rioalmar",21,"Manjabálago y Ortigosa de Rioalmar","Ávila","Castilla y León",1.2344553415499857,"Sí",21,12,9,"DUERO","DUERO","05119 Manjabálago y Ortigosa de Rioalmar"]
["05120 Marlín",32,"Marlín","Ávila","Castilla y León",5.0047412103059514,"Sí",32,21,11,"DUERO","DUERO","05120 Marlín"]
["05121 Martiherrero",336,"Martiherrero","Ávila","Castilla y León",14.741775427478581,"No",336,172,164,"DUERO","DUERO","05121 Martiherrero"]
["05122 Martínez",111,"Martínez","Ávila","Castilla y León",6.1445718105312981,"Sí",111,59,52,"DUERO","DUERO","05122 Martínez"]
["05123 Mediana de Voltoya",119,"Mediana de Voltoya","Ávila","Castilla y León",6.4758369924079791,"Sí",119,58,61,"DUERO","DUERO","05123 Mediana de Voltoya"]
["05124 Medinilla",104,"Medinilla","Ávila","Castilla y León",4.545910328596757,"Sí",104,48,56,"DUERO","DUERO","05124 Medinilla"]
["05125 Mengamuñoz",59,"Mengamuñoz","Ávila","Castilla y León",4.9700533227754802,"Sí",59,28,31,"DUERO","DUERO","05125 Mengamuñoz"]
["05126 Mesegar de Corneja",57,"Mesegar de Corneja","Ávila","Castilla y León",5.5416156376226713,"Sí",57,34,23,"DUERO","DUERO","05126 Mesegar de Corneja"]
["05127 Mijares",743,"Mijares","Ávila","Castilla y León",15.73602448296676,"No",743,402,341,"TAJO","TAJO","05127 Mijares"]
["05128 Mingorría",377,"Mingorría","Ávila","Castilla y León",12.284221699246736,"Sí",377,196,181,"DUERO","DUERO","05128 Mingorría"]
["05129 Mirón El",114,"Mirón El","Ávila","Castilla y León",3.6684596746018343,"Sí",114,70,44,"DUERO","DUERO","05129 Mirón El"]
["05130 Mironcillo",105,"Mironcillo","Ávila","Castilla y León",6.8933180901280986,"Sí",105,54,51,"DUERO","DUERO","05130 Mironcillo"]
["05131 Mirueña de los Infanzones",84,"Mirueña de los Infanzones","Ávila","Castilla y León",2.6918405026819867,"Sí",84,49,35,"DUERO","DUERO","05131 Mirueña de los Infanzones"]
["05132 Mombeltrán",934,"Mombeltrán","Ávila","Castilla y León",18.686988933861262,"No",934,483,451,"TAJO","TAJO","05132 Mombeltrán"]
["05133 Monsalupe",60,"Monsalupe","Ávila","Castilla y León",3.3899854518774335,"Sí",60,32,28,"DUERO","DUERO","05133 Monsalupe"]
["05134 Moraleja de Matacabras",52,"Moraleja de Matacabras","Ávila","Castilla y León",3.4834865654316345,"Sí",52,28,24,"DUERO","DUERO","05134 Moraleja de Matacabras"]
["05135 Muñana",342,"Muñana","Ávila","Castilla y León",10.1743642078481,"Sí",342,188,154,"DUERO","DUERO","05135 Muñana"]
["05136 Muñico",80,"Muñico","Ávila","Castilla y León",6.0260140011422321,"Sí",80,45,35,"DUERO","DUERO","05136 Muñico"]
["05138 Muñogalindo",325,"Muñogalindo","Ávila","Castilla y León",17.313739720366588,"No",325,161,164,"DUERO","DUERO","05138 Muñogalindo"]
["05139 Muñogrande",71,"Muñogrande","Ávila","Castilla y León",4.3933465921645842,"Sí",71,40,31,"DUERO","DUERO","05139 Muñogrande"]
["05140 Muñomer del Peco",108,"Muñomer del Peco","Ávila","Castilla y León",10.705159777978952,"Sí",108,56,52,"DUERO","DUERO","05140 Muñomer del Peco"]
["05141 Muñopepe",99,"Muñopepe","Ávila","Castilla y León",16.447871213500676,"No",99,55,44,"DUERO","DUERO","05141 Muñopepe"]
["05142 Muñosancho",91,"Muñosancho","Ávila","Castilla y León",4.6155172676137779,"Sí",91,46,45,"DUERO","DUERO","05142 Muñosancho"]
["05143 Muñotello",66,"Muñotello","Ávila","Castilla y León",3.3092480245293499,"Sí",66,30,36,"DUERO","DUERO","05143 Muñotello"]
["05144 Narrillos del Álamo",71,"Narrillos del Álamo","Ávila","Castilla y León",2.4193618186949335,"Sí",71,37,34,"DUERO","DUERO","05144 Narrillos del Álamo"]
["05145 Narrillos del Rebollar",38,"Narrillos del Rebollar","Ávila","Castilla y León",2.1830518881560472,"Sí",38,24,14,"DUERO","DUERO","05145 Narrillos del Rebollar"]
["05149 Narros de Saldueña",106,"Narros de Saldueña","Ávila","Castilla y León",11.230889608301535,"Sí",106,59,47,"DUERO","DUERO","05149 Narros de Saldueña"]
["05147 Narros del Castillo",159,"Narros del Castillo","Ávila","Castilla y León",4.7313282519661426,"Sí",159,88,71,"DUERO","DUERO","05147 Narros del Castillo"]
["05148 Narros del Puerto",29,"Narros del Puerto","Ávila","Castilla y León",2.795669796692144,"Sí",29,16,13,"DUERO","DUERO","05148 Narros del Puerto"]
["05152 Nava de Arévalo",714,"Nava de Arévalo","Ávila","Castilla y León",12.254525043443492,"Sí",714,370,344,"DUERO","DUERO","05152 Nava de Arévalo"]
["05153 Nava del Barco",79,"Nava del Barco","Ávila","Castilla y León",2.6895971963911189,"Sí",79,41,38,"DUERO","DUERO","05153 Nava del Barco"]
["05151 Navacepedilla de Corneja",91,"Navacepedilla de Corneja","Ávila","Castilla y León",3.0845745949623065,"Sí",91,49,42,"DUERO","DUERO","05151 Navacepedilla de Corneja"]
["05154 Navadijos",32,"Navadijos","Ávila","Castilla y León",1.6118115159701811,"Sí",32,21,11,"TAJO","TAJO","05154 Navadijos"]
["05155 Navaescurial",46,"Navaescurial","Ávila","Castilla y León",1.3026717259038227,"Sí",46,28,18,"DUERO","DUERO","05155 Navaescurial"]
["05156 Navahondilla",358,"Navahondilla","Ávila","Castilla y León",16.223688960522868,"No",358,216,142,"TAJO","TAJO","05156 Navahondilla"]
["05157 Navalacruz",221,"Navalacruz","Ávila","Castilla y León",4.4173495902458528,"Sí",221,123,98,"DUERO","TAJO","05157 Navalacruz"]
["05158 Navalmoral",340,"Navalmoral","Ávila","Castilla y León",7.842546214567867,"Sí",340,178,162,"DUERO","TAJO","05158 Navalmoral"]
["05159 Navalonguilla",209,"Navalonguilla","Ávila","Castilla y León",2.3030045195306688,"Sí",209,105,104,"DUERO","DUERO","05159 Navalonguilla"]
["05160 Navalosa",322,"Navalosa","Ávila","Castilla y León",10.733747298187467,"Sí",322,182,140,"TAJO","TAJO","05160 Navalosa"]
["05161 Navalperal de Pinares",765,"Navalperal de Pinares","Ávila","Castilla y León",15.352820149498738,"No",765,409,356,"DUERO","TAJO","05161 Navalperal de Pinares"]
["05162 Navalperal de Tormes",87,"Navalperal de Tormes","Ávila","Castilla y León",1.4271372610775379,"Sí",87,50,37,"DUERO","DUERO","05162 Navalperal de Tormes"]
["05163 Navaluenga",2135,"Navaluenga","Ávila","Castilla y León",29.035778770594391,"No",2135,1068,1067,"TAJO","TAJO","05163 Navaluenga"]
["05164 Navaquesera",22,"Navaquesera","Ávila","Castilla y León",2.3913043478260874,"Sí",22,10,12,"TAJO","TAJO","05164 Navaquesera"]
["05165 Navarredonda de Gredos",424,"Navarredonda de Gredos","Ávila","Castilla y León",5.3799074970584346,"Sí",424,216,208,"DUERO","DUERO - TAJO","05165 Navarredonda de Gredos"]
["05166 Navarredondilla",175,"Navarredondilla","Ávila","Castilla y León",8.6335276682854616,"Sí",175,86,89,"TAJO","TAJO","05166 Navarredondilla"]
["05167 Navarrevisca",272,"Navarrevisca","Ávila","Castilla y León",6.8010745697820258,"Sí",272,153,119,"TAJO","TAJO","05167 Navarrevisca"]
["05168 Navas del Marqués Las",5231,"Navas del Marqués Las","Ávila","Castilla y León",53.413581751518848,"No",5231,2676,2555,"DUERO","TAJO","05168 Navas del Marqués Las"]
["05169 Navatalgordo",243,"Navatalgordo","Ávila","Castilla y León",12.09824250872343,"Sí",243,136,107,"TAJO","TAJO","05169 Navatalgordo"]
["05170 Navatejares",55,"Navatejares","Ávila","Castilla y León",4.9639737349831892,"Sí",55,25,30,"DUERO","DUERO","05170 Navatejares"]
["05171 Neila de San Miguel",65,"Neila de San Miguel","Ávila","Castilla y León",8.2368439860647804,"Sí",65,35,30,"DUERO","DUERO","05171 Neila de San Miguel"]
["05172 Niharra",188,"Niharra","Ávila","Castilla y León",16.664017856026963,"No",188,114,74,"DUERO","DUERO","05172 Niharra"]
["05173 Ojos-Albos",82,"Ojos-Albos","Ávila","Castilla y León",1.9012131501998268,"Sí",82,47,35,"DUERO","DUERO","05173 Ojos-Albos"]
["05174 Orbita",73,"Orbita","Ávila","Castilla y León",5.0734979579170716,"Sí",73,43,30,"DUERO","DUERO","05174 Orbita"]
["05175 Oso El",149,"Oso El","Ávila","Castilla y León",8.0592433354925603,"Sí",149,85,64,"DUERO","DUERO","05175 Oso El"]
["05176 Padiernos",280,"Padiernos","Ávila","Castilla y León",7.5695614309650319,"Sí",280,153,127,"DUERO","DUERO","05176 Padiernos"]
["05177 Pajares de Adaja",137,"Pajares de Adaja","Ávila","Castilla y León",5.8956189698468791,"Sí",137,74,63,"DUERO","DUERO","05177 Pajares de Adaja"]
["05178 Palacios de Goda",387,"Palacios de Goda","Ávila","Castilla y León",7.3039080456472742,"Sí",387,208,179,"DUERO","DUERO","05178 Palacios de Goda"]
["05179 Papatrigo",228,"Papatrigo","Ávila","Castilla y León",10.854786334719048,"Sí",228,110,118,"DUERO","DUERO","05179 Papatrigo"]
["05180 Parral El",61,"Parral El","Ávila","Castilla y León",5.6029638760385581,"Sí",61,36,25,"DUERO","DUERO","05180 Parral El"]
["05181 Pascualcobo",41,"Pascualcobo","Ávila","Castilla y León",2.5399172779917163,"Sí",41,27,14,"DUERO","DUERO","05181 Pascualcobo"]
["05182 Pedro Bernardo",807,"Pedro Bernardo","Ávila","Castilla y León",11.699229764464205,"Sí",807,425,382,"TAJO","TAJO","05182 Pedro Bernardo"]
["05183 Pedro-Rodríguez",135,"Pedro-Rodríguez","Ávila","Castilla y León",9.588854767560834,"Sí",135,68,67,"DUERO","DUERO","05183 Pedro-Rodríguez"]
["05184 Peguerinos",273,"Peguerinos","Ávila","Castilla y León",3.1376707160088722,"Sí",273,156,117,"DUERO","TAJO","05184 Peguerinos"]
["05185 Peñalba de Ávila",116,"Peñalba de Ávila","Ávila","Castilla y León",4.9312423278796631,"Sí",116,63,53,"DUERO","DUERO","05185 Peñalba de Ávila"]
["05186 Piedrahíta",1754,"Piedrahíta","Ávila","Castilla y León",61.182914800105237,"No",1754,848,906,"DUERO","DUERO","05186 Piedrahíta"]
["05187 Piedralaves",2136,"Piedralaves","Ávila","Castilla y León",38.686471145434687,"No",2136,1067,1069,"TAJO","TAJO","05187 Piedralaves"]
["05188 Poveda",38,"Poveda","Ávila","Castilla y León",5.8337584556874624,"Sí",38,23,15,"DUERO","DUERO","05188 Poveda"]
["05189 Poyales del Hoyo",428,"Poyales del Hoyo","Ávila","Castilla y León",126.67811505332617,"No",428,231,197,"TAJO","TAJO","05189 Poyales del Hoyo"]
["05190 Pozanco",49,"Pozanco","Ávila","Castilla y León",4.4274006586165076,"Sí",49,29,20,"DUERO","DUERO","05190 Pozanco"]
["05191 Pradosegar",104,"Pradosegar","Ávila","Castilla y León",9.2114624959290197,"Sí",104,56,48,"DUERO","DUERO","05191 Pradosegar"]
["05192 Puerto Castilla",114,"Puerto Castilla","Ávila","Castilla y León",2.6340840634656213,"Sí",114,70,44,"DUERO","DUERO","05192 Puerto Castilla"]
["05193 Rasueros",168,"Rasueros","Ávila","Castilla y León",4.13134865639074,"Sí",168,94,74,"DUERO","DUERO","05193 Rasueros"]
["05194 Riocabado",131,"Riocabado","Ávila","Castilla y León",6.624850207585383,"Sí",131,76,55,"DUERO","DUERO","05194 Riocabado"]
["05195 Riofrío",196,"Riofrío","Ávila","Castilla y León",2.9907979099388653,"Sí",196,120,76,"DUERO","DUERO","05195 Riofrío"]
["05196 Rivilla de Barajas",67,"Rivilla de Barajas","Ávila","Castilla y León",2.7476889885092466,"Sí",67,32,35,"DUERO","DUERO","05196 Rivilla de Barajas"]
["05197 Salobral",118,"Salobral","Ávila","Castilla y León",15.629010728653618,"No",118,62,56,"DUERO","DUERO","05197 Salobral"]
["05198 Salvadiós",67,"Salvadiós","Ávila","Castilla y León",3.2869445701441822,"Sí",67,33,34,"DUERO","DUERO","05198 Salvadiós"]
["05199 San Bartolomé de Béjar",44,"San Bartolomé de Béjar","Ávila","Castilla y León",2.6682409288146673,"Sí",44,22,22,"DUERO","DUERO","05199 San Bartolomé de Béjar"]
["05200 San Bartolomé de Corneja",40,"San Bartolomé de Corneja","Ávila","Castilla y León",5.4339948271086245,"Sí",40,24,16,"DUERO","DUERO","05200 San Bartolomé de Corneja"]
["05201 San Bartolomé de Pinares",521,"San Bartolomé de Pinares","Ávila","Castilla y León",6.9943456286903807,"Sí",521,284,237,"TAJO","TAJO","05201 San Bartolomé de Pinares"]
["05206 San Esteban de los Patos",23,"San Esteban de los Patos","Ávila","Castilla y León",2.2201800855638099,"Sí",23,15,8,"DUERO","DUERO","05206 San Esteban de los Patos"]
["05208 San Esteban de Zapardiel",45,"San Esteban de Zapardiel","Ávila","Castilla y León",3.4652718921632029,"Sí",45,25,20,"DUERO","DUERO","05208 San Esteban de Zapardiel"]
["05207 San Esteban del Valle",736,"San Esteban del Valle","Ávila","Castilla y León",18.705291874477119,"No",736,385,351,"TAJO","TAJO","05207 San Esteban del Valle"]
["05209 San García de Ingelmos",71,"San García de Ingelmos","Ávila","Castilla y León",1.8644197135442528,"Sí",71,45,26,"DUERO","DUERO","05209 San García de Ingelmos"]
["05901 San Juan de Gredos",255,"San Juan de Gredos","Ávila","Castilla y León",2.658745315564448,"Sí",255,144,111,"DUERO","DUERO","05901 San Juan de Gredos"]
["05210 San Juan de la Encinilla",74,"San Juan de la Encinilla","Ávila","Castilla y León",4.2581330917475766,"Sí",74,37,37,"DUERO","DUERO","05210 San Juan de la Encinilla"]
["05211 San Juan de la Nava",466,"San Juan de la Nava","Ávila","Castilla y León",7.6670161575619868,"Sí",466,258,208,"DUERO","TAJO","05211 San Juan de la Nava"]
["05212 San Juan del Molinillo",206,"San Juan del Molinillo","Ávila","Castilla y León",5.7563500225196238,"Sí",206,116,90,"DUERO","TAJO","05212 San Juan del Molinillo"]
["05213 San Juan del Olmo",85,"San Juan del Olmo","Ávila","Castilla y León",2.7849522151346098,"Sí",85,57,28,"DUERO","DUERO","05213 San Juan del Olmo"]
["05214 San Lorenzo de Tormes",33,"San Lorenzo de Tormes","Ávila","Castilla y León",2.2750808532711422,"Sí",33,17,16,"DUERO","DUERO","05214 San Lorenzo de Tormes"]
["05215 San Martín de la Vega del Alberche",163,"San Martín de la Vega del Alberche","Ávila","Castilla y León",3.2287018681269006,"Sí",163,94,69,"DUERO","TAJO","05215 San Martín de la Vega del Alberche"]
["05216 San Martín del Pimpollar",188,"San Martín del Pimpollar","Ávila","Castilla y León",4.1187601550441535,"Sí",188,113,75,"TAJO","TAJO","05216 San Martín del Pimpollar"]
["05217 San Miguel de Corneja",53,"San Miguel de Corneja","Ávila","Castilla y León",7.7526319454074288,"Sí",53,30,23,"DUERO","DUERO","05217 San Miguel de Corneja"]
["05218 San Miguel de Serrezuela",112,"San Miguel de Serrezuela","Ávila","Castilla y León",3.2227464204710925,"Sí",112,58,54,"DUERO","DUERO","05218 San Miguel de Serrezuela"]
["05219 San Pascual",43,"San Pascual","Ávila","Castilla y León",2.3100333343182315,"Sí",43,25,18,"DUERO","DUERO","05219 San Pascual"]
["05220 San Pedro del Arroyo",445,"San Pedro del Arroyo","Ávila","Castilla y León",23.988225177523645,"No",445,236,209,"DUERO","DUERO","05220 San Pedro del Arroyo"]
["05231 San Vicente de Arévalo",172,"San Vicente de Arévalo","Ávila","Castilla y León",10.67207120207356,"Sí",172,94,78,"DUERO","DUERO","05231 San Vicente de Arévalo"]
["05204 Sanchidrián",727,"Sanchidrián","Ávila","Castilla y León",27.33346073909302,"No",727,372,355,"DUERO","DUERO","05204 Sanchidrián"]
["05205 Sanchorreja",85,"Sanchorreja","Ávila","Castilla y León",2.4068195561507606,"Sí",85,41,44,"DUERO","DUERO","05205 Sanchorreja"]
["05222 Santa Cruz de Pinares",162,"Santa Cruz de Pinares","Ávila","Castilla y León",3.9159076715024344,"Sí",162,92,70,"DUERO","TAJO","05222 Santa Cruz de Pinares"]
["05221 Santa Cruz del Valle",324,"Santa Cruz del Valle","Ávila","Castilla y León",10.937410701020847,"Sí",324,168,156,"TAJO","TAJO","05221 Santa Cruz del Valle"]
["05226 Santa María de los Caballeros",66,"Santa María de los Caballeros","Ávila","Castilla y León",2.9469609978195614,"Sí",66,41,25,"DUERO","DUERO","05226 Santa María de los Caballeros"]
["05224 Santa María del Arroyo",105,"Santa María del Arroyo","Ávila","Castilla y León",9.4306551799490261,"Sí",105,56,49,"DUERO","DUERO","05224 Santa María del Arroyo"]
["05225 Santa María del Berrocal",373,"Santa María del Berrocal","Ávila","Castilla y León",13.159309636509528,"No",373,198,175,"DUERO","DUERO","05225 Santa María del Berrocal"]
["05902 Santa María del Cubillo",314,"Santa María del Cubillo","Ávila","Castilla y León",4.77414783741746,"Sí",314,178,136,"DUERO","DUERO","05902 Santa María del Cubillo"]
["05227 Santa María del Tiétar",484,"Santa María del Tiétar","Ávila","Castilla y León",40.405052301167913,"No",484,256,228,"TAJO","TAJO","05227 Santa María del Tiétar"]
["05228 Santiago del Collado",168,"Santiago del Collado","Ávila","Castilla y León",3.9356564216922791,"Sí",168,108,60,"DUERO","DUERO","05228 Santiago del Collado"]
["05904 Santiago del Tormes",110,"Santiago del Tormes","Ávila","Castilla y León",1.6070069476607918,"Sí",110,63,47,"DUERO","DUERO","05904 Santiago del Tormes"]
["05229 Santo Domingo de las Posadas",72,"Santo Domingo de las Posadas","Ávila","Castilla y León",5.3955488071228439,"Sí",72,41,31,"DUERO","DUERO","05229 Santo Domingo de las Posadas"]
["05230 Santo Tomé de Zabarcos",69,"Santo Tomé de Zabarcos","Ávila","Castilla y León",8.1989166498133379,"Sí",69,39,30,"DUERO","DUERO","05230 Santo Tomé de Zabarcos"]
["05232 Serrada La",134,"Serrada La","Ávila","Castilla y León",18.474604312579274,"No",134,68,66,"DUERO","DUERO","05232 Serrada La"]
["05233 Serranillos",245,"Serranillos","Ávila","Castilla y León",13.320725221602496,"No",245,134,111,"TAJO","TAJO","05233 Serranillos"]
["05234 Sigeres",41,"Sigeres","Ávila","Castilla y León",2.9937686530954513,"Sí",41,18,23,"DUERO","DUERO","05234 Sigeres"]
["05235 Sinlabajos",141,"Sinlabajos","Ávila","Castilla y León",7.0251033848592277,"Sí",141,70,71,"DUERO","DUERO","05235 Sinlabajos"]
["05236 Solana de Ávila",112,"Solana de Ávila","Ávila","Castilla y León",1.6382224923209052,"Sí",112,63,49,"DUERO","DUERO","05236 Solana de Ávila"]
["05237 Solana de Rioalmar",145,"Solana de Rioalmar","Ávila","Castilla y León",3.904208809796021,"Sí",145,88,57,"DUERO","DUERO","05237 Solana de Rioalmar"]
["05238 Solosancho",815,"Solosancho","Ávila","Castilla y León",15.670097796407401,"No",815,439,376,"DUERO","DUERO","05238 Solosancho"]
["05239 Sotalbo",230,"Sotalbo","Ávila","Castilla y León",2.5460164804753744,"Sí",230,134,96,"DUERO","DUERO","05239 Sotalbo"]
["05240 Sotillo de la Adrada",4721,"Sotillo de la Adrada","Ávila","Castilla y León",109.28341929091935,"No",4721,2330,2391,"TAJO","TAJO","05240 Sotillo de la Adrada"]
["05241 Tiemblo El",4414,"Tiemblo El","Ávila","Castilla y León",58.397790854172996,"No",4414,2237,2177,"TAJO","TAJO","05241 Tiemblo El"]
["05242 Tiñosillos",766,"Tiñosillos","Ávila","Castilla y León",28.106566302986291,"No",766,397,369,"DUERO","DUERO","05242 Tiñosillos"]
["05243 Tolbaños",76,"Tolbaños","Ávila","Castilla y León",1.4612380085233245,"Sí",76,45,31,"DUERO","DUERO","05243 Tolbaños"]
["05244 Tormellas",37,"Tormellas","Ávila","Castilla y León",4.011706811021611,"Sí",37,23,14,"DUERO","DUERO","05244 Tormellas"]
["05245 Tornadizos de Ávila",429,"Tornadizos de Ávila","Ávila","Castilla y León",4.4935419004347166,"Sí",429,216,213,"DUERO","DUERO","05245 Tornadizos de Ávila"]
["05247 Torre La",219,"Torre La","Ávila","Castilla y León",3.7518245174022984,"Sí",219,118,101,"DUERO","DUERO","05247 Torre La"]
["05246 Tórtoles",47,"Tórtoles","Ávila","Castilla y León",2.2620207391686988,"Sí",47,26,21,"DUERO","DUERO","05246 Tórtoles"]
["05249 Umbrías",103,"Umbrías","Ávila","Castilla y León",8.8131750635404256,"Sí",103,53,50,"DUERO","DUERO","05249 Umbrías"]
["05251 Vadillo de la Sierra",58,"Vadillo de la Sierra","Ávila","Castilla y León",1.2566775620611297,"Sí",58,40,18,"DUERO","DUERO","05251 Vadillo de la Sierra"]
["05252 Valdecasa",60,"Valdecasa","Ávila","Castilla y León",2.7534050442380411,"Sí",60,36,24,"DUERO","DUERO","05252 Valdecasa"]
["05253 Vega de Santa María",71,"Vega de Santa María","Ávila","Castilla y León",3.9045179286939335,"Sí",71,39,32,"DUERO","DUERO","05253 Vega de Santa María"]
["05254 Velayos",212,"Velayos","Ávila","Castilla y León",10.368552142226017,"Sí",212,106,106,"DUERO","DUERO","05254 Velayos"]
["05256 Villaflor",103,"Villaflor","Ávila","Castilla y León",5.5726061071542903,"Sí",103,56,47,"DUERO","DUERO","05256 Villaflor"]
["05257 Villafranca de la Sierra",141,"Villafranca de la Sierra","Ávila","Castilla y León",3.583923738169716,"Sí",141,79,62,"DUERO","DUERO","05257 Villafranca de la Sierra"]
["05905 Villanueva de Ávila",217,"Villanueva de Ávila","Ávila","Castilla y León",10.23385538571967,"Sí",217,113,104,"TAJO","TAJO","05905 Villanueva de Ávila"]
["05258 Villanueva de Gómez",116,"Villanueva de Gómez","Ávila","Castilla y León",5.4982856961386624,"Sí",116,67,49,"DUERO","DUERO","05258 Villanueva de Gómez"]
["05259 Villanueva del Aceral",105,"Villanueva del Aceral","Ávila","Castilla y León",5.9777307327206302,"Sí",105,49,56,"DUERO","DUERO","05259 Villanueva del Aceral"]
["05260 Villanueva del Campillo",107,"Villanueva del Campillo","Ávila","Castilla y León",2.3267375325683455,"Sí",107,59,48,"DUERO","DUERO","05260 Villanueva del Campillo"]
["05261 Villar de Corneja",37,"Villar de Corneja","Ávila","Castilla y León",5.3791493413231635,"Sí",37,22,15,"DUERO","DUERO","05261 Villar de Corneja"]
["05262 Villarejo del Valle",332,"Villarejo del Valle","Ávila","Castilla y León",7.9815702657658543,"Sí",332,176,156,"TAJO","TAJO","05262 Villarejo del Valle"]
["05263 Villatoro",159,"Villatoro","Ávila","Castilla y León",2.8382093740629113,"Sí",159,93,66,"DUERO","DUERO","05263 Villatoro"]
["05264 Viñegra de Moraña",50,"Viñegra de Moraña","Ávila","Castilla y León",4.8784890343762735,"Sí",50,28,22,"DUERO","DUERO","05264 Viñegra de Moraña"]
["05265 Vita",80,"Vita","Ávila","Castilla y León",4.8207613802056759,"Sí",80,48,32,"DUERO","DUERO","05265 Vita"]
["05266 Zapardiel de la Cañada",85,"Zapardiel de la Cañada","Ávila","Castilla y León",2.1075447349305034,"Sí",85,47,38,"DUERO","DUERO","05266 Zapardiel de la Cañada"]
["05267 Zapardiel de la Ribera",100,"Zapardiel de la Ribera","Ávila","Castilla y León",2.2791754745402883,"Sí",100,54,46,"DUERO","DUERO","05267 Zapardiel de la Ribera"]
["06001 Acedera",820,"Acedera","Badajoz","Extremadura",9.9603166408953587,"Sí",820,419,401,"GUADIANA","GUADIANA","06001 Acedera"]
["06002 Aceuchal",5467,"Aceuchal","Badajoz","Extremadura",86.668488813384101,"No",5467,2725,2742,"GUADIANA","GUADIANA","06002 Aceuchal"]
["06003 Ahillones",851,"Ahillones","Badajoz","Extremadura",39.501514100926507,"No",851,424,427,"GUADIANA","GUADIANA","06003 Ahillones"]
["06004 Alange",1850,"Alange","Badajoz","Extremadura",11.542445001809357,"Sí",1850,948,902,"GUADIANA","GUADIANA","06004 Alange"]
["06005 Albuera La",2026,"Albuera La","Badajoz","Extremadura",76.818221130387329,"No",2026,1054,972,"GUADIANA","GUADIANA","06005 Albuera La"]
["06006 Alburquerque",5245,"Alburquerque","Badajoz","Extremadura",7.2497111518802733,"Sí",5245,2614,2631,"TAJO","GUADIANA","06006 Alburquerque"]
["06007 Alconchel",1654,"Alconchel","Badajoz","Extremadura",5.6073594049554281,"Sí",1654,833,821,"GUADIANA","GUADIANA","06007 Alconchel"]
["06008 Alconera",744,"Alconera","Badajoz","Extremadura",22.742987731625409,"No",744,367,377,"GUADIANA","GUADIANA","06008 Alconera"]
["06009 Aljucén",250,"Aljucén","Badajoz","Extremadura",13.111924330140631,"No",250,138,112,"GUADIANA","GUADIANA","06009 Aljucén"]
["06010 Almendral",1223,"Almendral","Badajoz","Extremadura",18.117261046399967,"No",1223,609,614,"GUADIANA","GUADIANA","06010 Almendral"]
["06011 Almendralejo",33741,"Almendralejo","Badajoz","Extremadura",205.42490767112045,"No",33741,16700,17041,"GUADIANA","GUADIANA","06011 Almendralejo"]
["06012 Arroyo de San Serván",4081,"Arroyo de San Serván","Badajoz","Extremadura",81.416658638384291,"No",4081,2066,2015,"GUADIANA","GUADIANA","06012 Arroyo de San Serván"]
["06013 Atalaya",288,"Atalaya","Badajoz","Extremadura",12.699250356196336,"No",288,150,138,"GUADIANA","GUADIANA","06013 Atalaya"]
["06014 Azuaga",7702,"Azuaga","Badajoz","Extremadura",15.469414274589816,"No",7702,3817,3885,"GUADIANA","GUADALQUIVIR - GUADIANA","06014 Azuaga"]
["06015 Badajoz",150610,"Badajoz","Badajoz","Extremadura",104.55283479381723,"No",150610,72942,77668,"GUADIANA","GUADIANA","06015 Badajoz"]
["06016 Barcarrota",3498,"Barcarrota","Badajoz","Extremadura",25.698873065478395,"No",3498,1779,1719,"GUADIANA","GUADIANA","06016 Barcarrota"]
["06017 Baterno",258,"Baterno","Badajoz","Extremadura",4.1544730333557975,"Sí",258,140,118,"GUADIANA","GUADIANA","06017 Baterno"]
["06018 Benquerencia de la Serena",808,"Benquerencia de la Serena","Badajoz","Extremadura",7.8590427001242977,"Sí",808,405,403,"GUADIANA","GUADIANA","06018 Benquerencia de la Serena"]
["06019 Berlanga",2306,"Berlanga","Badajoz","Extremadura",18.045228055646945,"No",2306,1141,1165,"GUADIANA","GUADIANA","06019 Berlanga"]
["06020 Bienvenida",2087,"Bienvenida","Badajoz","Extremadura",22.642394815036965,"No",2087,1074,1013,"GUADIANA","GUADIANA","06020 Bienvenida"]
["06021 Bodonal de la Sierra",1017,"Bodonal de la Sierra","Badajoz","Extremadura",14.875226468741028,"No",1017,518,499,"GUADIANA","GUADIANA","06021 Bodonal de la Sierra"]
["06022 Burguillos del Cerro",3076,"Burguillos del Cerro","Badajoz","Extremadura",16.402070414792153,"No",3076,1518,1558,"GUADIANA","GUADIANA","06022 Burguillos del Cerro"]
["06023 Cabeza del Buey",4732,"Cabeza del Buey","Badajoz","Extremadura",9.9616145645103558,"Sí",4732,2351,2381,"GUADIANA","GUADIANA","06023 Cabeza del Buey"]
["06024 Cabeza la Vaca",1298,"Cabeza la Vaca","Badajoz","Extremadura",20.280486312937278,"No",1298,665,633,"GUADIANA","GUADIANA","06024 Cabeza la Vaca"]
["06025 Calamonte",6152,"Calamonte","Badajoz","Extremadura",783.21505962657488,"No",6152,3034,3118,"GUADIANA","GUADIANA","06025 Calamonte"]
["06026 Calera de León",946,"Calera de León","Badajoz","Extremadura",13.833950969523793,"No",946,479,467,"GUADIANA","GUADALQUIVIR - GUADIANA","06026 Calera de León"]
["06027 Calzadilla de los Barros",721,"Calzadilla de los Barros","Badajoz","Extremadura",13.803245589106822,"No",721,358,363,"GUADIANA","GUADIANA","06027 Calzadilla de los Barros"]
["06028 Campanario",4823,"Campanario","Badajoz","Extremadura",18.743110119382223,"No",4823,2375,2448,"GUADIANA","GUADIANA","06028 Campanario"]
["06029 Campillo de Llerena",1333,"Campillo de Llerena","Badajoz","Extremadura",5.6955550474134879,"Sí",1333,666,667,"GUADIANA","GUADIANA","06029 Campillo de Llerena"]
["06030 Capilla",165,"Capilla","Badajoz","Extremadura",1.1225142763236522,"Sí",165,84,81,"GUADIANA","GUADIANA","06030 Capilla"]
["06031 Carmonita",532,"Carmonita","Badajoz","Extremadura",13.564404147852004,"No",532,267,265,"TAJO","GUADIANA","06031 Carmonita"]
["06032 Carrascalejo El",90,"Carrascalejo El","Badajoz","Extremadura",7.0504288188314757,"Sí",90,43,47,"GUADIANA","GUADIANA","06032 Carrascalejo El"]
["06033 Casas de Don Pedro",1456,"Casas de Don Pedro","Badajoz","Extremadura",10.073266408839014,"Sí",1456,747,709,"GUADIANA","GUADIANA","06033 Casas de Don Pedro"]
["06034 Casas de Reina",202,"Casas de Reina","Badajoz","Extremadura",4.0566308070544483,"Sí",202,102,100,"GUADIANA","GUADALQUIVIR - GUADIANA","06034 Casas de Reina"]
["06035 Castilblanco",903,"Castilblanco","Badajoz","Extremadura",6.828635188211214,"Sí",903,461,442,"GUADIANA","GUADIANA","06035 Castilblanco"]
["06036 Castuera",5708,"Castuera","Badajoz","Extremadura",13.211818611507393,"No",5708,2817,2891,"GUADIANA","GUADIANA","06036 Castuera"]
["06042 Cheles",1172,"Cheles","Badajoz","Extremadura",24.544040007622893,"No",1172,571,601,"GUADIANA","GUADIANA","06042 Cheles"]
["06037 Codosera La",2049,"Codosera La","Badajoz","Extremadura",29.428661706833651,"No",2049,1068,981,"GUADIANA","GUADIANA","06037 Codosera La"]
["06038 Cordobilla de Lácara",878,"Cordobilla de Lácara","Badajoz","Extremadura",23.816111409490638,"No",878,455,423,"GUADIANA","GUADIANA","06038 Cordobilla de Lácara"]
["06039 Coronada La",2175,"Coronada La","Badajoz","Extremadura",26.797002027799987,"No",2175,1058,1117,"GUADIANA","GUADIANA","06039 Coronada La"]
["06040 Corte de Peleas",1207,"Corte de Peleas","Badajoz","Extremadura",28.52340634978761,"No",1207,587,620,"GUADIANA","GUADIANA","06040 Corte de Peleas"]
["06041 Cristina",551,"Cristina","Badajoz","Extremadura",34.852548103948642,"No",551,283,268,"GUADIANA","GUADIANA","06041 Cristina"]
["06043 Don Álvaro",784,"Don Álvaro","Badajoz","Extremadura",24.442723823565313,"No",784,416,368,"GUADIANA","GUADIANA","06043 Don Álvaro"]
["06044 Don Benito",37275,"Don Benito","Badajoz","Extremadura",66.359877224880677,"No",37275,18378,18897,"GUADIANA","GUADIANA","06044 Don Benito"]
["06045 Entrín Bajo",552,"Entrín Bajo","Badajoz","Extremadura",56.681809883048587,"No",552,283,269,"GUADIANA","GUADIANA","06045 Entrín Bajo"]
["06046 Esparragalejo",1474,"Esparragalejo","Badajoz","Extremadura",88.094668897920158,"No",1474,729,745,"GUADIANA","GUADIANA","06046 Esparragalejo"]
["06047 Esparragosa de la Serena",994,"Esparragosa de la Serena","Badajoz","Extremadura",45.810616790180966,"No",994,505,489,"GUADIANA","GUADIANA","06047 Esparragosa de la Serena"]
["06048 Esparragosa de Lares",895,"Esparragosa de Lares","Badajoz","Extremadura",4.2903894748453029,"Sí",895,445,450,"GUADIANA","GUADIANA","06048 Esparragosa de Lares"]
["06049 Feria",1077,"Feria","Badajoz","Extremadura",14.609932901339638,"No",1077,514,563,"GUADIANA","GUADIANA","06049 Feria"]
["06050 Fregenal de la Sierra",4811,"Fregenal de la Sierra","Badajoz","Extremadura",20.32984619776224,"No",4811,2349,2462,"GUADIANA","GUADIANA","06050 Fregenal de la Sierra"]
["06051 Fuenlabrada de los Montes",1793,"Fuenlabrada de los Montes","Badajoz","Extremadura",9.3424884787785967,"Sí",1793,878,915,"GUADIANA","GUADIANA","06051 Fuenlabrada de los Montes"]
["06052 Fuente de Cantos",4684,"Fuente de Cantos","Badajoz","Extremadura",18.604109883800771,"No",4684,2332,2352,"GUADIANA","GUADALQUIVIR - GUADIANA","06052 Fuente de Cantos"]
["06053 Fuente del Arco",681,"Fuente del Arco","Badajoz","Extremadura",5.903201281783506,"Sí",681,351,330,"GUADALQUIVIR","GUADALQUIVIR","06053 Fuente del Arco"]
["06054 Fuente del Maestre",6704,"Fuente del Maestre","Badajoz","Extremadura",37.306227702656457,"No",6704,3320,3384,"GUADIANA","GUADIANA","06054 Fuente del Maestre"]
["06055 Fuentes de León",2244,"Fuentes de León","Badajoz","Extremadura",20.426404842150266,"No",2244,1104,1140,"GUADIANA","GUADALQUIVIR - GUADIANA","06055 Fuentes de León"]
["06056 Garbayuela",510,"Garbayuela","Badajoz","Extremadura",6.0611870414102906,"Sí",510,275,235,"GUADIANA","GUADIANA","06056 Garbayuela"]
["06057 Garlitos",554,"Garlitos","Badajoz","Extremadura",4.2839403058127132,"Sí",554,287,267,"GUADIANA","GUADIANA","06057 Garlitos"]
["06058 Garrovilla La",2334,"Garrovilla La","Badajoz","Extremadura",69.743258749282845,"No",2334,1147,1187,"GUADIANA","GUADIANA","06058 Garrovilla La"]
["06059 Granja de Torrehermosa",1965,"Granja de Torrehermosa","Badajoz","Extremadura",12.954060162729499,"No",1965,975,990,"GUADIANA","GUADALQUIVIR - GUADIANA","06059 Granja de Torrehermosa"]
["06903 Guadiana",2465,"Guadiana","Badajoz","Extremadura",82.016734608020911,"No",2465,1212,1253,"GUADIANA","GUADIANA","06903 Guadiana"]
["06060 Guareña",6812,"Guareña","Badajoz","Extremadura",28.521376797030964,"No",6812,3419,3393,"GUADIANA","GUADIANA","06060 Guareña"]
["06061 Haba La",1206,"Haba La","Badajoz","Extremadura",13.930313732611856,"No",1206,601,605,"GUADIANA","GUADIANA","06061 Haba La"]
["06062 Helechosa de los Montes",612,"Helechosa de los Montes","Badajoz","Extremadura",1.9766164976422711,"Sí",612,341,271,"GUADIANA","GUADIANA","06062 Helechosa de los Montes"]
["06063 Herrera del Duque",3465,"Herrera del Duque","Badajoz","Extremadura",12.494843127623163,"Sí",3465,1745,1720,"GUADIANA","GUADIANA","06063 Herrera del Duque"]
["06064 Higuera de la Serena",937,"Higuera de la Serena","Badajoz","Extremadura",16.04631971406657,"No",937,479,458,"GUADIANA","GUADIANA","06064 Higuera de la Serena"]
["06065 Higuera de Llerena",335,"Higuera de Llerena","Badajoz","Extremadura",2.9540934061054993,"Sí",335,173,162,"GUADIANA","GUADIANA","06065 Higuera de Llerena"]
["06066 Higuera de Vargas",1930,"Higuera de Vargas","Badajoz","Extremadura",28.552999100506558,"No",1930,984,946,"GUADIANA","GUADIANA","06066 Higuera de Vargas"]
["06067 Higuera la Real",2202,"Higuera la Real","Badajoz","Extremadura",17.525723456213381,"No",2202,1108,1094,"GUADIANA","GUADIANA","06067 Higuera la Real"]
["06068 Hinojosa del Valle",476,"Hinojosa del Valle","Badajoz","Extremadura",10.32452856380602,"Sí",476,229,247,"GUADIANA","GUADIANA","06068 Hinojosa del Valle"]
["06069 Hornachos",3509,"Hornachos","Badajoz","Extremadura",11.85702362316818,"Sí",3509,1753,1756,"GUADIANA","GUADIANA","06069 Hornachos"]
["06070 Jerez de los Caballeros",9171,"Jerez de los Caballeros","Badajoz","Extremadura",12.39435538540215,"Sí",9171,4512,4659,"GUADIANA","GUADIANA","06070 Jerez de los Caballeros"]
["06071 Lapa La",277,"Lapa La","Badajoz","Extremadura",34.187021520544924,"No",277,141,136,"GUADIANA","GUADIANA","06071 Lapa La"]
["06073 Llera",823,"Llera","Badajoz","Extremadura",11.51070877741755,"Sí",823,424,399,"GUADIANA","GUADIANA","06073 Llera"]
["06074 Llerena",5697,"Llerena","Badajoz","Extremadura",35.019428344867919,"No",5697,2821,2876,"GUADIANA","GUADALQUIVIR - GUADIANA","06074 Llerena"]
["06072 Lobón",2760,"Lobón","Badajoz","Extremadura",47.871476325456243,"No",2760,1408,1352,"GUADIANA","GUADIANA","06072 Lobón"]
["06075 Magacela",511,"Magacela","Badajoz","Extremadura",6.7400077110436554,"Sí",511,264,247,"GUADIANA","GUADIANA","06075 Magacela"]
["06076 Maguilla",960,"Maguilla","Badajoz","Extremadura",9.809157426789481,"Sí",960,480,480,"GUADIANA","GUADIANA","06076 Maguilla"]
["06077 Malcocinado",351,"Malcocinado","Badajoz","Extremadura",13.374575290552169,"No",351,192,159,"GUADALQUIVIR","GUADALQUIVIR","06077 Malcocinado"]
["06078 Malpartida de la Serena",536,"Malpartida de la Serena","Badajoz","Extremadura",20.355285559402173,"No",536,280,256,"GUADIANA","GUADIANA","06078 Malpartida de la Serena"]
["06079 Manchita",769,"Manchita","Badajoz","Extremadura",20.113274614777172,"No",769,389,380,"GUADIANA","GUADIANA","06079 Manchita"]
["06080 Medellín",2247,"Medellín","Badajoz","Extremadura",34.59792042940223,"No",2247,1144,1103,"GUADIANA","GUADIANA","06080 Medellín"]
["06081 Medina de las Torres",1163,"Medina de las Torres","Badajoz","Extremadura",13.311111978934061,"No",1163,602,561,"GUADIANA","GUADIANA","06081 Medina de las Torres"]
["06082 Mengabril",489,"Mengabril","Badajoz","Extremadura",11.160651623203801,"Sí",489,268,221,"GUADIANA","GUADIANA","06082 Mengabril"]
["06083 Mérida",59424,"Mérida","Badajoz","Extremadura",68.683528713376646,"No",59424,28920,30504,"GUADIANA","GUADIANA","06083 Mérida"]
["06084 Mirandilla",1247,"Mirandilla","Badajoz","Extremadura",29.980248137401951,"No",1247,624,623,"GUADIANA","GUADIANA","06084 Mirandilla"]
["06085 Monesterio",4267,"Monesterio","Badajoz","Extremadura",13.237094927522888,"No",4267,2206,2061,"GUADIANA","GUADALQUIVIR","06085 Monesterio"]
["06086 Montemolín",1365,"Montemolín","Badajoz","Extremadura",6.7335330339731163,"Sí",1365,661,704,"GUADIANA","GUADALQUIVIR","06086 Montemolín"]
["06087 Monterrubio de la Serena",2312,"Monterrubio de la Serena","Badajoz","Extremadura",7.3398223458224594,"Sí",2312,1137,1175,"GUADIANA","GUADIANA","06087 Monterrubio de la Serena"]
["06088 Montijo",15483,"Montijo","Badajoz","Extremadura",129.36643791764971,"No",15483,7636,7847,"GUADIANA","GUADIANA","06088 Montijo"]
["06089 Morera La",714,"Morera La","Badajoz","Extremadura",16.454694177409674,"No",714,366,348,"GUADIANA","GUADIANA","06089 Morera La"]
["06090 Nava de Santiago La",933,"Nava de Santiago La","Badajoz","Extremadura",20.718081602461226,"No",933,472,461,"GUADIANA","GUADIANA","06090 Nava de Santiago La"]
["06091 Navalvillar de Pela",4392,"Navalvillar de Pela","Badajoz","Extremadura",17.486366645950046,"No",4392,2200,2192,"GUADIANA","GUADIANA","06091 Navalvillar de Pela"]
["06092 Nogales",646,"Nogales","Badajoz","Extremadura",8.0093637645348714,"Sí",646,322,324,"GUADIANA","GUADIANA","06092 Nogales"]
["06093 Oliva de la Frontera",5083,"Oliva de la Frontera","Badajoz","Extremadura",34.029704859425784,"No",5083,2556,2527,"GUADIANA","GUADIANA","06093 Oliva de la Frontera"]
["06094 Oliva de Mérida",1710,"Oliva de Mérida","Badajoz","Extremadura",6.7188335237448138,"Sí",1710,868,842,"GUADIANA","GUADIANA","06094 Oliva de Mérida"]
["06095 Olivenza",11871,"Olivenza","Badajoz","Extremadura",27.542961776744932,"No",11871,5901,5970,"GUADIANA","GUADIANA","06095 Olivenza"]
["06096 Orellana de la Sierra",255,"Orellana de la Sierra","Badajoz","Extremadura",15.290491454983805,"No",255,132,123,"GUADIANA","GUADIANA","06096 Orellana de la Sierra"]
["06097 Orellana la Vieja",2627,"Orellana la Vieja","Badajoz","Extremadura",70.908579676316236,"No",2627,1358,1269,"GUADIANA","GUADIANA","06097 Orellana la Vieja"]
["06098 Palomas",673,"Palomas","Badajoz","Extremadura",16.610902083051549,"No",673,335,338,"GUADIANA","GUADIANA","06098 Palomas"]
["06099 Parra La",1322,"Parra La","Badajoz","Extremadura",16.903755908434885,"No",1322,685,637,"GUADIANA","GUADIANA","06099 Parra La"]
["06100 Peñalsordo",870,"Peñalsordo","Badajoz","Extremadura",18.380489959213694,"No",870,430,440,"GUADIANA","GUADIANA","06100 Peñalsordo"]
["06101 Peraleda del Zaucejo",490,"Peraleda del Zaucejo","Badajoz","Extremadura",2.9928196758959524,"Sí",490,251,239,"GUADIANA","GUADIANA","06101 Peraleda del Zaucejo"]
["06102 Puebla de Alcocer",1174,"Puebla de Alcocer","Badajoz","Extremadura",3.9615306355557163,"Sí",1174,574,600,"GUADIANA","GUADIANA","06102 Puebla de Alcocer"]
["06103 Puebla de la Calzada",5861,"Puebla de la Calzada","Badajoz","Extremadura",411.44050297250146,"No",5861,2949,2912,"GUADIANA","GUADIANA","06103 Puebla de la Calzada"]
["06104 Puebla de la Reina",719,"Puebla de la Reina","Badajoz","Extremadura",5.4587524554990763,"Sí",719,355,364,"GUADIANA","GUADIANA","06104 Puebla de la Reina"]
["06107 Puebla de Obando",1839,"Puebla de Obando","Badajoz","Extremadura",77.771849618423147,"No",1839,938,901,"GUADIANA","GUADIANA","06107 Puebla de Obando"]
["06108 Puebla de Sancho Pérez",2665,"Puebla de Sancho Pérez","Badajoz","Extremadura",47.008511503970567,"No",2665,1355,1310,"GUADIANA","GUADIANA","06108 Puebla de Sancho Pérez"]
["06105 Puebla del Maestre",665,"Puebla del Maestre","Badajoz","Extremadura",8.3999236756408759,"Sí",665,347,318,"GUADALQUIVIR","GUADALQUIVIR","06105 Puebla del Maestre"]
["06106 Puebla del Prior",469,"Puebla del Prior","Badajoz","Extremadura",13.069965447916077,"No",469,241,228,"GUADIANA","GUADIANA","06106 Puebla del Prior"]
["06902 Pueblonuevo del Guadiana",1989,"Pueblonuevo del Guadiana","Badajoz","Extremadura",69.670144616165132,"No",1989,996,993,"GUADIANA","GUADIANA","06902 Pueblonuevo del Guadiana"]
["06109 Quintana de la Serena",4576,"Quintana de la Serena","Badajoz","Extremadura",32.328788983699518,"No",4576,2309,2267,"GUADIANA","GUADIANA","06109 Quintana de la Serena"]
["06110 Reina",151,"Reina","Badajoz","Extremadura",2.0847066856350125,"Sí",151,79,72,"GUADIANA","GUADALQUIVIR - GUADIANA","06110 Reina"]
["06111 Rena",607,"Rena","Badajoz","Extremadura",56.290839838928449,"No",607,317,290,"GUADIANA","GUADIANA","06111 Rena"]
["06112 Retamal de Llerena",432,"Retamal de Llerena","Badajoz","Extremadura",4.4943457385321146,"Sí",432,225,207,"GUADIANA","GUADIANA","06112 Retamal de Llerena"]
["06113 Ribera del Fresno",3268,"Ribera del Fresno","Badajoz","Extremadura",17.605472470409431,"No",3268,1637,1631,"GUADIANA","GUADIANA","06113 Ribera del Fresno"]
["06114 Risco",130,"Risco","Badajoz","Extremadura",3.2924262040655892,"Sí",130,63,67,"GUADIANA","GUADIANA","06114 Risco"]
["06115 Roca de la Sierra La",1442,"Roca de la Sierra La","Badajoz","Extremadura",13.155576257392553,"No",1442,705,737,"GUADIANA","GUADIANA","06115 Roca de la Sierra La"]
["06116 Salvaleón",1692,"Salvaleón","Badajoz","Extremadura",23.565140922676377,"No",1692,848,844,"GUADIANA","GUADIANA","06116 Salvaleón"]
["06117 Salvatierra de los Barros",1608,"Salvatierra de los Barros","Badajoz","Extremadura",21.450693313621464,"No",1608,788,820,"GUADIANA","GUADIANA","06117 Salvatierra de los Barros"]
["06119 San Pedro de Mérida",852,"San Pedro de Mérida","Badajoz","Extremadura",37.481613882626675,"No",852,439,413,"GUADIANA","GUADIANA","06119 San Pedro de Mérida"]
["06123 San Vicente de Alcántara",5340,"San Vicente de Alcántara","Badajoz","Extremadura",19.399826055492223,"No",5340,2701,2639,"TAJO","GUADIANA","06123 San Vicente de Alcántara"]
["06118 Sancti-Spíritus",163,"Sancti-Spíritus","Badajoz","Extremadura",4.8565710076118558,"Sí",163,91,72,"GUADIANA","GUADIANA","06118 Sancti-Spíritus"]
["06120 Santa Amalia",3957,"Santa Amalia","Badajoz","Extremadura",54.166079194448969,"No",3957,1984,1973,"GUADIANA","GUADIANA","06120 Santa Amalia"]
["06121 Santa Marta",4094,"Santa Marta","Badajoz","Extremadura",34.192514496887007,"No",4094,2047,2047,"GUADIANA","GUADIANA","06121 Santa Marta"]
["06122 Santos de Maimona Los",8064,"Santos de Maimona Los","Badajoz","Extremadura",74.238984127881949,"No",8064,4056,4008,"GUADIANA","GUADIANA","06122 Santos de Maimona Los"]
["06124 Segura de León",1834,"Segura de León","Badajoz","Extremadura",17.568232635126364,"No",1834,917,917,"GUADIANA","GUADIANA","06124 Segura de León"]
["06125 Siruela",1852,"Siruela","Badajoz","Extremadura",9.1470344899307356,"Sí",1852,937,915,"GUADIANA","GUADIANA","06125 Siruela"]
["06126 Solana de los Barros",2575,"Solana de los Barros","Badajoz","Extremadura",39.594730785507487,"No",2575,1282,1293,"GUADIANA","GUADIANA","06126 Solana de los Barros"]
["06127 Talarrubias",3355,"Talarrubias","Badajoz","Extremadura",9.9322681481485855,"Sí",3355,1667,1688,"GUADIANA","GUADIANA","06127 Talarrubias"]
["06128 Talavera la Real",5311,"Talavera la Real","Badajoz","Extremadura",86.360793247057529,"No",5311,2651,2660,"GUADIANA","GUADIANA","06128 Talavera la Real"]
["06129 Táliga",674,"Táliga","Badajoz","Extremadura",21.524147219035473,"No",674,331,343,"GUADIANA","GUADIANA","06129 Táliga"]
["06130 Tamurejo",211,"Tamurejo","Badajoz","Extremadura",7.1024960190678117,"Sí",211,108,103,"GUADIANA","GUADIANA","06130 Tamurejo"]
["06131 Torre de Miguel Sesmero",1235,"Torre de Miguel Sesmero","Badajoz","Extremadura",21.298190778190364,"No",1235,631,604,"GUADIANA","GUADIANA","06131 Torre de Miguel Sesmero"]
["06132 Torremayor",985,"Torremayor","Badajoz","Extremadura",46.898665078301725,"No",985,483,502,"GUADIANA","GUADIANA","06132 Torremayor"]
["06133 Torremejía",2249,"Torremejía","Badajoz","Extremadura",95.722901565871751,"No",2249,1167,1082,"GUADIANA","GUADIANA","06133 Torremejía"]
["06134 Trasierra",617,"Trasierra","Badajoz","Extremadura",10.605071950428627,"Sí",617,326,291,"GUADIANA","GUADALQUIVIR","06134 Trasierra"]
["06135 Trujillanos",1389,"Trujillanos","Badajoz","Extremadura",68.51089377467305,"No",1389,715,674,"GUADIANA","GUADIANA","06135 Trujillanos"]
["06136 Usagre",1761,"Usagre","Badajoz","Extremadura",7.3171430981390522,"Sí",1761,869,892,"GUADIANA","GUADIANA","06136 Usagre"]
["06137 Valdecaballeros",1088,"Valdecaballeros","Badajoz","Extremadura",12.072861494540359,"Sí",1088,564,524,"GUADIANA","GUADIANA","06137 Valdecaballeros"]
["06901 Valdelacalzada",2731,"Valdelacalzada","Badajoz","Extremadura",85.904037609297248,"No",2731,1387,1344,"GUADIANA","GUADIANA","06901 Valdelacalzada"]
["06138 Valdetorres",1170,"Valdetorres","Badajoz","Extremadura",29.477282374955919,"No",1170,571,599,"GUADIANA","GUADIANA","06138 Valdetorres"]
["06139 Valencia de las Torres",519,"Valencia de las Torres","Badajoz","Extremadura",2.4688619895301986,"Sí",519,274,245,"GUADIANA","GUADIANA","06139 Valencia de las Torres"]
["06140 Valencia del Mombuey",715,"Valencia del Mombuey","Badajoz","Extremadura",9.4181307579026683,"Sí",715,366,349,"GUADIANA","GUADIANA","06140 Valencia del Mombuey"]
["06141 Valencia del Ventoso",1931,"Valencia del Ventoso","Badajoz","Extremadura",19.46750692633935,"No",1931,966,965,"GUADIANA","GUADIANA","06141 Valencia del Ventoso"]
["06146 Valle de la Serena",1160,"Valle de la Serena","Badajoz","Extremadura",9.2605817454342887,"Sí",1160,585,575,"GUADIANA","GUADIANA","06146 Valle de la Serena"]
["06147 Valle de Matamoros",358,"Valle de Matamoros","Badajoz","Extremadura",73.117599651323005,"No",358,181,177,"GUADIANA","GUADIANA","06147 Valle de Matamoros"]
["06148 Valle de Santa Ana",1129,"Valle de Santa Ana","Badajoz","Extremadura",302.32757420280853,"No",1129,552,577,"GUADIANA","GUADIANA","06148 Valle de Santa Ana"]
["06142 Valverde de Burguillos",278,"Valverde de Burguillos","Badajoz","Extremadura",14.32143102211538,"No",278,146,132,"GUADIANA","GUADIANA","06142 Valverde de Burguillos"]
["06143 Valverde de Leganés",4157,"Valverde de Leganés","Badajoz","Extremadura",56.95720394359239,"No",4157,2087,2070,"GUADIANA","GUADIANA","06143 Valverde de Leganés"]
["06144 Valverde de Llerena",566,"Valverde de Llerena","Badajoz","Extremadura",13.730210152025206,"No",566,278,288,"GUADIANA","GUADALQUIVIR - GUADIANA","06144 Valverde de Llerena"]
["06145 Valverde de Mérida",1036,"Valverde de Mérida","Badajoz","Extremadura",20.058506558996118,"No",1036,525,511,"GUADIANA","GUADIANA","06145 Valverde de Mérida"]
["06149 Villafranca de los Barros",12534,"Villafranca de los Barros","Badajoz","Extremadura",120.03538544330479,"No",12534,6175,6359,"GUADIANA","GUADIANA","06149 Villafranca de los Barros"]
["06150 Villagarcía de la Torre",910,"Villagarcía de la Torre","Badajoz","Extremadura",13.486489864317463,"No",910,464,446,"GUADIANA","GUADIANA","06150 Villagarcía de la Torre"]
["06151 Villagonzalo",1231,"Villagonzalo","Badajoz","Extremadura",30.159150153858214,"No",1231,592,639,"GUADIANA","GUADIANA","06151 Villagonzalo"]
["06152 Villalba de los Barros",1472,"Villalba de los Barros","Badajoz","Extremadura",16.204548072822931,"No",1472,733,739,"GUADIANA","GUADIANA","06152 Villalba de los Barros"]
["06153 Villanueva de la Serena",25837,"Villanueva de la Serena","Badajoz","Extremadura",169.02594268549245,"No",25837,12538,13299,"GUADIANA","GUADIANA","06153 Villanueva de la Serena"]
["06154 Villanueva del Fresno",3335,"Villanueva del Fresno","Badajoz","Extremadura",9.2566789644954319,"Sí",3335,1671,1664,"GUADIANA","GUADIANA","06154 Villanueva del Fresno"]
["06156 Villar de Rena",1332,"Villar de Rena","Badajoz","Extremadura",16.167282140047117,"No",1332,687,645,"GUADIANA","GUADIANA","06156 Villar de Rena"]
["06155 Villar del Rey",2103,"Villar del Rey","Badajoz","Extremadura",21.269365008417431,"No",2103,1137,966,"GUADIANA","GUADIANA","06155 Villar del Rey"]
["06157 Villarta de los Montes",418,"Villarta de los Montes","Badajoz","Extremadura",3.3885224744969098,"Sí",418,213,205,"GUADIANA","GUADIANA","06157 Villarta de los Montes"]
["06158 Zafra",16786,"Zafra","Badajoz","Extremadura",268.14123365861604,"No",16786,8068,8718,"GUADIANA","GUADIANA","06158 Zafra"]
["06159 Zahínos",2780,"Zahínos","Badajoz","Extremadura",60.583343503199153,"No",2780,1379,1401,"GUADIANA","GUADIANA","06159 Zahínos"]
["06160 Zalamea de la Serena",3473,"Zalamea de la Serena","Badajoz","Extremadura",14.134991069457291,"No",3473,1745,1728,"GUADIANA","GUADIANA","06160 Zalamea de la Serena"]
["06162 Zarza La",3380,"Zarza La","Badajoz","Extremadura",53.49280308143868,"No",3380,1695,1685,"GUADIANA","GUADIANA","06162 Zarza La"]
["06161 Zarza-Capilla",296,"Zarza-Capilla","Badajoz","Extremadura",3.2169879569990867,"Sí",296,149,147,"GUADIANA","GUADIANA","06161 Zarza-Capilla"]
["07002 Alaior",9477,"Alaior","Illes Balears","Illes Balears",86.261227066637687,"No",9477,4776,4701,"ISLAS BALEARES","ISLAS BALEARES","07002 Alaior"]
["07001 Alaró",5741,"Alaró","Illes Balears","Illes Balears",125.56401283338137,"No",5741,2777,2964,"ISLAS BALEARES","ISLAS BALEARES","07001 Alaró"]
["07003 Alcúdia",20651,"Alcúdia","Illes Balears","Illes Balears",344.08495944342849,"No",20651,10443,10208,"ISLAS BALEARES","ISLAS BALEARES","07003 Alcúdia"]
["07004 Algaida",5963,"Algaida","Illes Balears","Illes Balears",66.421454947545712,"No",5963,3026,2937,"ISLAS BALEARES","ISLAS BALEARES","07004 Algaida"]
["07005 Andratx",11571,"Andratx","Illes Balears","Illes Balears",142.05319197794654,"No",11571,5830,5741,"ISLAS BALEARES","ISLAS BALEARES","07005 Andratx"]
["07901 Ariany",897,"Ariany","Illes Balears","Illes Balears",38.767779316339507,"No",897,458,439,"ISLAS BALEARES","ISLAS BALEARES","07901 Ariany"]
["07006 Artà",7984,"Artà","Illes Balears","Illes Balears",57.112903934571911,"No",7984,3992,3992,"ISLAS BALEARES","ISLAS BALEARES","07006 Artà"]
["07007 Banyalbufar",542,"Banyalbufar","Illes Balears","Illes Balears",30.016249756464102,"No",542,286,256,"ISLAS BALEARES","ISLAS BALEARES","07007 Banyalbufar"]
["07008 Binissalem",8895,"Binissalem","Illes Balears","Illes Balears",298.76927212953268,"No",8895,4472,4423,"ISLAS BALEARES","ISLAS BALEARES","07008 Binissalem"]
["07009 Búger",1084,"Búger","Illes Balears","Illes Balears",130.79371514480215,"No",1084,578,506,"ISLAS BALEARES","ISLAS BALEARES","07009 Búger"]
["07010 Bunyola",7037,"Bunyola","Illes Balears","Illes Balears",83.084144852041092,"No",7037,3456,3581,"ISLAS BALEARES","ISLAS BALEARES","07010 Bunyola"]
["07011 Calvià",51567,"Calvià","Illes Balears","Illes Balears",355.57990246972918,"No",51567,25858,25709,"ISLAS BALEARES","ISLAS BALEARES","07011 Calvià"]
["07012 Campanet",2684,"Campanet","Illes Balears","Illes Balears",77.455310248341817,"No",2684,1352,1332,"ISLAS BALEARES","ISLAS BALEARES","07012 Campanet"]
["07013 Campos",11425,"Campos","Illes Balears","Illes Balears",76.323085742690594,"No",11425,5698,5727,"ISLAS BALEARES","ISLAS BALEARES","07013 Campos"]
["07014 Capdepera",12003,"Capdepera","Illes Balears","Illes Balears",218.56139224353421,"No",12003,6078,5925,"ISLAS BALEARES","ISLAS BALEARES","07014 Capdepera"]
["07064 Castell Es",7530,"Castell Es","Illes Balears","Illes Balears",647.21859313759194,"No",7530,3824,3706,"ISLAS BALEARES","ISLAS BALEARES","07064 Castell Es"]
["07015 Ciutadella de Menorca",30638,"Ciutadella de Menorca","Illes Balears","Illes Balears",164.41803352103651,"No",30638,15286,15352,"ISLAS BALEARES","ISLAS BALEARES","07015 Ciutadella de Menorca"]
["07016 Consell",4243,"Consell","Illes Balears","Illes Balears",309.66017878843098,"No",4243,2111,2132,"ISLAS BALEARES","ISLAS BALEARES","07016 Consell"]
["07017 Costitx",1379,"Costitx","Illes Balears","Illes Balears",89.74071635868485,"No",1379,681,698,"ISLAS BALEARES","ISLAS BALEARES","07017 Costitx"]
["07018 Deià",674,"Deià","Illes Balears","Illes Balears",44.325978772196692,"No",674,327,347,"ISLAS BALEARES","ISLAS BALEARES","07018 Deià"]
["07026 Eivissa",50643,"Eivissa","Illes Balears","Illes Balears",4544.2533719835201,"No",50643,25538,25105,"ISLAS BALEARES","ISLAS BALEARES","07026 Eivissa"]
["07019 Escorca",181,"Escorca","Illes Balears","Illes Balears",1.2985408468685948,"Sí",181,110,71,"ISLAS BALEARES","ISLAS BALEARES","07019 Escorca"]
["07020 Esporles",5134,"Esporles","Illes Balears","Illes Balears",145.46615513429936,"No",5134,2544,2590,"ISLAS BALEARES","ISLAS BALEARES","07020 Esporles"]
["07021 Estellencs",326,"Estellencs","Illes Balears","Illes Balears",24.256885476919013,"No",326,173,153,"ISLAS BALEARES","ISLAS BALEARES","07021 Estellencs"]
["07022 Felanitx",18164,"Felanitx","Illes Balears","Illes Balears",106.97646636707367,"No",18164,9163,9001,"ISLAS BALEARES","ISLAS BALEARES","07022 Felanitx"]
["07023 Ferreries",4892,"Ferreries","Illes Balears","Illes Balears",74.020952983455203,"No",4892,2455,2437,"ISLAS BALEARES","ISLAS BALEARES","07023 Ferreries"]
["07024 Formentera",11708,"Formentera","Illes Balears","Illes Balears",140.6480033605599,"No",11708,6121,5587,"ISLAS BALEARES","ISLAS BALEARES","07024 Formentera"]
["07025 Fornalutx",682,"Fornalutx","Illes Balears","Illes Balears",34.99231451790083,"No",682,340,342,"ISLAS BALEARES","ISLAS BALEARES","07025 Fornalutx"]
["07027 Inca",33726,"Inca","Illes Balears","Illes Balears",578.11001495636401,"No",33726,16940,16786,"ISLAS BALEARES","ISLAS BALEARES","07027 Inca"]
["07028 Lloret de Vistalegre",1465,"Lloret de Vistalegre","Illes Balears","Illes Balears",83.997067842969628,"No",1465,746,719,"ISLAS BALEARES","ISLAS BALEARES","07028 Lloret de Vistalegre"]
["07029 Lloseta",6250,"Lloseta","Illes Balears","Illes Balears",516.57657020267322,"No",6250,3131,3119,"ISLAS BALEARES","ISLAS BALEARES","07029 Lloseta"]
["07030 Llubí",2385,"Llubí","Illes Balears","Illes Balears",68.297605858210687,"No",2385,1191,1194,"ISLAS BALEARES","ISLAS BALEARES","07030 Llubí"]
["07031 Llucmajor",38224,"Llucmajor","Illes Balears","Illes Balears",116.77499718755068,"No",38224,19355,18869,"ISLAS BALEARES","ISLAS BALEARES","07031 Llucmajor"]
["07033 Manacor",44809,"Manacor","Illes Balears","Illes Balears",172.13972439557688,"No",44809,22419,22390,"ISLAS BALEARES","ISLAS BALEARES","07033 Manacor"]
["07034 Mancor de la Vall",1569,"Mancor de la Vall","Illes Balears","Illes Balears",78.882580237636148,"No",1569,792,777,"ISLAS BALEARES","ISLAS BALEARES","07034 Mancor de la Vall"]
["07032 Maó-Mahón",29578,"Maó-Mahón","Illes Balears","Illes Balears",252.13343346611438,"No",29578,14399,15179,"ISLAS BALEARES","ISLAS BALEARES","07032 Maó-Mahón"]
["07035 Maria de la Salut",2242,"Maria de la Salut","Illes Balears","Illes Balears",73.455029729956763,"No",2242,1157,1085,"ISLAS BALEARES","ISLAS BALEARES","07035 Maria de la Salut"]
["07036 Marratxí",38357,"Marratxí","Illes Balears","Illes Balears",707.46595422691405,"No",38357,19253,19104,"ISLAS BALEARES","ISLAS BALEARES","07036 Marratxí"]
["07037 Mercadal Es",5444,"Mercadal Es","Illes Balears","Illes Balears",39.352914617888082,"No",5444,2768,2676,"ISLAS BALEARES","ISLAS BALEARES","07037 Mercadal Es"]
["07902 Migjorn Gran Es",1500,"Migjorn Gran Es","Illes Balears","Illes Balears",47.709923664122137,"No",1500,748,752,"ISLAS BALEARES","ISLAS BALEARES","07902 Migjorn Gran Es"]
["07038 Montuïri",3087,"Montuïri","Illes Balears","Illes Balears",75.060225071257975,"No",3087,1551,1536,"ISLAS BALEARES","ISLAS BALEARES","07038 Montuïri"]
["07039 Muro",7515,"Muro","Illes Balears","Illes Balears",128.22551146110845,"No",7515,3827,3688,"ISLAS BALEARES","ISLAS BALEARES","07039 Muro"]
["07040 Palma",419366,"Palma","Illes Balears","Illes Balears",2010.0970269194133,"No",419366,205249,214117,"ISLAS BALEARES","ISLAS BALEARES","07040 Palma"]
["07041 Petra",3028,"Petra","Illes Balears","Illes Balears",43.232663287970254,"No",3028,1498,1530,"ISLAS BALEARES","ISLAS BALEARES","07041 Petra"]
["07044 Pobla Sa",13873,"Pobla Sa","Illes Balears","Illes Balears",285.53400508708683,"No",13873,6998,6875,"ISLAS BALEARES","ISLAS BALEARES","07044 Pobla Sa"]
["07042 Pollença",16969,"Pollença","Illes Balears","Illes Balears",111.89255592652911,"No",16969,8474,8495,"ISLAS BALEARES","ISLAS BALEARES","07042 Pollença"]
["07043 Porreres",5624,"Porreres","Illes Balears","Illes Balears",64.708178082797019,"No",5624,2853,2771,"ISLAS BALEARES","ISLAS BALEARES","07043 Porreres"]
["07045 Puigpunyent",2057,"Puigpunyent","Illes Balears","Illes Balears",48.613095791360813,"No",2057,1020,1037,"ISLAS BALEARES","ISLAS BALEARES","07045 Puigpunyent"]
["07059 Salines Ses",5010,"Salines Ses","Illes Balears","Illes Balears",128.07108911730876,"No",5010,2532,2478,"ISLAS BALEARES","ISLAS BALEARES","07059 Salines Ses"]
["07046 Sant Antoni de Portmany",27205,"Sant Antoni de Portmany","Illes Balears","Illes Balears",214.55225660945163,"No",27205,14274,12931,"ISLAS BALEARES","ISLAS BALEARES","07046 Sant Antoni de Portmany"]
["07049 Sant Joan",2185,"Sant Joan","Illes Balears","Illes Balears",56.70041227816936,"No",2185,1076,1109,"ISLAS BALEARES","ISLAS BALEARES","07049 Sant Joan"]
["07050 Sant Joan de Labritja",6635,"Sant Joan de Labritja","Illes Balears","Illes Balears",54.537564401691895,"No",6635,3358,3277,"ISLAS BALEARES","ISLAS BALEARES","07050 Sant Joan de Labritja"]
["07048 Sant Josep de sa Talaia",28299,"Sant Josep de sa Talaia","Illes Balears","Illes Balears",177.5525214054814,"No",28299,14602,13697,"ISLAS BALEARES","ISLAS BALEARES","07048 Sant Josep de sa Talaia"]
["07051 Sant Llorenç des Cardassar",8920,"Sant Llorenç des Cardassar","Illes Balears","Illes Balears",108.67088791339846,"No",8920,4477,4443,"ISLAS BALEARES","ISLAS BALEARES","07051 Sant Llorenç des Cardassar"]
["07052 Sant Lluís",6877,"Sant Lluís","Illes Balears","Illes Balears",198.25585585585586,"No",6877,3503,3374,"ISLAS BALEARES","ISLAS BALEARES","07052 Sant Lluís"]
["07053 Santa Eugènia",1724,"Santa Eugènia","Illes Balears","Illes Balears",85.129055203278952,"No",1724,860,864,"ISLAS BALEARES","ISLAS BALEARES","07053 Santa Eugènia"]
["07054 Santa Eulària des Riu",40038,"Santa Eulària des Riu","Illes Balears","Illes Balears",260.69005513147357,"No",40038,20177,19861,"ISLAS BALEARES","ISLAS BALEARES","07054 Santa Eulària des Riu"]
["07055 Santa Margalida",12767,"Santa Margalida","Illes Balears","Illes Balears",147.58577667538063,"No",12767,6575,6192,"ISLAS BALEARES","ISLAS BALEARES","07055 Santa Margalida"]
["07056 Santa María del Camí",7507,"Santa María del Camí","Illes Balears","Illes Balears",199.55515177263163,"No",7507,3754,3753,"ISLAS BALEARES","ISLAS BALEARES","07056 Santa María del Camí"]
["07057 Santanyí",12342,"Santanyí","Illes Balears","Illes Balears",98.844288266945114,"No",12342,6201,6141,"ISLAS BALEARES","ISLAS BALEARES","07057 Santanyí"]
["07058 Selva",4126,"Selva","Illes Balears","Illes Balears",84.640130310516867,"No",4126,2036,2090,"ISLAS BALEARES","ISLAS BALEARES","07058 Selva"]
["07047 Sencelles",3542,"Sencelles","Illes Balears","Illes Balears",67.010497491457684,"No",3542,1791,1751,"ISLAS BALEARES","ISLAS BALEARES","07047 Sencelles"]
["07060 Sineu",4122,"Sineu","Illes Balears","Illes Balears",86.348432263771215,"No",4122,2050,2072,"ISLAS BALEARES","ISLAS BALEARES","07060 Sineu"]
["07061 Sóller",13491,"Sóller","Illes Balears","Illes Balears",315.22310288369437,"No",13491,6720,6771,"ISLAS BALEARES","ISLAS BALEARES","07061 Sóller"]
["07062 Son Servera",11835,"Son Servera","Illes Balears","Illes Balears",278.04847793420436,"No",11835,5886,5949,"ISLAS BALEARES","ISLAS BALEARES","07062 Son Servera"]
["07063 Valldemossa",2042,"Valldemossa","Illes Balears","Illes Balears",47.571008466241736,"No",2042,1040,1002,"ISLAS BALEARES","ISLAS BALEARES","07063 Valldemossa"]
["07065 Vilafranca de Bonany",3558,"Vilafranca de Bonany","Illes Balears","Illes Balears",148.51107628414601,"No",3558,1819,1739,"ISLAS BALEARES","ISLAS BALEARES","07065 Vilafranca de Bonany"]
["08001 Abrera",12620,"Abrera","Barcelona","Cataluña",631.50460375362934,"No",12620,6373,6247,"CUENCAS INTERNAS DE CATALUÑA","DISTRITO DE CUENCA FLUVIAL DE CATALUÑA","08001 Abrera"]
["08002 Aguilar de Segarra",286,"Aguilar de Segarra","Barcelona","Cataluña",6.6297191952299768,"Sí",286,154,132,"CUENCAS INTERNAS DE CATALUÑA","DISTRITO DE CUENCA FLUVIAL DE CATALUÑA","08002 Aguilar de Segarra"]
["08014 Aiguafreda",2556,"Aiguafreda","Barcelona","Cataluña",319.60491031180987,"No",2556,1239,1317,"CUENCAS INTERNAS DE CATALUÑA","DISTRITO DE CUENCA FLUVIAL DE CATALUÑA","08014 Aiguafreda"]
["08003 Alella",9954,"Alella","Barcelona","Cataluña",1025.9528766671476,"No",9954,4879,5075,"CUENCAS INTERNAS DE CATALUÑA","DISTRITO DE CUENCA FLUVIAL DE CATALUÑA","08003 Alella"]
["08004 Alpens",269,"Alpens","Barcelona","Cataluña",19.66805586020326,"No",269,143,126,"CUENCAS INTERNAS DE CATALUÑA","DISTRITO DE CUENCA FLUVIAL DE CATALUÑA","08004 Alpens"]
["08005 Ametlla del Vallès L'",8787,"Ametlla del Vallès L'","Barcelona","Cataluña",616.71380745502915,"No",8787,4427,4360,"CUENCAS INTERNAS DE CATALUÑA","DISTRITO DE CUENCA FLUVIAL DE CATALUÑA","08005 Ametlla del Vallès L'"]
["08006 Arenys de Mar",15942,"Arenys de Mar","Barcelona","Cataluña",2470.2472494055651,"No",15942,7749,8193,"CUENCAS INTERNAS DE CATALUÑA","DISTRITO DE CUENCA FLUVIAL DE CATALUÑA","08006 Arenys de Mar"]
["08007 Arenys de Munt",9191,"Arenys de Munt","Barcelona","Cataluña",427.91429609006173,"No",9191,4649,4542,"CUENCAS INTERNAS DE CATALUÑA","DISTRITO DE CUENCA FLUVIAL DE CATALUÑA","08007 Arenys de Munt"]
["08008 Argençola",220,"Argençola","Barcelona","Cataluña",4.655575942040449,"Sí",220,114,106,"CUENCAS INTERNAS DE CATALUÑA","DISTRITO DE CUENCA FLUVIAL DE CATALUÑA","08008 Argençola"]
["08009 Argentona",12629,"Argentona","Barcelona","Cataluña",498.30727830869876,"No",12629,6280,6349,"CUENCAS INTERNAS DE CATALUÑA","DISTRITO DE CUENCA FLUVIAL DE CATALUÑA","08009 Argentona"]
["08010 Artés",5782,"Artés","Barcelona","Cataluña",323.82179160482764,"No",5782,2908,2874,"CUENCAS INTERNAS DE CATALUÑA","DISTRITO DE CUENCA FLUVIAL DE CATALUÑA","08010 Artés"]
["08011 Avià",2199,"Avià","Barcelona","Cataluña",80.979451436578771,"No",2199,1100,1099,"CUENCAS INTERNAS DE CATALUÑA","DISTRITO DE CUENCA FLUVIAL DE CATALUÑA","08011 Avià"]
["08012 Avinyó",2286,"Avinyó","Barcelona","Cataluña",35.942661549370847,"No",2286,1148,1138,"CUENCAS INTERNAS DE CATALUÑA","DISTRITO DE CUENCA FLUVIAL DE CATALUÑA","08012 Avinyó"]
["08013 Avinyonet del Penedès",1701,"Avinyonet del Penedès","Barcelona","Cataluña",58.191048636222128,"No",1701,906,795,"CUENCAS INTERNAS DE CATALUÑA","DISTRITO DE CUENCA FLUVIAL DE CATALUÑA","08013 Avinyonet del Penedès"]
["08015 Badalona",223006,"Badalona","Barcelona","Cataluña",10637.416942134963,"No",223006,110001,113005,"CUENCAS INTERNAS DE CATALUÑA","DISTRITO DE CUENCA FLUVIAL DE CATALUÑA","08015 Badalona"]
["08904 Badia del Vallès",13228,"Badia del Vallès","Barcelona","Cataluña",14191.610342237958,"No",13228,6473,6755,"CUENCAS INTERNAS DE CATALUÑA","DISTRITO DE CUENCA FLUVIAL DE CATALUÑA","08904 Badia del Vallès"]
["08016 Bagà",2145,"Bagà","Barcelona","Cataluña",49.758810116297823,"No",2145,1065,1080,"CUENCAS INTERNAS DE CATALUÑA","DISTRITO DE CUENCA FLUVIAL DE CATALUÑA -- EBRO","08016 Bagà"]
["08017 Balenyà",3900,"Balenyà","Barcelona","Cataluña",226.11579447813637,"No",3900,1956,1944,"CUENCAS INTERNAS DE CATALUÑA","DISTRITO DE CUENCA FLUVIAL DE CATALUÑA","08017 Balenyà"]
["08018 Balsareny",3278,"Balsareny","Barcelona","Cataluña",89.267235275535668,"No",3278,1632,1646,"CUENCAS INTERNAS DE CATALUÑA","DISTRITO DE CUENCA FLUVIAL DE CATALUÑA","08018 Balsareny"]
["08252 Barberà del Vallès",33016,"Barberà del Vallès","Barcelona","Cataluña",4026.0468746189304,"No",33016,16237,16779,"CUENCAS INTERNAS DE CATALUÑA","DISTRITO DE CUENCA FLUVIAL DE CATALUÑA","08252 Barberà del Vallès"]
["08019 Barcelona",1636732,"Barcelona","Barcelona","Cataluña",16243.157305556326,"No",1636732,778744,857988,"CUENCAS INTERNAS DE CATALUÑA","DISTRITO DE CUENCA FLUVIAL DE CATALUÑA","08019 Barcelona"]
["08020 Begues",7356,"Begues","Barcelona","Cataluña",145.98624454732149,"No",7356,3685,3671,"CUENCAS INTERNAS DE CATALUÑA","DISTRITO DE CUENCA FLUVIAL DE CATALUÑA","08020 Begues"]
["08021 Bellprat",73,"Bellprat","Barcelona","Cataluña",2.3481125035382515,"Sí",73,46,27,"CUENCAS INTERNAS DE CATALUÑA","DISTRITO DE CUENCA FLUVIAL DE CATALUÑA","08021 Bellprat"]
["08022 Berga",16682,"Berga","Barcelona","Cataluña",740.13002099490029,"No",16682,8253,8429,"CUENCAS INTERNAS DE CATALUÑA","DISTRITO DE CUENCA FLUVIAL DE CATALUÑA","08022 Berga"]
["08023 Bigues i Riells",9542,"Bigues i Riells","Barcelona","Cataluña",334.04516016103622,"No",9542,4850,4692,"CUENCAS INTERNAS DE CATALUÑA","DISTRITO DE CUENCA FLUVIAL DE CATALUÑA","08023 Bigues i Riells"]
["08024 Borredà",455,"Borredà","Barcelona","Cataluña",10.483218785928063,"Sí",455,257,198,"CUENCAS INTERNAS DE CATALUÑA","DISTRITO DE CUENCA FLUVIAL DE CATALUÑA","08024 Borredà"]
["08025 Bruc El",2177,"Bruc El","Barcelona","Cataluña",45.891452317537315,"No",2177,1160,1017,"CUENCAS INTERNAS DE CATALUÑA","DISTRITO DE CUENCA FLUVIAL DE CATALUÑA","08025 Bruc El"]
["08026 Brull El",275,"Brull El","Barcelona","Cataluña",6.6771234466582818,"Sí",275,149,126,"CUENCAS INTERNAS DE CATALUÑA","DISTRITO DE CUENCA FLUVIAL DE CATALUÑA","08026 Brull El"]
["08027 Cabanyes Les",1005,"Cabanyes Les","Barcelona","Cataluña",875.13061650992677,"No",1005,515,490,"CUENCAS INTERNAS DE CATALUÑA","DISTRITO DE CUENCA FLUVIAL DE CATALUÑA","08027 Cabanyes Les"]
["08028 Cabrera d'Anoia",1521,"Cabrera d'Anoia","Barcelona","Cataluña",88.991604013691017,"No",1521,803,718,"CUENCAS INTERNAS DE CATALUÑA","DISTRITO DE CUENCA FLUVIAL DE CATALUÑA","08028 Cabrera d'Anoia"]
["08029 Cabrera de Mar",4787,"Cabrera de Mar","Barcelona","Cataluña",530.56836318496187,"No",4787,2399,2388,"CUENCAS INTERNAS DE CATALUÑA","DISTRITO DE CUENCA FLUVIAL DE CATALUÑA","08029 Cabrera de Mar"]
["08030 Cabrils",7567,"Cabrils","Barcelona","Cataluña",1083.8644990331591,"No",7567,3752,3815,"CUENCAS INTERNAS DE CATALUÑA","DISTRITO DE CUENCA FLUVIAL DE CATALUÑA","08030 Cabrils"]
["08031 Calaf",3597,"Calaf","Barcelona","Cataluña",389.98769213155106,"No",3597,1805,1792,"CUENCAS INTERNAS DE CATALUÑA","DISTRITO DE CUENCA FLUVIAL DE CATALUÑA","08031 Calaf"]
["08034 Calders",1063,"Calders","Barcelona","Cataluña",32.191635625813873,"No",1063,539,524,"CUENCAS INTERNAS DE CATALUÑA","DISTRITO DE CUENCA FLUVIAL DE CATALUÑA","08034 Calders"]
["08033 Caldes de Montbui",17797,"Caldes de Montbui","Barcelona","Cataluña",473.85124952740017,"No",17797,8850,8947,"CUENCAS INTERNAS DE CATALUÑA","DISTRITO DE CUENCA FLUVIAL DE CATALUÑA","08033 Caldes de Montbui"]
["08032 Caldes d'Estrac",3097,"Caldes d'Estrac","Barcelona","Cataluña",4205.9431864942644,"No",3097,1472,1625,"CUENCAS INTERNAS DE CATALUÑA","DISTRITO DE CUENCA FLUVIAL DE CATALUÑA","08032 Caldes d'Estrac"]
["08035 Calella",19236,"Calella","Barcelona","Cataluña",2446.0398721284209,"No",19236,9356,9880,"CUENCAS INTERNAS DE CATALUÑA","DISTRITO DE CUENCA FLUVIAL DE CATALUÑA","08035 Calella"]
["08037 Calldetenes",2504,"Calldetenes","Barcelona","Cataluña",437.80816169528271,"No",2504,1274,1230,"CUENCAS INTERNAS DE CATALUÑA","DISTRITO DE CUENCA FLUVIAL DE CATALUÑA","08037 Calldetenes"]
["08038 Callús",2098,"Callús","Barcelona","Cataluña",169.27818748083718,"No",2098,1036,1062,"CUENCAS INTERNAS DE CATALUÑA","DISTRITO DE CUENCA FLUVIAL DE CATALUÑA","08038 Callús"]
["08036 Calonge de Segarra",194,"Calonge de Segarra","Barcelona","Cataluña",5.2251669898728723,"Sí",194,95,99,"CUENCAS INTERNAS DE CATALUÑA","EBRO","08036 Calonge de Segarra"]
["08039 Campins",540,"Campins","Barcelona","Cataluña",73.451399657226801,"No",540,277,263,"CUENCAS INTERNAS DE CATALUÑA","DISTRITO DE CUENCA FLUVIAL DE CATALUÑA","08039 Campins"]
["08040 Canet de Mar",14810,"Canet de Mar","Barcelona","Cataluña",2682.8738089199665,"No",14810,7227,7583,"CUENCAS INTERNAS DE CATALUÑA","DISTRITO DE CUENCA FLUVIAL DE CATALUÑA","08040 Canet de Mar"]
["08041 Canovelles",16872,"Canovelles","Barcelona","Cataluña",2482.7829772205546,"No",16872,8753,8119,"CUENCAS INTERNAS DE CATALUÑA","DISTRITO DE CUENCA FLUVIAL DE CATALUÑA","08041 Canovelles"]
["08042 Cànoves i Samalús",3219,"Cànoves i Samalús","Barcelona","Cataluña",112.06773500628402,"No",3219,1642,1577,"CUENCAS INTERNAS DE CATALUÑA","DISTRITO DE CUENCA FLUVIAL DE CATALUÑA","08042 Cànoves i Samalús"]
["08043 Canyelles",4886,"Canyelles","Barcelona","Cataluña",346.28168874336461,"No",4886,2533,2353,"CUENCAS INTERNAS DE CATALUÑA","DISTRITO DE CUENCA FLUVIAL DE CATALUÑA","08043 Canyelles"]
["08044 Capellades",5314,"Capellades","Barcelona","Cataluña",1819.8006917571317,"No",5314,2647,2667,"CUENCAS INTERNAS DE CATALUÑA","DISTRITO DE CUENCA FLUVIAL DE CATALUÑA","08044 Capellades"]
["08045 Capolat",84,"Capolat","Barcelona","Cataluña",2.4579083200196634,"Sí",84,40,44,"CUENCAS INTERNAS DE CATALUÑA","DISTRITO DE CUENCA FLUVIAL DE CATALUÑA","08045 Capolat"]
["08046 Cardedeu",18609,"Cardedeu","Barcelona","Cataluña",1524.3907433954537,"No",18609,9066,9543,"CUENCAS INTERNAS DE CATALUÑA","DISTRITO DE CUENCA FLUVIAL DE CATALUÑA","08046 Cardedeu"]
["08047 Cardona",4593,"Cardona","Barcelona","Cataluña",69.145444801069473,"No",4593,2256,2337,"CUENCAS INTERNAS DE CATALUÑA","DISTRITO DE CUENCA FLUVIAL DE CATALUÑA","08047 Cardona"]
["08048 Carme",768,"Carme","Barcelona","Cataluña",67.782249523406065,"No",768,397,371,"CUENCAS INTERNAS DE CATALUÑA","DISTRITO DE CUENCA FLUVIAL DE CATALUÑA","08048 Carme"]
["08049 Casserres",1636,"Casserres","Barcelona","Cataluña",55.692570474930989,"No",1636,812,824,"CUENCAS INTERNAS DE CATALUÑA","DISTRITO DE CUENCA FLUVIAL DE CATALUÑA","08049 Casserres"]
["08057 Castell de l'Areny",72,"Castell de l'Areny","Barcelona","Cataluña",2.8890484999016919,"Sí",72,40,32,"CUENCAS INTERNAS DE CATALUÑA","DISTRITO DE CUENCA FLUVIAL DE CATALUÑA","08057 Castell de l'Areny"]
["08052 Castellar de n'Hug",167,"Castellar de n'Hug","Barcelona","Cataluña",3.5657575984746415,"Sí",167,87,80,"CUENCAS INTERNAS DE CATALUÑA","DISTRITO DE CUENCA FLUVIAL DE CATALUÑA","08052 Castellar de n'Hug"]
["08050 Castellar del Riu",171,"Castellar del Riu","Barcelona","Cataluña",5.2186810470322182,"Sí",171,98,73,"CUENCAS INTERNAS DE CATALUÑA","DISTRITO DE CUENCA FLUVIAL DE CATALUÑA","08050 Castellar del Riu"]
["08051 Castellar del Vallès",24659,"Castellar del Vallès","Barcelona","Cataluña",545.80305582423807,"No",24659,12192,12467,"CUENCAS INTERNAS DE CATALUÑA","DISTRITO DE CUENCA FLUVIAL DE CATALUÑA","08051 Castellar del Vallès"]
["08053 Castellbell i el Vilar",3853,"Castellbell i el Vilar","Barcelona","Cataluña",135.12002238510581,"No",3853,1985,1868,"CUENCAS INTERNAS DE CATALUÑA","DISTRITO DE CUENCA FLUVIAL DE CATALUÑA","08053 Castellbell i el Vilar"]
["08054 Castellbisbal",12610,"Castellbisbal","Barcelona","Cataluña",406.99081769328836,"No",12610,6348,6262,"CUENCAS INTERNAS DE CATALUÑA","DISTRITO DE CUENCA FLUVIAL DE CATALUÑA","08054 Castellbisbal"]
["08055 Castellcir",753,"Castellcir","Barcelona","Cataluña",22.171856088223848,"No",753,392,361,"CUENCAS INTERNAS DE CATALUÑA","DISTRITO DE CUENCA FLUVIAL DE CATALUÑA","08055 Castellcir"]
["08056 Castelldefels",67226,"Castelldefels","Barcelona","Cataluña",5246.9707926222718,"No",67226,32930,34296,"CUENCAS INTERNAS DE CATALUÑA","DISTRITO DE CUENCA FLUVIAL DE CATALUÑA","08056 Castelldefels"]
["08058 Castellet i la Gornal",2452,"Castellet i la Gornal","Barcelona","Cataluña",52.01063969692985,"No",2452,1278,1174,"CUENCAS INTERNAS DE CATALUÑA","DISTRITO DE CUENCA FLUVIAL DE CATALUÑA","08058 Castellet i la Gornal"]
["08060 Castellfollit de Riubregós",163,"Castellfollit de Riubregós","Barcelona","Cataluña",6.2003826739245387,"Sí",163,88,75,"EBRO","EBRO","08060 Castellfollit de Riubregós"]
["08059 Castellfollit del Boix",448,"Castellfollit del Boix","Barcelona","Cataluña",7.5439544803175194,"Sí",448,233,215,"CUENCAS INTERNAS DE CATALUÑA","DISTRITO DE CUENCA FLUVIAL DE CATALUÑA","08059 Castellfollit del Boix"]
["08061 Castellgalí",2179,"Castellgalí","Barcelona","Cataluña",126.0488767679888,"No",2179,1143,1036,"CUENCAS INTERNAS DE CATALUÑA","DISTRITO DE CUENCA FLUVIAL DE CATALUÑA","08061 Castellgalí"]
["08062 Castellnou de Bages",1420,"Castellnou de Bages","Barcelona","Cataluña",48.734615991818075,"No",1420,752,668,"CUENCAS INTERNAS DE CATALUÑA","DISTRITO DE CUENCA FLUVIAL DE CATALUÑA","08062 Castellnou de Bages"]
["08063 Castellolí",653,"Castellolí","Barcelona","Cataluña",25.75703190637536,"No",653,317,336,"CUENCAS INTERNAS DE CATALUÑA","DISTRITO DE CUENCA FLUVIAL DE CATALUÑA","08063 Castellolí"]
["08064 Castellterçol",2632,"Castellterçol","Barcelona","Cataluña",82.671884962951566,"No",2632,1333,1299,"CUENCAS INTERNAS DE CATALUÑA","DISTRITO DE CUENCA FLUVIAL DE CATALUÑA","08064 Castellterçol"]
["08065 Castellví de la Marca",1597,"Castellví de la Marca","Barcelona","Cataluña",55.726538673589737,"No",1597,820,777,"CUENCAS INTERNAS DE CATALUÑA","DISTRITO DE CUENCA FLUVIAL DE CATALUÑA","08065 Castellví de la Marca"]
["08066 Castellví de Rosanes",1996,"Castellví de Rosanes","Barcelona","Cataluña",121.69544434689297,"No",1996,986,1010,"CUENCAS INTERNAS DE CATALUÑA","DISTRITO DE CUENCA FLUVIAL DE CATALUÑA","08066 Castellví de Rosanes"]
["08067 Centelles",7595,"Centelles","Barcelona","Cataluña",494.77215725872122,"No",7595,3736,3859,"CUENCAS INTERNAS DE CATALUÑA","DISTRITO DE CUENCA FLUVIAL DE CATALUÑA","08067 Centelles"]
["08268 Cercs",1190,"Cercs","Barcelona","Cataluña",25.25895737816268,"No",1190,596,594,"CUENCAS INTERNAS DE CATALUÑA","DISTRITO DE CUENCA FLUVIAL DE CATALUÑA","08268 Cercs"]
["08266 Cerdanyola del Vallès",57217,"Cerdanyola del Vallès","Barcelona","Cataluña",1854.0348921609293,"No",57217,27911,29306,"CUENCAS INTERNAS DE CATALUÑA","DISTRITO DE CUENCA FLUVIAL DE CATALUÑA","08266 Cerdanyola del Vallès"]
["08068 Cervelló",9233,"Cervelló","Barcelona","Cataluña",382.86579171072543,"No",9233,4633,4600,"CUENCAS INTERNAS DE CATALUÑA","DISTRITO DE CUENCA FLUVIAL DE CATALUÑA","08068 Cervelló"]
["08069 Collbató",4655,"Collbató","Barcelona","Cataluña",257.6520728399845,"No",4655,2414,2241,"CUENCAS INTERNAS DE CATALUÑA","DISTRITO DE CUENCA FLUVIAL DE CATALUÑA","08069 Collbató"]
["08070 Collsuspina",387,"Collsuspina","Barcelona","Cataluña",25.564803804994053,"No",387,193,194,"CUENCAS INTERNAS DE CATALUÑA","DISTRITO DE CUENCA FLUVIAL DE CATALUÑA","08070 Collsuspina"]
["08071 Copons",322,"Copons","Barcelona","Cataluña",17.2222905646451,"No",322,158,164,"CUENCAS INTERNAS DE CATALUÑA","DISTRITO DE CUENCA FLUVIAL DE CATALUÑA","08071 Copons"]
["08072 Corbera de Llobregat",15017,"Corbera de Llobregat","Barcelona","Cataluña",821.31469418784616,"No",15017,7532,7485,"CUENCAS INTERNAS DE CATALUÑA","DISTRITO DE CUENCA FLUVIAL DE CATALUÑA","08072 Corbera de Llobregat"]
["08073 Cornellà de Llobregat",89300,"Cornellà de Llobregat","Barcelona","Cataluña",12951.601908657123,"No",89300,43334,45966,"CUENCAS INTERNAS DE CATALUÑA","DISTRITO DE CUENCA FLUVIAL DE CATALUÑA","08073 Cornellà de Llobregat"]
["08074 Cubelles",16051,"Cubelles","Barcelona","Cataluña",1204.1260315078769,"No",16051,8073,7978,"CUENCAS INTERNAS DE CATALUÑA","DISTRITO DE CUENCA FLUVIAL DE CATALUÑA","08074 Cubelles"]
["08075 Dosrius",5685,"Dosrius","Barcelona","Cataluña",139.47873961269809,"No",5685,2867,2818,"CUENCAS INTERNAS DE CATALUÑA","DISTRITO DE CUENCA FLUVIAL DE CATALUÑA","08075 Dosrius"]
["08076 Esparreguera",22358,"Esparreguera","Barcelona","Cataluña",818.46169615369126,"No",22358,11298,11060,"CUENCAS INTERNAS DE CATALUÑA","DISTRITO DE CUENCA FLUVIAL DE CATALUÑA","08076 Esparreguera"]
["08077 Esplugues de Llobregat",46777,"Esplugues de Llobregat","Barcelona","Cataluña",10337.915487977369,"No",46777,22274,24503,"CUENCAS INTERNAS DE CATALUÑA","DISTRITO DE CUENCA FLUVIAL DE CATALUÑA","08077 Esplugues de Llobregat"]
["08078 Espunyola L'",258,"Espunyola L'","Barcelona","Cataluña",7.2918020925776244,"Sí",258,129,129,"CUENCAS INTERNAS DE CATALUÑA","DISTRITO DE CUENCA FLUVIAL DE CATALUÑA","08078 Espunyola L'"]
["08254 Esquirol L'",2198,"Esquirol L'","Barcelona","Cataluña",35.424166601757278,"No",2198,1109,1089,"CUENCAS INTERNAS DE CATALUÑA","DISTRITO DE CUENCA FLUVIAL DE CATALUÑA","08254 Esquirol L'"]
["08079 Estany L'",408,"Estany L'","Barcelona","Cataluña",39.80254814352331,"No",408,215,193,"CUENCAS INTERNAS DE CATALUÑA","DISTRITO DE CUENCA FLUVIAL DE CATALUÑA","08079 Estany L'"]
["08134 Figaró-Montmany",1127,"Figaró-Montmany","Barcelona","Cataluña",75.377052469651872,"No",1127,550,577,"CUENCAS INTERNAS DE CATALUÑA","DISTRITO DE CUENCA FLUVIAL DE CATALUÑA","08134 Figaró-Montmany"]
["08080 Fígols",46,"Fígols","Barcelona","Cataluña",1.5514647851221273,"Sí",46,27,19,"CUENCAS INTERNAS DE CATALUÑA","DISTRITO DE CUENCA FLUVIAL DE CATALUÑA","08080 Fígols"]
["08082 Fogars de la Selva",1540,"Fogars de la Selva","Barcelona","Cataluña",47.862801590039567,"No",1540,793,747,"CUENCAS INTERNAS DE CATALUÑA","DISTRITO DE CUENCA FLUVIAL DE CATALUÑA","08082 Fogars de la Selva"]
["08081 Fogars de Montclús",467,"Fogars de Montclús","Barcelona","Cataluña",11.707899196742847,"Sí",467,251,216,"CUENCAS INTERNAS DE CATALUÑA","DISTRITO DE CUENCA FLUVIAL DE CATALUÑA","08081 Fogars de Montclús"]
["08083 Folgueroles",2269,"Folgueroles","Barcelona","Cataluña",207.02554744525546,"No",2269,1140,1129,"CUENCAS INTERNAS DE CATALUÑA","DISTRITO DE CUENCA FLUVIAL DE CATALUÑA","08083 Folgueroles"]
["08084 Fonollosa",1495,"Fonollosa","Barcelona","Cataluña",28.66564912240738,"No",1495,766,729,"CUENCAS INTERNAS DE CATALUÑA","DISTRITO DE CUENCA FLUVIAL DE CATALUÑA","08084 Fonollosa"]
["08085 Font-rubí",1440,"Font-rubí","Barcelona","Cataluña",38.846789879332157,"No",1440,752,688,"CUENCAS INTERNAS DE CATALUÑA","DISTRITO DE CUENCA FLUVIAL DE CATALUÑA","08085 Font-rubí"]
["08086 Franqueses del Vallès Les",20351,"Franqueses del Vallès Les","Barcelona","Cataluña",684.26503123592033,"No",20351,10307,10044,"CUENCAS INTERNAS DE CATALUÑA","DISTRITO DE CUENCA FLUVIAL DE CATALUÑA","08086 Franqueses del Vallès Les"]
["08090 Gaià",189,"Gaià","Barcelona","Cataluña",4.7942286618775114,"Sí",189,102,87,"CUENCAS INTERNAS DE CATALUÑA","DISTRITO DE CUENCA FLUVIAL DE CATALUÑA","08090 Gaià"]
["08087 Gallifa",183,"Gallifa","Barcelona","Cataluña",11.17031991063744,"Sí",183,97,86,"CUENCAS INTERNAS DE CATALUÑA","DISTRITO DE CUENCA FLUVIAL DE CATALUÑA","08087 Gallifa"]
["08088 Garriga La",16733,"Garriga La","Barcelona","Cataluña",884.29118773946368,"No",16733,8073,8660,"CUENCAS INTERNAS DE CATALUÑA","DISTRITO DE CUENCA FLUVIAL DE CATALUÑA","08088 Garriga La"]
["08089 Gavà",46931,"Gavà","Barcelona","Cataluña",1519.2395301522479,"No",46931,22963,23968,"CUENCAS INTERNAS DE CATALUÑA","DISTRITO DE CUENCA FLUVIAL DE CATALUÑA","08089 Gavà"]
["08091 Gelida",7723,"Gelida","Barcelona","Cataluña",291.32402866842699,"No",7723,3863,3860,"CUENCAS INTERNAS DE CATALUÑA","DISTRITO DE CUENCA FLUVIAL DE CATALUÑA","08091 Gelida"]
["08092 Gironella",4916,"Gironella","Barcelona","Cataluña",719.71515911034078,"No",4916,2434,2482,"CUENCAS INTERNAS DE CATALUÑA","DISTRITO DE CUENCA FLUVIAL DE CATALUÑA","08092 Gironella"]
["08093 Gisclareny",27,"Gisclareny","Barcelona","Cataluña",0.73779897732317457,"Sí",27,18,9,"CUENCAS INTERNAS DE CATALUÑA","DISTRITO DE CUENCA FLUVIAL DE CATALUÑA","08093 Gisclareny"]
["08094 Granada La",2207,"Granada La","Barcelona","Cataluña",343.46987051792831,"No",2207,1106,1101,"CUENCAS INTERNAS DE CATALUÑA","DISTRITO DE CUENCA FLUVIAL DE CATALUÑA","08094 Granada La"]
["08095 Granera",85,"Granera","Barcelona","Cataluña",3.6035272172290993,"Sí",85,55,30,"CUENCAS INTERNAS DE CATALUÑA","DISTRITO DE CUENCA FLUVIAL DE CATALUÑA","08095 Granera"]
["08096 Granollers",62475,"Granollers","Barcelona","Cataluña",4178.1751790646504,"No",62475,30903,31572,"CUENCAS INTERNAS DE CATALUÑA","DISTRITO DE CUENCA FLUVIAL DE CATALUÑA","08096 Granollers"]
["08097 Gualba",1585,"Gualba","Barcelona","Cataluña",68.714667221586382,"No",1585,805,780,"CUENCAS INTERNAS DE CATALUÑA","DISTRITO DE CUENCA FLUVIAL DE CATALUÑA","08097 Gualba"]
["08099 Guardiola de Berguedà",929,"Guardiola de Berguedà","Barcelona","Cataluña",15.123282015918843,"No",929,479,450,"CUENCAS INTERNAS DE CATALUÑA","DISTRITO DE CUENCA FLUVIAL DE CATALUÑA","08099 Guardiola de Berguedà"]
["08100 Gurb",2705,"Gurb","Barcelona","Cataluña",52.884593578085976,"No",2705,1386,1319,"CUENCAS INTERNAS DE CATALUÑA","DISTRITO DE CUENCA FLUVIAL DE CATALUÑA","08100 Gurb"]
["08101 Hospitalet de Llobregat L'",264657,"Hospitalet de Llobregat L'","Barcelona","Cataluña",19455.209726980022,"No",264657,127991,136666,"CUENCAS INTERNAS DE CATALUÑA","DISTRITO DE CUENCA FLUVIAL DE CATALUÑA","08101 Hospitalet de Llobregat L'"]
["08162 Hostalets de Pierola Els",3064,"Hostalets de Pierola Els","Barcelona","Cataluña",91.461400647172994,"No",3064,1547,1517,"CUENCAS INTERNAS DE CATALUÑA","DISTRITO DE CUENCA FLUVIAL DE CATALUÑA","08162 Hostalets de Pierola Els"]
["08102 Igualada",40875,"Igualada","Barcelona","Cataluña",4982.5078927800869,"No",40875,20124,20751,"CUENCAS INTERNAS DE CATALUÑA","DISTRITO DE CUENCA FLUVIAL DE CATALUÑA","08102 Igualada"]
["08103 Jorba",825,"Jorba","Barcelona","Cataluña",26.559356136820927,"No",825,422,403,"CUENCAS INTERNAS DE CATALUÑA","DISTRITO DE CUENCA FLUVIAL DE CATALUÑA","08103 Jorba"]
["08104 Llacuna La",917,"Llacuna La","Barcelona","Cataluña",17.514573194490072,"No",917,491,426,"CUENCAS INTERNAS DE CATALUÑA","DISTRITO DE CUENCA FLUVIAL DE CATALUÑA","08104 Llacuna La"]
["08105 Llagosta La",13259,"Llagosta La","Barcelona","Cataluña",4389.0893442351626,"No",13259,6515,6744,"CUENCAS INTERNAS DE CATALUÑA","DISTRITO DE CUENCA FLUVIAL DE CATALUÑA","08105 Llagosta La"]
["08107 Lliçà d'Amunt",15673,"Lliçà d'Amunt","Barcelona","Cataluña",700.67595357736809,"No",15673,7992,7681,"CUENCAS INTERNAS DE CATALUÑA","DISTRITO DE CUENCA FLUVIAL DE CATALUÑA","08107 Lliçà d'Amunt"]
["08108 Lliçà de Vall",6580,"Lliçà de Vall","Barcelona","Cataluña",614.54548850762581,"No",6580,3361,3219,"CUENCAS INTERNAS DE CATALUÑA","DISTRITO DE CUENCA FLUVIAL DE CATALUÑA","08108 Lliçà de Vall"]
["08106 Llinars del Vallès",10116,"Llinars del Vallès","Barcelona","Cataluña",365.15900804966969,"No",10116,5039,5077,"CUENCAS INTERNAS DE CATALUÑA","DISTRITO DE CUENCA FLUVIAL DE CATALUÑA","08106 Llinars del Vallès"]
["08109 Lluçà",271,"Lluçà","Barcelona","Cataluña",5.0812627031567583,"Sí",271,134,137,"CUENCAS INTERNAS DE CATALUÑA","DISTRITO DE CUENCA FLUVIAL DE CATALUÑA","08109 Lluçà"]
["08110 Malgrat de Mar",18950,"Malgrat de Mar","Barcelona","Cataluña",2155.5646555646554,"No",18950,9428,9522,"CUENCAS INTERNAS DE CATALUÑA","DISTRITO DE CUENCA FLUVIAL DE CATALUÑA","08110 Malgrat de Mar"]
["08111 Malla",276,"Malla","Barcelona","Cataluña",25.064083685706198,"No",276,141,135,"CUENCAS INTERNAS DE CATALUÑA","DISTRITO DE CUENCA FLUVIAL DE CATALUÑA","08111 Malla"]
["08112 Manlleu",20804,"Manlleu","Barcelona","Cataluña",1202.9517303764451,"No",20804,10491,10313,"CUENCAS INTERNAS DE CATALUÑA","DISTRITO DE CUENCA FLUVIAL DE CATALUÑA","08112 Manlleu"]
["08113 Manresa",78192,"Manresa","Barcelona","Cataluña",1878.3781836002252,"No",78192,38330,39862,"CUENCAS INTERNAS DE CATALUÑA","DISTRITO DE CUENCA FLUVIAL DE CATALUÑA","08113 Manresa"]
["08242 Marganell",271,"Marganell","Barcelona","Cataluña",20.295216769390919,"No",271,135,136,"CUENCAS INTERNAS DE CATALUÑA","DISTRITO DE CUENCA FLUVIAL DE CATALUÑA","08242 Marganell"]
["08114 Martorell",28667,"Martorell","Barcelona","Cataluña",2231.7459576025099,"No",28667,14623,14044,"CUENCAS INTERNAS DE CATALUÑA","DISTRITO DE CUENCA FLUVIAL DE CATALUÑA","08114 Martorell"]
["08115 Martorelles",4823,"Martorelles","Barcelona","Cataluña",1318.5881838313696,"No",4823,2434,2389,"CUENCAS INTERNAS DE CATALUÑA","DISTRITO DE CUENCA FLUVIAL DE CATALUÑA","08115 Martorelles"]
["08116 Masies de Roda Les",704,"Masies de Roda Les","Barcelona","Cataluña",43.38349879043848,"No",704,357,347,"CUENCAS INTERNAS DE CATALUÑA","DISTRITO DE CUENCA FLUVIAL DE CATALUÑA","08116 Masies de Roda Les"]
["08117 Masies de Voltregà Les",3178,"Masies de Voltregà Les","Barcelona","Cataluña",143.22521091805152,"No",3178,1565,1613,"CUENCAS INTERNAS DE CATALUÑA","DISTRITO DE CUENCA FLUVIAL DE CATALUÑA","08117 Masies de Voltregà Les"]
["08118 Masnou El",23848,"Masnou El","Barcelona","Cataluña",7086.8622032034709,"No",23848,11505,12343,"CUENCAS INTERNAS DE CATALUÑA","DISTRITO DE CUENCA FLUVIAL DE CATALUÑA","08118 Masnou El"]
["08119 Masquefa",9623,"Masquefa","Barcelona","Cataluña",551.65415990690155,"No",9623,4904,4719,"CUENCAS INTERNAS DE CATALUÑA","DISTRITO DE CUENCA FLUVIAL DE CATALUÑA","08119 Masquefa"]
["08120 Matadepera",9672,"Matadepera","Barcelona","Cataluña",381.28878131085759,"No",9672,4844,4828,"CUENCAS INTERNAS DE CATALUÑA","DISTRITO DE CUENCA FLUVIAL DE CATALUÑA","08120 Matadepera"]
["08121 Mataró",129120,"Mataró","Barcelona","Cataluña",5789.6962776988003,"No",129120,64086,65034,"CUENCAS INTERNAS DE CATALUÑA","DISTRITO DE CUENCA FLUVIAL DE CATALUÑA","08121 Mataró"]
["08122 Mediona",2419,"Mediona","Barcelona","Cataluña",50.37987970476015,"No",2419,1228,1191,"CUENCAS INTERNAS DE CATALUÑA","DISTRITO DE CUENCA FLUVIAL DE CATALUÑA","08122 Mediona"]
["08138 Moià",6474,"Moià","Barcelona","Cataluña",85.276106751881287,"No",6474,3329,3145,"CUENCAS INTERNAS DE CATALUÑA","DISTRITO DE CUENCA FLUVIAL DE CATALUÑA","08138 Moià"]
["08123 Molins de Rei",26104,"Molins de Rei","Barcelona","Cataluña",1660.359116900629,"No",26104,12718,13386,"CUENCAS INTERNAS DE CATALUÑA","DISTRITO DE CUENCA FLUVIAL DE CATALUÑA","08123 Molins de Rei"]
["08124 Mollet del Vallès",51151,"Mollet del Vallès","Barcelona","Cataluña",4729.1100386457356,"No",51151,25180,25971,"CUENCAS INTERNAS DE CATALUÑA","DISTRITO DE CUENCA FLUVIAL DE CATALUÑA","08124 Mollet del Vallès"]
["08128 Monistrol de Calders",716,"Monistrol de Calders","Barcelona","Cataluña",32.585000887440671,"No",716,380,336,"CUENCAS INTERNAS DE CATALUÑA","DISTRITO DE CUENCA FLUVIAL DE CATALUÑA","08128 Monistrol de Calders"]
["08127 Monistrol de Montserrat",3178,"Monistrol de Montserrat","Barcelona","Cataluña",266.78307295820287,"No",3178,1637,1541,"CUENCAS INTERNAS DE CATALUÑA","DISTRITO DE CUENCA FLUVIAL DE CATALUÑA","08127 Monistrol de Montserrat"]
["08125 Montcada i Reixac",36794,"Montcada i Reixac","Barcelona","Cataluña",1568.1912141398902,"No",36794,18179,18615,"CUENCAS INTERNAS DE CATALUÑA","DISTRITO DE CUENCA FLUVIAL DE CATALUÑA","08125 Montcada i Reixac"]
["08130 Montclar",136,"Montclar","Barcelona","Cataluña",6.1054903936618192,"Sí",136,70,66,"CUENCAS INTERNAS DE CATALUÑA","DISTRITO DE CUENCA FLUVIAL DE CATALUÑA","08130 Montclar"]
["08131 Montesquiu",1048,"Montesquiu","Barcelona","Cataluña",216.2072949331573,"No",1048,525,523,"CUENCAS INTERNAS DE CATALUÑA","DISTRITO DE CUENCA FLUVIAL DE CATALUÑA","08131 Montesquiu"]
["08126 Montgat",12260,"Montgat","Barcelona","Cataluña",4281.3242072915209,"No",12260,6036,6224,"CUENCAS INTERNAS DE CATALUÑA","DISTRITO DE CUENCA FLUVIAL DE CATALUÑA","08126 Montgat"]
["08132 Montmajor",472,"Montmajor","Barcelona","Cataluña",6.1749714800046052,"Sí",472,236,236,"CUENCAS INTERNAS DE CATALUÑA","DISTRITO DE CUENCA FLUVIAL DE CATALUÑA","08132 Montmajor"]
["08133 Montmaneu",158,"Montmaneu","Barcelona","Cataluña",11.618536389439809,"Sí",158,87,71,"CUENCAS INTERNAS DE CATALUÑA","DISTRITO DE CUENCA FLUVIAL DE CATALUÑA -- EBRO","08133 Montmaneu"]
["08135 Montmeló",8798,"Montmeló","Barcelona","Cataluña",2267.292031749304,"No",8798,4288,4510,"CUENCAS INTERNAS DE CATALUÑA","DISTRITO DE CUENCA FLUVIAL DE CATALUÑA","08135 Montmeló"]
["08136 Montornès del Vallès",16804,"Montornès del Vallès","Barcelona","Cataluña",1640.310803951427,"No",16804,8482,8322,"CUENCAS INTERNAS DE CATALUÑA","DISTRITO DE CUENCA FLUVIAL DE CATALUÑA","08136 Montornès del Vallès"]
["08137 Montseny",362,"Montseny","Barcelona","Cataluña",13.524166040893791,"No",362,189,173,"CUENCAS INTERNAS DE CATALUÑA","DISTRITO DE CUENCA FLUVIAL DE CATALUÑA","08137 Montseny"]
["08129 Muntanyola",655,"Muntanyola","Barcelona","Cataluña",16.17248011772578,"No",655,350,305,"CUENCAS INTERNAS DE CATALUÑA","DISTRITO DE CUENCA FLUVIAL DE CATALUÑA","08129 Muntanyola"]
["08139 Mura",231,"Mura","Barcelona","Cataluña",4.8214900700264032,"Sí",231,121,110,"CUENCAS INTERNAS DE CATALUÑA","DISTRITO DE CUENCA FLUVIAL DE CATALUÑA","08139 Mura"]
["08140 Navarcles",6068,"Navarcles","Barcelona","Cataluña",1099.7136539925334,"No",6068,2972,3096,"CUENCAS INTERNAS DE CATALUÑA","DISTRITO DE CUENCA FLUVIAL DE CATALUÑA","08140 Navarcles"]
["08141 Navàs",5973,"Navàs","Barcelona","Cataluña",73.993964530467238,"No",5973,2951,3022,"CUENCAS INTERNAS DE CATALUÑA","DISTRITO DE CUENCA FLUVIAL DE CATALUÑA","08141 Navàs"]
["08142 Nou de Berguedà La",176,"Nou de Berguedà La","Barcelona","Cataluña",7.0707151867713351,"Sí",176,94,82,"CUENCAS INTERNAS DE CATALUÑA","DISTRITO DE CUENCA FLUVIAL DE CATALUÑA","08142 Nou de Berguedà La"]
["08143 Òdena",3681,"Òdena","Barcelona","Cataluña",70.39824272522327,"No",3681,1896,1785,"CUENCAS INTERNAS DE CATALUÑA","DISTRITO DE CUENCA FLUVIAL DE CATALUÑA","08143 Òdena"]
["08145 Olèrdola",3847,"Olèrdola","Barcelona","Cataluña",128.30176093916754,"No",3847,1989,1858,"CUENCAS INTERNAS DE CATALUÑA","DISTRITO DE CUENCA FLUVIAL DE CATALUÑA","08145 Olèrdola"]
["08146 Olesa de Bonesvalls",1923,"Olesa de Bonesvalls","Barcelona","Cataluña",62.312059311489016,"No",1923,1004,919,"CUENCAS INTERNAS DE CATALUÑA","DISTRITO DE CUENCA FLUVIAL DE CATALUÑA","08146 Olesa de Bonesvalls"]
["08147 Olesa de Montserrat",24132,"Olesa de Montserrat","Barcelona","Cataluña",1445.8375312869368,"No",24132,12061,12071,"CUENCAS INTERNAS DE CATALUÑA","DISTRITO DE CUENCA FLUVIAL DE CATALUÑA","08147 Olesa de Montserrat"]
["08148 Olivella",4127,"Olivella","Barcelona","Cataluña",106.32843557815927,"No",4127,2129,1998,"CUENCAS INTERNAS DE CATALUÑA","DISTRITO DE CUENCA FLUVIAL DE CATALUÑA","08148 Olivella"]
["08149 Olost",1190,"Olost","Barcelona","Cataluña",41.060393282657678,"No",1190,578,612,"CUENCAS INTERNAS DE CATALUÑA","DISTRITO DE CUENCA FLUVIAL DE CATALUÑA","08149 Olost"]
["08144 Olvan",874,"Olvan","Barcelona","Cataluña",24.681406530666283,"No",874,425,449,"CUENCAS INTERNAS DE CATALUÑA","DISTRITO DE CUENCA FLUVIAL DE CATALUÑA","08144 Olvan"]
["08150 Orís",339,"Orís","Barcelona","Cataluña",12.53679679294685,"No",339,174,165,"CUENCAS INTERNAS DE CATALUÑA","DISTRITO DE CUENCA FLUVIAL DE CATALUÑA","08150 Orís"]
["08151 Oristà",547,"Oristà","Barcelona","Cataluña",7.9749932205267875,"Sí",547,282,265,"CUENCAS INTERNAS DE CATALUÑA","DISTRITO DE CUENCA FLUVIAL DE CATALUÑA","08151 Oristà"]
["08152 Orpí",154,"Orpí","Barcelona","Cataluña",10.089000709374673,"Sí",154,78,76,"CUENCAS INTERNAS DE CATALUÑA","DISTRITO DE CUENCA FLUVIAL DE CATALUÑA","08152 Orpí"]
["08153 Òrrius",779,"Òrrius","Barcelona","Cataluña",140.89092257329403,"No",779,397,382,"CUENCAS INTERNAS DE CATALUÑA","DISTRITO DE CUENCA FLUVIAL DE CATALUÑA","08153 Òrrius"]
["08154 Pacs del Penedès",915,"Pacs del Penedès","Barcelona","Cataluña",149.91152762304213,"No",915,466,449,"CUENCAS INTERNAS DE CATALUÑA","DISTRITO DE CUENCA FLUVIAL DE CATALUÑA","08154 Pacs del Penedès"]
["08155 Palafolls",9646,"Palafolls","Barcelona","Cataluña",584.12106311729053,"No",9646,4840,4806,"CUENCAS INTERNAS DE CATALUÑA","DISTRITO DE CUENCA FLUVIAL DE CATALUÑA","08155 Palafolls"]
["08156 Palau-solità i Plegamans",14917,"Palau-solità i Plegamans","Barcelona","Cataluña",992.7855498023348,"No",14917,7294,7623,"CUENCAS INTERNAS DE CATALUÑA","DISTRITO DE CUENCA FLUVIAL DE CATALUÑA","08156 Palau-solità i Plegamans"]
["08157 Pallejà",11636,"Pallejà","Barcelona","Cataluña",1374.8774118842532,"No",11636,5799,5837,"CUENCAS INTERNAS DE CATALUÑA","DISTRITO DE CUENCA FLUVIAL DE CATALUÑA","08157 Pallejà"]
["08905 Palma de Cervelló La",3015,"Palma de Cervelló La","Barcelona","Cataluña",559.02694083399774,"No",3015,1489,1526,"CUENCAS INTERNAS DE CATALUÑA","DISTRITO DE CUENCA FLUVIAL DE CATALUÑA","08905 Palma de Cervelló La"]
["08158 Papiol El",4232,"Papiol El","Barcelona","Cataluña",478.02464673391245,"No",4232,2102,2130,"CUENCAS INTERNAS DE CATALUÑA","DISTRITO DE CUENCA FLUVIAL DE CATALUÑA","08158 Papiol El"]
["08159 Parets del Vallès",18907,"Parets del Vallès","Barcelona","Cataluña",2065.1651520447394,"No",18907,9416,9491,"CUENCAS INTERNAS DE CATALUÑA","DISTRITO DE CUENCA FLUVIAL DE CATALUÑA","08159 Parets del Vallès"]
["08160 Perafita",412,"Perafita","Barcelona","Cataluña",20.964360587002098,"No",412,211,201,"CUENCAS INTERNAS DE CATALUÑA","DISTRITO DE CUENCA FLUVIAL DE CATALUÑA","08160 Perafita"]
["08161 Piera",16411,"Piera","Barcelona","Cataluña",286.80431036591972,"No",16411,8386,8025,"CUENCAS INTERNAS DE CATALUÑA","DISTRITO DE CUENCA FLUVIAL DE CATALUÑA","08161 Piera"]
["08163 Pineda de Mar",27974,"Pineda de Mar","Barcelona","Cataluña",2716.2915347717171,"No",27974,13933,14041,"CUENCAS INTERNAS DE CATALUÑA","DISTRITO DE CUENCA FLUVIAL DE CATALUÑA","08163 Pineda de Mar"]
["08164 Pla del Penedès El",1306,"Pla del Penedès El","Barcelona","Cataluña",137.4997367922343,"No",1306,656,650,"CUENCAS INTERNAS DE CATALUÑA","DISTRITO DE CUENCA FLUVIAL DE CATALUÑA","08164 Pla del Penedès El"]
["08165 Pobla de Claramunt La",2207,"Pobla de Claramunt La","Barcelona","Cataluña",118.96419754417362,"No",2207,1124,1083,"CUENCAS INTERNAS DE CATALUÑA","DISTRITO DE CUENCA FLUVIAL DE CATALUÑA","08165 Pobla de Claramunt La"]
["08166 Pobla de Lillet La",1063,"Pobla de Lillet La","Barcelona","Cataluña",20.634664831507962,"No",1063,513,550,"CUENCAS INTERNAS DE CATALUÑA","DISTRITO DE CUENCA FLUVIAL DE CATALUÑA","08166 Pobla de Lillet La"]
["08167 Polinyà",8494,"Polinyà","Barcelona","Cataluña",963.58873388478958,"No",8494,4309,4185,"CUENCAS INTERNAS DE CATALUÑA","DISTRITO DE CUENCA FLUVIAL DE CATALUÑA","08167 Polinyà"]
["08182 Pont de Vilomara i Rocafort El",4016,"Pont de Vilomara i Rocafort El","Barcelona","Cataluña",146.25920948645393,"No",4016,2072,1944,"CUENCAS INTERNAS DE CATALUÑA","DISTRITO DE CUENCA FLUVIAL DE CATALUÑA","08182 Pont de Vilomara i Rocafort El"]
["08168 Pontons",523,"Pontons","Barcelona","Cataluña",20.284290340721778,"No",523,286,237,"CUENCAS INTERNAS DE CATALUÑA","DISTRITO DE CUENCA FLUVIAL DE CATALUÑA","08168 Pontons"]
["08169 Prat de Llobregat El",65532,"Prat de Llobregat El","Barcelona","Cataluña",1948.1249163904454,"No",65532,32073,33459,"CUENCAS INTERNAS DE CATALUÑA","DISTRITO DE CUENCA FLUVIAL DE CATALUÑA","08169 Prat de Llobregat El"]
["08171 Prats de Lluçanès",2634,"Prats de Lluçanès","Barcelona","Cataluña",195.86701269343172,"No",2634,1320,1314,"CUENCAS INTERNAS DE CATALUÑA","DISTRITO DE CUENCA FLUVIAL DE CATALUÑA","08171 Prats de Lluçanès"]
["08170 Prats de Rei Els",551,"Prats de Rei Els","Barcelona","Cataluña",21.172275462447068,"No",551,296,255,"CUENCAS INTERNAS DE CATALUÑA","DISTRITO DE CUENCA FLUVIAL DE CATALUÑA","08170 Prats de Rei Els"]
["08230 Premià de Dalt",10419,"Premià de Dalt","Barcelona","Cataluña",1603.4904658571495,"No",10419,5203,5216,"CUENCAS INTERNAS DE CATALUÑA","DISTRITO DE CUENCA FLUVIAL DE CATALUÑA","08230 Premià de Dalt"]
["08172 Premià de Mar",28523,"Premià de Mar","Barcelona","Cataluña",14527.017563517185,"No",28523,13902,14621,"CUENCAS INTERNAS DE CATALUÑA","DISTRITO DE CUENCA FLUVIAL DE CATALUÑA","08172 Premià de Mar"]
["08174 Puigdàlber",551,"Puigdàlber","Barcelona","Cataluña",853.73411837620074,"No",551,265,286,"CUENCAS INTERNAS DE CATALUÑA","DISTRITO DE CUENCA FLUVIAL DE CATALUÑA","08174 Puigdàlber"]
["08175 Puig-reig",4289,"Puig-reig","Barcelona","Cataluña",92.923489541568486,"No",4289,2120,2169,"CUENCAS INTERNAS DE CATALUÑA","DISTRITO DE CUENCA FLUVIAL DE CATALUÑA","08175 Puig-reig"]
["08176 Pujalt",206,"Pujalt","Barcelona","Cataluña",6.5336537403296377,"Sí",206,114,92,"CUENCAS INTERNAS DE CATALUÑA","EBRO","08176 Pujalt"]
["08177 Quar La",51,"Quar La","Barcelona","Cataluña",1.344326940311884,"Sí",51,28,23,"CUENCAS INTERNAS DE CATALUÑA","DISTRITO DE CUENCA FLUVIAL DE CATALUÑA","08177 Quar La"]
["08178 Rajadell",549,"Rajadell","Barcelona","Cataluña",12.077647791635101,"Sí",549,278,271,"CUENCAS INTERNAS DE CATALUÑA","DISTRITO DE CUENCA FLUVIAL DE CATALUÑA","08178 Rajadell"]
["08179 Rellinars",868,"Rellinars","Barcelona","Cataluña",48.620913714682622,"No",868,448,420,"CUENCAS INTERNAS DE CATALUÑA","DISTRITO DE CUENCA FLUVIAL DE CATALUÑA","08179 Rellinars"]
["08180 Ripollet",39139,"Ripollet","Barcelona","Cataluña",8889.3522190334206,"No",39139,19350,19789,"CUENCAS INTERNAS DE CATALUÑA","DISTRITO DE CUENCA FLUVIAL DE CATALUÑA","08180 Ripollet"]
["08181 Roca del Vallès La",10676,"Roca del Vallès La","Barcelona","Cataluña",290.46151167314639,"No",10676,5334,5342,"CUENCAS INTERNAS DE CATALUÑA","DISTRITO DE CUENCA FLUVIAL DE CATALUÑA","08181 Roca del Vallès La"]
["08183 Roda de Ter",6449,"Roda de Ter","Barcelona","Cataluña",2895.5639367816093,"No",6449,3217,3232,"CUENCAS INTERNAS DE CATALUÑA","DISTRITO DE CUENCA FLUVIAL DE CATALUÑA","08183 Roda de Ter"]
["08184 Rubí",78549,"Rubí","Barcelona","Cataluña",2441.5785449187788,"No",78549,38782,39767,"CUENCAS INTERNAS DE CATALUÑA","DISTRITO DE CUENCA FLUVIAL DE CATALUÑA","08184 Rubí"]
["08185 Rubió",236,"Rubió","Barcelona","Cataluña",4.914813372457469,"Sí",236,140,96,"CUENCAS INTERNAS DE CATALUÑA","DISTRITO DE CUENCA FLUVIAL DE CATALUÑA","08185 Rubió"]
["08901 Rupit i Pruit",296,"Rupit i Pruit","Barcelona","Cataluña",6.0308838301002226,"Sí",296,149,147,"CUENCAS INTERNAS DE CATALUÑA","DISTRITO DE CUENCA FLUVIAL DE CATALUÑA","08901 Rupit i Pruit"]
["08187 Sabadell",216204,"Sabadell","Barcelona","Cataluña",5761.0985897320743,"No",216204,105076,111128,"CUENCAS INTERNAS DE CATALUÑA","DISTRITO DE CUENCA FLUVIAL DE CATALUÑA","08187 Sabadell"]
["08188 Sagàs",151,"Sagàs","Barcelona","Cataluña",3.3665694746234234,"Sí",151,79,72,"CUENCAS INTERNAS DE CATALUÑA","DISTRITO DE CUENCA FLUVIAL DE CATALUÑA","08188 Sagàs"]
["08190 Saldes",283,"Saldes","Barcelona","Cataluña",4.2255618029997395,"Sí",283,163,120,"CUENCAS INTERNAS DE CATALUÑA","DISTRITO DE CUENCA FLUVIAL DE CATALUÑA","08190 Saldes"]
["08191 Sallent",6717,"Sallent","Barcelona","Cataluña",102.85929546665687,"No",6717,3249,3468,"CUENCAS INTERNAS DE CATALUÑA","DISTRITO DE CUENCA FLUVIAL DE CATALUÑA","08191 Sallent"]
["08194 Sant Adrià de Besòs",37283,"Sant Adrià de Besòs","Barcelona","Cataluña",9554.8436699128652,"No",37283,18357,18926,"CUENCAS INTERNAS DE CATALUÑA","DISTRITO DE CUENCA FLUVIAL DE CATALUÑA","08194 Sant Adrià de Besòs"]
["08195 Sant Agustí de Lluçanès",92,"Sant Agustí de Lluçanès","Barcelona","Cataluña",6.7667956280616082,"Sí",92,47,45,"CUENCAS INTERNAS DE CATALUÑA","DISTRITO DE CUENCA FLUVIAL DE CATALUÑA","08195 Sant Agustí de Lluçanès"]
["08196 Sant Andreu de la Barca",27175,"Sant Andreu de la Barca","Barcelona","Cataluña",4818.0915570369843,"No",27175,13417,13758,"CUENCAS INTERNAS DE CATALUÑA","DISTRITO DE CUENCA FLUVIAL DE CATALUÑA","08196 Sant Andreu de la Barca"]
["08197 Sant Andreu de Llavaneres",11150,"Sant Andreu de Llavaneres","Barcelona","Cataluña",939.83259179277502,"No",11150,5518,5632,"CUENCAS INTERNAS DE CATALUÑA","DISTRITO DE CUENCA FLUVIAL DE CATALUÑA","08197 Sant Andreu de Llavaneres"]
["08198 Sant Antoni de Vilamajor",6383,"Sant Antoni de Vilamajor","Barcelona","Cataluña",458.46858563626466,"No",6383,3173,3210,"CUENCAS INTERNAS DE CATALUÑA","DISTRITO DE CUENCA FLUVIAL DE CATALUÑA","08198 Sant Antoni de Vilamajor"]
["08199 Sant Bartomeu del Grau",913,"Sant Bartomeu del Grau","Barcelona","Cataluña",26.34403637958496,"No",913,485,428,"CUENCAS INTERNAS DE CATALUÑA","DISTRITO DE CUENCA FLUVIAL DE CATALUÑA","08199 Sant Bartomeu del Grau"]
["08200 Sant Boi de Llobregat",83755,"Sant Boi de Llobregat","Barcelona","Cataluña",3804.1923103127201,"No",83755,40823,42932,"CUENCAS INTERNAS DE CATALUÑA","DISTRITO DE CUENCA FLUVIAL DE CATALUÑA","08200 Sant Boi de Llobregat"]
["08201 Sant Boi de Lluçanès",573,"Sant Boi de Lluçanès","Barcelona","Cataluña",28.574848149367167,"No",573,293,280,"CUENCAS INTERNAS DE CATALUÑA","DISTRITO DE CUENCA FLUVIAL DE CATALUÑA","08201 Sant Boi de Lluçanès"]
["08203 Sant Cebrià de Vallalta",3570,"Sant Cebrià de Vallalta","Barcelona","Cataluña",226.80058701328406,"No",3570,1858,1712,"CUENCAS INTERNAS DE CATALUÑA","DISTRITO DE CUENCA FLUVIAL DE CATALUÑA","08203 Sant Cebrià de Vallalta"]
["08202 Sant Celoni",18176,"Sant Celoni","Barcelona","Cataluña",278.33458647192231,"No",18176,9063,9113,"CUENCAS INTERNAS DE CATALUÑA","DISTRITO DE CUENCA FLUVIAL DE CATALUÑA","08202 Sant Celoni"]
["08204 Sant Climent de Llobregat",4193,"Sant Climent de Llobregat","Barcelona","Cataluña",388.82206573105185,"No",4193,2099,2094,"CUENCAS INTERNAS DE CATALUÑA","DISTRITO DE CUENCA FLUVIAL DE CATALUÑA","08204 Sant Climent de Llobregat"]
["08205 Sant Cugat del Vallès",94012,"Sant Cugat del Vallès","Barcelona","Cataluña",1949.8900734226575,"No",94012,45711,48301,"CUENCAS INTERNAS DE CATALUÑA","DISTRITO DE CUENCA FLUVIAL DE CATALUÑA","08205 Sant Cugat del Vallès"]
["08206 Sant Cugat Sesgarrigues",1004,"Sant Cugat Sesgarrigues","Barcelona","Cataluña",159.70984983456353,"No",1004,494,510,"CUENCAS INTERNAS DE CATALUÑA","DISTRITO DE CUENCA FLUVIAL DE CATALUÑA","08206 Sant Cugat Sesgarrigues"]
["08207 Sant Esteve de Palautordera",2997,"Sant Esteve de Palautordera","Barcelona","Cataluña",281.37146290628459,"No",2997,1478,1519,"CUENCAS INTERNAS DE CATALUÑA","DISTRITO DE CUENCA FLUVIAL DE CATALUÑA","08207 Sant Esteve de Palautordera"]
["08208 Sant Esteve Sesrovires",7771,"Sant Esteve Sesrovires","Barcelona","Cataluña",420.48135402463049,"No",7771,3910,3861,"CUENCAS INTERNAS DE CATALUÑA","DISTRITO DE CUENCA FLUVIAL DE CATALUÑA","08208 Sant Esteve Sesrovires"]
["08210 Sant Feliu de Codines",6406,"Sant Feliu de Codines","Barcelona","Cataluña",426.16036562244295,"No",6406,3234,3172,"CUENCAS INTERNAS DE CATALUÑA","DISTRITO DE CUENCA FLUVIAL DE CATALUÑA","08210 Sant Feliu de Codines"]
["08211 Sant Feliu de Llobregat",45463,"Sant Feliu de Llobregat","Barcelona","Cataluña",3796.2073831611824,"No",45463,22089,23374,"CUENCAS INTERNAS DE CATALUÑA","DISTRITO DE CUENCA FLUVIAL DE CATALUÑA","08211 Sant Feliu de Llobregat"]
["08212 Sant Feliu Sasserra",617,"Sant Feliu Sasserra","Barcelona","Cataluña",26.775214049827071,"No",617,329,288,"CUENCAS INTERNAS DE CATALUÑA","DISTRITO DE CUENCA FLUVIAL DE CATALUÑA","08212 Sant Feliu Sasserra"]
["08209 Sant Fost de Campsentelles",8997,"Sant Fost de Campsentelles","Barcelona","Cataluña",681.05947631772176,"No",8997,4478,4519,"CUENCAS INTERNAS DE CATALUÑA","DISTRITO DE CUENCA FLUVIAL DE CATALUÑA","08209 Sant Fost de Campsentelles"]
["08213 Sant Fruitós de Bages",8936,"Sant Fruitós de Bages","Barcelona","Cataluña",403.9235185101478,"No",8936,4401,4535,"CUENCAS INTERNAS DE CATALUÑA","DISTRITO DE CUENCA FLUVIAL DE CATALUÑA","08213 Sant Fruitós de Bages"]
["08215 Sant Hipòlit de Voltregà",3547,"Sant Hipòlit de Voltregà","Barcelona","Cataluña",3958.0780724483398,"No",3547,1788,1759,"CUENCAS INTERNAS DE CATALUÑA","DISTRITO DE CUENCA FLUVIAL DE CATALUÑA","08215 Sant Hipòlit de Voltregà"]
["08193 Sant Iscle de Vallalta",1438,"Sant Iscle de Vallalta","Barcelona","Cataluña",80.394480846210612,"No",1438,773,665,"CUENCAS INTERNAS DE CATALUÑA","DISTRITO DE CUENCA FLUVIAL DE CATALUÑA","08193 Sant Iscle de Vallalta"]
["08216 Sant Jaume de Frontanyà",28,"Sant Jaume de Frontanyà","Barcelona","Cataluña",1.3155051069787544,"Sí",28,17,11,"CUENCAS INTERNAS DE CATALUÑA","DISTRITO DE CUENCA FLUVIAL DE CATALUÑA","08216 Sant Jaume de Frontanyà"]
["08218 Sant Joan de Vilatorrada",10871,"Sant Joan de Vilatorrada","Barcelona","Cataluña",664.10497635832712,"No",10871,5438,5433,"CUENCAS INTERNAS DE CATALUÑA","DISTRITO DE CUENCA FLUVIAL DE CATALUÑA","08218 Sant Joan de Vilatorrada"]
["08217 Sant Joan Despí",34130,"Sant Joan Despí","Barcelona","Cataluña",6075.5482768442043,"No",34130,16622,17508,"CUENCAS INTERNAS DE CATALUÑA","DISTRITO DE CUENCA FLUVIAL DE CATALUÑA","08217 Sant Joan Despí"]
["08903 Sant Julià de Cerdanyola",235,"Sant Julià de Cerdanyola","Barcelona","Cataluña",20.171843505636357,"No",235,131,104,"CUENCAS INTERNAS DE CATALUÑA","DISTRITO DE CUENCA FLUVIAL DE CATALUÑA","08903 Sant Julià de Cerdanyola"]
["08220 Sant Julià de Vilatorta",3152,"Sant Julià de Vilatorta","Barcelona","Cataluña",194.5763328756592,"No",3152,1566,1586,"CUENCAS INTERNAS DE CATALUÑA","DISTRITO DE CUENCA FLUVIAL DE CATALUÑA","08220 Sant Julià de Vilatorta"]
["08221 Sant Just Desvern",19379,"Sant Just Desvern","Barcelona","Cataluña",2488.1556140463504,"No",19379,9331,10048,"CUENCAS INTERNAS DE CATALUÑA","DISTRITO DE CUENCA FLUVIAL DE CATALUÑA","08221 Sant Just Desvern"]
["08222 Sant Llorenç d'Hortons",2459,"Sant Llorenç d'Hortons","Barcelona","Cataluña",126.56924763615588,"No",2459,1244,1215,"CUENCAS INTERNAS DE CATALUÑA","DISTRITO DE CUENCA FLUVIAL DE CATALUÑA","08222 Sant Llorenç d'Hortons"]
["08223 Sant Llorenç Savall",2514,"Sant Llorenç Savall","Barcelona","Cataluña",61.006979159588816,"No",2514,1262,1252,"CUENCAS INTERNAS DE CATALUÑA","DISTRITO DE CUENCA FLUVIAL DE CATALUÑA","08223 Sant Llorenç Savall"]
["08225 Sant Martí d'Albars",107,"Sant Martí d'Albars","Barcelona","Cataluña",7.2679848662894555,"Sí",107,53,54,"CUENCAS INTERNAS DE CATALUÑA","DISTRITO DE CUENCA FLUVIAL DE CATALUÑA","08225 Sant Martí d'Albars"]
["08224 Sant Martí de Centelles",1186,"Sant Martí de Centelles","Barcelona","Cataluña",45.805477346372058,"No",1186,609,577,"CUENCAS INTERNAS DE CATALUÑA","DISTRITO DE CUENCA FLUVIAL DE CATALUÑA","08224 Sant Martí de Centelles"]
["08226 Sant Martí de Tous",1236,"Sant Martí de Tous","Barcelona","Cataluña",31.684082829370141,"No",1236,634,602,"CUENCAS INTERNAS DE CATALUÑA","DISTRITO DE CUENCA FLUVIAL DE CATALUÑA","08226 Sant Martí de Tous"]
["08227 Sant Martí Sarroca",3286,"Sant Martí Sarroca","Barcelona","Cataluña",93.135573764451465,"No",3286,1616,1670,"CUENCAS INTERNAS DE CATALUÑA","DISTRITO DE CUENCA FLUVIAL DE CATALUÑA","08227 Sant Martí Sarroca"]
["08228 Sant Martí Sesgueioles",344,"Sant Martí Sesgueioles","Barcelona","Cataluña",88.999275587291734,"No",344,182,162,"CUENCAS INTERNAS DE CATALUÑA","DISTRITO DE CUENCA FLUVIAL DE CATALUÑA","08228 Sant Martí Sesgueioles"]
["08229 Sant Mateu de Bages",614,"Sant Mateu de Bages","Barcelona","Cataluña",6.0006045169267086,"Sí",614,315,299,"CUENCAS INTERNAS DE CATALUÑA","DISTRITO DE CUENCA FLUVIAL DE CATALUÑA","08229 Sant Mateu de Bages"]
["08231 Sant Pere de Ribes",31525,"Sant Pere de Ribes","Barcelona","Cataluña",771.15375658654591,"No",31525,15727,15798,"CUENCAS INTERNAS DE CATALUÑA","DISTRITO DE CUENCA FLUVIAL DE CATALUÑA","08231 Sant Pere de Ribes"]
["08232 Sant Pere de Riudebitlles",2411,"Sant Pere de Riudebitlles","Barcelona","Cataluña",451.91280388371354,"No",2411,1218,1193,"CUENCAS INTERNAS DE CATALUÑA","DISTRITO DE CUENCA FLUVIAL DE CATALUÑA","08232 Sant Pere de Riudebitlles"]
["08233 Sant Pere de Torelló",2488,"Sant Pere de Torelló","Barcelona","Cataluña",45.238666695759058,"No",2488,1286,1202,"CUENCAS INTERNAS DE CATALUÑA","DISTRITO DE CUENCA FLUVIAL DE CATALUÑA","08233 Sant Pere de Torelló"]
["08234 Sant Pere de Vilamajor",4671,"Sant Pere de Vilamajor","Barcelona","Cataluña",135.60552176626845,"No",4671,2350,2321,"CUENCAS INTERNAS DE CATALUÑA","DISTRITO DE CUENCA FLUVIAL DE CATALUÑA","08234 Sant Pere de Vilamajor"]
["08189 Sant Pere Sallavinera",159,"Sant Pere Sallavinera","Barcelona","Cataluña",7.2186759404708942,"Sí",159,84,75,"CUENCAS INTERNAS DE CATALUÑA","DISTRITO DE CUENCA FLUVIAL DE CATALUÑA -- EBRO","08189 Sant Pere Sallavinera"]
["08235 Sant Pol de Mar",5538,"Sant Pol de Mar","Barcelona","Cataluña",744.35483870967732,"No",5538,2750,2788,"CUENCAS INTERNAS DE CATALUÑA","DISTRITO DE CUENCA FLUVIAL DE CATALUÑA","08235 Sant Pol de Mar"]
["08236 Sant Quintí de Mediona",2367,"Sant Quintí de Mediona","Barcelona","Cataluña",170.96548187419194,"No",2367,1214,1153,"CUENCAS INTERNAS DE CATALUÑA","DISTRITO DE CUENCA FLUVIAL DE CATALUÑA","08236 Sant Quintí de Mediona"]
["08237 Sant Quirze de Besora",2145,"Sant Quirze de Besora","Barcelona","Cataluña",262.93853735075635,"No",2145,1035,1110,"CUENCAS INTERNAS DE CATALUÑA","DISTRITO DE CUENCA FLUVIAL DE CATALUÑA","08237 Sant Quirze de Besora"]
["08238 Sant Quirze del Vallès",20156,"Sant Quirze del Vallès","Barcelona","Cataluña",1393.9142461964038,"No",20156,9875,10281,"CUENCAS INTERNAS DE CATALUÑA","DISTRITO DE CUENCA FLUVIAL DE CATALUÑA","08238 Sant Quirze del Vallès"]
["08239 Sant Quirze Safaja",660,"Sant Quirze Safaja","Barcelona","Cataluña",25.491975821247173,"No",660,361,299,"CUENCAS INTERNAS DE CATALUÑA","DISTRITO DE CUENCA FLUVIAL DE CATALUÑA","08239 Sant Quirze Safaja"]
["08240 Sant Sadurní d'Anoia",12840,"Sant Sadurní d'Anoia","Barcelona","Cataluña",677.50820502538011,"No",12840,6315,6525,"CUENCAS INTERNAS DE CATALUÑA","DISTRITO DE CUENCA FLUVIAL DE CATALUÑA","08240 Sant Sadurní d'Anoia"]
["08241 Sant Sadurní d'Osormort",76,"Sant Sadurní d'Osormort","Barcelona","Cataluña",2.4766187636458437,"Sí",76,47,29,"CUENCAS INTERNAS DE CATALUÑA","DISTRITO DE CUENCA FLUVIAL DE CATALUÑA","08241 Sant Sadurní d'Osormort"]
["08098 Sant Salvador de Guardiola",3243,"Sant Salvador de Guardiola","Barcelona","Cataluña",87.380131865052519,"No",3243,1646,1597,"CUENCAS INTERNAS DE CATALUÑA","DISTRITO DE CUENCA FLUVIAL DE CATALUÑA","08098 Sant Salvador de Guardiola"]
["08262 Sant Vicenç de Castellet",9868,"Sant Vicenç de Castellet","Barcelona","Cataluña",567.46887489577034,"No",9868,4959,4909,"CUENCAS INTERNAS DE CATALUÑA","DISTRITO DE CUENCA FLUVIAL DE CATALUÑA","08262 Sant Vicenç de Castellet"]
["08264 Sant Vicenç de Montalt",6523,"Sant Vicenç de Montalt","Barcelona","Cataluña",825.81244347305596,"No",6523,3280,3243,"CUENCAS INTERNAS DE CATALUÑA","DISTRITO DE CUENCA FLUVIAL DE CATALUÑA","08264 Sant Vicenç de Montalt"]
["08265 Sant Vicenç de Torelló",2077,"Sant Vicenç de Torelló","Barcelona","Cataluña",315.05976579091072,"No",2077,1031,1046,"CUENCAS INTERNAS DE CATALUÑA","DISTRITO DE CUENCA FLUVIAL DE CATALUÑA","08265 Sant Vicenç de Torelló"]
["08263 Sant Vicenç dels Horts",28115,"Sant Vicenç dels Horts","Barcelona","Cataluña",3030.7113520971898,"No",28115,13930,14185,"CUENCAS INTERNAS DE CATALUÑA","DISTRITO DE CUENCA FLUVIAL DE CATALUÑA","08263 Sant Vicenç dels Horts"]
["08243 Santa Cecília de Voltregà",179,"Santa Cecília de Voltregà","Barcelona","Cataluña",20.674327255658618,"No",179,99,80,"CUENCAS INTERNAS DE CATALUÑA","DISTRITO DE CUENCA FLUVIAL DE CATALUÑA","08243 Santa Cecília de Voltregà"]
["08244 Santa Coloma de Cervelló",8273,"Santa Coloma de Cervelló","Barcelona","Cataluña",1111.9773115230043,"No",8273,4041,4232,"CUENCAS INTERNAS DE CATALUÑA","DISTRITO DE CUENCA FLUVIAL DE CATALUÑA","08244 Santa Coloma de Cervelló"]
["08245 Santa Coloma de Gramenet",119289,"Santa Coloma de Gramenet","Barcelona","Cataluña",16815.003805925968,"No",119289,58879,60410,"CUENCAS INTERNAS DE CATALUÑA","DISTRITO DE CUENCA FLUVIAL DE CATALUÑA","08245 Santa Coloma de Gramenet"]
["08246 Santa Eugènia de Berga",2259,"Santa Eugènia de Berga","Barcelona","Cataluña",323.42119203401722,"No",2259,1149,1110,"CUENCAS INTERNAS DE CATALUÑA","DISTRITO DE CUENCA FLUVIAL DE CATALUÑA","08246 Santa Eugènia de Berga"]
["08247 Santa Eulàlia de Riuprimer",1409,"Santa Eulàlia de Riuprimer","Barcelona","Cataluña",101.3647187470774,"No",1409,705,704,"CUENCAS INTERNAS DE CATALUÑA","DISTRITO DE CUENCA FLUVIAL DE CATALUÑA","08247 Santa Eulàlia de Riuprimer"]
["08248 Santa Eulàlia de Ronçana",7538,"Santa Eulàlia de Ronçana","Barcelona","Cataluña",536.17281579639939,"No",7538,3782,3756,"CUENCAS INTERNAS DE CATALUÑA","DISTRITO DE CUENCA FLUVIAL DE CATALUÑA","08248 Santa Eulàlia de Ronçana"]
["08249 Santa Fe del Penedès",378,"Santa Fe del Penedès","Barcelona","Cataluña",114.08909815284316,"No",378,183,195,"CUENCAS INTERNAS DE CATALUÑA","DISTRITO DE CUENCA FLUVIAL DE CATALUÑA","08249 Santa Fe del Penedès"]
["08250 Santa Margarida de Montbui",10192,"Santa Margarida de Montbui","Barcelona","Cataluña",367.9709453145424,"No",10192,5145,5047,"CUENCAS INTERNAS DE CATALUÑA","DISTRITO DE CUENCA FLUVIAL DE CATALUÑA","08250 Santa Margarida de Montbui"]
["08251 Santa Margarida i els Monjos",7664,"Santa Margarida i els Monjos","Barcelona","Cataluña",439.6486940758715,"No",7664,3908,3756,"CUENCAS INTERNAS DE CATALUÑA","DISTRITO DE CUENCA FLUVIAL DE CATALUÑA","08251 Santa Margarida i els Monjos"]
["08253 Santa Maria de Besora",161,"Santa Maria de Besora","Barcelona","Cataluña",6.4576681801408657,"Sí",161,85,76,"CUENCAS INTERNAS DE CATALUÑA","DISTRITO DE CUENCA FLUVIAL DE CATALUÑA","08253 Santa Maria de Besora"]
["08256 Santa Maria de Martorelles",882,"Santa Maria de Martorelles","Barcelona","Cataluña",198.58603143153061,"No",882,442,440,"CUENCAS INTERNAS DE CATALUÑA","DISTRITO DE CUENCA FLUVIAL DE CATALUÑA","08256 Santa Maria de Martorelles"]
["08255 Santa Maria de Merlès",180,"Santa Maria de Merlès","Barcelona","Cataluña",3.4809581917582513,"Sí",180,91,89,"CUENCAS INTERNAS DE CATALUÑA","DISTRITO DE CUENCA FLUVIAL DE CATALUÑA","08255 Santa Maria de Merlès"]
["08257 Santa Maria de Miralles",129,"Santa Maria de Miralles","Barcelona","Cataluña",5.0991203780179521,"Sí",129,69,60,"CUENCAS INTERNAS DE CATALUÑA","DISTRITO DE CUENCA FLUVIAL DE CATALUÑA","08257 Santa Maria de Miralles"]
["08259 Santa Maria de Palautordera",9666,"Santa Maria de Palautordera","Barcelona","Cataluña",570.23857281072276,"No",9666,4852,4814,"CUENCAS INTERNAS DE CATALUÑA","DISTRITO DE CUENCA FLUVIAL DE CATALUÑA","08259 Santa Maria de Palautordera"]
["08258 Santa Maria d'Oló",1065,"Santa Maria d'Oló","Barcelona","Cataluña",16.148205653843121,"No",1065,525,540,"CUENCAS INTERNAS DE CATALUÑA","DISTRITO DE CUENCA FLUVIAL DE CATALUÑA","08258 Santa Maria d'Oló"]
["08260 Santa Perpètua de Mogoda",26033,"Santa Perpètua de Mogoda","Barcelona","Cataluña",1660.617349314588,"No",26033,13099,12934,"CUENCAS INTERNAS DE CATALUÑA","DISTRITO DE CUENCA FLUVIAL DE CATALUÑA","08260 Santa Perpètua de Mogoda"]
["08261 Santa Susanna",3650,"Santa Susanna","Barcelona","Cataluña",289.2715903597271,"No",3650,1838,1812,"CUENCAS INTERNAS DE CATALUÑA","DISTRITO DE CUENCA FLUVIAL DE CATALUÑA","08261 Santa Susanna"]
["08192 Santpedor",7566,"Santpedor","Barcelona","Cataluña",451.74194704003344,"No",7566,3765,3801,"CUENCAS INTERNAS DE CATALUÑA","DISTRITO DE CUENCA FLUVIAL DE CATALUÑA","08192 Santpedor"]
["08267 Sentmenat",9347,"Sentmenat","Barcelona","Cataluña",328.56670814614836,"No",9347,4731,4616,"CUENCAS INTERNAS DE CATALUÑA","DISTRITO DE CUENCA FLUVIAL DE CATALUÑA","08267 Sentmenat"]
["08269 Seva",3696,"Seva","Barcelona","Cataluña",121.12642065462407,"No",3696,1903,1793,"CUENCAS INTERNAS DE CATALUÑA","DISTRITO DE CUENCA FLUVIAL DE CATALUÑA","08269 Seva"]
["08270 Sitges",30217,"Sitges","Barcelona","Cataluña",691.41287269955683,"No",30217,15109,15108,"CUENCAS INTERNAS DE CATALUÑA","DISTRITO DE CUENCA FLUVIAL DE CATALUÑA","08270 Sitges"]
["08271 Sobremunt",78,"Sobremunt","Barcelona","Cataluña",5.6548784201139686,"Sí",78,33,45,"CUENCAS INTERNAS DE CATALUÑA","DISTRITO DE CUENCA FLUVIAL DE CATALUÑA","08271 Sobremunt"]
["08272 Sora",211,"Sora","Barcelona","Cataluña",6.8366209595894132,"Sí",211,116,95,"CUENCAS INTERNAS DE CATALUÑA","DISTRITO DE CUENCA FLUVIAL DE CATALUÑA","08272 Sora"]
["08273 Subirats",3149,"Subirats","Barcelona","Cataluña",56.382967294656062,"No",3149,1638,1511,"CUENCAS INTERNAS DE CATALUÑA","DISTRITO DE CUENCA FLUVIAL DE CATALUÑA","08273 Subirats"]
["08274 Súria",5923,"Súria","Barcelona","Cataluña",250.83003015211571,"No",5923,2871,3052,"CUENCAS INTERNAS DE CATALUÑA","DISTRITO DE CUENCA FLUVIAL DE CATALUÑA","08274 Súria"]
["08276 Tagamanent",325,"Tagamanent","Barcelona","Cataluña",7.4709552248412701,"Sí",325,162,163,"CUENCAS INTERNAS DE CATALUÑA","DISTRITO DE CUENCA FLUVIAL DE CATALUÑA","08276 Tagamanent"]
["08277 Talamanca",222,"Talamanca","Barcelona","Cataluña",7.5786023964769731,"Sí",222,124,98,"CUENCAS INTERNAS DE CATALUÑA","DISTRITO DE CUENCA FLUVIAL DE CATALUÑA","08277 Talamanca"]
["08278 Taradell",6687,"Taradell","Barcelona","Cataluña",244.40933296427659,"No",6687,3342,3345,"CUENCAS INTERNAS DE CATALUÑA","DISTRITO DE CUENCA FLUVIAL DE CATALUÑA","08278 Taradell"]
["08275 Tavèrnoles",329,"Tavèrnoles","Barcelona","Cataluña",17.411000153470823,"No",329,165,164,"CUENCAS INTERNAS DE CATALUÑA","DISTRITO DE CUENCA FLUVIAL DE CATALUÑA","08275 Tavèrnoles"]
["08280 Tavertet",113,"Tavertet","Barcelona","Cataluña",3.4461410844060589,"Sí",113,55,58,"CUENCAS INTERNAS DE CATALUÑA","DISTRITO DE CUENCA FLUVIAL DE CATALUÑA","08280 Tavertet"]
["08281 Teià",6532,"Teià","Barcelona","Cataluña",971.50336129454456,"No",6532,3227,3305,"CUENCAS INTERNAS DE CATALUÑA","DISTRITO DE CUENCA FLUVIAL DE CATALUÑA","08281 Teià"]
["08279 Terrassa",223011,"Terrassa","Barcelona","Cataluña",3180.5417493257728,"No",223011,109645,113366,"CUENCAS INTERNAS DE CATALUÑA","DISTRITO DE CUENCA FLUVIAL DE CATALUÑA","08279 Terrassa"]
["08282 Tiana",9009,"Tiana","Barcelona","Cataluña",1133.1647862344819,"No",9009,4346,4663,"CUENCAS INTERNAS DE CATALUÑA","DISTRITO DE CUENCA FLUVIAL DE CATALUÑA","08282 Tiana"]
["08283 Tona",8368,"Tona","Barcelona","Cataluña",507.03372967964469,"No",8368,4148,4220,"CUENCAS INTERNAS DE CATALUÑA","DISTRITO DE CUENCA FLUVIAL DE CATALUÑA","08283 Tona"]
["08284 Tordera",17788,"Tordera","Barcelona","Cataluña",210.50314606821354,"No",17788,9012,8776,"CUENCAS INTERNAS DE CATALUÑA","DISTRITO DE CUENCA FLUVIAL DE CATALUÑA","08284 Tordera"]
["08285 Torelló",14553,"Torelló","Barcelona","Cataluña",1076.723882805564,"No",14553,7265,7288,"CUENCAS INTERNAS DE CATALUÑA","DISTRITO DE CUENCA FLUVIAL DE CATALUÑA","08285 Torelló"]
["08286 Torre de Claramunt La",3852,"Torre de Claramunt La","Barcelona","Cataluña",257.73816692761653,"No",3852,1993,1859,"CUENCAS INTERNAS DE CATALUÑA","DISTRITO DE CUENCA FLUVIAL DE CATALUÑA","08286 Torre de Claramunt La"]
["08287 Torrelavit",1429,"Torrelavit","Barcelona","Cataluña",60.238678374356617,"No",1429,723,706,"CUENCAS INTERNAS DE CATALUÑA","DISTRITO DE CUENCA FLUVIAL DE CATALUÑA","08287 Torrelavit"]
["08288 Torrelles de Foix",2479,"Torrelles de Foix","Barcelona","Cataluña",66.927103722162073,"No",2479,1315,1164,"CUENCAS INTERNAS DE CATALUÑA","DISTRITO DE CUENCA FLUVIAL DE CATALUÑA","08288 Torrelles de Foix"]
["08289 Torrelles de Llobregat",6126,"Torrelles de Llobregat","Barcelona","Cataluña",447.80374412467745,"No",6126,3030,3096,"CUENCAS INTERNAS DE CATALUÑA","DISTRITO DE CUENCA FLUVIAL DE CATALUÑA","08289 Torrelles de Llobregat"]
["08290 Ullastrell",2096,"Ullastrell","Barcelona","Cataluña",281.10833936857915,"No",2096,1053,1043,"CUENCAS INTERNAS DE CATALUÑA","DISTRITO DE CUENCA FLUVIAL DE CATALUÑA","08290 Ullastrell"]
["08291 Vacarisses",7082,"Vacarisses","Barcelona","Cataluña",174.85167728730536,"No",7082,3653,3429,"CUENCAS INTERNAS DE CATALUÑA","DISTRITO DE CUENCA FLUVIAL DE CATALUÑA","08291 Vacarisses"]
["08292 Vallbona d'Anoia",1375,"Vallbona d'Anoia","Barcelona","Cataluña",213.79814345466701,"No",1375,702,673,"CUENCAS INTERNAS DE CATALUÑA","DISTRITO DE CUENCA FLUVIAL DE CATALUÑA","08292 Vallbona d'Anoia"]
["08293 Vallcebre",258,"Vallcebre","Barcelona","Cataluña",9.1942226070966573,"Sí",258,143,115,"CUENCAS INTERNAS DE CATALUÑA","DISTRITO DE CUENCA FLUVIAL DE CATALUÑA","08293 Vallcebre"]
["08294 Vallgorguina",3052,"Vallgorguina","Barcelona","Cataluña",136.57436411477261,"No",3052,1553,1499,"CUENCAS INTERNAS DE CATALUÑA","DISTRITO DE CUENCA FLUVIAL DE CATALUÑA","08294 Vallgorguina"]
["08295 Vallirana",15438,"Vallirana","Barcelona","Cataluña",647.37974327900054,"No",15438,7724,7714,"CUENCAS INTERNAS DE CATALUÑA","DISTRITO DE CUENCA FLUVIAL DE CATALUÑA","08295 Vallirana"]
["08296 Vallromanes",2594,"Vallromanes","Barcelona","Cataluña",244.25842051243421,"No",2594,1353,1241,"CUENCAS INTERNAS DE CATALUÑA","DISTRITO DE CUENCA FLUVIAL DE CATALUÑA","08296 Vallromanes"]
["08297 Veciana",179,"Veciana","Barcelona","Cataluña",4.5929233058784291,"Sí",179,97,82,"CUENCAS INTERNAS DE CATALUÑA","DISTRITO DE CUENCA FLUVIAL DE CATALUÑA","08297 Veciana"]
["08298 Vic",47319,"Vic","Barcelona","Cataluña",1536.6081574185059,"No",47319,23954,23365,"CUENCAS INTERNAS DE CATALUÑA","DISTRITO DE CUENCA FLUVIAL DE CATALUÑA","08298 Vic"]
["08299 Vilada",424,"Vilada","Barcelona","Cataluña",19.076241980329876,"No",424,230,194,"CUENCAS INTERNAS DE CATALUÑA","DISTRITO DE CUENCA FLUVIAL DE CATALUÑA","08299 Vilada"]
["08301 Viladecans",66707,"Viladecans","Barcelona","Cataluña",3324.577371941697,"No",66707,32907,33800,"CUENCAS INTERNAS DE CATALUÑA","DISTRITO DE CUENCA FLUVIAL DE CATALUÑA","08301 Viladecans"]
["08300 Viladecavalls",7621,"Viladecavalls","Barcelona","Cataluña",379.57797762387577,"No",7621,3795,3826,"CUENCAS INTERNAS DE CATALUÑA","DISTRITO DE CUENCA FLUVIAL DE CATALUÑA","08300 Viladecavalls"]
["08305 Vilafranca del Penedès",39969,"Vilafranca del Penedès","Barcelona","Cataluña",2006.6673026041642,"No",39969,19433,20536,"CUENCAS INTERNAS DE CATALUÑA","DISTRITO DE CUENCA FLUVIAL DE CATALUÑA","08305 Vilafranca del Penedès"]
["08306 Vilalba Sasserra",758,"Vilalba Sasserra","Barcelona","Cataluña",129.65465337050784,"No",758,386,372,"CUENCAS INTERNAS DE CATALUÑA","DISTRITO DE CUENCA FLUVIAL DE CATALUÑA","08306 Vilalba Sasserra"]
["08303 Vilanova de Sau",314,"Vilanova de Sau","Barcelona","Cataluña",5.4112460858940539,"Sí",314,150,164,"CUENCAS INTERNAS DE CATALUÑA","DISTRITO DE CUENCA FLUVIAL DE CATALUÑA","08303 Vilanova de Sau"]
["08302 Vilanova del Camí",12736,"Vilanova del Camí","Barcelona","Cataluña",1214.7571630231582,"No",12736,6382,6354,"CUENCAS INTERNAS DE CATALUÑA","DISTRITO DE CUENCA FLUVIAL DE CATALUÑA","08302 Vilanova del Camí"]
["08902 Vilanova del Vallès",5535,"Vilanova del Vallès","Barcelona","Cataluña",356.58515501532997,"No",5535,2794,2741,"CUENCAS INTERNAS DE CATALUÑA","DISTRITO DE CUENCA FLUVIAL DE CATALUÑA","08902 Vilanova del Vallès"]
["08307 Vilanova i la Geltrú",67458,"Vilanova i la Geltrú","Barcelona","Cataluña",1991.9627559837356,"No",67458,32616,34842,"CUENCAS INTERNAS DE CATALUÑA","DISTRITO DE CUENCA FLUVIAL DE CATALUÑA","08307 Vilanova i la Geltrú"]
["08214 Vilassar de Dalt",9074,"Vilassar de Dalt","Barcelona","Cataluña",1010.7378363927997,"No",9074,4475,4599,"CUENCAS INTERNAS DE CATALUÑA","DISTRITO DE CUENCA FLUVIAL DE CATALUÑA","08214 Vilassar de Dalt"]
["08219 Vilassar de Mar",20936,"Vilassar de Mar","Barcelona","Cataluña",5283.5971262238627,"No",20936,10128,10808,"CUENCAS INTERNAS DE CATALUÑA","DISTRITO DE CUENCA FLUVIAL DE CATALUÑA","08219 Vilassar de Mar"]
["08304 Vilobí del Penedès",1128,"Vilobí del Penedès","Barcelona","Cataluña",120.27381485509564,"No",1128,585,543,"CUENCAS INTERNAS DE CATALUÑA","DISTRITO DE CUENCA FLUVIAL DE CATALUÑA","08304 Vilobí del Penedès"]
["08308 Viver i Serrateix",175,"Viver i Serrateix","Barcelona","Cataluña",2.6038760554997582,"Sí",175,88,87,"CUENCAS INTERNAS DE CATALUÑA","DISTRITO DE CUENCA FLUVIAL DE CATALUÑA","08308 Viver i Serrateix"]
["48001 Abadiño",7618,"Abadiño","Bizkaia","País Vasco",211.34516844082304,"No",7618,3829,3789,"CANTÁBRICO ORIENTAL","CANTÁBRICO ORIENTAL - EBRO","48001 Abadiño"]
["48002 Abanto y Ciérvana-Abanto Zierbena",9436,"Abanto y Ciérvana-Abanto Zierbena","Bizkaia","País Vasco",582.61299086194128,"No",9436,4683,4753,"CANTÁBRICO ORIENTAL","CANTÁBRICO ORIENTAL","48002 Abanto y Ciérvana-Abanto Zierbena"]
["48911 Ajangiz",483,"Ajangiz","Bizkaia","País Vasco",67.752388166477303,"No",483,254,229,"CANTÁBRICO ORIENTAL","CANTÁBRICO ORIENTAL","48911 Ajangiz"]
["48912 Alonsotegi",2944,"Alonsotegi","Bizkaia","País Vasco",145.61570117125672,"No",2944,1448,1496,"CANTÁBRICO ORIENTAL","CANTÁBRICO ORIENTAL","48912 Alonsotegi"]
["48003 Amorebieta-Etxano",19576,"Amorebieta-Etxano","Bizkaia","País Vasco",332.67170591114257,"No",19576,9643,9933,"CANTÁBRICO ORIENTAL","CANTÁBRICO ORIENTAL","48003 Amorebieta-Etxano"]
["48004 Amoroto",414,"Amoroto","Bizkaia","País Vasco",31.678016680694771,"No",414,215,199,"CANTÁBRICO ORIENTAL","CANTÁBRICO ORIENTAL","48004 Amoroto"]
["48005 Arakaldo",160,"Arakaldo","Bizkaia","País Vasco",58.81704223798846,"No",160,76,84,"CANTÁBRICO ORIENTAL","CANTÁBRICO ORIENTAL","48005 Arakaldo"]
["48006 Arantzazu",399,"Arantzazu","Bizkaia","País Vasco",112.57512061620065,"No",399,196,203,"CANTÁBRICO ORIENTAL","CANTÁBRICO ORIENTAL","48006 Arantzazu"]
["48093 Areatza",1271,"Areatza","Bizkaia","País Vasco",139.41753962595294,"No",1271,619,652,"CANTÁBRICO ORIENTAL","CANTÁBRICO ORIENTAL","48093 Areatza"]
["48009 Arrankudiaga",989,"Arrankudiaga","Bizkaia","País Vasco",43.5761525209399,"No",989,485,504,"CANTÁBRICO ORIENTAL","CANTÁBRICO ORIENTAL","48009 Arrankudiaga"]
["48914 Arratzu",424,"Arratzu","Bizkaia","País Vasco",42.153402594820299,"No",424,203,221,"CANTÁBRICO ORIENTAL","CANTÁBRICO ORIENTAL","48914 Arratzu"]
["48010 Arrieta",575,"Arrieta","Bizkaia","País Vasco",39.334797271875274,"No",575,298,277,"CANTÁBRICO ORIENTAL","CANTÁBRICO ORIENTAL","48010 Arrieta"]
["48011 Arrigorriaga",12140,"Arrigorriaga","Bizkaia","País Vasco",747.08611798299057,"No",12140,5919,6221,"CANTÁBRICO ORIENTAL","CANTÁBRICO ORIENTAL","48011 Arrigorriaga"]
["48023 Artea",742,"Artea","Bizkaia","País Vasco",60.099950591684824,"No",742,377,365,"CANTÁBRICO ORIENTAL","CANTÁBRICO ORIENTAL","48023 Artea"]
["48008 Artzentales",726,"Artzentales","Bizkaia","País Vasco",19.73169246825535,"No",726,384,342,"CANTÁBRICO ORIENTAL","CANTÁBRICO OCCIDENTAL - CANTÁBRICO ORIENTAL","48008 Artzentales"]
["48091 Atxondo",1366,"Atxondo","Bizkaia","País Vasco",58.453756916243385,"No",1366,699,667,"CANTÁBRICO ORIENTAL","CANTÁBRICO ORIENTAL","48091 Atxondo"]
["48070 Aulesti",646,"Aulesti","Bizkaia","País Vasco",25.276139871741197,"No",646,319,327,"CANTÁBRICO ORIENTAL","CANTÁBRICO ORIENTAL","48070 Aulesti"]
["48012 Bakio",2775,"Bakio","Bizkaia","País Vasco",167.27448084631845,"No",2775,1400,1375,"CANTÁBRICO ORIENTAL","CANTÁBRICO ORIENTAL","48012 Bakio"]
["48090 Balmaseda",7651,"Balmaseda","Bizkaia","País Vasco",341.96553080416203,"No",7651,3675,3976,"CANTÁBRICO ORIENTAL","CANTÁBRICO ORIENTAL","48090 Balmaseda"]
["48013 Barakaldo",100907,"Barakaldo","Bizkaia","País Vasco",4038.6062371926232,"No",100907,48656,52251,"CANTÁBRICO ORIENTAL","CANTÁBRICO ORIENTAL","48013 Barakaldo"]
["48014 Barrika",1554,"Barrika","Bizkaia","País Vasco",200.6999961254827,"No",1554,788,766,"CANTÁBRICO ORIENTAL","CANTÁBRICO ORIENTAL","48014 Barrika"]
["48015 Basauri",40535,"Basauri","Bizkaia","País Vasco",5781.2165727733009,"No",40535,19551,20984,"CANTÁBRICO ORIENTAL","CANTÁBRICO ORIENTAL","48015 Basauri"]
["48092 Bedia",1076,"Bedia","Bizkaia","País Vasco",65.732403142448717,"No",1076,517,559,"CANTÁBRICO ORIENTAL","CANTÁBRICO ORIENTAL","48092 Bedia"]
["48016 Berango",7271,"Berango","Bizkaia","País Vasco",832.41745661034031,"No",7271,3566,3705,"CANTÁBRICO ORIENTAL","CANTÁBRICO ORIENTAL","48016 Berango"]
["48017 Bermeo",16784,"Bermeo","Bizkaia","País Vasco",496.45201269525768,"No",16784,8250,8534,"CANTÁBRICO ORIENTAL","CANTÁBRICO ORIENTAL","48017 Bermeo"]
["48018 Berriatua",1232,"Berriatua","Bizkaia","País Vasco",64.159983335069256,"No",1232,673,559,"CANTÁBRICO ORIENTAL","CANTÁBRICO ORIENTAL","48018 Berriatua"]
["48019 Berriz",4537,"Berriz","Bizkaia","País Vasco",152.40430642100137,"No",4537,2261,2276,"CANTÁBRICO ORIENTAL","CANTÁBRICO ORIENTAL","48019 Berriz"]
["48020 Bilbao",346405,"Bilbao","Bizkaia","País Vasco",8378.8876364814969,"No",346405,163802,182603,"CANTÁBRICO ORIENTAL","CANTÁBRICO ORIENTAL","48020 Bilbao"]
["48021 Busturia",1649,"Busturia","Bizkaia","País Vasco",81.538803866788641,"No",1649,825,824,"CANTÁBRICO ORIENTAL","CANTÁBRICO ORIENTAL","48021 Busturia"]
["48901 Derio",6780,"Derio","Bizkaia","País Vasco",667.81580891406054,"No",6780,3308,3472,"CANTÁBRICO ORIENTAL","CANTÁBRICO ORIENTAL","48901 Derio"]
["48026 Dima",1472,"Dima","Bizkaia","País Vasco",23.586568474756604,"No",1472,758,714,"CANTÁBRICO ORIENTAL","CANTÁBRICO ORIENTAL","48026 Dima"]
["48027 Durango",29935,"Durango","Bizkaia","País Vasco",2791.0120740291827,"No",29935,14586,15349,"CANTÁBRICO ORIENTAL","CANTÁBRICO ORIENTAL","48027 Durango"]
["48028 Ea",820,"Ea","Bizkaia","País Vasco",57.594785564780082,"No",820,435,385,"CANTÁBRICO ORIENTAL","CANTÁBRICO ORIENTAL","48028 Ea"]
["48031 Elantxobe",344,"Elantxobe","Bizkaia","País Vasco",190.97318603231,"No",344,169,175,"CANTÁBRICO ORIENTAL","CANTÁBRICO ORIENTAL","48031 Elantxobe"]
["48032 Elorrio",7383,"Elorrio","Bizkaia","País Vasco",199.49417162497366,"No",7383,3646,3737,"CANTÁBRICO ORIENTAL","CANTÁBRICO ORIENTAL","48032 Elorrio"]
["48902 Erandio",24489,"Erandio","Bizkaia","País Vasco",1347.763633661895,"No",24489,11858,12631,"CANTÁBRICO ORIENTAL","CANTÁBRICO ORIENTAL","48902 Erandio"]
["48033 Ereño",263,"Ereño","Bizkaia","País Vasco",24.991210315763471,"No",263,148,115,"CANTÁBRICO ORIENTAL","CANTÁBRICO ORIENTAL","48033 Ereño"]
["48034 Ermua",15791,"Ermua","Bizkaia","País Vasco",2440.7623228279517,"No",15791,7823,7968,"CANTÁBRICO ORIENTAL","CANTÁBRICO ORIENTAL","48034 Ermua"]
["48079 Errigoiti",489,"Errigoiti","Bizkaia","País Vasco",29.594214300844254,"No",489,262,227,"CANTÁBRICO ORIENTAL","CANTÁBRICO ORIENTAL","48079 Errigoiti"]
["48029 Etxebarri",11664,"Etxebarri","Bizkaia","País Vasco",3564.4653607554319,"No",11664,5836,5828,"CANTÁBRICO ORIENTAL","CANTÁBRICO ORIENTAL","48029 Etxebarri"]
["48030 Etxebarria",790,"Etxebarria","Bizkaia","País Vasco",44.289847337381275,"No",790,403,387,"CANTÁBRICO ORIENTAL","CANTÁBRICO ORIENTAL","48030 Etxebarria"]
["48906 Forua",910,"Forua","Bizkaia","País Vasco",119.23011412025208,"No",910,447,463,"CANTÁBRICO ORIENTAL","CANTÁBRICO ORIENTAL","48906 Forua"]
["48035 Fruiz",548,"Fruiz","Bizkaia","País Vasco",97.430882745132891,"No",548,272,276,"CANTÁBRICO ORIENTAL","CANTÁBRICO ORIENTAL","48035 Fruiz"]
["48036 Galdakao",29404,"Galdakao","Bizkaia","País Vasco",934.33829884589966,"No",29404,14490,14914,"CANTÁBRICO ORIENTAL","CANTÁBRICO ORIENTAL","48036 Galdakao"]
["48037 Galdames",842,"Galdames","Bizkaia","País Vasco",18.958285018226523,"No",842,447,395,"CANTÁBRICO ORIENTAL","CANTÁBRICO ORIENTAL","48037 Galdames"]
["48038 Gamiz-Fika",1383,"Gamiz-Fika","Bizkaia","País Vasco",90.399837894723092,"No",1383,695,688,"CANTÁBRICO ORIENTAL","CANTÁBRICO ORIENTAL","48038 Gamiz-Fika"]
["48039 Garai",329,"Garai","Bizkaia","País Vasco",46.017847651551172,"No",329,164,165,"CANTÁBRICO ORIENTAL","CANTÁBRICO ORIENTAL","48039 Garai"]
["48040 Gatika",1674,"Gatika","Bizkaia","País Vasco",96.836892889372237,"No",1674,843,831,"CANTÁBRICO ORIENTAL","CANTÁBRICO ORIENTAL","48040 Gatika"]
["48041 Gautegiz Arteaga",854,"Gautegiz Arteaga","Bizkaia","País Vasco",63.053285194291242,"No",854,426,428,"CANTÁBRICO ORIENTAL","CANTÁBRICO ORIENTAL","48041 Gautegiz Arteaga"]
["48046 Gernika-Lumo",17093,"Gernika-Lumo","Bizkaia","País Vasco",2003.445931690851,"No",17093,8226,8867,"CANTÁBRICO ORIENTAL","CANTÁBRICO ORIENTAL","48046 Gernika-Lumo"]
["48044 Getxo",77139,"Getxo","Bizkaia","País Vasco",6497.1741895272344,"No",77139,36176,40963,"CANTÁBRICO ORIENTAL","CANTÁBRICO ORIENTAL","48044 Getxo"]
["48047 Gizaburuaga",200,"Gizaburuaga","Bizkaia","País Vasco",32.841261761276868,"No",200,103,97,"CANTÁBRICO ORIENTAL","CANTÁBRICO ORIENTAL","48047 Gizaburuaga"]
["48042 Gordexola",1723,"Gordexola","Bizkaia","País Vasco",41.719027314703837,"No",1723,878,845,"CANTÁBRICO ORIENTAL","CANTÁBRICO ORIENTAL","48042 Gordexola"]
["48043 Gorliz",6022,"Gorliz","Bizkaia","País Vasco",588.75864024324665,"No",6022,2972,3050,"CANTÁBRICO ORIENTAL","CANTÁBRICO ORIENTAL","48043 Gorliz"]
["48045 Güeñes",6699,"Güeñes","Bizkaia","País Vasco",161.51236718446742,"No",6699,3246,3453,"CANTÁBRICO ORIENTAL","CANTÁBRICO ORIENTAL","48045 Güeñes"]
["48048 Ibarrangelu",670,"Ibarrangelu","Bizkaia","País Vasco",43.248686401838391,"No",670,344,326,"CANTÁBRICO ORIENTAL","CANTÁBRICO ORIENTAL","48048 Ibarrangelu"]
["48094 Igorre",4314,"Igorre","Bizkaia","País Vasco",252.46082000023407,"No",4314,2128,2186,"CANTÁBRICO ORIENTAL","CANTÁBRICO ORIENTAL","48094 Igorre"]
["48049 Ispaster",754,"Ispaster","Bizkaia","País Vasco",32.804145330195048,"No",754,397,357,"CANTÁBRICO ORIENTAL","CANTÁBRICO ORIENTAL","48049 Ispaster"]
["48910 Iurreta",3696,"Iurreta","Bizkaia","País Vasco",195.93290782247294,"No",3696,1814,1882,"CANTÁBRICO ORIENTAL","CANTÁBRICO ORIENTAL","48910 Iurreta"]
["48050 Izurtza",240,"Izurtza","Bizkaia","País Vasco",54.976520444393543,"No",240,152,88,"CANTÁBRICO ORIENTAL","CANTÁBRICO ORIENTAL","48050 Izurtza"]
["48022 Karrantza Harana/Valle de Carranza",2759,"Karrantza Harana/Valle de Carranza","Bizkaia","País Vasco",20.018240615043936,"No",2759,1435,1324,"CANTÁBRICO ORIENTAL","CANTÁBRICO OCCIDENTAL","48022 Karrantza Harana/Valle de Carranza"]
["48907 Kortezubi",439,"Kortezubi","Bizkaia","País Vasco",37.012056319028751,"No",439,209,230,"CANTÁBRICO ORIENTAL","CANTÁBRICO ORIENTAL","48907 Kortezubi"]
["48051 Lanestosa",261,"Lanestosa","Bizkaia","País Vasco",228.20270695624802,"No",261,142,119,"CANTÁBRICO OCCIDENTAL","CANTÁBRICO OCCIDENTAL","48051 Lanestosa"]
["48052 Larrabetzu",2081,"Larrabetzu","Bizkaia","País Vasco",96.594812380474934,"No",2081,1021,1060,"CANTÁBRICO ORIENTAL","CANTÁBRICO ORIENTAL","48052 Larrabetzu"]
["48053 Laukiz",1237,"Laukiz","Bizkaia","País Vasco",152.53714778962944,"No",1237,602,635,"CANTÁBRICO ORIENTAL","CANTÁBRICO ORIENTAL","48053 Laukiz"]
["48054 Leioa",32188,"Leioa","Bizkaia","País Vasco",3838.1646256394356,"No",32188,15709,16479,"CANTÁBRICO ORIENTAL","CANTÁBRICO ORIENTAL","48054 Leioa"]
["48057 Lekeitio",7271,"Lekeitio","Bizkaia","País Vasco",4054.536329671555,"No",7271,3581,3690,"CANTÁBRICO ORIENTAL","CANTÁBRICO ORIENTAL","48057 Lekeitio"]
["48055 Lemoa",3489,"Lemoa","Bizkaia","País Vasco",226.33357767931861,"No",3489,1746,1743,"CANTÁBRICO ORIENTAL","CANTÁBRICO ORIENTAL","48055 Lemoa"]
["48056 Lemoiz",1297,"Lemoiz","Bizkaia","País Vasco",68.587685945605784,"No",1297,679,618,"CANTÁBRICO ORIENTAL","CANTÁBRICO ORIENTAL","48056 Lemoiz"]
["48081 Lezama",2454,"Lezama","Bizkaia","País Vasco",150.61498048265534,"No",2454,1226,1228,"CANTÁBRICO ORIENTAL","CANTÁBRICO ORIENTAL","48081 Lezama"]
["48903 Loiu",2363,"Loiu","Bizkaia","País Vasco",157.30890596082921,"No",2363,1194,1169,"CANTÁBRICO ORIENTAL","CANTÁBRICO ORIENTAL","48903 Loiu"]
["48058 Mallabia",1172,"Mallabia","Bizkaia","País Vasco",50.707174719098695,"No",1172,595,577,"CANTÁBRICO ORIENTAL","CANTÁBRICO ORIENTAL","48058 Mallabia"]
["48059 Mañaria",521,"Mañaria","Bizkaia","País Vasco",29.622301442452567,"No",521,261,260,"CANTÁBRICO ORIENTAL","CANTÁBRICO ORIENTAL","48059 Mañaria"]
["48060 Markina-Xemein",5072,"Markina-Xemein","Bizkaia","País Vasco",111.90489848690105,"No",5072,2566,2506,"CANTÁBRICO ORIENTAL","CANTÁBRICO ORIENTAL","48060 Markina-Xemein"]
["48061 Maruri-Jatabe",992,"Maruri-Jatabe","Bizkaia","País Vasco",62.16590525966172,"No",992,511,481,"CANTÁBRICO ORIENTAL","CANTÁBRICO ORIENTAL","48061 Maruri-Jatabe"]
["48062 Mendata",379,"Mendata","Bizkaia","País Vasco",16.898142987716522,"No",379,199,180,"CANTÁBRICO ORIENTAL","CANTÁBRICO ORIENTAL","48062 Mendata"]
["48063 Mendexa",422,"Mendexa","Bizkaia","País Vasco",60.854267008911826,"No",422,215,207,"CANTÁBRICO ORIENTAL","CANTÁBRICO ORIENTAL","48063 Mendexa"]
["48064 Meñaka",753,"Meñaka","Bizkaia","País Vasco",60.307061452335006,"No",753,395,358,"CANTÁBRICO ORIENTAL","CANTÁBRICO ORIENTAL","48064 Meñaka"]
["48066 Morga",408,"Morga","Bizkaia","País Vasco",28.199970970618118,"No",408,214,194,"CANTÁBRICO ORIENTAL","CANTÁBRICO ORIENTAL","48066 Morga"]
["48068 Mundaka",1862,"Mundaka","Bizkaia","País Vasco",456.69716219862158,"No",1862,915,947,"CANTÁBRICO ORIENTAL","CANTÁBRICO ORIENTAL","48068 Mundaka"]
["48069 Mungia",17701,"Mungia","Bizkaia","País Vasco",398.14389952045485,"No",17701,8618,9083,"CANTÁBRICO ORIENTAL","CANTÁBRICO ORIENTAL","48069 Mungia"]
["48007 Munitibar-Arbatzegi Gerrikaitz",484,"Munitibar-Arbatzegi Gerrikaitz","Bizkaia","País Vasco",19.907700660573706,"No",484,263,221,"CANTÁBRICO ORIENTAL","CANTÁBRICO ORIENTAL","48007 Munitibar-Arbatzegi Gerrikaitz"]
["48908 Murueta",323,"Murueta","Bizkaia","País Vasco",57.372244622462212,"No",323,168,155,"CANTÁBRICO ORIENTAL","CANTÁBRICO ORIENTAL","48908 Murueta"]
["48071 Muskiz",7438,"Muskiz","Bizkaia","País Vasco",354.02526440042271,"No",7438,3617,3821,"CANTÁBRICO ORIENTAL","CANTÁBRICO ORIENTAL","48071 Muskiz"]
["48067 Muxika",1475,"Muxika","Bizkaia","País Vasco",29.573994133321573,"No",1475,776,699,"CANTÁBRICO ORIENTAL","CANTÁBRICO ORIENTAL","48067 Muxika"]
["48909 Nabarniz",267,"Nabarniz","Bizkaia","País Vasco",22.705046983290103,"No",267,130,137,"CANTÁBRICO ORIENTAL","CANTÁBRICO ORIENTAL","48909 Nabarniz"]
["48073 Ondarroa",8326,"Ondarroa","Bizkaia","País Vasco",1938.397783623961,"No",8326,4158,4168,"CANTÁBRICO ORIENTAL","CANTÁBRICO ORIENTAL","48073 Ondarroa"]
["48075 Orozko",2658,"Orozko","Bizkaia","País Vasco",25.989823097110808,"No",2658,1306,1352,"CANTÁBRICO ORIENTAL","CANTÁBRICO ORIENTAL","48075 Orozko"]
["48083 Ortuella",8379,"Ortuella","Bizkaia","País Vasco",1052.6646398150706,"No",8379,4080,4299,"CANTÁBRICO ORIENTAL","CANTÁBRICO ORIENTAL","48083 Ortuella"]
["48072 Otxandio",1359,"Otxandio","Bizkaia","País Vasco",109.6825742718094,"No",1359,697,662,"EBRO","EBRO","48072 Otxandio"]
["48077 Plentzia",4414,"Plentzia","Bizkaia","País Vasco",747.31228307796505,"No",4414,2145,2269,"CANTÁBRICO ORIENTAL","CANTÁBRICO ORIENTAL","48077 Plentzia"]
["48078 Portugalete",45285,"Portugalete","Bizkaia","País Vasco",14444.054605766778,"No",45285,21649,23636,"CANTÁBRICO ORIENTAL","CANTÁBRICO ORIENTAL","48078 Portugalete"]
["48082 Santurtzi",46085,"Santurtzi","Bizkaia","País Vasco",5198.4749185006376,"No",46085,22150,23935,"CANTÁBRICO ORIENTAL","CANTÁBRICO ORIENTAL","48082 Santurtzi"]
["48084 Sestao",27342,"Sestao","Bizkaia","País Vasco",7640.6315495319268,"No",27342,13235,14107,"CANTÁBRICO ORIENTAL","CANTÁBRICO ORIENTAL","48084 Sestao"]
["48904 Sondika",4555,"Sondika","Bizkaia","País Vasco",665.35203038270527,"No",4555,2203,2352,"CANTÁBRICO ORIENTAL","CANTÁBRICO ORIENTAL","48904 Sondika"]
["48085 Sopela",14276,"Sopela","Bizkaia","País Vasco",1694.3198271974172,"No",14276,7061,7215,"CANTÁBRICO ORIENTAL","CANTÁBRICO ORIENTAL","48085 Sopela"]
["48086 Sopuerta",2638,"Sopuerta","Bizkaia","País Vasco",61.98483039935337,"No",2638,1304,1334,"CANTÁBRICO ORIENTAL","CANTÁBRICO ORIENTAL","48086 Sopuerta"]
["48076 Sukarrieta",347,"Sukarrieta","Bizkaia","País Vasco",181.99937060736389,"No",347,187,160,"CANTÁBRICO ORIENTAL","CANTÁBRICO ORIENTAL","48076 Sukarrieta"]
["48087 Trucios-Turtzioz",502,"Trucios-Turtzioz","Bizkaia","País Vasco",19.311926076101301,"No",502,262,240,"CANTÁBRICO OCCIDENTAL","CANTÁBRICO OCCIDENTAL","48087 Trucios-Turtzioz"]
["48088 Ubide",162,"Ubide","Bizkaia","País Vasco",57.737543659562341,"No",162,86,76,"EBRO","EBRO","48088 Ubide"]
["48065 Ugao-Miraballes",4114,"Ugao-Miraballes","Bizkaia","País Vasco",782.53095695509103,"No",4114,2066,2048,"CANTÁBRICO ORIENTAL","CANTÁBRICO ORIENTAL","48065 Ugao-Miraballes"]
["48089 Urduliz",5034,"Urduliz","Bizkaia","País Vasco",644.269533499712,"No",5034,2490,2544,"CANTÁBRICO ORIENTAL","CANTÁBRICO ORIENTAL","48089 Urduliz"]
["48074 Urduña/Orduña",4199,"Urduña/Orduña","Bizkaia","País Vasco",125.72609138271751,"No",4199,2165,2034,"CANTÁBRICO ORIENTAL","CANTÁBRICO ORIENTAL","48074 Urduña/Orduña"]
["48080 Valle de Trápaga-Trapagaran",11911,"Valle de Trápaga-Trapagaran","Bizkaia","País Vasco",925.95327865666434,"No",11911,5788,6123,"CANTÁBRICO ORIENTAL","CANTÁBRICO ORIENTAL","48080 Valle de Trápaga-Trapagaran"]
["48095 Zaldibar",3038,"Zaldibar","Bizkaia","País Vasco",260.72777205629933,"No",3038,1533,1505,"CANTÁBRICO ORIENTAL","CANTÁBRICO ORIENTAL","48095 Zaldibar"]
["48096 Zalla",8416,"Zalla","Bizkaia","País Vasco",270.80423968234555,"No",8416,4137,4279,"CANTÁBRICO ORIENTAL","CANTÁBRICO ORIENTAL","48096 Zalla"]
["48905 Zamudio",3277,"Zamudio","Bizkaia","País Vasco",180.38300425499119,"No",3277,1628,1649,"CANTÁBRICO ORIENTAL","CANTÁBRICO ORIENTAL","48905 Zamudio"]
["48097 Zaratamo",1647,"Zaratamo","Bizkaia","País Vasco",161.74015516056173,"No",1647,822,825,"CANTÁBRICO ORIENTAL","CANTÁBRICO ORIENTAL","48097 Zaratamo"]
["48024 Zeanuri",1248,"Zeanuri","Bizkaia","País Vasco",18.56524015804256,"No",1248,629,619,"CANTÁBRICO ORIENTAL","CANTÁBRICO ORIENTAL - EBRO","48024 Zeanuri"]
["48025 Zeberio",1088,"Zeberio","Bizkaia","País Vasco",22.818552657795113,"No",1088,564,524,"CANTÁBRICO ORIENTAL","CANTÁBRICO ORIENTAL","48025 Zeberio"]
["48913 Zierbena",1516,"Zierbena","Bizkaia","País Vasco",124.73054581955208,"No",1516,806,710,"CANTÁBRICO ORIENTAL","CANTÁBRICO ORIENTAL","48913 Zierbena"]
["48915 Ziortza-Bolibar",411,"Ziortza-Bolibar","Bizkaia","País Vasco",21.797931583134446,"No",411,215,196,"CANTÁBRICO ORIENTAL","CANTÁBRICO ORIENTAL","48915 Ziortza-Bolibar"]
["09001 Abajas",29,"Abajas","Burgos","Castilla y León",0.82684537703479155,"Sí",29,19,10,"EBRO","EBRO","09001 Abajas"]
["09003 Adrada de Haza",197,"Adrada de Haza","Burgos","Castilla y León",19.165389136201316,"No",197,97,100,"DUERO","DUERO","09003 Adrada de Haza"]
["09006 Aguas Cándidas",56,"Aguas Cándidas","Burgos","Castilla y León",3.1189502460044158,"Sí",56,35,21,"EBRO","EBRO","09006 Aguas Cándidas"]
["09007 Aguilar de Bureba",52,"Aguilar de Bureba","Burgos","Castilla y León",5.5052408304655795,"Sí",52,33,19,"EBRO","EBRO","09007 Aguilar de Bureba"]
["09009 Albillos",221,"Albillos","Burgos","Castilla y León",17.876105163913369,"No",221,116,105,"DUERO","DUERO","09009 Albillos"]
["09010 Alcocero de Mola",33,"Alcocero de Mola","Burgos","Castilla y León",3.9596746731288555,"Sí",33,23,10,"EBRO","EBRO","09010 Alcocero de Mola"]
["09011 Alfoz de Bricia",73,"Alfoz de Bricia","Burgos","Castilla y León",1.4122490356080215,"Sí",73,45,28,"EBRO","EBRO","09011 Alfoz de Bricia"]
["09907 Alfoz de Quintanadueñas",2163,"Alfoz de Quintanadueñas","Burgos","Castilla y León",52.110302211565561,"No",2163,1138,1025,"DUERO","DUERO","09907 Alfoz de Quintanadueñas"]
["09012 Alfoz de Santa Gadea",105,"Alfoz de Santa Gadea","Burgos","Castilla y León",3.0536127146617034,"Sí",105,59,46,"EBRO","EBRO","09012 Alfoz de Santa Gadea"]
["09013 Altable",47,"Altable","Burgos","Castilla y León",5.7183653943019772,"Sí",47,28,19,"EBRO","EBRO","09013 Altable"]
["09014 Altos Los",191,"Altos Los","Burgos","Castilla y León",1.3657401885653884,"Sí",191,111,80,"EBRO","EBRO","09014 Altos Los"]
["09016 Ameyugo",116,"Ameyugo","Burgos","Castilla y León",9.2731178628469095,"Sí",116,59,57,"EBRO","EBRO","09016 Ameyugo"]
["09017 Anguix",158,"Anguix","Burgos","Castilla y León",11.753979391554513,"Sí",158,94,64,"DUERO","DUERO","09017 Anguix"]
["09018 Aranda de Duero",33084,"Aranda de Duero","Burgos","Castilla y León",259.93953663695504,"No",33084,16021,17063,"DUERO","DUERO","09018 Aranda de Duero"]
["09019 Arandilla",158,"Arandilla","Burgos","Castilla y León",5.9210034706823755,"Sí",158,103,55,"DUERO","DUERO","09019 Arandilla"]
["09020 Arauzo de Miel",288,"Arauzo de Miel","Burgos","Castilla y León",5.043714292078973,"Sí",288,162,126,"DUERO","DUERO","09020 Arauzo de Miel"]
["09021 Arauzo de Salce",47,"Arauzo de Salce","Burgos","Castilla y León",2.5399326042393744,"Sí",47,27,20,"DUERO","DUERO","09021 Arauzo de Salce"]
["09022 Arauzo de Torre",71,"Arauzo de Torre","Burgos","Castilla y León",5.2250829592308854,"Sí",71,44,27,"DUERO","DUERO","09022 Arauzo de Torre"]
["09023 Arcos",1816,"Arcos","Burgos","Castilla y León",57.751730842588536,"No",1816,948,868,"DUERO","DUERO","09023 Arcos"]
["09024 Arenillas de Riopisuerga",176,"Arenillas de Riopisuerga","Burgos","Castilla y León",6.28800379280956,"Sí",176,106,70,"DUERO","DUERO","09024 Arenillas de Riopisuerga"]
["09025 Arija",118,"Arija","Burgos","Castilla y León",16.808637930543288,"No",118,63,55,"EBRO","EBRO","09025 Arija"]
["09026 Arlanzón",419,"Arlanzón","Burgos","Castilla y León",5.38950457654476,"Sí",419,248,171,"DUERO","DUERO","09026 Arlanzón"]
["09027 Arraya de Oca",46,"Arraya de Oca","Burgos","Castilla y León",3.7544072456142197,"Sí",46,25,21,"DUERO","EBRO","09027 Arraya de Oca"]
["09029 Atapuerca",182,"Atapuerca","Burgos","Castilla y León",7.3438325928974653,"Sí",182,106,76,"DUERO","DUERO","09029 Atapuerca"]
["09030 Ausines Los",131,"Ausines Los","Burgos","Castilla y León",3.1428202858349468,"Sí",131,81,50,"DUERO","DUERO","09030 Ausines Los"]
["09032 Avellanosa de Muñó",103,"Avellanosa de Muñó","Burgos","Castilla y León",2.7920747365216658,"Sí",103,55,48,"DUERO","DUERO","09032 Avellanosa de Muñó"]
["09033 Bahabón de Esgueva",80,"Bahabón de Esgueva","Burgos","Castilla y León",3.740786326378557,"Sí",80,45,35,"DUERO","DUERO","09033 Bahabón de Esgueva"]
["09034 Balbases Los",321,"Balbases Los","Burgos","Castilla y León",4.9871179325838906,"Sí",321,176,145,"DUERO","DUERO","09034 Balbases Los"]
["09035 Baños de Valdearados",322,"Baños de Valdearados","Burgos","Castilla y León",8.8169962333901601,"Sí",322,191,131,"DUERO","DUERO","09035 Baños de Valdearados"]
["09036 Bañuelos de Bureba",31,"Bañuelos de Bureba","Burgos","Castilla y León",2.0079984407568237,"Sí",31,18,13,"EBRO","EBRO","09036 Bañuelos de Bureba"]
["09037 Barbadillo de Herreros",112,"Barbadillo de Herreros","Burgos","Castilla y León",1.7457107885924286,"Sí",112,71,41,"DUERO","DUERO","09037 Barbadillo de Herreros"]
["09038 Barbadillo del Mercado",144,"Barbadillo del Mercado","Burgos","Castilla y León",9.4782630845940918,"Sí",144,77,67,"DUERO","DUERO","09038 Barbadillo del Mercado"]
["09039 Barbadillo del Pez",65,"Barbadillo del Pez","Burgos","Castilla y León",3.130388331414887,"Sí",65,37,28,"DUERO","DUERO","09039 Barbadillo del Pez"]
["09041 Barrio de Muñó",32,"Barrio de Muñó","Burgos","Castilla y León",8.2549031545080549,"Sí",32,18,14,"DUERO","DUERO","09041 Barrio de Muñó"]
["09043 Barrios de Bureba Los",186,"Barrios de Bureba Los","Burgos","Castilla y León",3.9811066097970582,"Sí",186,108,78,"EBRO","EBRO","09043 Barrios de Bureba Los"]
["09044 Barrios de Colina",51,"Barrios de Colina","Burgos","Castilla y León",2.1714474417326142,"Sí",51,28,23,"DUERO","DUERO - EBRO","09044 Barrios de Colina"]
["09045 Basconcillos del Tozo",292,"Basconcillos del Tozo","Burgos","Castilla y León",2.4199126590537321,"Sí",292,167,125,"DUERO","DUERO - EBRO","09045 Basconcillos del Tozo"]
["09046 Bascuñana",21,"Bascuñana","Burgos","Castilla y León",2.7063752922885316,"Sí",21,13,8,"EBRO","EBRO","09046 Bascuñana"]
["09047 Belbimbre",57,"Belbimbre","Burgos","Castilla y León",5.5695625167270082,"Sí",57,30,27,"DUERO","DUERO","09047 Belbimbre"]
["09048 Belorado",1754,"Belorado","Burgos","Castilla y León",13.147265102390474,"No",1754,890,864,"EBRO","EBRO","09048 Belorado"]
["09050 Berberana",54,"Berberana","Burgos","Castilla y León",1.6165389900223621,"Sí",54,33,21,"CANTÁBRICO ORIENTAL","CANTÁBRICO ORIENTAL - EBRO","09050 Berberana"]
["09051 Berlangas de Roa",180,"Berlangas de Roa","Burgos","Castilla y León",11.456488162488135,"Sí",180,95,85,"DUERO","DUERO","09051 Berlangas de Roa"]
["09052 Berzosa de Bureba",27,"Berzosa de Bureba","Burgos","Castilla y León",3.4452459816309693,"Sí",27,21,6,"EBRO","EBRO","09052 Berzosa de Bureba"]
["09054 Bozoó",100,"Bozoó","Burgos","Castilla y León",3.0078625527127909,"Sí",100,61,39,"EBRO","EBRO","09054 Bozoó"]
["09055 Brazacorta",51,"Brazacorta","Burgos","Castilla y León",2.4193614953969034,"Sí",51,30,21,"DUERO","DUERO","09055 Brazacorta"]
["09056 Briviesca",6465,"Briviesca","Burgos","Castilla y León",79.615043960188501,"No",6465,3227,3238,"DUERO","EBRO","09056 Briviesca"]
["09057 Bugedo",196,"Bugedo","Burgos","Castilla y León",19.746127265603647,"No",196,122,74,"EBRO","EBRO","09057 Bugedo"]
["09058 Buniel",605,"Buniel","Burgos","Castilla y León",45.544539548469174,"No",605,329,276,"DUERO","DUERO","09058 Buniel"]
["09059 Burgos",174051,"Burgos","Burgos","Castilla y León",1625.6940415064346,"No",174051,82859,91192,"DUERO","DUERO","09059 Burgos"]
["09060 Busto de Bureba",138,"Busto de Bureba","Burgos","Castilla y León",7.4347507685673611,"Sí",138,76,62,"EBRO","EBRO","09060 Busto de Bureba"]
["09061 Cabañes de Esgueva",166,"Cabañes de Esgueva","Burgos","Castilla y León",6.2484037869091047,"Sí",166,93,73,"DUERO","DUERO","09061 Cabañes de Esgueva"]
["09062 Cabezón de la Sierra",40,"Cabezón de la Sierra","Burgos","Castilla y León",2.0175361213362368,"Sí",40,16,24,"DUERO","DUERO","09062 Cabezón de la Sierra"]
["09064 Caleruega",419,"Caleruega","Burgos","Castilla y León",8.7965088902578401,"Sí",419,206,213,"DUERO","DUERO","09064 Caleruega"]
["09065 Campillo de Aranda",169,"Campillo de Aranda","Burgos","Castilla y León",7.0663698122340106,"Sí",169,99,70,"DUERO","DUERO","09065 Campillo de Aranda"]
["09066 Campolara",56,"Campolara","Burgos","Castilla y León",4.2284715676061619,"Sí",56,40,16,"DUERO","DUERO","09066 Campolara"]
["09067 Canicosa de la Sierra",436,"Canicosa de la Sierra","Burgos","Castilla y León",14.763824687979602,"No",436,234,202,"DUERO","DUERO","09067 Canicosa de la Sierra"]
["09068 Cantabrana",25,"Cantabrana","Burgos","Castilla y León",7.9497979797337388,"Sí",25,15,10,"EBRO","EBRO","09068 Cantabrana"]
["09070 Carazo",30,"Carazo","Burgos","Castilla y León",1.2484920297101152,"Sí",30,20,10,"DUERO","DUERO","09070 Carazo"]
["09071 Carcedo de Bureba",45,"Carcedo de Bureba","Burgos","Castilla y León",1.0547943885782363,"Sí",45,24,21,"EBRO","EBRO","09071 Carcedo de Bureba"]
["09072 Carcedo de Burgos",448,"Carcedo de Burgos","Burgos","Castilla y León",17.44774672476974,"No",448,235,213,"DUERO","DUERO","09072 Carcedo de Burgos"]
["09073 Cardeñadijo",1414,"Cardeñadijo","Burgos","Castilla y León",153.56375426237159,"No",1414,779,635,"DUERO","DUERO","09073 Cardeñadijo"]
["09074 Cardeñajimeno",1175,"Cardeñajimeno","Burgos","Castilla y León",96.354922002125704,"No",1175,626,549,"DUERO","DUERO","09074 Cardeñajimeno"]
["09075 Cardeñuela Riopico",109,"Cardeñuela Riopico","Burgos","Castilla y León",9.6620926851753381,"Sí",109,64,45,"DUERO","DUERO","09075 Cardeñuela Riopico"]
["09076 Carrias",25,"Carrias","Burgos","Castilla y León",1.8851208841307432,"Sí",25,18,7,"EBRO","EBRO","09076 Carrias"]
["09077 Cascajares de Bureba",29,"Cascajares de Bureba","Burgos","Castilla y León",3.6621876848457666,"Sí",29,14,15,"EBRO","EBRO","09077 Cascajares de Bureba"]
["09078 Cascajares de la Sierra",32,"Cascajares de la Sierra","Burgos","Castilla y León",4.6995324552648565,"Sí",32,18,14,"DUERO","DUERO","09078 Cascajares de la Sierra"]
["09079 Castellanos de Castro",49,"Castellanos de Castro","Burgos","Castilla y León",4.9354980763644445,"Sí",49,29,20,"DUERO","DUERO","09079 Castellanos de Castro"]
["09083 Castil de Peones",25,"Castil de Peones","Burgos","Castilla y León",1.7883920195366805,"Sí",25,13,12,"EBRO","EBRO","09083 Castil de Peones"]
["09082 Castildelgado",33,"Castildelgado","Burgos","Castilla y León",6.665802132329504,"Sí",33,19,14,"EBRO","EBRO","09082 Castildelgado"]
["09084 Castrillo de la Reina",173,"Castrillo de la Reina","Burgos","Castilla y León",11.975569561203363,"Sí",173,116,57,"DUERO","DUERO","09084 Castrillo de la Reina"]
["09085 Castrillo de la Vega",648,"Castrillo de la Vega","Burgos","Castilla y León",24.530170576673651,"No",648,346,302,"DUERO","DUERO","09085 Castrillo de la Vega"]
["09088 Castrillo de Riopisuerga",57,"Castrillo de Riopisuerga","Burgos","Castilla y León",3.2675396080259489,"Sí",57,33,24,"DUERO","DUERO","09088 Castrillo de Riopisuerga"]
["09086 Castrillo del Val",814,"Castrillo del Val","Burgos","Castilla y León",36.107024058189971,"No",814,460,354,"DUERO","DUERO","09086 Castrillo del Val"]
["09090 Castrillo Mota de Judíos",49,"Castrillo Mota de Judíos","Burgos","Castilla y León",2.2220945399645289,"Sí",49,26,23,"DUERO","DUERO","09090 Castrillo Mota de Judíos"]
["09091 Castrojeriz",758,"Castrojeriz","Burgos","Castilla y León",5.5707720025081411,"Sí",758,405,353,"DUERO","DUERO","09091 Castrojeriz"]
["09063 Cavia",248,"Cavia","Burgos","Castilla y León",19.099447201927138,"No",248,144,104,"DUERO","DUERO","09063 Cavia"]
["09093 Cayuela",190,"Cayuela","Burgos","Castilla y León",14.101500971185217,"No",190,104,86,"DUERO","DUERO","09093 Cayuela"]
["09094 Cebrecos",54,"Cebrecos","Burgos","Castilla y León",2.3175967654589495,"Sí",54,34,20,"DUERO","DUERO","09094 Cebrecos"]
["09095 Celada del Camino",102,"Celada del Camino","Burgos","Castilla y León",8.1124383961709281,"Sí",102,48,54,"DUERO","DUERO","09095 Celada del Camino"]
["09098 Cerezo de Río Tirón",532,"Cerezo de Río Tirón","Burgos","Castilla y León",8.3522103229740079,"Sí",532,290,242,"EBRO","EBRO","09098 Cerezo de Río Tirón"]
["09100 Cerratón de Juarros",52,"Cerratón de Juarros","Burgos","Castilla y León",3.2003371678296202,"Sí",52,35,17,"EBRO","EBRO","09100 Cerratón de Juarros"]
["09101 Ciadoncha",78,"Ciadoncha","Burgos","Castilla y León",5.1025718335810586,"Sí",78,49,29,"DUERO","DUERO","09101 Ciadoncha"]
["09102 Cillaperlata",35,"Cillaperlata","Burgos","Castilla y León",2.0812123549565946,"Sí",35,23,12,"EBRO","EBRO","09102 Cillaperlata"]
["09103 Cilleruelo de Abajo",218,"Cilleruelo de Abajo","Burgos","Castilla y León",4.5267220709761782,"Sí",218,125,93,"DUERO","DUERO","09103 Cilleruelo de Abajo"]
["09104 Cilleruelo de Arriba",41,"Cilleruelo de Arriba","Burgos","Castilla y León",2.2173799211705214,"Sí",41,21,20,"DUERO","DUERO","09104 Cilleruelo de Arriba"]
["09105 Ciruelos de Cervera",104,"Ciruelos de Cervera","Burgos","Castilla y León",2.7459332398677505,"Sí",104,61,43,"DUERO","DUERO","09105 Ciruelos de Cervera"]
["09108 Cogollos",592,"Cogollos","Burgos","Castilla y León",18.94551867277681,"No",592,335,257,"DUERO","DUERO","09108 Cogollos"]
["09109 Condado de Treviño",1416,"Condado de Treviño","Burgos","Castilla y León",5.4386777560384294,"Sí",1416,778,638,"EBRO","EBRO","09109 Condado de Treviño"]
["09110 Contreras",81,"Contreras","Burgos","Castilla y León",2.1247682822145562,"Sí",81,52,29,"DUERO","DUERO","09110 Contreras"]
["09112 Coruña del Conde",105,"Coruña del Conde","Burgos","Castilla y León",3.0566204886028228,"Sí",105,67,38,"DUERO","DUERO","09112 Coruña del Conde"]
["09113 Covarrubias",539,"Covarrubias","Burgos","Castilla y León",12.948855623863373,"No",539,287,252,"DUERO","DUERO","09113 Covarrubias"]
["09114 Cubillo del Campo",102,"Cubillo del Campo","Burgos","Castilla y León",7.2562332466379447,"Sí",102,60,42,"DUERO","DUERO","09114 Cubillo del Campo"]
["09115 Cubo de Bureba",105,"Cubo de Bureba","Burgos","Castilla y León",10.712890852170677,"Sí",105,61,44,"EBRO","EBRO","09115 Cubo de Bureba"]
["09117 Cueva de Roa La",106,"Cueva de Roa La","Burgos","Castilla y León",8.8966955993922046,"Sí",106,54,52,"DUERO","DUERO","09117 Cueva de Roa La"]
["09119 Cuevas de San Clemente",42,"Cuevas de San Clemente","Burgos","Castilla y León",3.1682410687472857,"Sí",42,18,24,"DUERO","DUERO","09119 Cuevas de San Clemente"]
["09120 Encío",43,"Encío","Burgos","Castilla y León",2.2923898468027852,"Sí",43,21,22,"EBRO","EBRO","09120 Encío"]
["09122 Espinosa de Cervera",90,"Espinosa de Cervera","Burgos","Castilla y León",3.0388019557054098,"Sí",90,58,32,"DUERO","DUERO","09122 Espinosa de Cervera"]
["09124 Espinosa de los Monteros",1674,"Espinosa de los Monteros","Burgos","Castilla y León",12.20382576086188,"Sí",1674,861,813,"CANTÁBRICO OCCIDENTAL","EBRO","09124 Espinosa de los Monteros"]
["09123 Espinosa del Camino",46,"Espinosa del Camino","Burgos","Castilla y León",6.6350291169598412,"Sí",46,27,19,"EBRO","EBRO","09123 Espinosa del Camino"]
["09125 Estépar",604,"Estépar","Burgos","Castilla y León",5.8813626521338849,"Sí",604,357,247,"DUERO","DUERO","09125 Estépar"]
["09127 Fontioso",50,"Fontioso","Burgos","Castilla y León",2.0129561101893785,"Sí",50,31,19,"DUERO","DUERO","09127 Fontioso"]
["09128 Frandovínez",97,"Frandovínez","Burgos","Castilla y León",11.30327981560505,"Sí",97,55,42,"DUERO","DUERO","09128 Frandovínez"]
["09129 Fresneda de la Sierra Tirón",94,"Fresneda de la Sierra Tirón","Burgos","Castilla y León",1.5367692813291918,"Sí",94,57,37,"DUERO","EBRO","09129 Fresneda de la Sierra Tirón"]
["09130 Fresneña",69,"Fresneña","Burgos","Castilla y León",4.926068985526781,"Sí",69,44,25,"EBRO","EBRO","09130 Fresneña"]
["09131 Fresnillo de las Dueñas",695,"Fresnillo de las Dueñas","Burgos","Castilla y León",50.758066241832601,"No",695,356,339,"DUERO","DUERO","09131 Fresnillo de las Dueñas"]
["09132 Fresno de Río Tirón",178,"Fresno de Río Tirón","Burgos","Castilla y León",18.397212140216936,"No",178,105,73,"EBRO","EBRO","09132 Fresno de Río Tirón"]
["09133 Fresno de Rodilla",46,"Fresno de Rodilla","Burgos","Castilla y León",3.7873280285492075,"Sí",46,26,20,"DUERO","DUERO - EBRO","09133 Fresno de Rodilla"]
["09134 Frías",270,"Frías","Burgos","Castilla y León",9.1533047345672145,"Sí",270,142,128,"EBRO","EBRO","09134 Frías"]
["09135 Fuentebureba",40,"Fuentebureba","Burgos","Castilla y León",4.3991362735840447,"Sí",40,24,16,"EBRO","EBRO","09135 Fuentebureba"]
["09136 Fuentecén",223,"Fuentecén","Burgos","Castilla y León",13.081217407310922,"No",223,120,103,"DUERO","DUERO","09136 Fuentecén"]
["09137 Fuentelcésped",257,"Fuentelcésped","Burgos","Castilla y León",11.461141201437988,"Sí",257,129,128,"DUERO","DUERO","09137 Fuentelcésped"]
["09138 Fuentelisendo",106,"Fuentelisendo","Burgos","Castilla y León",15.2126877260017,"No",106,58,48,"DUERO","DUERO","09138 Fuentelisendo"]
["09139 Fuentemolinos",99,"Fuentemolinos","Burgos","Castilla y León",7.7282268332934816,"Sí",99,68,31,"DUERO","DUERO","09139 Fuentemolinos"]
["09140 Fuentenebro",150,"Fuentenebro","Burgos","Castilla y León",3.8475995570232979,"Sí",150,92,58,"DUERO","DUERO","09140 Fuentenebro"]
["09141 Fuentespina",770,"Fuentespina","Burgos","Castilla y León",64.019352800925674,"No",770,402,368,"DUERO","DUERO","09141 Fuentespina"]
["09143 Galbarros",30,"Galbarros","Burgos","Castilla y León",0.93782592381558605,"Sí",30,18,12,"DUERO","DUERO - EBRO","09143 Galbarros"]
["09144 Gallega La",44,"Gallega La","Burgos","Castilla y León",2.5353216401226173,"Sí",44,30,14,"DUERO","DUERO","09144 Gallega La"]
["09148 Grijalba",111,"Grijalba","Burgos","Castilla y León",5.6194160849558505,"Sí",111,55,56,"DUERO","DUERO","09148 Grijalba"]
["09149 Grisaleña",65,"Grisaleña","Burgos","Castilla y León",3.9764639826268904,"Sí",65,45,20,"EBRO","EBRO","09149 Grisaleña"]
["09151 Gumiel de Izán",556,"Gumiel de Izán","Burgos","Castilla y León",7.363805750432995,"Sí",556,309,247,"DUERO","DUERO","09151 Gumiel de Izán"]
["09152 Gumiel de Mercado",374,"Gumiel de Mercado","Burgos","Castilla y León",6.480845013468028,"Sí",374,202,172,"DUERO","DUERO","09152 Gumiel de Mercado"]
["09154 Hacinas",151,"Hacinas","Burgos","Castilla y León",19.110443047146223,"No",151,91,60,"DUERO","DUERO","09154 Hacinas"]
["09155 Haza",28,"Haza","Burgos","Castilla y León",0.34022861710530483,"Sí",28,19,9,"DUERO","DUERO","09155 Haza"]
["09159 Hontanas",72,"Hontanas","Burgos","Castilla y León",7.0462970094438973,"Sí",72,44,28,"DUERO","DUERO","09159 Hontanas"]
["09160 Hontangas",91,"Hontangas","Burgos","Castilla y León",7.446534902277322,"Sí",91,59,32,"DUERO","DUERO","09160 Hontangas"]
["09162 Hontoria de la Cantera",153,"Hontoria de la Cantera","Burgos","Castilla y León",7.8921879667448991,"Sí",153,84,69,"DUERO","DUERO","09162 Hontoria de la Cantera"]
["09164 Hontoria de Valdearados",169,"Hontoria de Valdearados","Burgos","Castilla y León",5.0325885419929905,"Sí",169,102,67,"DUERO","DUERO","09164 Hontoria de Valdearados"]
["09163 Hontoria del Pinar",644,"Hontoria del Pinar","Burgos","Castilla y León",7.96599085954501,"Sí",644,350,294,"DUERO","DUERO","09163 Hontoria del Pinar"]
["09166 Hormazas Las",98,"Hormazas Las","Burgos","Castilla y León",2.6793198366150763,"Sí",98,54,44,"DUERO","DUERO","09166 Hormazas Las"]
["09167 Hornillos del Camino",56,"Hornillos del Camino","Burgos","Castilla y León",3.9777481924863602,"Sí",56,31,25,"DUERO","DUERO","09167 Hornillos del Camino"]
["09168 Horra La",312,"Horra La","Burgos","Castilla y León",10.403277379150344,"Sí",312,174,138,"DUERO","DUERO","09168 Horra La"]
["09169 Hortigüela",100,"Hortigüela","Burgos","Castilla y León",4.8398847546001775,"Sí",100,66,34,"DUERO","DUERO","09169 Hortigüela"]
["09170 Hoyales de Roa",226,"Hoyales de Roa","Burgos","Castilla y León",17.680112627011269,"No",226,117,109,"DUERO","DUERO","09170 Hoyales de Roa"]
["09172 Huérmeces",164,"Huérmeces","Burgos","Castilla y León",3.3675774896007562,"Sí",164,94,70,"DUERO","DUERO","09172 Huérmeces"]
["09173 Huerta de Arriba",128,"Huerta de Arriba","Burgos","Castilla y León",3.8575830952029206,"Sí",128,71,57,"DUERO","DUERO","09173 Huerta de Arriba"]
["09174 Huerta de Rey",908,"Huerta de Rey","Burgos","Castilla y León",9.2828698806020515,"Sí",908,485,423,"DUERO","DUERO","09174 Huerta de Rey"]
["09175 Humada",123,"Humada","Burgos","Castilla y León",1.443781117664769,"Sí",123,83,40,"DUERO","DUERO","09175 Humada"]
["09176 Hurones",57,"Hurones","Burgos","Castilla y León",6.8718065690130725,"Sí",57,39,18,"DUERO","DUERO","09176 Hurones"]
["09177 Ibeas de Juarros",1438,"Ibeas de Juarros","Burgos","Castilla y León",11.038712781076104,"Sí",1438,771,667,"DUERO","DUERO","09177 Ibeas de Juarros"]
["09178 Ibrillos",37,"Ibrillos","Burgos","Castilla y León",6.5632452941974702,"Sí",37,25,12,"EBRO","EBRO","09178 Ibrillos"]
["09179 Iglesiarrubia",43,"Iglesiarrubia","Burgos","Castilla y León",2.8620044613990476,"Sí",43,23,20,"DUERO","DUERO","09179 Iglesiarrubia"]
["09180 Iglesias",146,"Iglesias","Burgos","Castilla y León",4.2271894271622692,"Sí",146,77,69,"DUERO","DUERO","09180 Iglesias"]
["09181 Isar",291,"Isar","Burgos","Castilla y León",4.3812796082660261,"Sí",291,151,140,"DUERO","DUERO","09181 Isar"]
["09182 Itero del Castillo",82,"Itero del Castillo","Burgos","Castilla y León",4.848006425855151,"Sí",82,48,34,"DUERO","DUERO","09182 Itero del Castillo"]
["09183 Jaramillo de la Fuente",42,"Jaramillo de la Fuente","Burgos","Castilla y León",1.9477378346729519,"Sí",42,28,14,"DUERO","DUERO","09183 Jaramillo de la Fuente"]
["09184 Jaramillo Quemado",10,"Jaramillo Quemado","Burgos","Castilla y León",0.57307821801328107,"Sí",10,9,1,"DUERO","DUERO","09184 Jaramillo Quemado"]
["09189 Junta de Traslaloma",123,"Junta de Traslaloma","Burgos","Castilla y León",1.6224387446603132,"Sí",123,67,56,"CANTÁBRICO ORIENTAL","EBRO","09189 Junta de Traslaloma"]
["09190 Junta de Villalba de Losa",87,"Junta de Villalba de Losa","Burgos","Castilla y León",1.9050955832439178,"Sí",87,47,40,"CANTÁBRICO ORIENTAL","EBRO","09190 Junta de Villalba de Losa"]
["09191 Jurisdicción de Lara",31,"Jurisdicción de Lara","Burgos","Castilla y León",1.2377834269503543,"Sí",31,19,12,"DUERO","DUERO","09191 Jurisdicción de Lara"]
["09192 Jurisdicción de San Zadornil",62,"Jurisdicción de San Zadornil","Burgos","Castilla y León",2.0005070962826643,"Sí",62,37,25,"EBRO","EBRO","09192 Jurisdicción de San Zadornil"]
["09194 Lerma",2609,"Lerma","Burgos","Castilla y León",15.841423044321983,"No",2609,1308,1301,"DUERO","DUERO","09194 Lerma"]
["09195 Llano de Bureba",53,"Llano de Bureba","Burgos","Castilla y León",3.4892878205552758,"Sí",53,37,16,"EBRO","EBRO","09195 Llano de Bureba"]
["09196 Madrigal del Monte",155,"Madrigal del Monte","Burgos","Castilla y León",5.7671040959312743,"Sí",155,94,61,"DUERO","DUERO","09196 Madrigal del Monte"]
["09197 Madrigalejo del Monte",179,"Madrigalejo del Monte","Burgos","Castilla y León",7.0281794659368879,"Sí",179,116,63,"DUERO","DUERO","09197 Madrigalejo del Monte"]
["09198 Mahamud",111,"Mahamud","Burgos","Castilla y León",3.3027736514596651,"Sí",111,61,50,"DUERO","DUERO","09198 Mahamud"]
["09199 Mambrilla de Castrejón",104,"Mambrilla de Castrejón","Burgos","Castilla y León",6.4827162680897397,"Sí",104,65,39,"DUERO","DUERO","09199 Mambrilla de Castrejón"]
["09200 Mambrillas de Lara",46,"Mambrillas de Lara","Burgos","Castilla y León",1.3519296547503767,"Sí",46,28,18,"DUERO","DUERO","09200 Mambrillas de Lara"]
["09201 Mamolar",27,"Mamolar","Burgos","Castilla y León",1.473617498454612,"Sí",27,17,10,"DUERO","DUERO","09201 Mamolar"]
["09202 Manciles",22,"Manciles","Burgos","Castilla y León",3.3434543749936361,"Sí",22,14,8,"DUERO","DUERO","09202 Manciles"]
["09206 Mazuela",59,"Mazuela","Burgos","Castilla y León",4.3993316594994836,"Sí",59,35,24,"DUERO","DUERO","09206 Mazuela"]
["09208 Mecerreyes",196,"Mecerreyes","Burgos","Castilla y León",3.2868467002289492,"Sí",196,107,89,"DUERO","DUERO","09208 Mecerreyes"]
["09209 Medina de Pomar",5834,"Medina de Pomar","Burgos","Castilla y León",27.236684566624476,"No",5834,2950,2884,"EBRO","EBRO","09209 Medina de Pomar"]
["09211 Melgar de Fernamental",1553,"Melgar de Fernamental","Burgos","Castilla y León",14.297045920988356,"No",1553,846,707,"DUERO","DUERO","09211 Melgar de Fernamental"]
["09213 Merindad de Cuesta-Urria",284,"Merindad de Cuesta-Urria","Burgos","Castilla y León",2.3283535698685864,"Sí",284,163,121,"EBRO","EBRO","09213 Merindad de Cuesta-Urria"]
["09214 Merindad de Montija",730,"Merindad de Montija","Burgos","Castilla y León",7.2947598821862307,"Sí",730,434,296,"CANTÁBRICO ORIENTAL","EBRO - CANTÁBRICO ORIENTAL ","09214 Merindad de Montija"]
["09906 Merindad de Río Ubierna",1436,"Merindad de Río Ubierna","Burgos","Castilla y León",5.217488766557751,"Sí",1436,808,628,"DUERO","DUERO - EBRO","09906 Merindad de Río Ubierna"]
["09215 Merindad de Sotoscueva",409,"Merindad de Sotoscueva","Burgos","Castilla y León",2.6671006193705389,"Sí",409,234,175,"CANTÁBRICO OCCIDENTAL","EBRO","09215 Merindad de Sotoscueva"]
["09216 Merindad de Valdeporres",431,"Merindad de Valdeporres","Burgos","Castilla y León",3.5866642265144724,"Sí",431,226,205,"CANTÁBRICO OCCIDENTAL","EBRO","09216 Merindad de Valdeporres"]
["09217 Merindad de Valdivielso",386,"Merindad de Valdivielso","Burgos","Castilla y León",2.9901638946014013,"Sí",386,220,166,"EBRO","EBRO","09217 Merindad de Valdivielso"]
["09218 Milagros",438,"Milagros","Burgos","Castilla y León",19.885639412974108,"No",438,243,195,"DUERO","DUERO","09218 Milagros"]
["09219 Miranda de Ebro",35528,"Miranda de Ebro","Burgos","Castilla y León",351.07621342050288,"No",35528,17515,18013,"EBRO","EBRO","09219 Miranda de Ebro"]
["09220 Miraveche",85,"Miraveche","Burgos","Castilla y León",3.7439179502322308,"Sí",85,54,31,"EBRO","EBRO","09220 Miraveche"]
["09221 Modúbar de la Emparedada",768,"Modúbar de la Emparedada","Burgos","Castilla y León",65.37503307057338,"No",768,418,350,"DUERO","DUERO","09221 Modúbar de la Emparedada"]
["09223 Monasterio de la Sierra",40,"Monasterio de la Sierra","Burgos","Castilla y León",6.7854125166094175,"Sí",40,24,16,"DUERO","DUERO","09223 Monasterio de la Sierra"]
["09224 Monasterio de Rodilla",164,"Monasterio de Rodilla","Burgos","Castilla y León",4.4158783785239253,"Sí",164,90,74,"DUERO","DUERO - EBRO","09224 Monasterio de Rodilla"]
["09225 Moncalvillo",83,"Moncalvillo","Burgos","Castilla y León",3.1020236518465056,"Sí",83,49,34,"DUERO","DUERO","09225 Moncalvillo"]
["09226 Monterrubio de la Demanda",58,"Monterrubio de la Demanda","Burgos","Castilla y León",3.8379285138171051,"Sí",58,35,23,"DUERO","DUERO","09226 Monterrubio de la Demanda"]
["09227 Montorio",152,"Montorio","Burgos","Castilla y León",6.4593309263543208,"Sí",152,85,67,"DUERO","DUERO","09227 Montorio"]
["09228 Moradillo de Roa",163,"Moradillo de Roa","Burgos","Castilla y León",11.806244605252417,"Sí",163,89,74,"DUERO","DUERO","09228 Moradillo de Roa"]
["09229 Nava de Roa",206,"Nava de Roa","Burgos","Castilla y León",9.2184767809616073,"Sí",206,110,96,"DUERO","DUERO","09229 Nava de Roa"]
["09230 Navas de Bureba",31,"Navas de Bureba","Burgos","Castilla y León",3.5247463916545829,"Sí",31,14,17,"EBRO","EBRO","09230 Navas de Bureba"]
["09231 Nebreda",51,"Nebreda","Burgos","Castilla y León",1.7939624930985207,"Sí",51,37,14,"DUERO","DUERO","09231 Nebreda"]
["09232 Neila",144,"Neila","Burgos","Castilla y León",2.0994462185736955,"Sí",144,82,62,"DUERO","EBRO","09232 Neila"]
["09235 Olmedillo de Roa",190,"Olmedillo de Roa","Burgos","Castilla y León",7.2998054294492825,"Sí",190,105,85,"DUERO","DUERO","09235 Olmedillo de Roa"]
["09236 Olmillos de Muñó",36,"Olmillos de Muñó","Burgos","Castilla y León",5.1124011087661909,"Sí",36,21,15,"DUERO","DUERO","09236 Olmillos de Muñó"]
["09238 Oña",1008,"Oña","Burgos","Castilla y León",6.2360569144870119,"Sí",1008,527,481,"EBRO","EBRO","09238 Oña"]
["09239 Oquillas",48,"Oquillas","Burgos","Castilla y León",3.2033235549657286,"Sí",48,27,21,"DUERO","DUERO","09239 Oquillas"]
["09241 Orbaneja Riopico",355,"Orbaneja Riopico","Burgos","Castilla y León",37.99910621820586,"No",355,203,152,"DUERO","DUERO","09241 Orbaneja Riopico"]
["09242 Padilla de Abajo",75,"Padilla de Abajo","Burgos","Castilla y León",2.7014220826127291,"Sí",75,45,30,"DUERO","DUERO","09242 Padilla de Abajo"]
["09243 Padilla de Arriba",86,"Padilla de Arriba","Burgos","Castilla y León",3.720257890007288,"Sí",86,53,33,"DUERO","DUERO","09243 Padilla de Arriba"]
["09244 Padrones de Bureba",45,"Padrones de Bureba","Burgos","Castilla y León",2.2135976086849372,"Sí",45,20,25,"EBRO","EBRO","09244 Padrones de Bureba"]
["09246 Palacios de la Sierra",702,"Palacios de la Sierra","Burgos","Castilla y León",9.9719974379637346,"Sí",702,357,345,"DUERO","DUERO","09246 Palacios de la Sierra"]
["09247 Palacios de Riopisuerga",22,"Palacios de Riopisuerga","Burgos","Castilla y León",2.1280267311110546,"Sí",22,11,11,"DUERO","DUERO","09247 Palacios de Riopisuerga"]
["09248 Palazuelos de la Sierra",87,"Palazuelos de la Sierra","Burgos","Castilla y León",5.5282401889463539,"Sí",87,54,33,"DUERO","DUERO","09248 Palazuelos de la Sierra"]
["09249 Palazuelos de Muñó",53,"Palazuelos de Muñó","Burgos","Castilla y León",6.0984036105310917,"Sí",53,28,25,"DUERO","DUERO","09249 Palazuelos de Muñó"]
["09250 Pampliega",287,"Pampliega","Burgos","Castilla y León",11.762480678486117,"Sí",287,158,129,"DUERO","DUERO","09250 Pampliega"]
["09251 Pancorbo",423,"Pancorbo","Burgos","Castilla y León",7.2368868124213312,"Sí",423,223,200,"EBRO","EBRO","09251 Pancorbo"]
["09253 Pardilla",115,"Pardilla","Burgos","Castilla y León",7.5672576212319091,"Sí",115,68,47,"DUERO","DUERO","09253 Pardilla"]
["09255 Partido de la Sierra en Tobalina",84,"Partido de la Sierra en Tobalina","Burgos","Castilla y León",2.8200100392357399,"Sí",84,52,32,"EBRO","EBRO","09255 Partido de la Sierra en Tobalina"]
["09256 Pedrosa de Duero",485,"Pedrosa de Duero","Burgos","Castilla y León",6.9423493141968029,"Sí",485,281,204,"DUERO","DUERO","09256 Pedrosa de Duero"]
["09259 Pedrosa de Río Úrbel",252,"Pedrosa de Río Úrbel","Burgos","Castilla y León",5.1365693530013932,"Sí",252,151,101,"DUERO","DUERO","09259 Pedrosa de Río Úrbel"]
["09257 Pedrosa del Páramo",84,"Pedrosa del Páramo","Burgos","Castilla y León",7.4148850639851629,"Sí",84,51,33,"DUERO","DUERO","09257 Pedrosa del Páramo"]
["09258 Pedrosa del Príncipe",165,"Pedrosa del Príncipe","Burgos","Castilla y León",5.8076724844409808,"Sí",165,90,75,"DUERO","DUERO","09258 Pedrosa del Príncipe"]
["09261 Peñaranda de Duero",511,"Peñaranda de Duero","Burgos","Castilla y León",7.9184654057432518,"Sí",511,262,249,"DUERO","DUERO","09261 Peñaranda de Duero"]
["09262 Peral de Arlanza",175,"Peral de Arlanza","Burgos","Castilla y León",6.0288187873151591,"Sí",175,98,77,"DUERO","DUERO","09262 Peral de Arlanza"]
["09265 Piérnigas",37,"Piérnigas","Burgos","Castilla y León",2.7607854748062284,"Sí",37,21,16,"EBRO","EBRO","09265 Piérnigas"]
["09266 Pineda de la Sierra",99,"Pineda de la Sierra","Burgos","Castilla y León",1.4396478673667252,"Sí",99,64,35,"DUERO","DUERO","09266 Pineda de la Sierra"]
["09267 Pineda Trasmonte",117,"Pineda Trasmonte","Burgos","Castilla y León",4.1532750170923238,"Sí",117,67,50,"DUERO","DUERO","09267 Pineda Trasmonte"]
["09268 Pinilla de los Barruecos",99,"Pinilla de los Barruecos","Burgos","Castilla y León",3.0441952577587772,"Sí",99,60,39,"DUERO","DUERO","09268 Pinilla de los Barruecos"]
["09269 Pinilla de los Moros",40,"Pinilla de los Moros","Burgos","Castilla y León",3.6322271899991709,"Sí",40,21,19,"DUERO","DUERO","09269 Pinilla de los Moros"]
["09270 Pinilla Trasmonte",165,"Pinilla Trasmonte","Burgos","Castilla y León",2.415284058044926,"Sí",165,94,71,"DUERO","DUERO","09270 Pinilla Trasmonte"]
["09272 Poza de la Sal",294,"Poza de la Sal","Burgos","Castilla y León",3.5896634688056048,"Sí",294,161,133,"EBRO","EBRO","09272 Poza de la Sal"]
["09273 Prádanos de Bureba",56,"Prádanos de Bureba","Burgos","Castilla y León",5.1923929959069106,"Sí",56,35,21,"EBRO","EBRO","09273 Prádanos de Bureba"]
["09274 Pradoluengo",1120,"Pradoluengo","Burgos","Castilla y León",36.667223113603143,"No",1120,569,551,"EBRO","EBRO","09274 Pradoluengo"]
["09275 Presencio",190,"Presencio","Burgos","Castilla y León",5.3746959371853062,"Sí",190,113,77,"DUERO","DUERO","09275 Presencio"]
["09276 Puebla de Arganzón La",513,"Puebla de Arganzón La","Burgos","Castilla y León",27.208070136358572,"No",513,278,235,"EBRO","EBRO","09276 Puebla de Arganzón La"]
["09277 Puentedura",120,"Puentedura","Burgos","Castilla y León",7.5807827158154071,"Sí",120,78,42,"DUERO","DUERO","09277 Puentedura"]
["09279 Quemada",255,"Quemada","Burgos","Castilla y León",12.238996793910797,"Sí",255,156,99,"DUERO","DUERO","09279 Quemada"]
["09281 Quintana del Pidio",157,"Quintana del Pidio","Burgos","Castilla y León",14.624936970713517,"No",157,86,71,"DUERO","DUERO","09281 Quintana del Pidio"]
["09280 Quintanabureba",30,"Quintanabureba","Burgos","Castilla y León",2.4262112333903603,"Sí",30,18,12,"EBRO","EBRO","09280 Quintanabureba"]
["09283 Quintanaélez",43,"Quintanaélez","Burgos","Castilla y León",2.4614012219082571,"Sí",43,23,20,"EBRO","EBRO","09283 Quintanaélez"]
["09287 Quintanaortuño",274,"Quintanaortuño","Burgos","Castilla y León",49.157584324543386,"No",274,150,124,"DUERO","DUERO","09287 Quintanaortuño"]
["09288 Quintanapalla",117,"Quintanapalla","Burgos","Castilla y León",7.3706632859891057,"Sí",117,60,57,"DUERO","DUERO","09288 Quintanapalla"]
["09289 Quintanar de la Sierra",1596,"Quintanar de la Sierra","Burgos","Castilla y León",26.642621089043512,"No",1596,840,756,"DUERO","DUERO","09289 Quintanar de la Sierra"]
["09292 Quintanavides",74,"Quintanavides","Burgos","Castilla y León",6.3434382017964275,"Sí",74,43,31,"DUERO","EBRO","09292 Quintanavides"]
["09294 Quintanilla de la Mata",117,"Quintanilla de la Mata","Burgos","Castilla y León",8.5775239547517277,"Sí",117,71,46,"DUERO","DUERO","09294 Quintanilla de la Mata"]
["09901 Quintanilla del Agua y Tordueles",357,"Quintanilla del Agua y Tordueles","Burgos","Castilla y León",9.9759085998870951,"Sí",357,193,164,"DUERO","DUERO","09901 Quintanilla del Agua y Tordueles"]
["09295 Quintanilla del Coco",50,"Quintanilla del Coco","Burgos","Castilla y León",2.4815653197871632,"Sí",50,25,25,"DUERO","DUERO","09295 Quintanilla del Coco"]
["09298 Quintanilla San García",79,"Quintanilla San García","Burgos","Castilla y León",1.7266456747351,"Sí",79,46,33,"EBRO","EBRO","09298 Quintanilla San García"]
["09301 Quintanilla Vivar",872,"Quintanilla Vivar","Burgos","Castilla y León",65.16185135281458,"No",872,476,396,"DUERO","DUERO","09301 Quintanilla Vivar"]
["09297 Quintanillas Las",379,"Quintanillas Las","Burgos","Castilla y León",15.292586726922417,"No",379,220,159,"DUERO","DUERO","09297 Quintanillas Las"]
["09302 Rabanera del Pinar",98,"Rabanera del Pinar","Burgos","Castilla y León",2.9480483784365181,"Sí",98,60,38,"DUERO","DUERO","09302 Rabanera del Pinar"]
["09303 Rábanos",82,"Rábanos","Burgos","Castilla y León",2.0179530887922001,"Sí",82,49,33,"DUERO","DUERO - EBRO","09303 Rábanos"]
["09304 Rabé de las Calzadas",232,"Rabé de las Calzadas","Burgos","Castilla y León",22.954894522754387,"No",232,116,116,"DUERO","DUERO","09304 Rabé de las Calzadas"]
["09306 Rebolledo de la Torre",95,"Rebolledo de la Torre","Burgos","Castilla y León",1.8808599180673662,"Sí",95,55,40,"DUERO","DUERO","09306 Rebolledo de la Torre"]
["09307 Redecilla del Camino",104,"Redecilla del Camino","Burgos","Castilla y León",8.5958383909648486,"Sí",104,67,37,"EBRO","EBRO","09307 Redecilla del Camino"]
["09308 Redecilla del Campo",63,"Redecilla del Campo","Burgos","Castilla y León",3.6622396583583816,"Sí",63,36,27,"EBRO","EBRO","09308 Redecilla del Campo"]
["09309 Regumiel de la Sierra",336,"Regumiel de la Sierra","Burgos","Castilla y León",16.258727452629039,"No",336,176,160,"DUERO","DUERO","09309 Regumiel de la Sierra"]
["09310 Reinoso",15,"Reinoso","Burgos","Castilla y León",1.7636642829764069,"Sí",15,11,4,"EBRO","EBRO","09310 Reinoso"]
["09311 Retuerta",66,"Retuerta","Burgos","Castilla y León",7.7311372842646646,"Sí",66,39,27,"DUERO","DUERO","09311 Retuerta"]
["09314 Revilla del Campo",106,"Revilla del Campo","Burgos","Castilla y León",2.7153843507430202,"Sí",106,63,43,"DUERO","DUERO","09314 Revilla del Campo"]
["09316 Revilla Vallejera",101,"Revilla Vallejera","Burgos","Castilla y León",3.6778294251843926,"Sí",101,60,41,"DUERO","DUERO","09316 Revilla Vallejera"]
["09312 Revilla y Ahedo La",102,"Revilla y Ahedo La","Burgos","Castilla y León",6.6722050329358353,"Sí",102,58,44,"DUERO","DUERO","09312 Revilla y Ahedo La"]
["09315 Revillarruz",564,"Revillarruz","Burgos","Castilla y León",33.214086518101951,"No",564,295,269,"DUERO","DUERO","09315 Revillarruz"]
["09317 Rezmondo",21,"Rezmondo","Burgos","Castilla y León",3.1330508216649569,"Sí",21,8,13,"DUERO","DUERO","09317 Rezmondo"]
["09318 Riocavado de la Sierra",57,"Riocavado de la Sierra","Burgos","Castilla y León",1.3158988281574646,"Sí",57,37,20,"DUERO","DUERO","09318 Riocavado de la Sierra"]
["09321 Roa",2196,"Roa","Burgos","Castilla y León",44.88996255939999,"No",2196,1108,1088,"DUERO","DUERO","09321 Roa"]
["09323 Rojas",64,"Rojas","Burgos","Castilla y León",2.5673669052927233,"Sí",64,44,20,"EBRO","EBRO","09323 Rojas"]
["09325 Royuela de Río Franco",177,"Royuela de Río Franco","Burgos","Castilla y León",3.49719510134249,"Sí",177,105,72,"DUERO","DUERO","09325 Royuela de Río Franco"]
["09326 Rubena",193,"Rubena","Burgos","Castilla y León",19.757013304659392,"No",193,112,81,"DUERO","DUERO","09326 Rubena"]
["09327 Rublacedo de Abajo",29,"Rublacedo de Abajo","Burgos","Castilla y León",0.7379134860050891,"Sí",29,15,14,"DUERO","DUERO - EBRO","09327 Rublacedo de Abajo"]
["09328 Rucandio",64,"Rucandio","Burgos","Castilla y León",1.9612363474583923,"Sí",64,31,33,"EBRO","EBRO","09328 Rucandio"]
["09329 Salas de Bureba",135,"Salas de Bureba","Burgos","Castilla y León",10.149164144912623,"Sí",135,79,56,"EBRO","EBRO","09329 Salas de Bureba"]
["09330 Salas de los Infantes",1980,"Salas de los Infantes","Burgos","Castilla y León",63.220344741178458,"No",1980,1021,959,"DUERO","DUERO","09330 Salas de los Infantes"]
["09332 Saldaña de Burgos",189,"Saldaña de Burgos","Burgos","Castilla y León",23.188377347286441,"No",189,109,80,"DUERO","DUERO","09332 Saldaña de Burgos"]
["09334 Salinillas de Bureba",51,"Salinillas de Bureba","Burgos","Castilla y León",2.2336907399109336,"Sí",51,38,13,"EBRO","EBRO","09334 Salinillas de Bureba"]
["09335 San Adrián de Juarros",94,"San Adrián de Juarros","Burgos","Castilla y León",4.7265849131733892,"Sí",94,61,33,"DUERO","DUERO","09335 San Adrián de Juarros"]
["09337 San Juan del Monte",156,"San Juan del Monte","Burgos","Castilla y León",5.8869870566287394,"Sí",156,85,71,"DUERO","DUERO","09337 San Juan del Monte"]
["09338 San Mamés de Burgos",318,"San Mamés de Burgos","Burgos","Castilla y León",62.356609212306601,"No",318,179,139,"DUERO","DUERO","09338 San Mamés de Burgos"]
["09339 San Martín de Rubiales",151,"San Martín de Rubiales","Burgos","Castilla y León",7.7817277919666905,"Sí",151,90,61,"DUERO","DUERO","09339 San Martín de Rubiales"]
["09340 San Millán de Lara",69,"San Millán de Lara","Burgos","Castilla y León",2.0525690296069401,"Sí",69,49,20,"DUERO","DUERO","09340 San Millán de Lara"]
["09360 San Vicente del Valle",27,"San Vicente del Valle","Burgos","Castilla y León",2.0118051234417549,"Sí",27,20,7,"EBRO","EBRO","09360 San Vicente del Valle"]
["09343 Santa Cecilia",100,"Santa Cecilia","Burgos","Castilla y León",8.0264017247774131,"Sí",100,60,40,"DUERO","DUERO","09343 Santa Cecilia"]
["09345 Santa Cruz de la Salceda",132,"Santa Cruz de la Salceda","Burgos","Castilla y León",5.1044174324517364,"Sí",132,83,49,"DUERO","DUERO","09345 Santa Cruz de la Salceda"]
["09346 Santa Cruz del Valle Urbión",101,"Santa Cruz del Valle Urbión","Burgos","Castilla y León",2.9773087216220473,"Sí",101,68,33,"DUERO","EBRO","09346 Santa Cruz del Valle Urbión"]
["09347 Santa Gadea del Cid",152,"Santa Gadea del Cid","Burgos","Castilla y León",5.2358906525573188,"Sí",152,81,71,"EBRO","EBRO","09347 Santa Gadea del Cid"]
["09348 Santa Inés",147,"Santa Inés","Burgos","Castilla y León",9.8880517827182004,"Sí",147,84,63,"DUERO","DUERO","09348 Santa Inés"]
["09350 Santa María del Campo",518,"Santa María del Campo","Burgos","Castilla y León",8.5876819318239193,"Sí",518,281,237,"DUERO","DUERO","09350 Santa María del Campo"]
["09351 Santa María del Invierno",66,"Santa María del Invierno","Burgos","Castilla y León",4.0791904364492719,"Sí",66,48,18,"EBRO","EBRO","09351 Santa María del Invierno"]
["09352 Santa María del Mercadillo",104,"Santa María del Mercadillo","Burgos","Castilla y León",3.4428288638959379,"Sí",104,66,38,"DUERO","DUERO","09352 Santa María del Mercadillo"]
["09353 Santa María Rivarredonda",95,"Santa María Rivarredonda","Burgos","Castilla y León",8.0749491278204939,"Sí",95,58,37,"EBRO","EBRO","09353 Santa María Rivarredonda"]
["09354 Santa Olalla de Bureba",35,"Santa Olalla de Bureba","Burgos","Castilla y León",3.2602451573948557,"Sí",35,24,11,"DUERO","DUERO - EBRO","09354 Santa Olalla de Bureba"]
["09355 Santibáñez de Esgueva",85,"Santibáñez de Esgueva","Burgos","Castilla y León",3.8201584457905584,"Sí",85,48,37,"DUERO","DUERO","09355 Santibáñez de Esgueva"]
["09356 Santibáñez del Val",54,"Santibáñez del Val","Burgos","Castilla y León",3.6096399043285001,"Sí",54,33,21,"DUERO","DUERO","09356 Santibáñez del Val"]
["09358 Santo Domingo de Silos",262,"Santo Domingo de Silos","Burgos","Castilla y León",3.3201846418041607,"Sí",262,166,96,"DUERO","DUERO","09358 Santo Domingo de Silos"]
["09361 Sargentes de la Lora",115,"Sargentes de la Lora","Burgos","Castilla y León",1.3339287682037779,"Sí",115,66,49,"DUERO","EBRO","09361 Sargentes de la Lora"]
["09362 Sarracín",257,"Sarracín","Burgos","Castilla y León",26.743874950219453,"No",257,135,122,"DUERO","DUERO","09362 Sarracín"]
["09363 Sasamón",963,"Sasamón","Burgos","Castilla y León",8.5139557703976205,"Sí",963,558,405,"DUERO","DUERO","09363 Sasamón"]
["09365 Sequera de Haza La",25,"Sequera de Haza La","Burgos","Castilla y León",3.6528575500985756,"Sí",25,18,7,"DUERO","DUERO","09365 Sequera de Haza La"]
["09366 Solarana",73,"Solarana","Burgos","Castilla y León",4.4217662351507405,"Sí",73,43,30,"DUERO","DUERO","09366 Solarana"]
["09368 Sordillos",28,"Sordillos","Burgos","Castilla y León",2.8838722329245927,"Sí",28,16,12,"DUERO","DUERO","09368 Sordillos"]
["09369 Sotillo de la Ribera",469,"Sotillo de la Ribera","Burgos","Castilla y León",11.045712173469965,"Sí",469,248,221,"DUERO","DUERO","09369 Sotillo de la Ribera"]
["09372 Sotragero",289,"Sotragero","Burgos","Castilla y León",52.638711200352034,"No",289,158,131,"DUERO","DUERO","09372 Sotragero"]
["09373 Sotresgudo",445,"Sotresgudo","Burgos","Castilla y León",2.584302382845268,"Sí",445,257,188,"DUERO","DUERO","09373 Sotresgudo"]
["09374 Susinos del Páramo",113,"Susinos del Páramo","Burgos","Castilla y León",9.8651943024225073,"Sí",113,71,42,"DUERO","DUERO","09374 Susinos del Páramo"]
["09375 Tamarón",41,"Tamarón","Burgos","Castilla y León",2.6187621405174113,"Sí",41,22,19,"DUERO","DUERO","09375 Tamarón"]
["09377 Tardajos",800,"Tardajos","Burgos","Castilla y León",62.881711640190844,"No",800,430,370,"DUERO","DUERO","09377 Tardajos"]
["09378 Tejada",34,"Tejada","Burgos","Castilla y León",1.4948466480789815,"Sí",34,19,15,"DUERO","DUERO","09378 Tejada"]
["09380 Terradillos de Esgueva",73,"Terradillos de Esgueva","Burgos","Castilla y León",5.0712285308150769,"Sí",73,36,37,"DUERO","DUERO","09380 Terradillos de Esgueva"]
["09381 Tinieblas de la Sierra",28,"Tinieblas de la Sierra","Burgos","Castilla y León",0.95302268673909429,"Sí",28,15,13,"DUERO","DUERO","09381 Tinieblas de la Sierra"]
["09382 Tobar",22,"Tobar","Burgos","Castilla y León",1.8401300068578297,"Sí",22,16,6,"DUERO","DUERO","09382 Tobar"]
["09384 Tordómar",329,"Tordómar","Burgos","Castilla y León",10.944971179961374,"Sí",329,182,147,"DUERO","DUERO","09384 Tordómar"]
["09386 Torrecilla del Monte",73,"Torrecilla del Monte","Burgos","Castilla y León",4.8904997018804979,"Sí",73,40,33,"DUERO","DUERO","09386 Torrecilla del Monte"]
["09387 Torregalindo",120,"Torregalindo","Burgos","Castilla y León",7.8133159217928743,"Sí",120,74,46,"DUERO","DUERO","09387 Torregalindo"]
["09388 Torrelara",33,"Torrelara","Burgos","Castilla y León",2.6374149114004419,"Sí",33,19,14,"DUERO","DUERO","09388 Torrelara"]
["09389 Torrepadre",76,"Torrepadre","Burgos","Castilla y León",2.6610383371591597,"Sí",76,44,32,"DUERO","DUERO","09389 Torrepadre"]
["09390 Torresandino",591,"Torresandino","Burgos","Castilla y León",6.3412685994316869,"Sí",591,316,275,"DUERO","DUERO","09390 Torresandino"]
["09391 Tórtoles de Esgueva",397,"Tórtoles de Esgueva","Burgos","Castilla y León",5.0126249335211668,"Sí",397,213,184,"DUERO","DUERO","09391 Tórtoles de Esgueva"]
["09392 Tosantos",56,"Tosantos","Burgos","Castilla y León",9.7642457730405692,"Sí",56,31,25,"EBRO","EBRO","09392 Tosantos"]
["09394 Trespaderne",757,"Trespaderne","Burgos","Castilla y León",20.56417557622477,"No",757,372,385,"EBRO","EBRO","09394 Trespaderne"]
["09395 Tubilla del Agua",142,"Tubilla del Agua","Burgos","Castilla y León",1.8046005240331169,"Sí",142,86,56,"EBRO","EBRO","09395 Tubilla del Agua"]
["09396 Tubilla del Lago",167,"Tubilla del Lago","Burgos","Castilla y León",7.1963449462374856,"Sí",167,89,78,"DUERO","DUERO","09396 Tubilla del Lago"]
["09398 Úrbel del Castillo",68,"Úrbel del Castillo","Burgos","Castilla y León",2.2055268882107613,"Sí",68,45,23,"DUERO","DUERO","09398 Úrbel del Castillo"]
["09400 Vadocondes",355,"Vadocondes","Burgos","Castilla y León",13.818076652179743,"No",355,194,161,"DUERO","DUERO","09400 Vadocondes"]
["09403 Valdeande",99,"Valdeande","Burgos","Castilla y León",3.1951203863268471,"Sí",99,58,41,"DUERO","DUERO","09403 Valdeande"]
["09405 Valdezate",124,"Valdezate","Burgos","Castilla y León",6.0562151566161653,"Sí",124,72,52,"DUERO","DUERO","09405 Valdezate"]
["09406 Valdorros",342,"Valdorros","Burgos","Castilla y León",20.550701103392381,"No",342,196,146,"DUERO","DUERO","09406 Valdorros"]
["09408 Vallarta de Bureba",45,"Vallarta de Bureba","Burgos","Castilla y León",2.3531800011703146,"Sí",45,29,16,"EBRO","EBRO","09408 Vallarta de Bureba"]
["09904 Valle de las Navas",530,"Valle de las Navas","Burgos","Castilla y León",4.7393294578495038,"Sí",530,310,220,"DUERO","DUERO - EBRO","09904 Valle de las Navas"]
["09908 Valle de Losa",488,"Valle de Losa","Burgos","Castilla y León",2.1435734672534958,"Sí",488,280,208,"CANTÁBRICO ORIENTAL","EBRO","09908 Valle de Losa"]
["09409 Valle de Manzanedo",132,"Valle de Manzanedo","Burgos","Castilla y León",1.8738751425635694,"Sí",132,68,64,"EBRO","EBRO","09409 Valle de Manzanedo"]
["09410 Valle de Mena",3987,"Valle de Mena","Burgos","Castilla y León",15.177499081622358,"No",3987,2032,1955,"CANTÁBRICO ORIENTAL","CANTÁBRICO ORIENTAL","09410 Valle de Mena"]
["09411 Valle de Oca",169,"Valle de Oca","Burgos","Castilla y León",4.3928616777534435,"Sí",169,102,67,"EBRO","EBRO","09411 Valle de Oca"]
["09902 Valle de Santibáñez",482,"Valle de Santibáñez","Burgos","Castilla y León",4.553220095820155,"Sí",482,282,200,"DUERO","DUERO","09902 Valle de Santibáñez"]
["09905 Valle de Sedano",409,"Valle de Sedano","Burgos","Castilla y León",1.5474376664488649,"Sí",409,237,172,"DUERO","EBRO","09905 Valle de Sedano"]
["09412 Valle de Tobalina",901,"Valle de Tobalina","Burgos","Castilla y León",5.7210308522939046,"Sí",901,491,410,"EBRO","EBRO","09412 Valle de Tobalina"]
["09413 Valle de Valdebezana",456,"Valle de Valdebezana","Burgos","Castilla y León",2.9114256216947179,"Sí",456,244,212,"EBRO","EBRO","09413 Valle de Valdebezana"]
["09414 Valle de Valdelaguna",194,"Valle de Valdelaguna","Burgos","Castilla y León",2.0936215316326465,"Sí",194,117,77,"DUERO","DUERO","09414 Valle de Valdelaguna"]
["09415 Valle de Valdelucio",339,"Valle de Valdelucio","Burgos","Castilla y León",3.5391134677361262,"Sí",339,190,149,"DUERO","DUERO - EBRO","09415 Valle de Valdelucio"]
["09416 Valle de Zamanzas",50,"Valle de Zamanzas","Burgos","Castilla y León",2.5951370764379464,"Sí",50,32,18,"EBRO","EBRO","09416 Valle de Zamanzas"]
["09417 Vallejera",40,"Vallejera","Burgos","Castilla y León",2.1828165624262619,"Sí",40,23,17,"DUERO","DUERO","09417 Vallejera"]
["09418 Valles de Palenzuela",81,"Valles de Palenzuela","Burgos","Castilla y León",3.8808926263854602,"Sí",81,40,41,"DUERO","DUERO","09418 Valles de Palenzuela"]
["09419 Valluércanes",67,"Valluércanes","Burgos","Castilla y León",2.3971169052090171,"Sí",67,45,22,"EBRO","EBRO","09419 Valluércanes"]
["09407 Valmala",24,"Valmala","Burgos","Castilla y León",1.414601564502177,"Sí",24,12,12,"DUERO","EBRO","09407 Valmala"]
["09422 Vid de Bureba La",19,"Vid de Bureba La","Burgos","Castilla y León",1.9501226370543623,"Sí",19,11,8,"EBRO","EBRO","09422 Vid de Bureba La"]
["09421 Vid y Barrios La",276,"Vid y Barrios La","Burgos","Castilla y León",7.344229882058853,"Sí",276,163,113,"DUERO","DUERO","09421 Vid y Barrios La"]
["09423 Vileña",26,"Vileña","Burgos","Castilla y León",4.0957149684834731,"Sí",26,16,10,"EBRO","EBRO","09423 Vileña"]
["09427 Villadiego",1484,"Villadiego","Burgos","Castilla y León",4.5249123470508739,"Sí",1484,825,659,"DUERO","DUERO","09427 Villadiego"]
["09428 Villaescusa de Roa",97,"Villaescusa de Roa","Burgos","Castilla y León",5.542937277893218,"Sí",97,53,44,"DUERO","DUERO","09428 Villaescusa de Roa"]
["09429 Villaescusa la Sombría",57,"Villaescusa la Sombría","Burgos","Castilla y León",3.5087984969045936,"Sí",57,42,15,"DUERO","EBRO","09429 Villaescusa la Sombría"]
["09430 Villaespasa",27,"Villaespasa","Burgos","Castilla y León",1.3850064536171085,"Sí",27,16,11,"DUERO","DUERO","09430 Villaespasa"]
["09431 Villafranca Montes de Oca",115,"Villafranca Montes de Oca","Burgos","Castilla y León",2.192418798813013,"Sí",115,69,46,"DUERO","EBRO","09431 Villafranca Montes de Oca"]
["09432 Villafruela",168,"Villafruela","Burgos","Castilla y León",3.2302443160678695,"Sí",168,98,70,"DUERO","DUERO","09432 Villafruela"]
["09433 Villagalijo",58,"Villagalijo","Burgos","Castilla y León",2.6284970226832951,"Sí",58,34,24,"EBRO","EBRO","09433 Villagalijo"]
["09434 Villagonzalo Pedernales",1853,"Villagonzalo Pedernales","Burgos","Castilla y León",134.10627180222039,"No",1853,980,873,"DUERO","DUERO","09434 Villagonzalo Pedernales"]
["09437 Villahoz",291,"Villahoz","Burgos","Castilla y León",5.7586621855963402,"Sí",291,153,138,"DUERO","DUERO","09437 Villahoz"]
["09438 Villalba de Duero",707,"Villalba de Duero","Burgos","Castilla y León",51.407675958585919,"No",707,373,334,"DUERO","DUERO","09438 Villalba de Duero"]
["09439 Villalbilla de Burgos",1454,"Villalbilla de Burgos","Burgos","Castilla y León",100.61169697472944,"No",1454,788,666,"DUERO","DUERO","09439 Villalbilla de Burgos"]
["09440 Villalbilla de Gumiel",86,"Villalbilla de Gumiel","Burgos","Castilla y León",3.2560540456509379,"Sí",86,54,32,"DUERO","DUERO","09440 Villalbilla de Gumiel"]
["09441 Villaldemiro",99,"Villaldemiro","Burgos","Castilla y León",7.3713942992316994,"Sí",99,56,43,"DUERO","DUERO","09441 Villaldemiro"]
["09442 Villalmanzo",415,"Villalmanzo","Burgos","Castilla y León",17.353604573657478,"No",415,227,188,"DUERO","DUERO","09442 Villalmanzo"]
["09443 Villamayor de los Montes",155,"Villamayor de los Montes","Burgos","Castilla y León",3.8348016912712493,"Sí",155,76,79,"DUERO","DUERO","09443 Villamayor de los Montes"]
["09444 Villamayor de Treviño",64,"Villamayor de Treviño","Burgos","Castilla y León",3.4134706003644095,"Sí",64,33,31,"DUERO","DUERO","09444 Villamayor de Treviño"]
["09445 Villambistia",44,"Villambistia","Burgos","Castilla y León",3.3664319906523361,"Sí",44,32,12,"EBRO","EBRO","09445 Villambistia"]
["09446 Villamedianilla",10,"Villamedianilla","Burgos","Castilla y León",1.4796729922687086,"Sí",10,7,3,"DUERO","DUERO","09446 Villamedianilla"]
["09447 Villamiel de la Sierra",44,"Villamiel de la Sierra","Burgos","Castilla y León",2.4571580532294148,"Sí",44,27,17,"DUERO","DUERO","09447 Villamiel de la Sierra"]
["09448 Villangómez",225,"Villangómez","Burgos","Castilla y León",5.8672285298550655,"Sí",225,136,89,"DUERO","DUERO","09448 Villangómez"]
["09449 Villanueva de Argaño",114,"Villanueva de Argaño","Burgos","Castilla y León",14.391388193305126,"No",114,64,50,"DUERO","DUERO","09449 Villanueva de Argaño"]
["09450 Villanueva de Carazo",24,"Villanueva de Carazo","Burgos","Castilla y León",3.2508515537919083,"Sí",24,16,8,"DUERO","DUERO","09450 Villanueva de Carazo"]
["09451 Villanueva de Gumiel",274,"Villanueva de Gumiel","Burgos","Castilla y León",12.270887637049359,"Sí",274,142,132,"DUERO","DUERO","09451 Villanueva de Gumiel"]
["09454 Villanueva de Teba",39,"Villanueva de Teba","Burgos","Castilla y León",6.3678740427983183,"Sí",39,26,13,"EBRO","EBRO","09454 Villanueva de Teba"]
["09455 Villaquirán de la Puebla",48,"Villaquirán de la Puebla","Burgos","Castilla y León",4.1797920118079128,"Sí",48,29,19,"DUERO","DUERO","09455 Villaquirán de la Puebla"]
["09456 Villaquirán de los Infantes",151,"Villaquirán de los Infantes","Burgos","Castilla y León",11.63711737967259,"Sí",151,79,72,"DUERO","DUERO","09456 Villaquirán de los Infantes"]
["09903 Villarcayo de Merindad de Castilla la Vieja",4029,"Villarcayo de Merindad de Castilla la Vieja","Burgos","Castilla y León",26.635070734127336,"No",4029,2074,1955,"EBRO","EBRO","09903 Villarcayo de Merindad de Castilla la Vieja"]
["09458 Villariezo",690,"Villariezo","Burgos","Castilla y León",67.3828125,"No",690,380,310,"DUERO","DUERO","09458 Villariezo"]
["09460 Villasandino",176,"Villasandino","Burgos","Castilla y León",4.0261306861890089,"Sí",176,100,76,"DUERO","DUERO","09460 Villasandino"]
["09463 Villasur de Herreros",258,"Villasur de Herreros","Burgos","Castilla y León",2.9384549159866697,"Sí",258,161,97,"DUERO","DUERO","09463 Villasur de Herreros"]
["09464 Villatuelda",42,"Villatuelda","Burgos","Castilla y León",2.7459871647329468,"Sí",42,22,20,"DUERO","DUERO","09464 Villatuelda"]
["09466 Villaverde del Monte",122,"Villaverde del Monte","Burgos","Castilla y León",3.2705144358362594,"Sí",122,73,49,"DUERO","DUERO","09466 Villaverde del Monte"]
["09467 Villaverde-Mogina",74,"Villaverde-Mogina","Burgos","Castilla y León",5.4607274810667725,"Sí",74,51,23,"DUERO","DUERO","09467 Villaverde-Mogina"]
["09471 Villayerno Morquillas",209,"Villayerno Morquillas","Burgos","Castilla y León",19.919097964125225,"No",209,111,98,"DUERO","DUERO","09471 Villayerno Morquillas"]
["09472 Villazopeque",52,"Villazopeque","Burgos","Castilla y León",4.4313454630052966,"Sí",52,30,22,"DUERO","DUERO","09472 Villazopeque"]
["09473 Villegas",90,"Villegas","Burgos","Castilla y León",3.6595597744767829,"Sí",90,51,39,"DUERO","DUERO","09473 Villegas"]
["09476 Villoruebo",68,"Villoruebo","Burgos","Castilla y León",2.6403813083368952,"Sí",68,46,22,"DUERO","DUERO","09476 Villoruebo"]
["09424 Viloria de Rioja",38,"Viloria de Rioja","Burgos","Castilla y León",5.4698476805758656,"Sí",38,23,15,"EBRO","EBRO","09424 Viloria de Rioja"]
["09425 Vilviestre del Pinar",532,"Vilviestre del Pinar","Burgos","Castilla y León",15.694394965143692,"No",532,295,237,"DUERO","DUERO","09425 Vilviestre del Pinar"]
["09478 Vizcaínos",46,"Vizcaínos","Burgos","Castilla y León",4.0058003989777191,"Sí",46,34,12,"DUERO","DUERO","09478 Vizcaínos"]
["09480 Zael",117,"Zael","Burgos","Castilla y León",6.2351432390929631,"Sí",117,58,59,"DUERO","DUERO","09480 Zael"]
["09482 Zarzosa de Río Pisuerga",34,"Zarzosa de Río Pisuerga","Burgos","Castilla y León",3.1446988793588067,"Sí",34,21,13,"DUERO","DUERO","09482 Zarzosa de Río Pisuerga"]
["09483 Zazuar",207,"Zazuar","Burgos","Castilla y León",9.1676427032163019,"Sí",207,106,101,"DUERO","DUERO","09483 Zazuar"]
["09485 Zuñeda",56,"Zuñeda","Burgos","Castilla y León",4.6114252507318376,"Sí",56,30,26,"EBRO","EBRO","09485 Zuñeda"]
["10001 Abadía",359,"Abadía","Cáceres","Extremadura",7.964398826655481,"Sí",359,193,166,"TAJO","TAJO","10001 Abadía"]
["10002 Abertura",400,"Abertura","Cáceres","Extremadura",6.3788074583440748,"Sí",400,204,196,"GUADIANA","GUADIANA","10002 Abertura"]
["10003 Acebo",560,"Acebo","Cáceres","Extremadura",9.8209431612914546,"Sí",560,271,289,"DUERO","TAJO","10003 Acebo"]
["10004 Acehúche",813,"Acehúche","Cáceres","Extremadura",8.9277234242675227,"Sí",813,413,400,"TAJO","TAJO","10004 Acehúche"]
["10005 Aceituna",587,"Aceituna","Cáceres","Extremadura",14.647118843104181,"No",587,299,288,"TAJO","TAJO","10005 Aceituna"]
["10006 Ahigal",1393,"Ahigal","Cáceres","Extremadura",26.750672098634201,"No",1393,711,682,"TAJO","TAJO","10006 Ahigal"]
["10903 Alagón del Río",933,"Alagón del Río","Cáceres","Extremadura",65.281733009606839,"No",933,461,472,"TAJO","TAJO","10903 Alagón del Río"]
["10007 Albalá",681,"Albalá","Cáceres","Extremadura",17.690756688736126,"No",681,355,326,"TAJO","TAJO","10007 Albalá"]
["10008 Alcántara",1386,"Alcántara","Cáceres","Extremadura",2.5108299923533814,"Sí",1386,689,697,"TAJO","TAJO","10008 Alcántara"]
["10009 Alcollarín",279,"Alcollarín","Cáceres","Extremadura",3.4911713594412306,"Sí",279,139,140,"GUADIANA","GUADIANA","10009 Alcollarín"]
["10010 Alcuéscar",2486,"Alcuéscar","Cáceres","Extremadura",22.889004899130935,"No",2486,1286,1200,"TAJO","GUADIANA - TAJO","10010 Alcuéscar"]
["10012 Aldea del Cano",610,"Aldea del Cano","Cáceres","Extremadura",21.261435384598279,"No",610,287,323,"TAJO","TAJO","10012 Aldea del Cano"]
["10013 Aldea del Obispo La",299,"Aldea del Obispo La","Cáceres","Extremadura",7.9002307078744112,"Sí",299,163,136,"TAJO","TAJO","10013 Aldea del Obispo La"]
["10011 Aldeacentenera",568,"Aldeacentenera","Cáceres","Extremadura",5.1373681131104467,"Sí",568,296,272,"TAJO","TAJO","10011 Aldeacentenera"]
["10014 Aldeanueva de la Vera",2035,"Aldeanueva de la Vera","Cáceres","Extremadura",54.11986760817684,"No",2035,997,1038,"TAJO","TAJO","10014 Aldeanueva de la Vera"]
["10015 Aldeanueva del Camino",729,"Aldeanueva del Camino","Cáceres","Extremadura",36.352651235257106,"No",729,362,367,"TAJO","TAJO","10015 Aldeanueva del Camino"]
["10016 Aldehuela de Jerte",372,"Aldehuela de Jerte","Cáceres","Extremadura",31.636384325260128,"No",372,195,177,"TAJO","TAJO","10016 Aldehuela de Jerte"]
["10017 Alía",783,"Alía","Cáceres","Extremadura",1.3060647801959278,"Sí",783,407,376,"TAJO","GUADIANA","10017 Alía"]
["10018 Aliseda",1751,"Aliseda","Cáceres","Extremadura",21.74786268252943,"No",1751,895,856,"TAJO","GUADIANA - TAJO","10018 Aliseda"]
["10019 Almaraz",1700,"Almaraz","Cáceres","Extremadura",50.139949447133318,"No",1700,869,831,"TAJO","TAJO","10019 Almaraz"]
["10020 Almoharín",1796,"Almoharín","Cáceres","Extremadura",19.219368329134891,"No",1796,879,917,"GUADIANA","GUADIANA","10020 Almoharín"]
["10021 Arroyo de la Luz",5663,"Arroyo de la Luz","Cáceres","Extremadura",44.22234099704238,"No",5663,2802,2861,"TAJO","TAJO","10021 Arroyo de la Luz"]
["10023 Arroyomolinos",844,"Arroyomolinos","Cáceres","Extremadura",7.3068532049728159,"Sí",844,434,410,"GUADIANA","GUADIANA","10023 Arroyomolinos"]
["10022 Arroyomolinos de la Vera",433,"Arroyomolinos de la Vera","Cáceres","Extremadura",18.669551694479555,"No",433,215,218,"TAJO","TAJO","10022 Arroyomolinos de la Vera"]
["10024 Baños de Montemayor",749,"Baños de Montemayor","Cáceres","Extremadura",34.08299541567785,"No",749,356,393,"TAJO","TAJO","10024 Baños de Montemayor"]
["10025 Barrado",363,"Barrado","Cáceres","Extremadura",17.048890582192843,"No",363,188,175,"TAJO","TAJO","10025 Barrado"]
["10026 Belvís de Monroy",745,"Belvís de Monroy","Cáceres","Extremadura",16.575372334034913,"No",745,390,355,"TAJO","TAJO","10026 Belvís de Monroy"]
["10027 Benquerencia",79,"Benquerencia","Cáceres","Extremadura",5.9284384943267092,"Sí",79,47,32,"TAJO","TAJO","10027 Benquerencia"]
["10028 Berrocalejo",102,"Berrocalejo","Cáceres","Extremadura",6.4424687540265433,"Sí",102,56,46,"TAJO","TAJO","10028 Berrocalejo"]
["10029 Berzocana",416,"Berzocana","Cáceres","Extremadura",3.1139733716352054,"Sí",416,217,199,"TAJO","TAJO","10029 Berzocana"]
["10030 Bohonal de Ibor",485,"Bohonal de Ibor","Cáceres","Extremadura",7.5169674228580918,"Sí",485,243,242,"TAJO","TAJO","10030 Bohonal de Ibor"]
["10031 Botija",187,"Botija","Cáceres","Extremadura",9.8970076106400775,"Sí",187,95,92,"TAJO","TAJO","10031 Botija"]
["10032 Brozas",1790,"Brozas","Cáceres","Extremadura",4.4879618284154059,"Sí",1790,886,904,"TAJO","TAJO","10032 Brozas"]
["10033 Cabañas del Castillo",419,"Cabañas del Castillo","Cáceres","Extremadura",3.9802348944647363,"Sí",419,216,203,"TAJO","TAJO","10033 Cabañas del Castillo"]
["10034 Cabezabellosa",344,"Cabezabellosa","Cáceres","Extremadura",10.16809877243854,"Sí",344,172,172,"TAJO","TAJO","10034 Cabezabellosa"]
["10035 Cabezuela del Valle",2141,"Cabezuela del Valle","Cáceres","Extremadura",37.845406728086054,"No",2141,1099,1042,"TAJO","TAJO","10035 Cabezuela del Valle"]
["10036 Cabrero",323,"Cabrero","Cáceres","Extremadura",48.753068575492698,"No",323,181,142,"TAJO","TAJO","10036 Cabrero"]
["10037 Cáceres",95418,"Cáceres","Cáceres","Extremadura",54.517434317598763,"No",95418,45735,49683,"TAJO","GUADIANA - TAJO","10037 Cáceres"]
["10038 Cachorrilla",95,"Cachorrilla","Cáceres","Extremadura",2.2959988136211602,"Sí",95,47,48,"TAJO","TAJO","10038 Cachorrilla"]
["10039 Cadalso",417,"Cadalso","Cáceres","Extremadura",56.708461392009134,"No",417,211,206,"TAJO","TAJO","10039 Cadalso"]
["10040 Calzadilla",464,"Calzadilla","Cáceres","Extremadura",6.0780854785263596,"Sí",464,233,231,"TAJO","TAJO","10040 Calzadilla"]
["10041 Caminomorisco",1161,"Caminomorisco","Cáceres","Extremadura",7.8849891810613553,"Sí",1161,604,557,"TAJO","TAJO","10041 Caminomorisco"]
["10042 Campillo de Deleitosa",78,"Campillo de Deleitosa","Cáceres","Extremadura",3.0471368633241918,"Sí",78,36,42,"TAJO","TAJO","10042 Campillo de Deleitosa"]
["10043 Campo Lugar",824,"Campo Lugar","Cáceres","Extremadura",11.279114093481653,"Sí",824,407,417,"GUADIANA","GUADIANA","10043 Campo Lugar"]
["10044 Cañamero",1622,"Cañamero","Cáceres","Extremadura",10.709904218328859,"Sí",1622,852,770,"TAJO","GUADIANA","10044 Cañamero"]
["10045 Cañaveral",1024,"Cañaveral","Cáceres","Extremadura",11.84104456884762,"Sí",1024,506,518,"TAJO","TAJO","10045 Cañaveral"]
["10046 Carbajo",198,"Carbajo","Cáceres","Extremadura",7.0918683491348276,"Sí",198,100,98,"TAJO","TAJO","10046 Carbajo"]
["10047 Carcaboso",1080,"Carcaboso","Cáceres","Extremadura",53.214458802055816,"No",1080,544,536,"TAJO","TAJO","10047 Carcaboso"]
["10048 Carrascalejo",225,"Carrascalejo","Cáceres","Extremadura",4.6414507169834582,"Sí",225,116,109,"TAJO","TAJO","10048 Carrascalejo"]
["10049 Casar de Cáceres",4516,"Casar de Cáceres","Cáceres","Extremadura",34.659025983593949,"No",4516,2228,2288,"TAJO","TAJO","10049 Casar de Cáceres"]
["10050 Casar de Palomero",1059,"Casar de Palomero","Cáceres","Extremadura",28.688427665299187,"No",1059,543,516,"TAJO","TAJO","10050 Casar de Palomero"]
["10051 Casares de las Hurdes",383,"Casares de las Hurdes","Cáceres","Extremadura",18.456596734637699,"No",383,196,187,"DUERO","TAJO","10051 Casares de las Hurdes"]
["10052 Casas de Don Antonio",178,"Casas de Don Antonio","Cáceres","Extremadura",5.6652535360093701,"Sí",178,91,87,"TAJO","TAJO","10052 Casas de Don Antonio"]
["10053 Casas de Don Gómez",277,"Casas de Don Gómez","Cáceres","Extremadura",8.8904103508512176,"Sí",277,149,128,"TAJO","TAJO","10053 Casas de Don Gómez"]
["10056 Casas de Millán",556,"Casas de Millán","Cáceres","Extremadura",3.6360956021351756,"Sí",556,280,276,"TAJO","TAJO","10056 Casas de Millán"]
["10057 Casas de Miravete",129,"Casas de Miravete","Cáceres","Extremadura",2.5501832573550054,"Sí",129,81,48,"TAJO","TAJO","10057 Casas de Miravete"]
["10054 Casas del Castañar",531,"Casas del Castañar","Cáceres","Extremadura",21.555200839670469,"No",531,261,270,"TAJO","TAJO","10054 Casas del Castañar"]
["10055 Casas del Monte",787,"Casas del Monte","Cáceres","Extremadura",28.505502159554386,"No",787,406,381,"TAJO","TAJO","10055 Casas del Monte"]
["10058 Casatejada",1343,"Casatejada","Cáceres","Extremadura",12.010129574005981,"Sí",1343,700,643,"TAJO","TAJO","10058 Casatejada"]
["10059 Casillas de Coria",344,"Casillas de Coria","Cáceres","Extremadura",5.5507905890992735,"Sí",344,171,173,"TAJO","TAJO","10059 Casillas de Coria"]
["10060 Castañar de Ibor",1021,"Castañar de Ibor","Cáceres","Extremadura",6.9408282495108793,"Sí",1021,529,492,"TAJO","TAJO","10060 Castañar de Ibor"]
["10061 Ceclavín",1801,"Ceclavín","Cáceres","Extremadura",11.291906169814771,"Sí",1801,916,885,"TAJO","TAJO","10061 Ceclavín"]
["10062 Cedillo",424,"Cedillo","Cáceres","Extremadura",7.0865799563439928,"Sí",424,219,205,"TAJO","TAJO","10062 Cedillo"]
["10063 Cerezo",153,"Cerezo","Cáceres","Extremadura",8.4364366057756293,"Sí",153,77,76,"TAJO","TAJO","10063 Cerezo"]
["10064 Cilleros",1617,"Cilleros","Cáceres","Extremadura",7.7521089379850459,"Sí",1617,817,800,"TAJO","TAJO","10064 Cilleros"]
["10065 Collado de la Vera",217,"Collado de la Vera","Cáceres","Extremadura",4.828642277691479,"Sí",217,124,93,"TAJO","TAJO","10065 Collado de la Vera"]
["10066 Conquista de la Sierra",192,"Conquista de la Sierra","Cáceres","Extremadura",4.596641698363344,"Sí",192,112,80,"TAJO","GUADIANA","10066 Conquista de la Sierra"]
["10067 Coria",12330,"Coria","Cáceres","Extremadura",119.17159331183116,"No",12330,6048,6282,"TAJO","TAJO","10067 Coria"]
["10068 Cuacos de Yuste",847,"Cuacos de Yuste","Cáceres","Extremadura",16.092018531697732,"No",847,430,417,"TAJO","TAJO","10068 Cuacos de Yuste"]
["10069 Cumbre La",837,"Cumbre La","Cáceres","Extremadura",7.3734588270772115,"Sí",837,424,413,"TAJO","TAJO","10069 Cumbre La"]
["10070 Deleitosa",684,"Deleitosa","Cáceres","Extremadura",4.7429705882153081,"Sí",684,352,332,"TAJO","TAJO","10070 Deleitosa"]
["10071 Descargamaría",107,"Descargamaría","Cáceres","Extremadura",2.0220708848098403,"Sí",107,62,45,"DUERO","DUERO - TAJO","10071 Descargamaría"]
["10072 Eljas",897,"Eljas","Cáceres","Extremadura",27.559954961441715,"No",897,464,433,"DUERO","TAJO","10072 Eljas"]
["10073 Escurial",862,"Escurial","Cáceres","Extremadura",8.5591148223026998,"Sí",862,453,409,"TAJO","GUADIANA","10073 Escurial"]
["10075 Fresnedoso de Ibor",264,"Fresnedoso de Ibor","Cáceres","Extremadura",4.8321911790546483,"Sí",264,141,123,"TAJO","TAJO","10075 Fresnedoso de Ibor"]
["10076 Galisteo",902,"Galisteo","Cáceres","Extremadura",13.776566091624856,"No",902,450,452,"TAJO","TAJO","10076 Galisteo"]
["10077 Garciaz",700,"Garciaz","Cáceres","Extremadura",4.6578896809304977,"Sí",700,360,340,"TAJO","TAJO","10077 Garciaz"]
["10079 Garganta la Olla",924,"Garganta la Olla","Cáceres","Extremadura",19.224968290245755,"No",924,491,433,"TAJO","TAJO","10079 Garganta la Olla"]
["10078 Garganta La",358,"Garganta La","Cáceres","Extremadura",14.868251303848041,"No",358,193,165,"TAJO","TAJO","10078 Garganta La"]
["10080 Gargantilla",374,"Gargantilla","Cáceres","Extremadura",17.919549845575641,"No",374,193,181,"TAJO","TAJO","10080 Gargantilla"]
["10081 Gargüera",178,"Gargüera","Cáceres","Extremadura",3.4495732277148945,"Sí",178,96,82,"TAJO","TAJO","10081 Gargüera"]
["10082 Garrovillas de Alconétar",1955,"Garrovillas de Alconétar","Cáceres","Extremadura",9.4511596074900073,"Sí",1955,969,986,"TAJO","TAJO","10082 Garrovillas de Alconétar"]
["10083 Garvín",96,"Garvín","Cáceres","Extremadura",2.508660824849247,"Sí",96,51,45,"TAJO","TAJO","10083 Garvín"]
["10084 Gata",1413,"Gata","Cáceres","Extremadura",15.00378152633756,"No",1413,722,691,"DUERO","TAJO","10084 Gata"]
["10085 Gordo El",382,"Gordo El","Cáceres","Extremadura",4.9583949130502614,"Sí",382,202,180,"TAJO","TAJO","10085 Gordo El"]
["10086 Granja La",318,"Granja La","Cáceres","Extremadura",21.278934918377551,"No",318,161,157,"TAJO","TAJO","10086 Granja La"]
["10087 Guadalupe",1822,"Guadalupe","Cáceres","Extremadura",26.717614900041365,"No",1822,910,912,"TAJO","GUADIANA","10087 Guadalupe"]
["10088 Guijo de Coria",197,"Guijo de Coria","Cáceres","Extremadura",2.6355771665153371,"Sí",197,107,90,"TAJO","TAJO","10088 Guijo de Coria"]
["10089 Guijo de Galisteo",1513,"Guijo de Galisteo","Cáceres","Extremadura",24.294429863683039,"No",1513,764,749,"TAJO","TAJO","10089 Guijo de Galisteo"]
["10090 Guijo de Granadilla",514,"Guijo de Granadilla","Cáceres","Extremadura",6.8688661292736644,"Sí",514,272,242,"TAJO","TAJO","10090 Guijo de Granadilla"]
["10091 Guijo de Santa Bárbara",388,"Guijo de Santa Bárbara","Cáceres","Extremadura",11.233199454633958,"Sí",388,202,186,"TAJO","TAJO","10091 Guijo de Santa Bárbara"]
["10092 Herguijuela",268,"Herguijuela","Cáceres","Extremadura",6.3862611886462002,"Sí",268,142,126,"TAJO","GUADIANA","10092 Herguijuela"]
["10093 Hernán-Pérez",415,"Hernán-Pérez","Cáceres","Extremadura",11.605358957667621,"Sí",415,202,213,"TAJO","TAJO","10093 Hernán-Pérez"]
["10094 Herrera de Alcántara",230,"Herrera de Alcántara","Cáceres","Extremadura",1.8979826095280379,"Sí",230,119,111,"TAJO","TAJO","10094 Herrera de Alcántara"]
["10095 Herreruela",329,"Herreruela","Cáceres","Extremadura",2.8929907178788516,"Sí",329,169,160,"TAJO","TAJO","10095 Herreruela"]
["10096 Hervás",3952,"Hervás","Cáceres","Extremadura",66.109977829068768,"No",3952,1933,2019,"TAJO","TAJO","10096 Hervás"]
["10097 Higuera",106,"Higuera","Cáceres","Extremadura",2.6150223759570306,"Sí",106,62,44,"TAJO","TAJO","10097 Higuera"]
["10098 Hinojal",391,"Hinojal","Cáceres","Extremadura",6.1620356604725917,"Sí",391,202,189,"TAJO","TAJO","10098 Hinojal"]
["10099 Holguera",620,"Holguera","Cáceres","Extremadura",16.669427428558802,"No",620,315,305,"TAJO","TAJO","10099 Holguera"]
["10100 Hoyos",882,"Hoyos","Cáceres","Extremadura",58.431329474392307,"No",882,429,453,"TAJO","TAJO","10100 Hoyos"]
["10101 Huélaga",210,"Huélaga","Cáceres","Extremadura",19.570717249080339,"No",210,105,105,"TAJO","TAJO","10101 Huélaga"]
["10102 Ibahernando",540,"Ibahernando","Cáceres","Extremadura",7.0171731668755903,"Sí",540,267,273,"TAJO","GUADIANA - TAJO","10102 Ibahernando"]
["10103 Jaraicejo",457,"Jaraicejo","Cáceres","Extremadura",2.5811509335068412,"Sí",457,224,233,"TAJO","TAJO","10103 Jaraicejo"]
["10104 Jaraíz de la Vera",6499,"Jaraíz de la Vera","Cáceres","Extremadura",103.93434266549865,"No",6499,3255,3244,"TAJO","TAJO","10104 Jaraíz de la Vera"]
["10105 Jarandilla de la Vera",2843,"Jarandilla de la Vera","Cáceres","Extremadura",46.220014095234689,"No",2843,1414,1429,"TAJO","TAJO","10105 Jarandilla de la Vera"]
["10106 Jarilla",136,"Jarilla","Cáceres","Extremadura",4.7581395674291347,"Sí",136,68,68,"TAJO","TAJO","10106 Jarilla"]
["10107 Jerte",1256,"Jerte","Cáceres","Extremadura",21.306057598857183,"No",1256,624,632,"TAJO","TAJO","10107 Jerte"]
["10108 Ladrillar",185,"Ladrillar","Cáceres","Extremadura",3.4813306586677601,"Sí",185,108,77,"DUERO","TAJO","10108 Ladrillar"]
["10109 Logrosán",1944,"Logrosán","Cáceres","Extremadura",5.3215462325247049,"Sí",1944,990,954,"TAJO","GUADIANA","10109 Logrosán"]
["10110 Losar de la Vera",2658,"Losar de la Vera","Cáceres","Extremadura",32.383116291120992,"No",2658,1359,1299,"DUERO","TAJO","10110 Losar de la Vera"]
["10111 Madrigal de la Vera",1566,"Madrigal de la Vera","Cáceres","Extremadura",37.61014657389817,"No",1566,819,747,"DUERO","TAJO","10111 Madrigal de la Vera"]
["10112 Madrigalejo",1694,"Madrigalejo","Cáceres","Extremadura",16.780401600378795,"No",1694,860,834,"GUADIANA","GUADIANA","10112 Madrigalejo"]
["10113 Madroñera",2446,"Madroñera","Cáceres","Extremadura",18.403559528303376,"No",2446,1227,1219,"TAJO","TAJO","10113 Madroñera"]
["10114 Majadas",1345,"Majadas","Cáceres","Extremadura",25.883545904920904,"No",1345,677,668,"TAJO","TAJO","10114 Majadas"]
["10115 Malpartida de Cáceres",4060,"Malpartida de Cáceres","Cáceres","Extremadura",126.22686449670458,"No",4060,2023,2037,"TAJO","TAJO","10115 Malpartida de Cáceres"]
["10116 Malpartida de Plasencia",4637,"Malpartida de Plasencia","Cáceres","Extremadura",12.443408888529573,"Sí",4637,2282,2355,"TAJO","TAJO","10116 Malpartida de Plasencia"]
["10117 Marchagaz",247,"Marchagaz","Cáceres","Extremadura",26.073626431859058,"No",247,137,110,"TAJO","TAJO","10117 Marchagaz"]
["10118 Mata de Alcántara",284,"Mata de Alcántara","Cáceres","Extremadura",8.4765165719331375,"Sí",284,147,137,"TAJO","TAJO","10118 Mata de Alcántara"]
["10119 Membrío",587,"Membrío","Cáceres","Extremadura",2.8286661947404155,"Sí",587,290,297,"TAJO","TAJO","10119 Membrío"]
["10120 Mesas de Ibor",162,"Mesas de Ibor","Cáceres","Extremadura",3.3309961529050605,"Sí",162,82,80,"TAJO","TAJO","10120 Mesas de Ibor"]
["10121 Miajadas",9503,"Miajadas","Cáceres","Extremadura",78.700118841071799,"No",9503,4732,4771,"GUADIANA","GUADIANA","10121 Miajadas"]
["10122 Millanes",255,"Millanes","Cáceres","Extremadura",14.517010520562918,"No",255,130,125,"TAJO","TAJO","10122 Millanes"]
["10123 Mirabel",669,"Mirabel","Cáceres","Extremadura",13.570085138795298,"No",669,333,336,"TAJO","TAJO","10123 Mirabel"]
["10124 Mohedas de Granadilla",849,"Mohedas de Granadilla","Cáceres","Extremadura",14.457590539851882,"No",849,429,420,"TAJO","TAJO","10124 Mohedas de Granadilla"]
["10125 Monroy",920,"Monroy","Cáceres","Extremadura",4.4997711083822498,"Sí",920,473,447,"TAJO","TAJO","10125 Monroy"]
["10126 Montánchez",1654,"Montánchez","Cáceres","Extremadura",14.646889528448085,"No",1654,832,822,"TAJO","GUADIANA - TAJO","10126 Montánchez"]
["10127 Montehermoso",5680,"Montehermoso","Cáceres","Extremadura",58.889884210875543,"No",5680,2896,2784,"TAJO","TAJO","10127 Montehermoso"]
["10128 Moraleja",6685,"Moraleja","Cáceres","Extremadura",53.300143994106286,"No",6685,3321,3364,"TAJO","TAJO","10128 Moraleja"]
["10129 Morcillo",371,"Morcillo","Cáceres","Extremadura",22.856562685940602,"No",371,175,196,"TAJO","TAJO","10129 Morcillo"]
["10130 Navaconcejo",2035,"Navaconcejo","Cáceres","Extremadura",39.594957015053133,"No",2035,1030,1005,"TAJO","TAJO","10130 Navaconcejo"]
["10131 Navalmoral de la Mata",17010,"Navalmoral de la Mata","Cáceres","Extremadura",109.06728956122102,"No",17010,8233,8777,"TAJO","TAJO","10131 Navalmoral de la Mata"]
["10132 Navalvillar de Ibor",393,"Navalvillar de Ibor","Cáceres","Extremadura",7.0777864033922224,"Sí",393,196,197,"TAJO","TAJO","10132 Navalvillar de Ibor"]
["10133 Navas del Madroño",1261,"Navas del Madroño","Cáceres","Extremadura",11.229896381541259,"Sí",1261,626,635,"TAJO","TAJO","10133 Navas del Madroño"]
["10134 Navezuelas",631,"Navezuelas","Cáceres","Extremadura",10.519158479991269,"Sí",631,325,306,"TAJO","TAJO","10134 Navezuelas"]
["10135 Nuñomoral",1224,"Nuñomoral","Cáceres","Extremadura",12.914708133768647,"No",1224,650,574,"TAJO","TAJO","10135 Nuñomoral"]
["10136 Oliva de Plasencia",286,"Oliva de Plasencia","Cáceres","Extremadura",3.223116389088164,"Sí",286,165,121,"TAJO","TAJO","10136 Oliva de Plasencia"]
["10137 Palomero",396,"Palomero","Cáceres","Extremadura",19.532256708109411,"No",396,208,188,"TAJO","TAJO","10137 Palomero"]
["10138 Pasarón de la Vera",606,"Pasarón de la Vera","Cáceres","Extremadura",15.552185345093624,"No",606,292,314,"TAJO","TAJO","10138 Pasarón de la Vera"]
["10139 Pedroso de Acim",77,"Pedroso de Acim","Cáceres","Extremadura",2.3171136082908608,"Sí",77,44,33,"TAJO","TAJO","10139 Pedroso de Acim"]
["10140 Peraleda de la Mata",1401,"Peraleda de la Mata","Cáceres","Extremadura",15.244300524900112,"No",1401,709,692,"TAJO","TAJO","10140 Peraleda de la Mata"]
["10141 Peraleda de San Román",297,"Peraleda de San Román","Cáceres","Extremadura",4.7982113043725789,"Sí",297,164,133,"TAJO","TAJO","10141 Peraleda de San Román"]
["10142 Perales del Puerto",943,"Perales del Puerto","Cáceres","Extremadura",25.993876416070172,"No",943,473,470,"TAJO","TAJO","10142 Perales del Puerto"]
["10143 Pescueza",138,"Pescueza","Cáceres","Extremadura",2.6508368932183926,"Sí",138,60,78,"TAJO","TAJO","10143 Pescueza"]
["10144 Pesga La",1013,"Pesga La","Cáceres","Extremadura",50.948591864913105,"No",1013,525,488,"TAJO","TAJO","10144 Pesga La"]
["10145 Piedras Albas",137,"Piedras Albas","Cáceres","Extremadura",30.208509274012346,"No",137,66,71,"TAJO","TAJO","10145 Piedras Albas"]
["10146 Pinofranqueado",1682,"Pinofranqueado","Cáceres","Extremadura",11.454787266825786,"Sí",1682,888,794,"DUERO","TAJO","10146 Pinofranqueado"]
["10147 Piornal",1485,"Piornal","Cáceres","Extremadura",40.812773887036343,"No",1485,749,736,"TAJO","TAJO","10147 Piornal"]
["10148 Plasencia",39558,"Plasencia","Cáceres","Extremadura",181.50894444996254,"No",39558,19023,20535,"TAJO","TAJO","10148 Plasencia"]
["10149 Plasenzuela",477,"Plasenzuela","Cáceres","Extremadura",13.007356082535575,"No",477,234,243,"TAJO","TAJO","10149 Plasenzuela"]
["10150 Portaje",371,"Portaje","Cáceres","Extremadura",3.689809253072907,"Sí",371,193,178,"TAJO","TAJO","10150 Portaje"]
["10151 Portezuelo",220,"Portezuelo","Cáceres","Extremadura",1.7445730337508112,"Sí",220,118,102,"TAJO","TAJO","10151 Portezuelo"]
["10152 Pozuelo de Zarzón",435,"Pozuelo de Zarzón","Cáceres","Extremadura",9.1723149676808742,"Sí",435,218,217,"TAJO","TAJO","10152 Pozuelo de Zarzón"]
["10905 Pueblonuevo de Miramontes",767,"Pueblonuevo de Miramontes","Cáceres","Extremadura",32.952680466407166,"No",767,383,384,"TAJO","TAJO","10905 Pueblonuevo de Miramontes"]
["10153 Puerto de Santa Cruz",287,"Puerto de Santa Cruz","Cáceres","Extremadura",8.5108578677839724,"Sí",287,147,140,"GUADIANA","GUADIANA","10153 Puerto de Santa Cruz"]
["10154 Rebollar",208,"Rebollar","Cáceres","Extremadura",18.076831923963283,"No",208,105,103,"TAJO","TAJO","10154 Rebollar"]
["10155 Riolobos",1197,"Riolobos","Cáceres","Extremadura",24.313948528366272,"No",1197,604,593,"TAJO","TAJO","10155 Riolobos"]
["10156 Robledillo de Gata",85,"Robledillo de Gata","Cáceres","Extremadura",2.7353245573609306,"Sí",85,48,37,"DUERO","DUERO - TAJO","10156 Robledillo de Gata"]
["10157 Robledillo de la Vera",262,"Robledillo de la Vera","Cáceres","Extremadura",20.413787472058626,"No",262,131,131,"TAJO","TAJO","10157 Robledillo de la Vera"]
["10158 Robledillo de Trujillo",362,"Robledillo de Trujillo","Cáceres","Extremadura",8.0835071845631266,"Sí",362,183,179,"TAJO","GUADIANA - TAJO","10158 Robledillo de Trujillo"]
["10159 Robledollano",286,"Robledollano","Cáceres","Extremadura",4.6319963146152965,"Sí",286,155,131,"TAJO","TAJO","10159 Robledollano"]
["10160 Romangordo",259,"Romangordo","Cáceres","Extremadura",6.6296522176596229,"Sí",259,129,130,"TAJO","TAJO","10160 Romangordo"]
["10901 Rosalejo",1383,"Rosalejo","Cáceres","Extremadura",34.197206362707981,"No",1383,715,668,"TAJO","TAJO","10901 Rosalejo"]
["10161 Ruanes",86,"Ruanes","Cáceres","Extremadura",5.6928514665546635,"Sí",86,45,41,"TAJO","TAJO","10161 Ruanes"]
["10162 Salorino",566,"Salorino","Cáceres","Extremadura",3.5894460140343529,"Sí",566,295,271,"TAJO","TAJO","10162 Salorino"]
["10163 Salvatierra de Santiago",284,"Salvatierra de Santiago","Cáceres","Extremadura",8.5120667537854704,"Sí",284,145,139,"TAJO","TAJO","10163 Salvatierra de Santiago"]
["10164 San Martín de Trevejo",754,"San Martín de Trevejo","Cáceres","Extremadura",30.455540565649063,"No",754,376,378,"DUERO","TAJO","10164 San Martín de Trevejo"]
["10165 Santa Ana",273,"Santa Ana","Cáceres","Extremadura",7.8026330542572513,"Sí",273,142,131,"TAJO","TAJO","10165 Santa Ana"]
["10166 Santa Cruz de la Sierra",324,"Santa Cruz de la Sierra","Cáceres","Extremadura",7.265339458074294,"Sí",324,165,159,"TAJO","GUADIANA - TAJO","10166 Santa Cruz de la Sierra"]
["10167 Santa Cruz de Paniagua",296,"Santa Cruz de Paniagua","Cáceres","Extremadura",3.5317901923809072,"Sí",296,167,129,"TAJO","TAJO","10167 Santa Cruz de Paniagua"]
["10168 Santa Marta de Magasca",301,"Santa Marta de Magasca","Cáceres","Extremadura",7.5853868857279361,"Sí",301,151,150,"TAJO","TAJO","10168 Santa Marta de Magasca"]
["10169 Santiago de Alcántara",488,"Santiago de Alcántara","Cáceres","Extremadura",5.1422983544645264,"Sí",488,240,248,"TAJO","TAJO","10169 Santiago de Alcántara"]
["10170 Santiago del Campo",234,"Santiago del Campo","Cáceres","Extremadura",3.1908570654350283,"Sí",234,123,111,"TAJO","TAJO","10170 Santiago del Campo"]
["10171 Santibáñez el Alto",354,"Santibáñez el Alto","Cáceres","Extremadura",3.5731517736186689,"Sí",354,191,163,"DUERO","TAJO","10171 Santibáñez el Alto"]
["10172 Santibáñez el Bajo",748,"Santibáñez el Bajo","Cáceres","Extremadura",16.206355963812246,"No",748,383,365,"TAJO","TAJO","10172 Santibáñez el Bajo"]
["10173 Saucedilla",869,"Saucedilla","Cáceres","Extremadura",14.384223397020241,"No",869,448,421,"TAJO","TAJO","10173 Saucedilla"]
["10174 Segura de Toro",190,"Segura de Toro","Cáceres","Extremadura",12.897016845336735,"No",190,94,96,"TAJO","TAJO","10174 Segura de Toro"]
["10175 Serradilla",1503,"Serradilla","Cáceres","Extremadura",5.7989113479563645,"Sí",1503,755,748,"TAJO","TAJO","10175 Serradilla"]
["10176 Serrejón",409,"Serrejón","Cáceres","Extremadura",3.2943157475831804,"Sí",409,215,194,"TAJO","TAJO","10176 Serrejón"]
["10177 Sierra de Fuentes",1984,"Sierra de Fuentes","Cáceres","Extremadura",78.689021858176204,"No",1984,1021,963,"TAJO","TAJO","10177 Sierra de Fuentes"]
["10178 Talaván",796,"Talaván","Cáceres","Extremadura",8.0827383212656159,"Sí",796,412,384,"TAJO","TAJO","10178 Talaván"]
["10179 Talaveruela de la Vera",316,"Talaveruela de la Vera","Cáceres","Extremadura",14.810868027479222,"No",316,163,153,"DUERO","TAJO","10179 Talaveruela de la Vera"]
["10180 Talayuela",7328,"Talayuela","Cáceres","Extremadura",40.442036759868785,"No",7328,3902,3426,"TAJO","TAJO","10180 Talayuela"]
["10181 Tejeda de Tiétar",770,"Tejeda de Tiétar","Cáceres","Extremadura",14.574106102407248,"No",770,406,364,"TAJO","TAJO","10181 Tejeda de Tiétar"]
["10904 Tiétar",878,"Tiétar","Cáceres","Extremadura",36.684368197410372,"No",878,475,403,"TAJO","TAJO","10904 Tiétar"]
["10182 Toril",155,"Toril","Cáceres","Extremadura",1.034993580335464,"Sí",155,101,54,"TAJO","TAJO","10182 Toril"]
["10183 Tornavacas",1065,"Tornavacas","Cáceres","Extremadura",13.903741849420909,"No",1065,569,496,"DUERO","TAJO","10183 Tornavacas"]
["10184 Torno El",843,"Torno El","Cáceres","Extremadura",38.543838472511801,"No",843,438,405,"TAJO","TAJO","10184 Torno El"]
["10187 Torre de Don Miguel",495,"Torre de Don Miguel","Cáceres","Extremadura",42.856849723711846,"No",495,259,236,"TAJO","TAJO","10187 Torre de Don Miguel"]
["10188 Torre de Santa María",528,"Torre de Santa María","Cáceres","Extremadura",27.693034876545187,"No",528,262,266,"TAJO","TAJO","10188 Torre de Santa María"]
["10185 Torrecilla de los Ángeles",648,"Torrecilla de los Ángeles","Cáceres","Extremadura",14.967991711982762,"No",648,336,312,"TAJO","TAJO","10185 Torrecilla de los Ángeles"]
["10186 Torrecillas de la Tiesa",1075,"Torrecillas de la Tiesa","Cáceres","Extremadura",7.7035636599497659,"Sí",1075,545,530,"TAJO","TAJO","10186 Torrecillas de la Tiesa"]
["10190 Torrejón el Rubio",550,"Torrejón el Rubio","Cáceres","Extremadura",2.4787875837097273,"Sí",550,278,272,"TAJO","TAJO","10190 Torrejón el Rubio"]
["10189 Torrejoncillo",2894,"Torrejoncillo","Cáceres","Extremadura",30.611997292350857,"No",2894,1397,1497,"TAJO","TAJO","10189 Torrejoncillo"]
["10191 Torremenga",587,"Torremenga","Cáceres","Extremadura",48.312586218830667,"No",587,309,278,"TAJO","TAJO","10191 Torremenga"]
["10192 Torremocha",770,"Torremocha","Cáceres","Extremadura",12.062860915511301,"Sí",770,384,386,"TAJO","TAJO","10192 Torremocha"]
["10193 Torreorgaz",1675,"Torreorgaz","Cáceres","Extremadura",58.207456378637183,"No",1675,826,849,"TAJO","TAJO","10193 Torreorgaz"]
["10194 Torrequemada",566,"Torrequemada","Cáceres","Extremadura",18.368782053686949,"No",566,277,289,"TAJO","TAJO","10194 Torrequemada"]
["10195 Trujillo",8821,"Trujillo","Cáceres","Extremadura",13.580589041306792,"No",8821,4303,4518,"TAJO","TAJO","10195 Trujillo"]
["10196 Valdastillas",312,"Valdastillas","Cáceres","Extremadura",38.510911424903725,"No",312,158,154,"TAJO","TAJO","10196 Valdastillas"]
["10197 Valdecañas de Tajo",113,"Valdecañas de Tajo","Cáceres","Extremadura",6.0086247693592041,"Sí",113,55,58,"TAJO","TAJO","10197 Valdecañas de Tajo"]
["10198 Valdefuentes",1147,"Valdefuentes","Cáceres","Extremadura",42.274025615037317,"No",1147,561,586,"TAJO","TAJO","10198 Valdefuentes"]
["10199 Valdehúncar",179,"Valdehúncar","Cáceres","Extremadura",6.9006727192120128,"Sí",179,96,83,"TAJO","TAJO","10199 Valdehúncar"]
["10200 Valdelacasa de Tajo",346,"Valdelacasa de Tajo","Cáceres","Extremadura",4.7461014720061154,"Sí",346,188,158,"TAJO","TAJO","10200 Valdelacasa de Tajo"]
["10201 Valdemorales",207,"Valdemorales","Cáceres","Extremadura",20.79900325549616,"No",207,104,103,"GUADIANA","GUADIANA","10201 Valdemorales"]
["10202 Valdeobispo",654,"Valdeobispo","Cáceres","Extremadura",15.535212292714187,"No",654,319,335,"TAJO","TAJO","10202 Valdeobispo"]
["10203 Valencia de Alcántara",5325,"Valencia de Alcántara","Cáceres","Extremadura",8.9529127229716607,"Sí",5325,2618,2707,"TAJO","TAJO","10203 Valencia de Alcántara"]
["10204 Valverde de la Vera",438,"Valverde de la Vera","Cáceres","Extremadura",9.3282139754279498,"Sí",438,226,212,"DUERO","TAJO","10204 Valverde de la Vera"]
["10205 Valverde del Fresno",2190,"Valverde del Fresno","Cáceres","Extremadura",11.106659431278178,"Sí",2190,1106,1084,"DUERO","TAJO","10205 Valverde del Fresno"]
["10902 Vegaviana",845,"Vegaviana","Cáceres","Extremadura",37.764181679232379,"No",845,437,408,"TAJO","TAJO","10902 Vegaviana"]
["10206 Viandar de la Vera",213,"Viandar de la Vera","Cáceres","Extremadura",7.6065058122810782,"Sí",213,110,103,"DUERO","TAJO","10206 Viandar de la Vera"]
["10207 Villa del Campo",456,"Villa del Campo","Cáceres","Extremadura",8.0107222815043002,"Sí",456,217,239,"TAJO","TAJO","10207 Villa del Campo"]
["10208 Villa del Rey",128,"Villa del Rey","Cáceres","Extremadura",2.2342006407128885,"Sí",128,63,65,"TAJO","TAJO","10208 Villa del Rey"]
["10209 Villamesías",263,"Villamesías","Cáceres","Extremadura",5.6596857634865518,"Sí",263,134,129,"GUADIANA","GUADIANA","10209 Villamesías"]
["10210 Villamiel",405,"Villamiel","Cáceres","Extremadura",5.5413526658038395,"Sí",405,205,200,"TAJO","TAJO","10210 Villamiel"]
["10211 Villanueva de la Sierra",470,"Villanueva de la Sierra","Cáceres","Extremadura",10.775091043214742,"Sí",470,242,228,"TAJO","TAJO","10211 Villanueva de la Sierra"]
["10212 Villanueva de la Vera",2114,"Villanueva de la Vera","Cáceres","Extremadura",16.304527480370975,"No",2114,1059,1055,"DUERO","TAJO","10212 Villanueva de la Vera"]
["10214 Villar de Plasencia",239,"Villar de Plasencia","Cáceres","Extremadura",9.5603059297897524,"Sí",239,127,112,"TAJO","TAJO","10214 Villar de Plasencia"]
["10213 Villar del Pedroso",560,"Villar del Pedroso","Cáceres","Extremadura",2.3102159742944584,"Sí",560,285,275,"TAJO","TAJO","10213 Villar del Pedroso"]
["10215 Villasbuenas de Gata",388,"Villasbuenas de Gata","Cáceres","Extremadura",8.2858473840020874,"Sí",388,188,200,"TAJO","TAJO","10215 Villasbuenas de Gata"]
["10216 Zarza de Granadilla",1792,"Zarza de Granadilla","Cáceres","Extremadura",13.403381960483959,"No",1792,914,878,"TAJO","TAJO","10216 Zarza de Granadilla"]
["10217 Zarza de Montánchez",529,"Zarza de Montánchez","Cáceres","Extremadura",14.3678621397924,"No",529,268,261,"TAJO","GUADIANA - TAJO","10217 Zarza de Montánchez"]
["10218 Zarza la Mayor",1192,"Zarza la Mayor","Cáceres","Extremadura",7.0296282317418388,"Sí",1192,594,598,"TAJO","TAJO","10218 Zarza la Mayor"]
["10219 Zorita",1324,"Zorita","Cáceres","Extremadura",7.0816626528687063,"Sí",1324,662,662,"TAJO","GUADIANA","10219 Zorita"]
["11001 Alcalá de los Gazules",5245,"Alcalá de los Gazules","Cádiz","Andalucía",10.948211099878787,"Sí",5245,2697,2548,"GUADALETE Y BARBATE","GUADALETE Y BARBATE","11001 Alcalá de los Gazules"]
["11002 Alcalá del Valle",5031,"Alcalá del Valle","Cádiz","Andalucía",107.28245273404032,"No",5031,2526,2505,"GUADALQUIVIR","GUADALETE Y BARBATE - GUADALQUIVIR","11002 Alcalá del Valle"]
["11003 Algar",1442,"Algar","Cádiz","Andalucía",54.199991956450575,"No",1442,739,703,"GUADALETE Y BARBATE","GUADALETE Y BARBATE","11003 Algar"]
["11004 Algeciras",122982,"Algeciras","Cádiz","Andalucía",1398.0962644903193,"No",122982,60664,62318,"GUADALETE Y BARBATE","CUENCAS MEDITERRÁNEAS ANDALUZAS","11004 Algeciras"]
["11005 Algodonales",5526,"Algodonales","Cádiz","Andalucía",41.224315930743749,"No",5526,2784,2742,"GUADALETE Y BARBATE","GUADALETE Y BARBATE","11005 Algodonales"]
["11006 Arcos de la Frontera",30902,"Arcos de la Frontera","Cádiz","Andalucía",58.658986696471352,"No",30902,15427,15475,"GUADALQUIVIR","GUADALETE Y BARBATE","11006 Arcos de la Frontera"]
["11007 Barbate",22761,"Barbate","Cádiz","Andalucía",160.09999479486859,"No",22761,11407,11354,"GUADALETE Y BARBATE","GUADALETE Y BARBATE","11007 Barbate"]
["11008 Barrios Los",23983,"Barrios Los","Cádiz","Andalucía",72.522186352052088,"No",23983,12032,11951,"GUADALETE Y BARBATE","CUENCAS MEDITERRÁNEAS ANDALUZAS","11008 Barrios Los"]
["11901 Benalup-Casas Viejas",7020,"Benalup-Casas Viejas","Cádiz","Andalucía",116.27464003723438,"No",7020,3558,3462,"GUADALETE Y BARBATE","GUADALETE Y BARBATE","11901 Benalup-Casas Viejas"]
["11009 Benaocaz",695,"Benaocaz","Cádiz","Andalucía",10.015906556635809,"Sí",695,373,322,"GUADALETE Y BARBATE","GUADALETE Y BARBATE","11009 Benaocaz"]
["11010 Bornos",7655,"Bornos","Cádiz","Andalucía",138.94434965694995,"No",7655,3822,3833,"GUADALETE Y BARBATE","GUADALETE Y BARBATE","11010 Bornos"]
["11011 Bosque El",2223,"Bosque El","Cádiz","Andalucía",72.304035248200933,"No",2223,1130,1093,"GUADALETE Y BARBATE","GUADALETE Y BARBATE","11011 Bosque El"]
["11012 Cádiz",114244,"Cádiz","Cádiz","Andalucía",9288.0825081952826,"No",114244,53995,60249,"GUADALETE Y BARBATE","GUADALETE Y BARBATE","11012 Cádiz"]
["11013 Castellar de la Frontera",3070,"Castellar de la Frontera","Cádiz","Andalucía",17.007763739447704,"No",3070,1528,1542,"CUENCAS MEDITERRÁNEAS ANDALUZAS","CUENCAS MEDITERRÁNEAS ANDALUZAS","11013 Castellar de la Frontera"]
["11015 Chiclana de la Frontera",86306,"Chiclana de la Frontera","Cádiz","Andalucía",417.39673776104223,"No",86306,43131,43175,"GUADALETE Y BARBATE","GUADALETE Y BARBATE","11015 Chiclana de la Frontera"]
["11016 Chipiona",19368,"Chipiona","Cádiz","Andalucía",584.74553243906632,"No",19368,9686,9682,"GUADALQUIVIR","GUADALETE Y BARBATE","11016 Chipiona"]
["11014 Conil de la Frontera",23182,"Conil de la Frontera","Cádiz","Andalucía",265.33104574677145,"No",23182,11661,11521,"GUADALETE Y BARBATE","GUADALETE Y BARBATE","11014 Conil de la Frontera"]
["11017 Espera",3845,"Espera","Cádiz","Andalucía",31.147726904507305,"No",3845,1923,1922,"GUADALQUIVIR","GUADALETE Y BARBATE - GUADALQUIVIR","11017 Espera"]
["11018 Gastor El",1709,"Gastor El","Cádiz","Andalucía",62.050460930720604,"No",1709,865,844,"GUADALETE Y BARBATE","GUADALETE Y BARBATE","11018 Gastor El"]
["11019 Grazalema",2030,"Grazalema","Cádiz","Andalucía",16.583504069902329,"No",2030,1006,1024,"GUADALETE Y BARBATE","GUADALETE Y BARBATE","11019 Grazalema"]
["11020 Jerez de la Frontera",212801,"Jerez de la Frontera","Cádiz","Andalucía",179.13820784513911,"No",212801,103879,108922,"GUADALQUIVIR","GUADALETE Y BARBATE - GUADALQUIVIR","11020 Jerez de la Frontera"]
["11021 Jimena de la Frontera",6665,"Jimena de la Frontera","Cádiz","Andalucía",22.334608288167047,"No",6665,3405,3260,"GUADALETE Y BARBATE","CUENCAS MEDITERRÁNEAS ANDALUZAS","11021 Jimena de la Frontera"]
["11022 Línea de la Concepción La",63365,"Línea de la Concepción La","Cádiz","Andalucía",2376.2023512646956,"No",63365,31010,32355,"CUENCAS MEDITERRÁNEAS ANDALUZAS","CUENCAS MEDITERRÁNEAS ANDALUZAS","11022 Línea de la Concepción La"]
["11023 Medina Sidonia",11813,"Medina Sidonia","Cádiz","Andalucía",24.225454014497949,"No",11813,5983,5830,"GUADALETE Y BARBATE","GUADALETE Y BARBATE","11023 Medina Sidonia"]
["11024 Olvera",8016,"Olvera","Cádiz","Andalucía",41.385099815222965,"No",8016,3931,4085,"GUADALQUIVIR","GUADALETE Y BARBATE","11024 Olvera"]
["11025 Paterna de Rivera",5470,"Paterna de Rivera","Cádiz","Andalucía",395.64000376111159,"No",5470,2830,2640,"GUADALETE Y BARBATE","GUADALETE Y BARBATE","11025 Paterna de Rivera"]
["11026 Prado del Rey",5655,"Prado del Rey","Cádiz","Andalucía",116.41468462860504,"No",5655,2811,2844,"GUADALETE Y BARBATE","GUADALETE Y BARBATE","11026 Prado del Rey"]
["11027 Puerto de Santa María El",89060,"Puerto de Santa María El","Cádiz","Andalucía",559.82334072347078,"No",89060,43569,45491,"GUADALETE Y BARBATE","GUADALETE Y BARBATE","11027 Puerto de Santa María El"]
["11028 Puerto Real",41771,"Puerto Real","Cádiz","Andalucía",213.15062453627968,"No",41771,20973,20798,"GUADALETE Y BARBATE","GUADALETE Y BARBATE","11028 Puerto Real"]
["11029 Puerto Serrano",6954,"Puerto Serrano","Cádiz","Andalucía",87.085000182272395,"No",6954,3522,3432,"GUADALQUIVIR","GUADALETE Y BARBATE - GUADALQUIVIR","11029 Puerto Serrano"]
["11030 Rota",29326,"Rota","Cádiz","Andalucía",348.31957126975226,"No",29326,14564,14762,"GUADALETE Y BARBATE","GUADALETE Y BARBATE","11030 Rota"]
["11031 San Fernando",94867,"San Fernando","Cádiz","Andalucía",3171.8652307507132,"No",94867,46277,48590,"GUADALETE Y BARBATE","GUADALETE Y BARBATE","11031 San Fernando"]
["11902 San José del Valle",4432,"San José del Valle","Cádiz","Andalucía",19.798972526245254,"No",4432,2261,2171,"GUADALETE Y BARBATE","GUADALETE Y BARBATE","11902 San José del Valle"]
["11903 San Martín del Tesorillo",2821,"San Martín del Tesorillo","Cádiz","Andalucía",58.232906856248732,"No",2821,1460,1361,"CUENCAS MEDITERRÁNEAS ANDALUZAS","CUENCAS MEDITERRÁNEAS ANDALUZAS","11903 San Martín del Tesorillo"]
["11033 San Roque",32178,"San Roque","Cádiz","Andalucía",230.69709553088009,"No",32178,16042,16136,"CUENCAS MEDITERRÁNEAS ANDALUZAS","CUENCAS MEDITERRÁNEAS ANDALUZAS","11033 San Roque"]
["11032 Sanlúcar de Barrameda",69507,"Sanlúcar de Barrameda","Cádiz","Andalucía",408.22739088505358,"No",69507,34632,34875,"GUADALQUIVIR","GUADALETE Y BARBATE - GUADALQUIVIR","11032 Sanlúcar de Barrameda"]
["11034 Setenil de las Bodegas",2698,"Setenil de las Bodegas","Cádiz","Andalucía",32.844081899992887,"No",2698,1387,1311,"GUADALQUIVIR","GUADALETE Y BARBATE - GUADALQUIVIR","11034 Setenil de las Bodegas"]
["11035 Tarifa",18466,"Tarifa","Cádiz","Andalucía",44.053157699616911,"No",18466,9275,9191,"GUADALETE Y BARBATE","GUADALETE Y BARBATE","11035 Tarifa"]
["11036 Torre Alháquime",800,"Torre Alháquime","Cádiz","Andalucía",46.079278361637435,"No",800,400,400,"GUADALETE Y BARBATE","GUADALETE Y BARBATE","11036 Torre Alháquime"]
["11037 Trebujena",7042,"Trebujena","Cádiz","Andalucía",99.570863998529489,"No",7042,3499,3543,"GUADALQUIVIR","GUADALQUIVIR","11037 Trebujena"]
["11038 Ubrique",16482,"Ubrique","Cádiz","Andalucía",236.29102062008317,"No",16482,8138,8344,"GUADALETE Y BARBATE","GUADALETE Y BARBATE","11038 Ubrique"]
["11039 Vejer de la Frontera",12572,"Vejer de la Frontera","Cádiz","Andalucía",47.517501574215679,"No",12572,6253,6319,"GUADALETE Y BARBATE","GUADALETE Y BARBATE","11039 Vejer de la Frontera"]
["11041 Villamartín",12125,"Villamartín","Cádiz","Andalucía",57.233891904649518,"No",12125,6089,6036,"GUADALQUIVIR","GUADALETE Y BARBATE - GUADALQUIVIR","11041 Villamartín"]
["39001 Alfoz de Lloredo",2437,"Alfoz de Lloredo","Cantabria","Cantabria",52.146412232688114,"No",2437,1263,1174,"CANTÁBRICO OCCIDENTAL","CANTÁBRICO OCCIDENTAL","39001 Alfoz de Lloredo"]
["39004 Arenas de Iguña",1703,"Arenas de Iguña","Cantabria","Cantabria",19.767181371723993,"No",1703,858,845,"CANTÁBRICO OCCIDENTAL","CANTÁBRICO OCCIDENTAL","39004 Arenas de Iguña"]
["39008 Astillero El",18116,"Astillero El","Cantabria","Cantabria",2763.5430159138646,"No",18116,8824,9292,"CANTÁBRICO OCCIDENTAL","CANTÁBRICO OCCIDENTAL","39008 Astillero El"]
["39011 Bareyo",2129,"Bareyo","Cantabria","Cantabria",65.928008720210073,"No",2129,1075,1054,"CANTÁBRICO OCCIDENTAL","CANTÁBRICO OCCIDENTAL","39011 Bareyo"]
["39012 Cabezón de la Sal",8273,"Cabezón de la Sal","Cantabria","Cantabria",248.97227087508952,"No",8273,3953,4320,"CANTÁBRICO OCCIDENTAL","CANTÁBRICO OCCIDENTAL","39012 Cabezón de la Sal"]
["39014 Cabuérniga",985,"Cabuérniga","Cantabria","Cantabria",11.48509910416227,"Sí",985,523,462,"CANTÁBRICO OCCIDENTAL","CANTÁBRICO OCCIDENTAL","39014 Cabuérniga"]
["39027 Campoo de Enmedio",3692,"Campoo de Enmedio","Cantabria","Cantabria",40.434041695688933,"No",3692,1876,1816,"CANTÁBRICO OCCIDENTAL","CANTÁBRICO OCCIDENTAL - EBRO","39027 Campoo de Enmedio"]
["39020 Castro-Urdiales",32975,"Castro-Urdiales","Cantabria","Cantabria",343.2921903238971,"No",32975,16325,16650,"CANTÁBRICO ORIENTAL","CANTÁBRICO OCCIDENTAL","39020 Castro-Urdiales"]
["39023 Colindres",8504,"Colindres","Cantabria","Cantabria",1435.6122665167579,"No",8504,4203,4301,"CANTÁBRICO OCCIDENTAL","CANTÁBRICO OCCIDENTAL","39023 Colindres"]
["39026 Corvera de Toranzo",2054,"Corvera de Toranzo","Cantabria","Cantabria",41.050115515904423,"No",2054,1033,1021,"CANTÁBRICO OCCIDENTAL","CANTÁBRICO OCCIDENTAL","39026 Corvera de Toranzo"]
["39030 Guriezo",2410,"Guriezo","Cantabria","Cantabria",30.311049220113052,"No",2410,1257,1153,"CANTÁBRICO OCCIDENTAL","CANTÁBRICO OCCIDENTAL","39030 Guriezo"]
["39033 Herrerías",589,"Herrerías","Cantabria","Cantabria",14.72650946722039,"No",589,328,261,"CANTÁBRICO OCCIDENTAL","CANTÁBRICO OCCIDENTAL","39033 Herrerías"]
["39036 Liendo",1216,"Liendo","Cantabria","Cantabria",46.030679144816602,"No",1216,627,589,"CANTÁBRICO OCCIDENTAL","CANTÁBRICO OCCIDENTAL","39036 Liendo"]
["39037 Liérganes",2403,"Liérganes","Cantabria","Cantabria",65.210248369906608,"No",2403,1184,1219,"CANTÁBRICO OCCIDENTAL","CANTÁBRICO OCCIDENTAL","39037 Liérganes"]
["39040 Marina de Cudeyo",5186,"Marina de Cudeyo","Cantabria","Cantabria",176.97116479069609,"No",5186,2588,2598,"CANTÁBRICO OCCIDENTAL","CANTÁBRICO OCCIDENTAL","39040 Marina de Cudeyo"]
["39044 Miengo",5059,"Miengo","Cantabria","Cantabria",206.91714316097736,"No",5059,2594,2465,"CANTÁBRICO OCCIDENTAL","CANTÁBRICO OCCIDENTAL","39044 Miengo"]
["39046 Molledo",1494,"Molledo","Cantabria","Cantabria",21.048034319284874,"No",1494,743,751,"CANTÁBRICO OCCIDENTAL","CANTÁBRICO OCCIDENTAL","39046 Molledo"]
["39049 Peñarrubia",318,"Peñarrubia","Cantabria","Cantabria",5.9929215681101189,"Sí",318,170,148,"CANTÁBRICO OCCIDENTAL","CANTÁBRICO OCCIDENTAL","39049 Peñarrubia"]
["39053 Polaciones",215,"Polaciones","Cantabria","Cantabria",2.3977017749684393,"Sí",215,136,79,"CANTÁBRICO OCCIDENTAL","CANTÁBRICO OCCIDENTAL","39053 Polaciones"]
["39056 Puente Viesgo",2902,"Puente Viesgo","Cantabria","Cantabria",80.810218510608067,"No",2902,1464,1438,"CANTÁBRICO OCCIDENTAL","CANTÁBRICO OCCIDENTAL","39056 Puente Viesgo"]
["39057 Ramales de la Victoria",2902,"Ramales de la Victoria","Cantabria","Cantabria",89.237666782493179,"No",2902,1466,1436,"CANTÁBRICO OCCIDENTAL","CANTÁBRICO OCCIDENTAL","39057 Ramales de la Victoria"]
["39059 Reinosa",8810,"Reinosa","Cantabria","Cantabria",2170.752741160527,"No",8810,4168,4642,"CANTÁBRICO OCCIDENTAL","EBRO","39059 Reinosa"]
["39062 Ribamontán al Monte",2382,"Ribamontán al Monte","Cantabria","Cantabria",56.315014940028291,"No",2382,1220,1162,"CANTÁBRICO OCCIDENTAL","CANTÁBRICO OCCIDENTAL","39062 Ribamontán al Monte"]
["39066 Ruente",1034,"Ruente","Cantabria","Cantabria",15.636294349460595,"No",1034,559,475,"CANTÁBRICO OCCIDENTAL","CANTÁBRICO OCCIDENTAL","39066 Ruente"]
["39069 San Felices de Buelna",2355,"San Felices de Buelna","Cantabria","Cantabria",65.082755971446502,"No",2355,1194,1161,"CANTÁBRICO OCCIDENTAL","CANTÁBRICO OCCIDENTAL","39069 San Felices de Buelna"]
["39072 San Roque de Riomiera",337,"San Roque de Riomiera","Cantabria","Cantabria",9.4579916844326775,"Sí",337,197,140,"CANTÁBRICO OCCIDENTAL","CANTÁBRICO OCCIDENTAL","39072 San Roque de Riomiera"]
["39073 Santa Cruz de Bezana",13292,"Santa Cruz de Bezana","Cantabria","Cantabria",766.67070420423022,"No",13292,6498,6794,"CANTÁBRICO OCCIDENTAL","CANTÁBRICO OCCIDENTAL","39073 Santa Cruz de Bezana"]
["39077 Santiurde de Reinosa",244,"Santiurde de Reinosa","Cantabria","Cantabria",7.8361096926896163,"Sí",244,142,102,"CANTÁBRICO OCCIDENTAL","CANTÁBRICO OCCIDENTAL","39077 Santiurde de Reinosa"]
["39078 Santiurde de Toranzo",1695,"Santiurde de Toranzo","Cantabria","Cantabria",46.666317931154104,"No",1695,894,801,"CANTÁBRICO OCCIDENTAL","CANTÁBRICO OCCIDENTAL","39078 Santiurde de Toranzo"]
["39082 Selaya",1854,"Selaya","Cantabria","Cantabria",47.387792659237292,"No",1854,936,918,"CANTÁBRICO OCCIDENTAL","CANTÁBRICO OCCIDENTAL","39082 Selaya"]
["39085 Suances",9026,"Suances","Cantabria","Cantabria",367.98610573179337,"No",9026,4449,4577,"CANTÁBRICO OCCIDENTAL","CANTÁBRICO OCCIDENTAL","39085 Suances"]
["39089 Tudanca",148,"Tudanca","Cantabria","Cantabria",2.8150315074303518,"Sí",148,104,44,"CANTÁBRICO OCCIDENTAL","CANTÁBRICO OCCIDENTAL","39089 Tudanca"]
["39095 Val de San Vicente",2786,"Val de San Vicente","Cantabria","Cantabria",54.587848031820052,"No",2786,1428,1358,"CANTÁBRICO OCCIDENTAL","CANTÁBRICO OCCIDENTAL","39095 Val de San Vicente"]
["39093 Valdeprado del Río",316,"Valdeprado del Río","Cantabria","Cantabria",3.5531847667322953,"Sí",316,176,140,"DUERO","EBRO","39093 Valdeprado del Río"]
["39097 Vega de Pas",748,"Vega de Pas","Cantabria","Cantabria",8.547047612082876,"Sí",748,401,347,"CANTÁBRICO OCCIDENTAL","CANTÁBRICO OCCIDENTAL","39097 Vega de Pas"]
["39100 Villafufre",1012,"Villafufre","Cantabria","Cantabria",33.670171458693964,"No",1012,526,486,"CANTÁBRICO OCCIDENTAL","CANTÁBRICO OCCIDENTAL","39100 Villafufre"]
["39102 Voto",2789,"Voto","Cantabria","Cantabria",35.840282951387799,"No",2789,1489,1300,"CANTÁBRICO OCCIDENTAL","CANTÁBRICO OCCIDENTAL","39102 Voto"]
["12005 Alcora l'",10428,"Alcora l'","Castellón/Castelló","Comunitat Valenciana",109.56566690272108,"No",10428,5280,5148,"JÚCAR","JÚCAR","12005 Alcora l'"]
["12006 Alcudia de Veo",196,"Alcudia de Veo","Castellón/Castelló","Comunitat Valenciana",6.3931275705224753,"Sí",196,107,89,"JÚCAR","JÚCAR","12006 Alcudia de Veo"]
["12010 Almedíjar",254,"Almedíjar","Castellón/Castelló","Comunitat Valenciana",12.153916044384571,"Sí",254,140,114,"JÚCAR","JÚCAR","12010 Almedíjar"]
["12012 Altura",3658,"Altura","Castellón/Castelló","Comunitat Valenciana",28.253933190029709,"No",3658,1891,1767,"JÚCAR","JÚCAR","12012 Altura"]
["12016 Artana",1970,"Artana","Castellón/Castelló","Comunitat Valenciana",54.224083640511388,"No",1970,999,971,"JÚCAR","JÚCAR","12016 Artana"]
["12001 Atzeneta del Maestrat",1292,"Atzeneta del Maestrat","Castellón/Castelló","Comunitat Valenciana",18.156810535312243,"No",1292,655,637,"JÚCAR","JÚCAR","12001 Atzeneta del Maestrat"]
["12022 Bejís",390,"Bejís","Castellón/Castelló","Comunitat Valenciana",9.2082840178567054,"Sí",390,218,172,"JÚCAR","JÚCAR","12022 Bejís"]
["12024 Benafer",173,"Benafer","Castellón/Castelló","Comunitat Valenciana",10.156834439958608,"Sí",173,94,79,"JÚCAR","JÚCAR","12024 Benafer"]
["12027 Benicarló",27658,"Benicarló","Castellón/Castelló","Comunitat Valenciana",577.8448863589831,"No",27658,13799,13859,"JÚCAR","JÚCAR","12027 Benicarló"]
["12021 Betxí",5605,"Betxí","Castellón/Castelló","Comunitat Valenciana",261.43182361780225,"No",5605,2773,2832,"JÚCAR","JÚCAR","12021 Betxí"]
["12034 Càlig",2002,"Càlig","Castellón/Castelló","Comunitat Valenciana",72.890816656403572,"No",2002,1012,990,"JÚCAR","JÚCAR","12034 Càlig"]
["12037 Castell de Cabres",22,"Castell de Cabres","Castellón/Castelló","Comunitat Valenciana",0.71639069343362805,"Sí",22,13,9,"JÚCAR","EBRO","12037 Castell de Cabres"]
["12041 Castillo de Villamalefa",103,"Castillo de Villamalefa","Castellón/Castelló","Comunitat Valenciana",2.7291741161417269,"Sí",103,68,35,"JÚCAR","JÚCAR","12041 Castillo de Villamalefa"]
["12044 Cervera del Maestre",577,"Cervera del Maestre","Castellón/Castelló","Comunitat Valenciana",6.1886483864289872,"Sí",577,276,301,"JÚCAR","JÚCAR","12044 Cervera del Maestre"]
["12056 Chóvar",302,"Chóvar","Castellón/Castelló","Comunitat Valenciana",16.494216537822439,"No",302,158,144,"JÚCAR","JÚCAR","12056 Chóvar"]
["12045 Cinctorres",404,"Cinctorres","Castellón/Castelló","Comunitat Valenciana",11.521807459018513,"Sí",404,198,206,"EBRO","EBRO","12045 Cinctorres"]
["12050 Coves de Vinromà les",1792,"Coves de Vinromà les","Castellón/Castelló","Comunitat Valenciana",13.134342570743826,"No",1792,902,890,"JÚCAR","JÚCAR","12050 Coves de Vinromà les"]
["12057 Eslida",749,"Eslida","Castellón/Castelló","Comunitat Valenciana",41.323472195647945,"No",749,376,373,"JÚCAR","JÚCAR","12057 Eslida"]
["12060 Figueroles",531,"Figueroles","Castellón/Castelló","Comunitat Valenciana",43.926016345441475,"No",531,264,267,"JÚCAR","JÚCAR","12060 Figueroles"]
["12064 Fuentes de Ayódar",93,"Fuentes de Ayódar","Castellón/Castelló","Comunitat Valenciana",8.4673126224687518,"Sí",93,52,41,"JÚCAR","JÚCAR","12064 Fuentes de Ayódar"]
["12069 Higueras",49,"Higueras","Castellón/Castelló","Comunitat Valenciana",4.1370725264274508,"Sí",49,26,23,"JÚCAR","JÚCAR","12069 Higueras"]
["12070 Jana la",664,"Jana la","Castellón/Castelló","Comunitat Valenciana",34.046934519643386,"No",664,340,324,"JÚCAR","JÚCAR","12070 Jana la"]
["12073 Ludiente",155,"Ludiente","Castellón/Castelló","Comunitat Valenciana",4.9440899974935055,"Sí",155,86,69,"JÚCAR","JÚCAR","12073 Ludiente"]
["12075 Mata de Morella la",169,"Mata de Morella la","Castellón/Castelló","Comunitat Valenciana",11.147251364845712,"Sí",169,92,77,"EBRO","EBRO","12075 Mata de Morella la"]
["12078 Montán",365,"Montán","Castellón/Castelló","Comunitat Valenciana",10.704726456405897,"Sí",365,184,181,"JÚCAR","JÚCAR","12078 Montán"]
["12082 Nules",13256,"Nules","Castellón/Castelló","Comunitat Valenciana",262.3209047854865,"No",13256,6628,6628,"JÚCAR","JÚCAR","12082 Nules"]
["12085 Oropesa del Mar/Orpesa",9755,"Oropesa del Mar/Orpesa","Castellón/Castelló","Comunitat Valenciana",367.35354813442393,"No",9755,4974,4781,"JÚCAR","JÚCAR","12085 Oropesa del Mar/Orpesa"]
["12088 Pavías",72,"Pavías","Castellón/Castelló","Comunitat Valenciana",4.9957861931179437,"Sí",72,45,27,"JÚCAR","JÚCAR","12088 Pavías"]
["12094 Pobla Tornesa la",1239,"Pobla Tornesa la","Castellón/Castelló","Comunitat Valenciana",47.816237452579337,"No",1239,632,607,"JÚCAR","JÚCAR","12094 Pobla Tornesa la"]
["12095 Ribesalbes",1156,"Ribesalbes","Castellón/Castelló","Comunitat Valenciana",135.36458272345109,"No",1156,598,558,"JÚCAR","JÚCAR","12095 Ribesalbes"]
["12098 Salzadella la",683,"Salzadella la","Castellón/Castelló","Comunitat Valenciana",13.681788247784596,"No",683,353,330,"JÚCAR","JÚCAR","12098 Salzadella la"]
["12101 San Rafael del Río",468,"San Rafael del Río","Castellón/Castelló","Comunitat Valenciana",22.126350824355494,"No",468,235,233,"JÚCAR","JÚCAR","12101 San Rafael del Río"]
["12102 Santa Magdalena de Pulpis",755,"Santa Magdalena de Pulpis","Castellón/Castelló","Comunitat Valenciana",11.355887730730394,"Sí",755,391,364,"JÚCAR","JÚCAR","12102 Santa Magdalena de Pulpis"]
["12103 Serratella la",92,"Serratella la","Castellón/Castelló","Comunitat Valenciana",4.8903878045635185,"Sí",92,45,47,"JÚCAR","JÚCAR","12103 Serratella la"]
["12107 Sot de Ferrer",428,"Sot de Ferrer","Castellón/Castelló","Comunitat Valenciana",49.536033703021054,"No",428,229,199,"JÚCAR","JÚCAR","12107 Sot de Ferrer"]
["12110 Teresa",245,"Teresa","Castellón/Castelló","Comunitat Valenciana",12.320051814617917,"Sí",245,131,114,"JÚCAR","JÚCAR","12110 Teresa"]
["12114 Torás",247,"Torás","Castellón/Castelló","Comunitat Valenciana",14.716718364849852,"No",247,138,109,"JÚCAR","JÚCAR","12114 Torás"]
["12119 Torre d'En Besora la",167,"Torre d'En Besora la","Castellón/Castelló","Comunitat Valenciana",13.566316541970282,"No",167,92,75,"JÚCAR","JÚCAR","12119 Torre d'En Besora la"]
["12117 Torreblanca",5606,"Torreblanca","Castellón/Castelló","Comunitat Valenciana",188.03246796806869,"No",5606,2845,2761,"JÚCAR","JÚCAR","12117 Torreblanca"]
["12118 Torrechiva",93,"Torrechiva","Castellón/Castelló","Comunitat Valenciana",7.8496307845976068,"Sí",93,49,44,"JÚCAR","JÚCAR","12118 Torrechiva"]
["12124 Vall d'Alba",2943,"Vall d'Alba","Castellón/Castelló","Comunitat Valenciana",55.616564325007104,"No",2943,1541,1402,"JÚCAR","JÚCAR","12124 Vall d'Alba"]
["12127 Vallibona",67,"Vallibona","Castellón/Castelló","Comunitat Valenciana",0.73327655292077143,"Sí",67,40,27,"JÚCAR","JÚCAR","12127 Vallibona"]
["12132 Vilanova d'Alcolea",578,"Vilanova d'Alcolea","Castellón/Castelló","Comunitat Valenciana",8.4491765875421745,"Sí",578,297,281,"JÚCAR","JÚCAR","12132 Vilanova d'Alcolea"]
["12135 Vila-real",51130,"Vila-real","Castellón/Castelló","Comunitat Valenciana",927.55526691024136,"No",51130,25400,25730,"JÚCAR","JÚCAR","12135 Vila-real"]
["12133 Villanueva de Viver",82,"Villanueva de Viver","Castellón/Castelló","Comunitat Valenciana",13.975049423955282,"No",82,43,39,"JÚCAR","JÚCAR","12133 Villanueva de Viver"]
["12139 Vistabella del Maestrat",337,"Vistabella del Maestrat","Castellón/Castelló","Comunitat Valenciana",2.2376400267985614,"Sí",337,183,154,"JÚCAR","JÚCAR","12139 Vistabella del Maestrat"]
["12140 Viver",1661,"Viver","Castellón/Castelló","Comunitat Valenciana",33.269170503236964,"No",1661,851,810,"JÚCAR","JÚCAR","12140 Viver"]
["12142 Zucaina",175,"Zucaina","Castellón/Castelló","Comunitat Valenciana",3.393446459850002,"Sí",175,98,77,"JÚCAR","JÚCAR","12142 Zucaina"]
["13003 Alamillo",470,"Alamillo","Ciudad Real","Castilla La Mancha",6.9881825372752635,"Sí",470,242,228,"GUADIANA","GUADIANA","13003 Alamillo"]
["13005 Alcázar de San Juan",30548,"Alcázar de San Juan","Ciudad Real","Castilla La Mancha",45.833245186706556,"No",30548,14876,15672,"GUADIANA","GUADIANA","13005 Alcázar de San Juan"]
["13008 Alcubillas",466,"Alcubillas","Ciudad Real","Castilla La Mancha",9.8185974095674524,"Sí",466,225,241,"GUADIANA","GUADIANA","13008 Alcubillas"]
["13011 Almadén",5105,"Almadén","Ciudad Real","Castilla La Mancha",21.302465186368028,"No",5105,2445,2660,"GUADIANA","GUADIANA","13011 Almadén"]
["13015 Almodóvar del Campo",5947,"Almodóvar del Campo","Ciudad Real","Castilla La Mancha",4.9234346714776747,"Sí",5947,2989,2958,"GUADIANA","GUADIANA","13015 Almodóvar del Campo"]
["13903 Arenales de San Gregorio",572,"Arenales de San Gregorio","Ciudad Real","Castilla La Mancha",18.736099419246429,"No",572,295,277,"GUADIANA","GUADIANA","13903 Arenales de San Gregorio"]
["13019 Argamasilla de Alba",6844,"Argamasilla de Alba","Ciudad Real","Castilla La Mancha",17.245615206580752,"No",6844,3435,3409,"GUADIANA","GUADIANA","13019 Argamasilla de Alba"]
["13020 Argamasilla de Calatrava",5853,"Argamasilla de Calatrava","Ciudad Real","Castilla La Mancha",35.0036779876922,"No",5853,2921,2932,"GUADIANA","GUADIANA","13020 Argamasilla de Calatrava"]
["13023 Bolaños de Calatrava",11992,"Bolaños de Calatrava","Ciudad Real","Castilla La Mancha",136.44399860197242,"No",11992,6165,5827,"GUADIANA","GUADIANA","13023 Bolaños de Calatrava"]
["13027 Calzada de Calatrava",3615,"Calzada de Calatrava","Ciudad Real","Castilla La Mancha",8.7993971135056501,"Sí",3615,1801,1814,"GUADIANA","GUADALQUIVIR - GUADIANA","13027 Calzada de Calatrava"]
["13030 Caracuel de Calatrava",116,"Caracuel de Calatrava","Ciudad Real","Castilla La Mancha",11.690276995066702,"Sí",116,68,48,"GUADIANA","GUADIANA","13030 Caracuel de Calatrava"]
["13032 Carrizosa",1175,"Carrizosa","Ciudad Real","Castilla La Mancha",45.11868960887395,"No",1175,599,576,"GUADIANA","GUADIANA","13032 Carrizosa"]
["13035 Corral de Calatrava",1102,"Corral de Calatrava","Ciudad Real","Castilla La Mancha",7.4049435725828934,"Sí",1102,531,571,"GUADIANA","GUADIANA","13035 Corral de Calatrava"]
["13039 Daimiel",17771,"Daimiel","Ciudad Real","Castilla La Mancha",40.567344737054164,"No",17771,8913,8858,"GUADIANA","GUADIANA","13039 Daimiel"]
["13040 Fernán Caballero",979,"Fernán Caballero","Ciudad Real","Castilla La Mancha",9.4222768032014557,"Sí",979,501,478,"GUADIANA","GUADIANA","13040 Fernán Caballero"]
["13043 Fuenllana",214,"Fuenllana","Ciudad Real","Castilla La Mancha",3.5691222227559227,"Sí",214,114,100,"GUADIANA","GUADIANA","13043 Fuenllana"]
["13046 Guadalmez",725,"Guadalmez","Ciudad Real","Castilla La Mancha",10.070395817115944,"Sí",725,353,372,"GUADIANA","GUADIANA","13046 Guadalmez"]
["13049 Horcajo de los Montes",826,"Horcajo de los Montes","Ciudad Real","Castilla La Mancha",3.9813215288274666,"Sí",826,430,396,"GUADIANA","GUADIANA","13049 Horcajo de los Montes"]
["13051 Luciana",365,"Luciana","Ciudad Real","Castilla La Mancha",3.2063811095275101,"Sí",365,195,170,"GUADIANA","GUADIANA","13051 Luciana"]
["13055 Mestanza",662,"Mestanza","Ciudad Real","Castilla La Mancha",1.7847937727412921,"Sí",662,339,323,"GUADALQUIVIR","GUADALQUIVIR","13055 Mestanza"]
["13058 Moral de Calatrava",5211,"Moral de Calatrava","Ciudad Real","Castilla La Mancha",27.641761497906575,"No",5211,2638,2573,"GUADIANA","GUADIANA","13058 Moral de Calatrava"]
["13061 Pedro Muñoz",7325,"Pedro Muñoz","Ciudad Real","Castilla La Mancha",72.078011532481838,"No",7325,3694,3631,"GUADIANA","GUADIANA","13061 Pedro Muñoz"]
["13063 Piedrabuena",4390,"Piedrabuena","Ciudad Real","Castilla La Mancha",7.764925556394016,"Sí",4390,2227,2163,"GUADIANA","GUADIANA","13063 Piedrabuena"]
["13064 Poblete",2759,"Poblete","Ciudad Real","Castilla La Mancha",98.766757951636862,"No",2759,1425,1334,"GUADIANA","GUADIANA","13064 Poblete"]
["13068 Puebla de Don Rodrigo",1141,"Puebla de Don Rodrigo","Ciudad Real","Castilla La Mancha",2.6855091149698063,"Sí",1141,635,506,"GUADIANA","GUADIANA","13068 Puebla de Don Rodrigo"]
["13071 Puertollano",46036,"Puertollano","Ciudad Real","Castilla La Mancha",204.48275448521969,"No",46036,22214,23822,"GUADIANA","GUADALQUIVIR","13071 Puertollano"]
["13902 Ruidera",563,"Ruidera","Ciudad Real","Castilla La Mancha",14.361253898168506,"No",563,277,286,"GUADIANA","GUADIANA","13902 Ruidera"]
["13076 Santa Cruz de los Cáñamos",515,"Santa Cruz de los Cáñamos","Ciudad Real","Castilla La Mancha",29.068036420274133,"No",515,250,265,"GUADIANA","GUADALQUIVIR - GUADIANA","13076 Santa Cruz de los Cáñamos"]
["13078 Socuéllamos",12067,"Socuéllamos","Ciudad Real","Castilla La Mancha",32.400215016923717,"No",12067,6081,5986,"GUADIANA","GUADIANA","13078 Socuéllamos"]
["13081 Terrinches",633,"Terrinches","Ciudad Real","Castilla La Mancha",11.401355356381062,"Sí",633,331,302,"GUADIANA","GUADALQUIVIR","13081 Terrinches"]
["13082 Tomelloso",35984,"Tomelloso","Ciudad Real","Castilla La Mancha",148.5995900957283,"No",35984,17902,18082,"GUADIANA","GUADIANA","13082 Tomelloso"]
["13085 Torrenueva",2708,"Torrenueva","Ciudad Real","Castilla La Mancha",19.069898784470006,"No",2708,1375,1333,"GUADIANA","GUADIANA","13085 Torrenueva"]
["13089 Villahermosa",1770,"Villahermosa","Ciudad Real","Castilla La Mancha",4.8758942224719455,"Sí",1770,876,894,"GUADIANA","GUADIANA","13089 Villahermosa"]
["13091 Villamayor de Calatrava",612,"Villamayor de Calatrava","Ciudad Real","Castilla La Mancha",4.2263252120926413,"Sí",612,302,310,"GUADIANA","GUADIANA","13091 Villamayor de Calatrava"]
["13094 Villanueva de San Carlos",280,"Villanueva de San Carlos","Ciudad Real","Castilla La Mancha",2.5670339664433648,"Sí",280,145,135,"GUADALQUIVIR","GUADALQUIVIR","13094 Villanueva de San Carlos"]
["13098 Viso del Marqués",2224,"Viso del Marqués","Ciudad Real","Castilla La Mancha",4.1710449353910208,"Sí",2224,1085,1139,"GUADIANA","GUADALQUIVIR - GUADIANA","13098 Viso del Marqués"]
["14003 Alcaracejos",1481,"Alcaracejos","Córdoba","Andalucía",8.4208060434208836,"Sí",1481,716,765,"GUADIANA","GUADALQUIVIR","14003 Alcaracejos"]
["14006 Añora",1526,"Añora","Córdoba","Andalucía",13.595211919597595,"No",1526,754,772,"GUADIANA","GUADALQUIVIR - GUADIANA","14006 Añora"]
["14007 Baena",18885,"Baena","Córdoba","Andalucía",52.11086963480173,"No",18885,9455,9430,"GUADALQUIVIR","GUADALQUIVIR","14007 Baena"]
["14010 Benamejí",4982,"Benamejí","Córdoba","Andalucía",93.382442526311834,"No",4982,2471,2511,"GUADALQUIVIR","GUADALQUIVIR","14010 Benamejí"]
["14013 Cabra",20245,"Cabra","Córdoba","Andalucía",88.376436035235329,"No",20245,9870,10375,"GUADALQUIVIR","GUADALQUIVIR","14013 Cabra"]
["14016 Cardeña",1473,"Cardeña","Córdoba","Andalucía",2.8670065162600924,"Sí",1473,746,727,"GUADIANA","GUADALQUIVIR - GUADIANA","14016 Cardeña"]
["14019 Castro del Río",7740,"Castro del Río","Córdoba","Andalucía",35.223926785202309,"No",7740,3826,3914,"GUADALQUIVIR","GUADALQUIVIR","14019 Castro del Río"]
["14023 Dos Torres",2399,"Dos Torres","Córdoba","Andalucía",18.588930481739222,"No",2399,1191,1208,"GUADIANA","GUADIANA","14023 Dos Torres"]
["14025 Espejo",3272,"Espejo","Córdoba","Andalucía",57.931908760784772,"No",3272,1641,1631,"GUADALQUIVIR","GUADALQUIVIR","14025 Espejo"]
["14026 Espiel",2424,"Espiel","Córdoba","Andalucía",5.5434781117230383,"Sí",2424,1210,1214,"GUADALQUIVIR","GUADALQUIVIR","14026 Espiel"]
["14028 Fuente la Lancha",337,"Fuente la Lancha","Córdoba","Andalucía",43.035705460566966,"No",337,165,172,"GUADIANA","GUADIANA","14028 Fuente la Lancha"]
["14031 Fuente-Tójar",676,"Fuente-Tójar","Córdoba","Andalucía",28.566430049856024,"No",676,328,348,"GUADALQUIVIR","GUADALQUIVIR","14031 Fuente-Tójar"]
["14034 Guijo El",349,"Guijo El","Córdoba","Andalucía",5.178210564736534,"Sí",349,179,170,"GUADIANA","GUADIANA","14034 Guijo El"]
["14036 Hornachuelos",4517,"Hornachuelos","Córdoba","Andalucía",4.968100548987759,"Sí",4517,2249,2268,"GUADALQUIVIR","GUADALQUIVIR","14036 Hornachuelos"]
["14039 Luque",2945,"Luque","Córdoba","Andalucía",20.93205575532026,"No",2945,1483,1462,"GUADALQUIVIR","GUADALQUIVIR","14039 Luque"]
["14043 Montoro",9231,"Montoro","Córdoba","Andalucía",15.768298426193651,"No",9231,4558,4673,"GUADALQUIVIR","GUADALQUIVIR","14043 Montoro"]
["14046 Nueva Carteya",5341,"Nueva Carteya","Córdoba","Andalucía",77.036357526009326,"No",5341,2717,2624,"GUADALQUIVIR","GUADALQUIVIR","14046 Nueva Carteya"]
["14047 Obejo",2025,"Obejo","Córdoba","Andalucía",9.4338963389494115,"Sí",2025,1054,971,"GUADALQUIVIR","GUADALQUIVIR","14047 Obejo"]
["14050 Pedro Abad",2808,"Pedro Abad","Córdoba","Andalucía",119.7025749098117,"No",2808,1409,1399,"GUADALQUIVIR","GUADALQUIVIR","14050 Pedro Abad"]
["14053 Posadas",7296,"Posadas","Córdoba","Andalucía",45.521667736710782,"No",7296,3615,3681,"GUADALQUIVIR","GUADALQUIVIR","14053 Posadas"]
["14056 Puente Genil",29767,"Puente Genil","Córdoba","Andalucía",174.0216858836487,"No",29767,14685,15082,"GUADALQUIVIR","GUADALQUIVIR","14056 Puente Genil"]
["14059 San Sebastián de los Ballesteros",829,"San Sebastián de los Ballesteros","Córdoba","Andalucía",78.908042147745562,"No",829,420,409,"GUADALQUIVIR","GUADALQUIVIR","14059 San Sebastián de los Ballesteros"]
["14063 Valenzuela",1098,"Valenzuela","Córdoba","Andalucía",57.675640183847662,"No",1098,553,545,"GUADALQUIVIR","GUADALQUIVIR","14063 Valenzuela"]
["14066 Villa del Río",7016,"Villa del Río","Córdoba","Andalucía",317.91298283034268,"No",7016,3482,3534,"GUADALQUIVIR","GUADALQUIVIR","14066 Villa del Río"]
["14068 Villaharta",640,"Villaharta","Córdoba","Andalucía",53.497213129553529,"No",640,319,321,"GUADALQUIVIR","GUADALQUIVIR","14068 Villaharta"]
["14069 Villanueva de Córdoba",8662,"Villanueva de Córdoba","Córdoba","Andalucía",20.166563052470583,"No",8662,4294,4368,"GUADIANA","GUADALQUIVIR - GUADIANA","14069 Villanueva de Córdoba"]
["14072 Villaralto",1102,"Villaralto","Córdoba","Andalucía",45.575986170045574,"No",1102,557,545,"GUADIANA","GUADIANA","14072 Villaralto"]
["14075 Zuheros",634,"Zuheros","Córdoba","Andalucía",15.021525324538397,"No",634,319,315,"GUADALQUIVIR","GUADALQUIVIR","14075 Zuheros"]
["15004 Ares",5997,"Ares","A Coruña","Galicia",327.53270384282098,"No",5997,2951,3046,"GALICIA-COSTA","GALICIA-COSTA","15004 Ares"]
["15007 Baña A",3389,"Baña A","A Coruña","Galicia",34.514891418840278,"No",3389,1597,1792,"GALICIA-COSTA","GALICIA-COSTA","15007 Baña A"]
["15010 Boimorto",1943,"Boimorto","A Coruña","Galicia",23.596924787552989,"No",1943,972,971,"GALICIA-COSTA","GALICIA-COSTA","15010 Boimorto"]
["15013 Brión",7957,"Brión","A Coruña","Galicia",106.4728024010908,"No",7957,3817,4140,"GALICIA-COSTA","GALICIA-COSTA","15013 Brión"]
["15016 Camariñas",5224,"Camariñas","A Coruña","Galicia",101.24487198308839,"No",5224,2552,2672,"GALICIA-COSTA","GALICIA-COSTA","15016 Camariñas"]
["15017 Cambre",24616,"Cambre","A Coruña","Galicia",604.22904365240652,"No",24616,11986,12630,"GALICIA-COSTA","GALICIA-COSTA","15017 Cambre"]
["15901 Cariño",3763,"Cariño","A Coruña","Galicia",79.741470650561567,"No",3763,1855,1908,"GALICIA-COSTA","GALICIA-COSTA","15901 Cariño"]
["15022 Cedeira",6650,"Cedeira","A Coruña","Galicia",77.850696108730716,"No",6650,3324,3326,"GALICIA-COSTA","GALICIA-COSTA","15022 Cedeira"]
["15025 Cerdido",1075,"Cerdido","A Coruña","Galicia",20.391363568964358,"No",1075,528,547,"GALICIA-COSTA","GALICIA-COSTA","15025 Cerdido"]
["15029 Coristanco",5878,"Coristanco","A Coruña","Galicia",41.606431541723921,"No",5878,2824,3054,"GALICIA-COSTA","GALICIA-COSTA","15029 Coristanco"]
["15033 Dodro",2710,"Dodro","A Coruña","Galicia",75.033477113349718,"No",2710,1304,1406,"GALICIA-COSTA","GALICIA-COSTA","15033 Dodro"]
["15036 Ferrol",64785,"Ferrol","A Coruña","Galicia",783.8338648243564,"No",64785,30473,34312,"GALICIA-COSTA","GALICIA-COSTA","15036 Ferrol"]
["15039 Irixoa",1340,"Irixoa","A Coruña","Galicia",19.53715773487593,"No",1340,677,663,"GALICIA-COSTA","GALICIA-COSTA","15039 Irixoa"]
["15041 Laracha A",11521,"Laracha A","A Coruña","Galicia",91.472258344144095,"No",11521,5669,5852,"GALICIA-COSTA","GALICIA-COSTA","15041 Laracha A"]
["15042 Lousame",3235,"Lousame","A Coruña","Galicia",34.544062318299964,"No",3235,1618,1617,"GALICIA-COSTA","GALICIA-COSTA","15042 Lousame"]
["15046 Melide",7427,"Melide","A Coruña","Galicia",73.316083701795108,"No",7427,3661,3766,"GALICIA-COSTA","GALICIA-COSTA","15046 Melide"]
["15049 Moeche",1200,"Moeche","A Coruña","Galicia",24.742502202237336,"No",1200,573,627,"GALICIA-COSTA","GALICIA-COSTA","15049 Moeche"]
["15053 Muros",8399,"Muros","A Coruña","Galicia",115.19801089697198,"No",8399,4048,4351,"GALICIA-COSTA","GALICIA-COSTA","15053 Muros"]
["15055 Neda",5032,"Neda","A Coruña","Galicia",205.71266356037276,"No",5032,2451,2581,"GALICIA-COSTA","GALICIA-COSTA","15055 Neda"]
["15058 Oleiros",36922,"Oleiros","A Coruña","Galicia",845.6378774860309,"No",36922,17831,19091,"GALICIA-COSTA","GALICIA-COSTA","15058 Oleiros"]
["15061 Ortigueira",5485,"Ortigueira","A Coruña","Galicia",26.168893129770993,"No",5485,2594,2891,"GALICIA-COSTA","GALICIA-COSTA","15061 Ortigueira"]
["15062 Outes",6150,"Outes","A Coruña","Galicia",61.663263355856763,"No",6150,2957,3193,"GALICIA-COSTA","GALICIA-COSTA","15062 Outes"]
["15065 Padrón",8317,"Padrón","A Coruña","Galicia",171.93062337843449,"No",8317,4011,4306,"GALICIA-COSTA","GALICIA-COSTA","15065 Padrón"]
["15068 Ponteceso",5457,"Ponteceso","A Coruña","Galicia",59.335326907532362,"No",5457,2730,2727,"GALICIA-COSTA","GALICIA-COSTA","15068 Ponteceso"]
["15071 Porto do Son",9155,"Porto do Son","A Coruña","Galicia",96.798911284511505,"No",9155,4557,4598,"GALICIA-COSTA","GALICIA-COSTA","15071 Porto do Son"]
["15074 Rois",4493,"Rois","A Coruña","Galicia",48.349936024845391,"No",4493,2145,2348,"GALICIA-COSTA","GALICIA-COSTA","15074 Rois"]
["15078 Santiago de Compostela",97858,"Santiago de Compostela","A Coruña","Galicia",444.7987796646533,"No",97858,45505,52353,"GALICIA-COSTA","GALICIA-COSTA","15078 Santiago de Compostela"]
["15081 Somozas As",1076,"Somozas As","A Coruña","Galicia",15.173217150862689,"No",1076,547,529,"GALICIA-COSTA","GALICIA-COSTA","15081 Somozas As"]
["15084 Tordoia",3228,"Tordoia","A Coruña","Galicia",25.917018876116341,"No",3228,1534,1694,"GALICIA-COSTA","GALICIA-COSTA","15084 Tordoia"]
["15085 Touro",3495,"Touro","A Coruña","Galicia",30.301536704069342,"No",3495,1730,1765,"GALICIA-COSTA","GALICIA-COSTA","15085 Touro"]
["15088 Val do Dubra",3816,"Val do Dubra","A Coruña","Galicia",35.125276239909134,"No",3816,1829,1987,"GALICIA-COSTA","GALICIA-COSTA","15088 Val do Dubra"]
["15090 Vilasantar",1219,"Vilasantar","A Coruña","Galicia",20.602234931797472,"No",1219,643,576,"GALICIA-COSTA","GALICIA-COSTA","15090 Vilasantar"]
["16001 Abia de la Obispalía",57,"Abia de la Obispalía","Cuenca","Castilla La Mancha",0.90397702312436656,"Sí",57,35,22,"TAJO","GUADIANA - TAJO","16001 Abia de la Obispalía"]
["16004 Albaladejo del Cuende",236,"Albaladejo del Cuende","Cuenca","Castilla La Mancha",4.2760307585038975,"Sí",236,125,111,"JÚCAR","JÚCAR","16004 Albaladejo del Cuende"]
["16007 Alberca de Záncara La",1581,"Alberca de Záncara La","Cuenca","Castilla La Mancha",15.712160377330363,"No",1581,808,773,"GUADIANA","GUADIANA","16007 Alberca de Záncara La"]
["16010 Alcázar del Rey",128,"Alcázar del Rey","Cuenca","Castilla La Mancha",2.7527967447146198,"Sí",128,68,60,"GUADIANA","GUADIANA","16010 Alcázar del Rey"]
["16011 Alcohujate",29,"Alcohujate","Cuenca","Castilla La Mancha",1.0626611718045356,"Sí",29,16,13,"TAJO","TAJO","16011 Alcohujate"]
["16014 Aliaguilla",644,"Aliaguilla","Cuenca","Castilla La Mancha",6.0806210089138224,"Sí",644,331,313,"JÚCAR","JÚCAR","16014 Aliaguilla"]
["16017 Almodóvar del Pinar",383,"Almodóvar del Pinar","Cuenca","Castilla La Mancha",4.030341886957034,"Sí",383,199,184,"JÚCAR","JÚCAR","16017 Almodóvar del Pinar"]
["16905 Arcas",1867,"Arcas","Cuenca","Castilla La Mancha",22.901259630611392,"No",1867,932,935,"JÚCAR","JÚCAR","16905 Arcas"]
["16025 Arrancacepas",20,"Arrancacepas","Cuenca","Castilla La Mancha",1.0777170891335619,"Sí",20,11,9,"TAJO","TAJO","16025 Arrancacepas"]
["16027 Barajas de Melo",1005,"Barajas de Melo","Cuenca","Castilla La Mancha",7.3447087402764826,"Sí",1005,532,473,"TAJO","TAJO","16027 Barajas de Melo"]
["16032 Belinchón",369,"Belinchón","Cuenca","Castilla La Mancha",4.5952391330066442,"Sí",369,190,179,"TAJO","TAJO","16032 Belinchón"]
["16035 Beteta",230,"Beteta","Cuenca","Castilla La Mancha",1.999914786239543,"Sí",230,113,117,"TAJO","TAJO","16035 Beteta"]
["16036 Boniches",139,"Boniches","Cuenca","Castilla La Mancha",2.6215082264814127,"Sí",139,69,70,"JÚCAR","JÚCAR","16036 Boniches"]
["16040 Buenache de la Sierra",105,"Buenache de la Sierra","Cuenca","Castilla La Mancha",1.8205872000582588,"Sí",105,59,46,"JÚCAR","JÚCAR","16040 Buenache de la Sierra"]
["16042 Campillo de Altobuey",1246,"Campillo de Altobuey","Cuenca","Castilla La Mancha",7.2269677119035087,"Sí",1246,623,623,"JÚCAR","JÚCAR","16042 Campillo de Altobuey"]
["16045 Canalejas del Arroyo",170,"Canalejas del Arroyo","Cuenca","Castilla La Mancha",2.7892867760898401,"Sí",170,94,76,"TAJO","TAJO","16045 Canalejas del Arroyo"]
["16048 Cañamares",459,"Cañamares","Cuenca","Castilla La Mancha",11.328051664208019,"Sí",459,253,206,"TAJO","TAJO","16048 Cañamares"]
["16052 Cañete",766,"Cañete","Cuenca","Castilla La Mancha",8.8085689482742318,"Sí",766,396,370,"JÚCAR","JÚCAR","16052 Cañete"]
["16056 Cardenete",488,"Cardenete","Cuenca","Castilla La Mancha",5.0048416201972765,"Sí",488,254,234,"JÚCAR","JÚCAR","16056 Cardenete"]
["16057 Carrascosa",67,"Carrascosa","Cuenca","Castilla La Mancha",0.93749264960287315,"Sí",67,40,27,"TAJO","TAJO","16057 Carrascosa"]
["16060 Casas de Benítez",816,"Casas de Benítez","Cuenca","Castilla La Mancha",17.45043946878809,"No",816,397,419,"GUADIANA","JÚCAR","16060 Casas de Benítez"]
["16063 Casas de Guijarro",119,"Casas de Guijarro","Cuenca","Castilla La Mancha",14.50783392553336,"No",119,62,57,"GUADIANA","JÚCAR","16063 Casas de Guijarro"]
["16066 Casasimarro",3089,"Casasimarro","Cuenca","Castilla La Mancha",62.254653132248457,"No",3089,1601,1488,"JÚCAR","JÚCAR","16066 Casasimarro"]
["16072 Castillo de Garcimuñoz",128,"Castillo de Garcimuñoz","Cuenca","Castilla La Mancha",1.5569375971626369,"Sí",128,75,53,"GUADIANA","GUADIANA - JÚCAR","16072 Castillo de Garcimuñoz"]
["16023 Chillarón de Cuenca",698,"Chillarón de Cuenca","Cuenca","Castilla La Mancha",17.819259607210416,"No",698,364,334,"JÚCAR","JÚCAR","16023 Chillarón de Cuenca"]
["16078 Cuenca",53988,"Cuenca","Cuenca","Castilla La Mancha",59.27043613085737,"No",53988,25588,28400,"TAJO","JÚCAR - TAJO","16078 Cuenca"]
["16083 Fresneda de Altarejos",37,"Fresneda de Altarejos","Cuenca","Castilla La Mancha",0.61772232323095222,"Sí",37,21,16,"JÚCAR","JÚCAR","16083 Fresneda de Altarejos"]
["16086 Fuente de Pedro Naharro",1209,"Fuente de Pedro Naharro","Cuenca","Castilla La Mancha",19.014875325958055,"No",1209,625,584,"TAJO","GUADIANA - TAJO","16086 Fuente de Pedro Naharro"]
["16087 Fuentelespino de Haro",246,"Fuentelespino de Haro","Cuenca","Castilla La Mancha",7.3574401754875103,"Sí",246,126,120,"GUADIANA","GUADIANA","16087 Fuentelespino de Haro"]
["16089 Fuentes",466,"Fuentes","Cuenca","Castilla La Mancha",4.3285499450571399,"Sí",466,242,224,"JÚCAR","JÚCAR","16089 Fuentes"]
["16092 Gabaldón",170,"Gabaldón","Cuenca","Castilla La Mancha",2.0213344238709987,"Sí",170,100,70,"JÚCAR","JÚCAR","16092 Gabaldón"]
["16096 Graja de Iniesta",354,"Graja de Iniesta","Cuenca","Castilla La Mancha",12.543249851863864,"No",354,185,169,"JÚCAR","JÚCAR","16096 Graja de Iniesta"]
["16099 Hinojosa La",195,"Hinojosa La","Cuenca","Castilla La Mancha",4.6302995499871233,"Sí",195,99,96,"GUADIANA","GUADIANA - JÚCAR","16099 Hinojosa La"]
["16103 Hontanaya",250,"Hontanaya","Cuenca","Castilla La Mancha",4.6619375474911582,"Sí",250,144,106,"GUADIANA","GUADIANA","16103 Hontanaya"]
["16107 Huélamo",78,"Huélamo","Cuenca","Castilla La Mancha",0.9843091033448842,"Sí",78,43,35,"TAJO","JÚCAR","16107 Huélamo"]
["16108 Huelves",84,"Huelves","Cuenca","Castilla La Mancha",2.1354267294414333,"Sí",84,48,36,"TAJO","GUADIANA - TAJO","16108 Huelves"]
["16110 Huerta de la Obispalía",126,"Huerta de la Obispalía","Cuenca","Castilla La Mancha",3.0082688716226986,"Sí",126,73,53,"GUADIANA","GUADIANA","16110 Huerta de la Obispalía"]
["16113 Iniesta",4355,"Iniesta","Cuenca","Castilla La Mancha",18.748729994179495,"No",4355,2153,2202,"JÚCAR","JÚCAR","16113 Iniesta"]
["16118 Ledaña",1562,"Ledaña","Cuenca","Castilla La Mancha",23.858255689628837,"No",1562,778,784,"JÚCAR","JÚCAR","16118 Ledaña"]
["16122 Mariana",304,"Mariana","Cuenca","Castilla La Mancha",7.6052095685544598,"Sí",304,158,146,"JÚCAR","JÚCAR","16122 Mariana"]
["16125 Minglanilla",2237,"Minglanilla","Cuenca","Castilla La Mancha",20.416843119788549,"No",2237,1146,1091,"JÚCAR","JÚCAR","16125 Minglanilla"]
["16129 Montalbanejo",99,"Montalbanejo","Cuenca","Castilla La Mancha",1.6686705039683261,"Sí",99,50,49,"GUADIANA","GUADIANA","16129 Montalbanejo"]
["16132 Mota de Altarejos",32,"Mota de Altarejos","Cuenca","Castilla La Mancha",1.8877867688211012,"Sí",32,20,12,"JÚCAR","JÚCAR","16132 Mota de Altarejos"]
["16135 Moya",129,"Moya","Cuenca","Castilla La Mancha",1.4062651970664828,"Sí",129,76,53,"JÚCAR","JÚCAR","16135 Moya"]
["16137 Narboneta",42,"Narboneta","Cuenca","Castilla La Mancha",1.2017555932423567,"Sí",42,22,20,"JÚCAR","JÚCAR","16137 Narboneta"]
["16141 Olmeda del Rey",130,"Olmeda del Rey","Cuenca","Castilla La Mancha",1.7423540811963807,"Sí",130,64,66,"JÚCAR","JÚCAR","16141 Olmeda del Rey"]
["16146 Pajarón",77,"Pajarón","Cuenca","Castilla La Mancha",1.4635808806157073,"Sí",77,36,41,"JÚCAR","JÚCAR","16146 Pajarón"]
["16148 Palomares del Campo",571,"Palomares del Campo","Cuenca","Castilla La Mancha",9.3629593326830296,"Sí",571,292,279,"GUADIANA","GUADIANA","16148 Palomares del Campo"]
["16151 Paredes",57,"Paredes","Cuenca","Castilla La Mancha",2.9450515384019216,"Sí",57,33,24,"TAJO","GUADIANA","16151 Paredes"]
["16155 Peral El",633,"Peral El","Cuenca","Castilla La Mancha",7.373944687167211,"Sí",633,356,277,"JÚCAR","JÚCAR","16155 Peral El"]
["16158 Picazo El",660,"Picazo El","Cuenca","Castilla La Mancha",26.503639833203756,"No",660,337,323,"JÚCAR","JÚCAR","16158 Picazo El"]
["16159 Pinarejo",191,"Pinarejo","Cuenca","Castilla La Mancha",3.0896221581360179,"Sí",191,96,95,"GUADIANA","GUADIANA","16159 Pinarejo"]
["16161 Piqueras del Castillo",45,"Piqueras del Castillo","Cuenca","Castilla La Mancha",0.98129479842449407,"Sí",45,25,20,"JÚCAR","JÚCAR","16161 Piqueras del Castillo"]
["16165 Poyatos",58,"Poyatos","Cuenca","Castilla La Mancha",1.2873412186682234,"Sí",58,32,26,"TAJO","TAJO","16165 Poyatos"]
["16169 Pozuelo El",40,"Pozuelo El","Cuenca","Castilla La Mancha",0.96942637635642748,"Sí",40,28,12,"TAJO","TAJO","16169 Pozuelo El"]
["16172 Puebla de Almenara",334,"Puebla de Almenara","Cuenca","Castilla La Mancha",8.8666835983157668,"Sí",334,178,156,"GUADIANA","GUADIANA","16172 Puebla de Almenara"]
["16176 Rada de Haro",53,"Rada de Haro","Cuenca","Castilla La Mancha",1.6432121386871044,"Sí",53,34,19,"GUADIANA","GUADIANA","16176 Rada de Haro"]
["16181 Rozalén del Monte",60,"Rozalén del Monte","Cuenca","Castilla La Mancha",1.9590419187953618,"Sí",60,30,30,"GUADIANA","GUADIANA","16181 Rozalén del Monte"]
["16188 Salmeroncillos",100,"Salmeroncillos","Cuenca","Castilla La Mancha",4.8360742509561767,"Sí",100,58,42,"TAJO","TAJO","16188 Salmeroncillos"]
["16189 Salvacañete",287,"Salvacañete","Cuenca","Castilla La Mancha",2.3860609346421828,"Sí",287,147,140,"JÚCAR","JÚCAR","16189 Salvacañete"]
["16192 San Martín de Boniches",45,"San Martín de Boniches","Cuenca","Castilla La Mancha",0.64497762658610391,"Sí",45,24,21,"JÚCAR","JÚCAR","16192 San Martín de Boniches"]
["16196 Santa María de los Llanos",681,"Santa María de los Llanos","Cuenca","Castilla La Mancha",15.832091486705458,"No",681,362,319,"GUADIANA","GUADIANA","16196 Santa María de los Llanos"]
["16199 Solera de Gabaldón",27,"Solera de Gabaldón","Cuenca","Castilla La Mancha",0.53476937793288826,"Sí",27,15,12,"JÚCAR","JÚCAR","16199 Solera de Gabaldón"]
["16202 Talayuelas",849,"Talayuelas","Cuenca","Castilla La Mancha",7.9651780802727457,"Sí",849,452,397,"JÚCAR","JÚCAR","16202 Talayuelas"]
["16205 Tejadillos",115,"Tejadillos","Cuenca","Castilla La Mancha",1.8172772020125634,"Sí",115,52,63,"JÚCAR","JÚCAR","16205 Tejadillos"]
["16212 Torrubia del Campo",281,"Torrubia del Campo","Cuenca","Castilla La Mancha",5.2660967100857281,"Sí",281,136,145,"GUADIANA","GUADIANA","16212 Torrubia del Campo"]
["16216 Tresjuncos",268,"Tresjuncos","Cuenca","Castilla La Mancha",3.8127525361704313,"Sí",268,145,123,"GUADIANA","GUADIANA","16216 Tresjuncos"]
["16217 Tribaldos",97,"Tribaldos","Cuenca","Castilla La Mancha",4.5574568451122452,"Sí",97,52,45,"GUADIANA","GUADIANA","16217 Tribaldos"]
["16224 Valdemeca",73,"Valdemeca","Cuenca","Castilla La Mancha",1.0455456889143513,"Sí",73,44,29,"JÚCAR","JÚCAR","16224 Valdemeca"]
["16225 Valdemorillo de la Sierra",56,"Valdemorillo de la Sierra","Cuenca","Castilla La Mancha",0.79688829918522297,"Sí",56,32,24,"JÚCAR","JÚCAR","16225 Valdemorillo de la Sierra"]
["16903 Valeras Las",1479,"Valeras Las","Cuenca","Castilla La Mancha",13.08291507516263,"No",1479,781,698,"JÚCAR","JÚCAR","16903 Valeras Las"]
["16234 Valsalobre",21,"Valsalobre","Cuenca","Castilla La Mancha",0.55142278764122887,"Sí",21,11,10,"TAJO","TAJO","16234 Valsalobre"]
["16239 Vega del Codorno",130,"Vega del Codorno","Cuenca","Castilla La Mancha",4.0291087611420355,"Sí",130,81,49,"TAJO","TAJO","16239 Vega del Codorno"]
["16240 Vellisca",112,"Vellisca","Cuenca","Castilla La Mancha",2.6059365561478116,"Sí",112,63,49,"TAJO","GUADIANA","16240 Vellisca"]
["16245 Villalba de la Sierra",469,"Villalba de la Sierra","Cuenca","Castilla La Mancha",11.372922744148037,"Sí",469,233,236,"JÚCAR","JÚCAR","16245 Villalba de la Sierra"]
["16246 Villalba del Rey",492,"Villalba del Rey","Cuenca","Castilla La Mancha",5.1751232791676394,"Sí",492,262,230,"TAJO","TAJO","16246 Villalba del Rey"]
["16249 Villamayor de Santiago",2466,"Villamayor de Santiago","Cuenca","Castilla La Mancha",13.611896621012258,"No",2466,1260,1206,"GUADIANA","GUADIANA","16249 Villamayor de Santiago"]
["16253 Villar de Cañas",386,"Villar de Cañas","Cuenca","Castilla La Mancha",5.4858321137542143,"Sí",386,203,183,"GUADIANA","GUADIANA","16253 Villar de Cañas"]
["16258 Villar del Humo",173,"Villar del Humo","Cuenca","Castilla La Mancha",1.152966282674023,"Sí",173,99,74,"JÚCAR","JÚCAR","16258 Villar del Humo"]
["16910 Villar y Velasco",73,"Villar y Velasco","Cuenca","Castilla La Mancha",1.181885720037404,"Sí",73,42,31,"TAJO","TAJO","16910 Villar y Velasco"]
["16269 Villares del Saz",447,"Villares del Saz","Cuenca","Castilla La Mancha",6.3711345813383504,"Sí",447,230,217,"GUADIANA","GUADIANA","16269 Villares del Saz"]
["16272 Villas de la Ventosa",214,"Villas de la Ventosa","Cuenca","Castilla La Mancha",1.4747918277925556,"Sí",214,121,93,"TAJO","TAJO","16272 Villas de la Ventosa"]
["16275 Vindel",11,"Vindel","Cuenca","Castilla La Mancha",0.43559177637573543,"Sí",11,7,4,"TAJO","TAJO","16275 Vindel"]
["16276 Yémeda",17,"Yémeda","Cuenca","Castilla La Mancha",0.58953430950967389,"Sí",17,12,5,"JÚCAR","JÚCAR","16276 Yémeda"]
["16280 Zarzuela",159,"Zarzuela","Cuenca","Castilla La Mancha",3.942420428938318,"Sí",159,87,72,"TAJO","JÚCAR","16280 Zarzuela"]
["20001 Abaltzisketa",312,"Abaltzisketa","Gipuzkoa","País Vasco",27.910496762114008,"No",312,168,144,"CANTÁBRICO ORIENTAL","CANTÁBRICO ORIENTAL","20001 Abaltzisketa"]
["20004 Albiztur",316,"Albiztur","Gipuzkoa","País Vasco",24.284155357115413,"No",316,160,156,"CANTÁBRICO ORIENTAL","CANTÁBRICO ORIENTAL","20004 Albiztur"]
["20906 Altzaga",177,"Altzaga","Gipuzkoa","País Vasco",70.107644941614595,"No",177,84,93,"CANTÁBRICO ORIENTAL","CANTÁBRICO ORIENTAL","20906 Altzaga"]
["20010 Anoeta",2086,"Anoeta","Gipuzkoa","País Vasco",504.95893396052173,"No",2086,1075,1011,"CANTÁBRICO ORIENTAL","CANTÁBRICO ORIENTAL","20010 Anoeta"]
["20011 Antzuola",2081,"Antzuola","Gipuzkoa","País Vasco",75.052282335938628,"No",2081,1041,1040,"CANTÁBRICO ORIENTAL","CANTÁBRICO ORIENTAL","20011 Antzuola"]
["20014 Asteasu",1549,"Asteasu","Gipuzkoa","País Vasco",92.42821388831473,"No",1549,792,757,"CANTÁBRICO ORIENTAL","CANTÁBRICO ORIENTAL","20014 Asteasu"]
["20903 Astigarraga",7185,"Astigarraga","Gipuzkoa","País Vasco",603.44926054159089,"No",7185,3665,3520,"CANTÁBRICO ORIENTAL","CANTÁBRICO ORIENTAL","20903 Astigarraga"]
["20018 Azpeitia",15191,"Azpeitia","Gipuzkoa","País Vasco",218.92589660322011,"No",15191,7605,7586,"CANTÁBRICO ORIENTAL","CANTÁBRICO ORIENTAL","20018 Azpeitia"]
["20021 Belauntza",253,"Belauntza","Gipuzkoa","País Vasco",73.754482115266882,"No",253,131,122,"CANTÁBRICO ORIENTAL","CANTÁBRICO ORIENTAL","20021 Belauntza"]
["20023 Berrobi",598,"Berrobi","Gipuzkoa","País Vasco",215.7463054347144,"No",598,314,284,"CANTÁBRICO ORIENTAL","CANTÁBRICO ORIENTAL","20023 Berrobi"]
["20029 Deba",5441,"Deba","Gipuzkoa","País Vasco",108.12267577729543,"No",5441,2696,2745,"CANTÁBRICO ORIENTAL","CANTÁBRICO ORIENTAL","20029 Deba"]
["20033 Elgeta",1141,"Elgeta","Gipuzkoa","País Vasco",67.788050945007612,"No",1141,580,561,"CANTÁBRICO ORIENTAL","CANTÁBRICO ORIENTAL","20033 Elgeta"]
["20066 Errezil",578,"Errezil","Gipuzkoa","País Vasco",17.806531115218732,"No",578,301,277,"CANTÁBRICO ORIENTAL","CANTÁBRICO ORIENTAL","20066 Errezil"]
["20038 Gabiria",502,"Gabiria","Gipuzkoa","País Vasco",33.746937230158949,"No",502,272,230,"CANTÁBRICO ORIENTAL","CANTÁBRICO ORIENTAL","20038 Gabiria"]
["20037 Gaintza",126,"Gaintza","Gipuzkoa","País Vasco",21.143699630589364,"No",126,72,54,"CANTÁBRICO ORIENTAL","CANTÁBRICO ORIENTAL","20037 Gaintza"]
["20041 Hernialde",321,"Hernialde","Gipuzkoa","País Vasco",76.973673325169173,"No",321,167,154,"CANTÁBRICO ORIENTAL","CANTÁBRICO ORIENTAL","20041 Hernialde"]
["20042 Ibarra",4220,"Ibarra","Gipuzkoa","País Vasco",836.65417633180675,"No",4220,2096,2124,"CANTÁBRICO ORIENTAL","CANTÁBRICO ORIENTAL","20042 Ibarra"]
["20045 Irun",62933,"Irun","Gipuzkoa","País Vasco",1484.34984200907,"No",62933,30835,32098,"CANTÁBRICO ORIENTAL","CANTÁBRICO ORIENTAL","20045 Irun"]
["20048 Larraul",259,"Larraul","Gipuzkoa","País Vasco",43.897040254772321,"No",259,148,111,"CANTÁBRICO ORIENTAL","CANTÁBRICO ORIENTAL","20048 Larraul"]
["20051 Legazpi",8367,"Legazpi","Gipuzkoa","País Vasco",199.96522177713277,"No",8367,4211,4156,"CANTÁBRICO ORIENTAL","CANTÁBRICO ORIENTAL","20051 Legazpi"]
["20053 Lezo",6062,"Lezo","Gipuzkoa","País Vasco",705.53716319824127,"No",6062,3023,3039,"CANTÁBRICO ORIENTAL","CANTÁBRICO ORIENTAL","20053 Lezo"]
["20901 Mendaro",1983,"Mendaro","Gipuzkoa","País Vasco",78.099999901538084,"No",1983,1000,983,"CANTÁBRICO ORIENTAL","CANTÁBRICO ORIENTAL","20901 Mendaro"]
["20057 Mutiloa",256,"Mutiloa","Gipuzkoa","País Vasco",29.715888249687751,"No",256,135,121,"CANTÁBRICO ORIENTAL","CANTÁBRICO ORIENTAL","20057 Mutiloa"]
["20058 Olaberria",938,"Olaberria","Gipuzkoa","País Vasco",135.54717417378362,"No",938,472,466,"CANTÁBRICO ORIENTAL","CANTÁBRICO ORIENTAL","20058 Olaberria"]
["20060 Orexa",117,"Orexa","Gipuzkoa","País Vasco",20.012609654561832,"No",117,66,51,"CANTÁBRICO ORIENTAL","CANTÁBRICO ORIENTAL","20060 Orexa"]
["20064 Pasaia",15867,"Pasaia","Gipuzkoa","País Vasco",1399.4977261138761,"No",15867,7617,8250,"CANTÁBRICO ORIENTAL","CANTÁBRICO ORIENTAL","20064 Pasaia"]
["20065 Soraluze-Placencia de las Armas",3903,"Soraluze-Placencia de las Armas","Gipuzkoa","País Vasco",274.51552721856973,"No",3903,1966,1937,"CANTÁBRICO ORIENTAL","CANTÁBRICO ORIENTAL","20065 Soraluze-Placencia de las Armas"]
["20073 Usurbil",6132,"Usurbil","Gipuzkoa","País Vasco",239.14497481606855,"No",6132,3064,3068,"CANTÁBRICO ORIENTAL","CANTÁBRICO ORIENTAL","20073 Usurbil"]
["20079 Zarautz",23271,"Zarautz","Gipuzkoa","País Vasco",1621.3548690914972,"No",23271,11298,11973,"CANTÁBRICO ORIENTAL","CANTÁBRICO ORIENTAL","20079 Zarautz"]
["20025 Zegama",1550,"Zegama","Gipuzkoa","País Vasco",44.192169563815021,"No",1550,784,766,"CANTÁBRICO ORIENTAL","CANTÁBRICO ORIENTAL","20025 Zegama"]
["20028 Zizurkil",3001,"Zizurkil","Gipuzkoa","País Vasco",192.226971564308,"No",3001,1518,1483,"CANTÁBRICO ORIENTAL","CANTÁBRICO ORIENTAL","20028 Zizurkil"]
["17002 Aiguaviva",789,"Aiguaviva","Girona","Cataluña",56.482614951785749,"No",789,395,394,"CUENCAS INTERNAS DE CATALUÑA","DISTRITO DE CUENCA FLUVIAL DE CATALUÑA","17002 Aiguaviva"]
["17004 Albons",798,"Albons","Girona","Cataluña",70.594479830148614,"No",798,407,391,"CUENCAS INTERNAS DE CATALUÑA","DISTRITO DE CUENCA FLUVIAL DE CATALUÑA","17004 Albons"]
["17008 Anglès",5709,"Anglès","Girona","Cataluña",351.60219497324027,"No",5709,2850,2859,"CUENCAS INTERNAS DE CATALUÑA","DISTRITO DE CUENCA FLUVIAL DE CATALUÑA","17008 Anglès"]
["17011 Armentera L'",998,"Armentera L'","Girona","Cataluña",170.59829059829062,"No",998,503,495,"CUENCAS INTERNAS DE CATALUÑA","DISTRITO DE CUENCA FLUVIAL DE CATALUÑA","17011 Armentera L'"]
["17013 Begur",4039,"Begur","Girona","Cataluña",193.63158702155403,"No",4039,2020,2019,"CUENCAS INTERNAS DE CATALUÑA","DISTRITO DE CUENCA FLUVIAL DE CATALUÑA","17013 Begur"]
["17020 Bescanó",5094,"Bescanó","Girona","Cataluña",141.27670432011627,"No",5094,2567,2527,"CUENCAS INTERNAS DE CATALUÑA","DISTRITO DE CUENCA FLUVIAL DE CATALUÑA","17020 Bescanó"]
["17022 Bisbal d'Empordà La",11190,"Bisbal d'Empordà La","Girona","Cataluña",542.80194655860168,"No",11190,5596,5594,"CUENCAS INTERNAS DE CATALUÑA","DISTRITO DE CUENCA FLUVIAL DE CATALUÑA","17022 Bisbal d'Empordà La"]
["17234 Biure",244,"Biure","Girona","Cataluña",24.383419274893072,"No",244,127,117,"CUENCAS INTERNAS DE CATALUÑA","DISTRITO DE CUENCA FLUVIAL DE CATALUÑA","17234 Biure"]
["17024 Bolvir",489,"Bolvir","Girona","Cataluña",45.87802805539927,"No",489,256,233,"EBRO","EBRO","17024 Bolvir"]
["17028 Brunyola i Sant Martí Sapresa",390,"Brunyola i Sant Martí Sapresa","Girona","Cataluña",10.560548498642023,"Sí",390,200,190,"CUENCAS INTERNAS DE CATALUÑA","DISTRITO DE CUENCA FLUVIAL DE CATALUÑA","17028 Brunyola i Sant Martí Sapresa"]
["17032 Cadaqués",2820,"Cadaqués","Girona","Cataluña",106.33614476798829,"No",2820,1378,1442,"CUENCAS INTERNAS DE CATALUÑA","DISTRITO DE CUENCA FLUVIAL DE CATALUÑA","17032 Cadaqués"]
["17034 Calonge i Sant Antoni",11484,"Calonge i Sant Antoni","Girona","Cataluña",341.90578834233452,"No",11484,5762,5722,"CUENCAS INTERNAS DE CATALUÑA","DISTRITO DE CUENCA FLUVIAL DE CATALUÑA","17034 Calonge i Sant Antoni"]
["17038 Campllong",533,"Campllong","Girona","Cataluña",62.760520924098628,"No",533,264,269,"CUENCAS INTERNAS DE CATALUÑA","DISTRITO DE CUENCA FLUVIAL DE CATALUÑA","17038 Campllong"]
["17041 Cantallops",305,"Cantallops","Girona","Cataluña",15.612522778926678,"No",305,154,151,"CUENCAS INTERNAS DE CATALUÑA","DISTRITO DE CUENCA FLUVIAL DE CATALUÑA","17041 Cantallops"]
["17042 Capmany",618,"Capmany","Girona","Cataluña",23.424884960314152,"No",618,313,305,"CUENCAS INTERNAS DE CATALUÑA","DISTRITO DE CUENCA FLUVIAL DE CATALUÑA","17042 Capmany"]
["17047 Castelló d'Empúries",11154,"Castelló d'Empúries","Girona","Cataluña",264.01820319587949,"No",11154,5629,5525,"CUENCAS INTERNAS DE CATALUÑA","DISTRITO DE CUENCA FLUVIAL DE CATALUÑA","17047 Castelló d'Empúries"]
["17049 Celrà",5606,"Celrà","Girona","Cataluña",284.74486737979868,"No",5606,2808,2798,"CUENCAS INTERNAS DE CATALUÑA","DISTRITO DE CUENCA FLUVIAL DE CATALUÑA","17049 Celrà"]
["17054 Colera",462,"Colera","Girona","Cataluña",19.084227245559852,"No",462,229,233,"CUENCAS INTERNAS DE CATALUÑA","DISTRITO DE CUENCA FLUVIAL DE CATALUÑA","17054 Colera"]
["17056 Cornellà del Terri",2422,"Cornellà del Terri","Girona","Cataluña",86.960892731476832,"No",2422,1227,1195,"CUENCAS INTERNAS DE CATALUÑA","DISTRITO DE CUENCA FLUVIAL DE CATALUÑA","17056 Cornellà del Terri"]
["17061 Das",248,"Das","Girona","Cataluña",16.72392024335462,"No",248,129,119,"EBRO","EBRO","17061 Das"]
["17064 Espolla",412,"Espolla","Girona","Cataluña",9.4490510606995564,"Sí",412,204,208,"CUENCAS INTERNAS DE CATALUÑA","DISTRITO DE CUENCA FLUVIAL DE CATALUÑA","17064 Espolla"]
["17066 Figueres",47043,"Figueres","Girona","Cataluña",2457.5288365095289,"No",47043,23220,23823,"CUENCAS INTERNAS DE CATALUÑA","DISTRITO DE CUENCA FLUVIAL DE CATALUÑA","17066 Figueres"]
["17068 Foixà",299,"Foixà","Girona","Cataluña",16.103233033709078,"No",299,149,150,"CUENCAS INTERNAS DE CATALUÑA","DISTRITO DE CUENCA FLUVIAL DE CATALUÑA","17068 Foixà"]
["17069 Fontanals de Cerdanya",506,"Fontanals de Cerdanya","Girona","Cataluña",17.643611940262076,"No",506,258,248,"EBRO","EBRO","17069 Fontanals de Cerdanya"]
["17902 Forallac",1708,"Forallac","Girona","Cataluña",34.011776677240583,"No",1708,842,866,"CUENCAS INTERNAS DE CATALUÑA","DISTRITO DE CUENCA FLUVIAL DE CATALUÑA","17902 Forallac"]
["17076 Garrigoles",170,"Garrigoles","Girona","Cataluña",18.81155250636273,"No",170,92,78,"CUENCAS INTERNAS DE CATALUÑA","DISTRITO DE CUENCA FLUVIAL DE CATALUÑA","17076 Garrigoles"]
["17079 Girona",101932,"Girona","Girona","Cataluña",2615.4798420971915,"No",101932,49050,52882,"CUENCAS INTERNAS DE CATALUÑA","DISTRITO DE CUENCA FLUVIAL DE CATALUÑA","17079 Girona"]
["17083 Hostalric",4332,"Hostalric","Girona","Cataluña",1280.8170737764826,"No",4332,2170,2162,"CUENCAS INTERNAS DE CATALUÑA","DISTRITO DE CUENCA FLUVIAL DE CATALUÑA","17083 Hostalric"]
["17085 Jafre",382,"Jafre","Girona","Cataluña",57.282528828707242,"No",382,204,178,"CUENCAS INTERNAS DE CATALUÑA","DISTRITO DE CUENCA FLUVIAL DE CATALUÑA","17085 Jafre"]
["17088 Lladó",845,"Lladó","Girona","Cataluña",62.096738635194527,"No",845,417,428,"CUENCAS INTERNAS DE CATALUÑA","DISTRITO DE CUENCA FLUVIAL DE CATALUÑA","17088 Lladó"]
["17089 Llagostera",8851,"Llagostera","Girona","Cataluña",114.84901331838518,"No",8851,4456,4395,"CUENCAS INTERNAS DE CATALUÑA","DISTRITO DE CUENCA FLUVIAL DE CATALUÑA","17089 Llagostera"]
["17092 Llançà",4842,"Llançà","Girona","Cataluña",173.39276864061787,"No",4842,2381,2461,"CUENCAS INTERNAS DE CATALUÑA","DISTRITO DE CUENCA FLUVIAL DE CATALUÑA","17092 Llançà"]
["17096 Llosses Les",209,"Llosses Les","Girona","Cataluña",1.8251617320348195,"Sí",209,122,87,"CUENCAS INTERNAS DE CATALUÑA","DISTRITO DE CUENCA FLUVIAL DE CATALUÑA","17096 Llosses Les"]
["17103 Maçanet de la Selva",7349,"Maçanet de la Selva","Girona","Cataluña",160.55211225758248,"No",7349,3796,3553,"CUENCAS INTERNAS DE CATALUÑA","DISTRITO DE CUENCA FLUVIAL DE CATALUÑA","17103 Maçanet de la Selva"]
["17100 Masarac",284,"Masarac","Girona","Cataluña",22.625335595866893,"No",284,149,135,"CUENCAS INTERNAS DE CATALUÑA","DISTRITO DE CUENCA FLUVIAL DE CATALUÑA","17100 Masarac"]
["17106 Mollet de Peralada",197,"Mollet de Peralada","Girona","Cataluña",32.384271436086266,"No",197,106,91,"CUENCAS INTERNAS DE CATALUÑA","DISTRITO DE CUENCA FLUVIAL DE CATALUÑA","17106 Mollet de Peralada"]
["17110 Mont-ras",1672,"Mont-ras","Girona","Cataluña",135.88393106686195,"No",1672,851,821,"CUENCAS INTERNAS DE CATALUÑA","DISTRITO DE CUENCA FLUVIAL DE CATALUÑA","17110 Mont-ras"]
["17114 Olot",36299,"Olot","Girona","Cataluña",1249.4105579821635,"No",36299,18284,18015,"CUENCAS INTERNAS DE CATALUÑA","DISTRITO DE CUENCA FLUVIAL DE CATALUÑA","17114 Olot"]
["17116 Osor",426,"Osor","Girona","Cataluña",8.2293397210524279,"Sí",426,225,201,"CUENCAS INTERNAS DE CATALUÑA","DISTRITO DE CUENCA FLUVIAL DE CATALUÑA","17116 Osor"]
["17117 Palafrugell",23046,"Palafrugell","Girona","Cataluña",855.66086156873087,"No",23046,11471,11575,"CUENCAS INTERNAS DE CATALUÑA","DISTRITO DE CUENCA FLUVIAL DE CATALUÑA","17117 Palafrugell"]
["17120 Palau-saverdera",1490,"Palau-saverdera","Girona","Cataluña",90.192301487803732,"No",1490,752,738,"CUENCAS INTERNAS DE CATALUÑA","DISTRITO DE CUENCA FLUVIAL DE CATALUÑA","17120 Palau-saverdera"]
["17125 Pardines",166,"Pardines","Girona","Cataluña",5.283124554435279,"Sí",166,90,76,"CUENCAS INTERNAS DE CATALUÑA","DISTRITO DE CUENCA FLUVIAL DE CATALUÑA","17125 Pardines"]
["17129 Pedret i Marzà",187,"Pedret i Marzà","Girona","Cataluña",21.666122503269037,"No",187,93,94,"CUENCAS INTERNAS DE CATALUÑA","DISTRITO DE CUENCA FLUVIAL DE CATALUÑA","17129 Pedret i Marzà"]
["17134 Planoles",311,"Planoles","Girona","Cataluña",16.584190094279254,"No",311,167,144,"CUENCAS INTERNAS DE CATALUÑA","DISTRITO DE CUENCA FLUVIAL DE CATALUÑA","17134 Planoles"]
["17136 Pontós",264,"Pontós","Girona","Cataluña",19.557438864483249,"No",264,145,119,"CUENCAS INTERNAS DE CATALUÑA","DISTRITO DE CUENCA FLUVIAL DE CATALUÑA","17136 Pontós"]
["17137 Porqueres",4701,"Porqueres","Girona","Cataluña",139.34793112340932,"No",4701,2317,2384,"CUENCAS INTERNAS DE CATALUÑA","DISTRITO DE CUENCA FLUVIAL DE CATALUÑA","17137 Porqueres"]
["17139 Preses Les",1875,"Preses Les","Girona","Cataluña",199.48081792454838,"No",1875,929,946,"CUENCAS INTERNAS DE CATALUÑA","DISTRITO DE CUENCA FLUVIAL DE CATALUÑA","17139 Preses Les"]
["17043 Queralbs",191,"Queralbs","Girona","Cataluña",2.0401514625536077,"Sí",191,99,92,"CUENCAS INTERNAS DE CATALUÑA","DISTRITO DE CUENCA FLUVIAL DE CATALUÑA","17043 Queralbs"]
["17146 Riells i Viabrea",4268,"Riells i Viabrea","Girona","Cataluña",157.44139292103952,"No",4268,2151,2117,"CUENCAS INTERNAS DE CATALUÑA","DISTRITO DE CUENCA FLUVIAL DE CATALUÑA","17146 Riells i Viabrea"]
["17148 Riudarenes",2283,"Riudarenes","Girona","Cataluña",48.003770661491536,"No",2283,1187,1096,"CUENCAS INTERNAS DE CATALUÑA","DISTRITO DE CUENCA FLUVIAL DE CATALUÑA","17148 Riudarenes"]
["17151 Riumors",244,"Riumors","Girona","Cataluña",38.206786402142086,"No",244,127,117,"CUENCAS INTERNAS DE CATALUÑA","DISTRITO DE CUENCA FLUVIAL DE CATALUÑA","17151 Riumors"]
["17155 Salt",32230,"Salt","Girona","Cataluña",4872.70198355104,"No",32230,16926,15304,"CUENCAS INTERNAS DE CATALUÑA","DISTRITO DE CUENCA FLUVIAL DE CATALUÑA","17155 Salt"]
["17158 Sant Climent Sescebes",712,"Sant Climent Sescebes","Girona","Cataluña",29.151415399480843,"No",712,432,280,"CUENCAS INTERNAS DE CATALUÑA","DISTRITO DE CUENCA FLUVIAL DE CATALUÑA","17158 Sant Climent Sescebes"]
["17159 Sant Feliu de Buixalleu",808,"Sant Feliu de Buixalleu","Girona","Cataluña",13.013095232343339,"No",808,415,393,"CUENCAS INTERNAS DE CATALUÑA","DISTRITO DE CUENCA FLUVIAL DE CATALUÑA","17159 Sant Feliu de Buixalleu"]
["17162 Sant Ferriol",247,"Sant Ferriol","Girona","Cataluña",5.8364287672139206,"Sí",247,131,116,"CUENCAS INTERNAS DE CATALUÑA","DISTRITO DE CUENCA FLUVIAL DE CATALUÑA","17162 Sant Ferriol"]
["17165 Sant Jaume de Llierca",852,"Sant Jaume de Llierca","Girona","Cataluña",123.37812789620018,"No",852,421,431,"CUENCAS INTERNAS DE CATALUÑA","DISTRITO DE CUENCA FLUVIAL DE CATALUÑA","17165 Sant Jaume de Llierca"]
["17185 Sant Joan les Fonts",3050,"Sant Joan les Fonts","Girona","Cataluña",95.338122120319838,"No",3050,1547,1503,"CUENCAS INTERNAS DE CATALUÑA","DISTRITO DE CUENCA FLUVIAL DE CATALUÑA","17185 Sant Joan les Fonts"]
["17903 Sant Julià del Llor i Bonmatí",1314,"Sant Julià del Llor i Bonmatí","Girona","Cataluña",136.0051338315358,"No",1314,667,647,"CUENCAS INTERNAS DE CATALUÑA","DISTRITO DE CUENCA FLUVIAL DE CATALUÑA","17903 Sant Julià del Llor i Bonmatí"]
["17173 Sant Martí Vell",244,"Sant Martí Vell","Girona","Cataluña",14.109592209654663,"No",244,130,114,"CUENCAS INTERNAS DE CATALUÑA","DISTRITO DE CUENCA FLUVIAL DE CATALUÑA","17173 Sant Martí Vell"]
["17177 Sant Pau de Segúries",725,"Sant Pau de Segúries","Girona","Cataluña",82.516702518751217,"No",725,359,366,"CUENCAS INTERNAS DE CATALUÑA","DISTRITO DE CUENCA FLUVIAL DE CATALUÑA","17177 Sant Pau de Segúries"]
["17180 Santa Coloma de Farners",13459,"Santa Coloma de Farners","Girona","Cataluña",190.36021204252165,"No",13459,6800,6659,"CUENCAS INTERNAS DE CATALUÑA","DISTRITO DE CUENCA FLUVIAL DE CATALUÑA","17180 Santa Coloma de Farners"]
["17181 Santa Cristina d'Aro",5408,"Santa Cristina d'Aro","Girona","Cataluña",79.748720746759474,"No",5408,2725,2683,"CUENCAS INTERNAS DE CATALUÑA","DISTRITO DE CUENCA FLUVIAL DE CATALUÑA","17181 Santa Cristina d'Aro"]
["17186 Sarrià de Ter",5231,"Sarrià de Ter","Girona","Cataluña",1229.0305906677318,"No",5231,2585,2646,"CUENCAS INTERNAS DE CATALUÑA","DISTRITO DE CUENCA FLUVIAL DE CATALUÑA","17186 Sarrià de Ter"]
["17190 Serinyà",1143,"Serinyà","Girona","Cataluña",66.417576542915754,"No",1143,576,567,"CUENCAS INTERNAS DE CATALUÑA","DISTRITO DE CUENCA FLUVIAL DE CATALUÑA","17190 Serinyà"]
["17052 Siurana",179,"Siurana","Girona","Cataluña",17.139519518944436,"No",179,85,94,"CUENCAS INTERNAS DE CATALUÑA","DISTRITO DE CUENCA FLUVIAL DE CATALUÑA","17052 Siurana"]
["17196 Terrades",334,"Terrades","Girona","Cataluña",16.081892463177763,"No",334,164,170,"CUENCAS INTERNAS DE CATALUÑA","DISTRITO DE CUENCA FLUVIAL DE CATALUÑA","17196 Terrades"]
["17199 Torroella de Montgrí",12023,"Torroella de Montgrí","Girona","Cataluña",181.87395156428767,"No",12023,6107,5916,"CUENCAS INTERNAS DE CATALUÑA","DISTRITO DE CUENCA FLUVIAL DE CATALUÑA","17199 Torroella de Montgrí"]
["17202 Tossa de Mar",5930,"Tossa de Mar","Girona","Cataluña",154.28792687345481,"No",5930,3010,2920,"CUENCAS INTERNAS DE CATALUÑA","DISTRITO DE CUENCA FLUVIAL DE CATALUÑA","17202 Tossa de Mar"]
["17203 Ultramort",226,"Ultramort","Girona","Cataluña",51.130064930657682,"No",226,118,108,"CUENCAS INTERNAS DE CATALUÑA","DISTRITO DE CUENCA FLUVIAL DE CATALUÑA","17203 Ultramort"]
["17206 Urús",210,"Urús","Girona","Cataluña",11.949815554596915,"Sí",210,105,105,"CUENCAS INTERNAS DE CATALUÑA","EBRO","17206 Urús"]
["17207 Vall d'en Bas La",3115,"Vall d'en Bas La","Girona","Cataluña",34.367142584475324,"No",3115,1581,1534,"CUENCAS INTERNAS DE CATALUÑA","DISTRITO DE CUENCA FLUVIAL DE CATALUÑA","17207 Vall d'en Bas La"]
["17210 Ventalló",914,"Ventalló","Girona","Cataluña",35.824031104979305,"No",914,464,450,"CUENCAS INTERNAS DE CATALUÑA","DISTRITO DE CUENCA FLUVIAL DE CATALUÑA","17210 Ventalló"]
["17213 Vidreres",8073,"Vidreres","Girona","Cataluña",166.89800084393784,"No",8073,4186,3887,"CUENCAS INTERNAS DE CATALUÑA","DISTRITO DE CUENCA FLUVIAL DE CATALUÑA","17213 Vidreres"]
["17217 Viladamat",471,"Viladamat","Girona","Cataluña",41.464187618846395,"No",471,237,234,"CUENCAS INTERNAS DE CATALUÑA","DISTRITO DE CUENCA FLUVIAL DE CATALUÑA","17217 Viladamat"]
["17221 Vilafant",5480,"Vilafant","Girona","Cataluña",655.04237395006442,"No",5480,2693,2787,"CUENCAS INTERNAS DE CATALUÑA","DISTRITO DE CUENCA FLUVIAL DE CATALUÑA","17221 Vilafant"]
["17225 Vilamacolum",371,"Vilamacolum","Girona","Cataluña",65.793545529044835,"No",371,218,153,"CUENCAS INTERNAS DE CATALUÑA","DISTRITO DE CUENCA FLUVIAL DE CATALUÑA","17225 Vilamacolum"]
["17228 Vilanant",399,"Vilanant","Girona","Cataluña",23.687256968149843,"No",399,201,198,"CUENCAS INTERNAS DE CATALUÑA","DISTRITO DE CUENCA FLUVIAL DE CATALUÑA","17228 Vilanant"]
["17230 Vila-sacra",761,"Vila-sacra","Girona","Cataluña",125.78928229032364,"No",761,372,389,"CUENCAS INTERNAS DE CATALUÑA","DISTRITO DE CUENCA FLUVIAL DE CATALUÑA","17230 Vila-sacra"]
["17233 Vilobí d'Onyar",3310,"Vilobí d'Onyar","Girona","Cataluña",101.46402471921134,"No",3310,1719,1591,"CUENCAS INTERNAS DE CATALUÑA","DISTRITO DE CUENCA FLUVIAL DE CATALUÑA","17233 Vilobí d'Onyar"]
["18003 Albolote",19128,"Albolote","Granada","Andalucía",243.40804552921531,"No",19128,9428,9700,"GUADALQUIVIR","GUADALQUIVIR","18003 Albolote"]
["18006 Albuñol",7473,"Albuñol","Granada","Andalucía",118.72772494785029,"No",7473,4135,3338,"CUENCAS MEDITERRÁNEAS ANDALUZAS","CUENCAS MEDITERRÁNEAS ANDALUZAS","18006 Albuñol"]
["18011 Alfacar",5497,"Alfacar","Granada","Andalucía",328.61880624989089,"No",5497,2808,2689,"GUADALQUIVIR","GUADALQUIVIR","18011 Alfacar"]
["18014 Alhendín",9674,"Alhendín","Granada","Andalucía",191.34724362258271,"No",9674,4900,4774,"GUADALQUIVIR","GUADALQUIVIR","18014 Alhendín"]
["18017 Almuñécar",25890,"Almuñécar","Granada","Andalucía",310.57919841536227,"No",25890,12769,13121,"CUENCAS MEDITERRÁNEAS ANDALUZAS","CUENCAS MEDITERRÁNEAS ANDALUZAS","18017 Almuñécar"]
["18020 Arenas del Rey",624,"Arenas del Rey","Granada","Andalucía",6.7236959639506457,"Sí",624,332,292,"GUADALQUIVIR","GUADALQUIVIR","18020 Arenas del Rey"]
["18021 Armilla",24388,"Armilla","Granada","Andalucía",5658.0748439783774,"No",24388,12006,12382,"GUADALQUIVIR","GUADALQUIVIR","18021 Armilla"]
["18024 Beas de Granada",980,"Beas de Granada","Granada","Andalucía",42.242433550389038,"No",980,513,467,"GUADALQUIVIR","GUADALQUIVIR","18024 Beas de Granada"]
["18028 Benalúa de las Villas",1064,"Benalúa de las Villas","Granada","Andalucía",49.135152054361946,"No",1064,545,519,"GUADALQUIVIR","GUADALQUIVIR","18028 Benalúa de las Villas"]
["18032 Bubión",322,"Bubión","Granada","Andalucía",21.663453142320883,"No",322,172,150,"CUENCAS MEDITERRÁNEAS ANDALUZAS","CUENCAS MEDITERRÁNEAS ANDALUZAS","18032 Bubión"]
["18035 Cádiar",1492,"Cádiar","Granada","Andalucía",31.529262198358786,"No",1492,799,693,"CUENCAS MEDITERRÁNEAS ANDALUZAS","CUENCAS MEDITERRÁNEAS ANDALUZAS","18035 Cádiar"]
["18038 Campotéjar",1228,"Campotéjar","Granada","Andalucía",34.282332315285785,"No",1228,619,609,"GUADALQUIVIR","GUADALQUIVIR","18038 Campotéjar"]
["18042 Capileira",580,"Capileira","Granada","Andalucía",10.194169757462774,"Sí",580,283,297,"GUADALQUIVIR","CUENCAS MEDITERRÁNEAS ANDALUZAS","18042 Capileira"]
["18045 Castilléjar",1288,"Castilléjar","Granada","Andalucía",9.8077363851029027,"Sí",1288,671,617,"GUADALQUIVIR","GUADALQUIVIR","18045 Castilléjar"]
["18046 Castril",2018,"Castril","Granada","Andalucía",8.2958179153967819,"Sí",2018,1048,970,"GUADALQUIVIR","GUADALQUIVIR","18046 Castril"]
["18059 Chauchina",5624,"Chauchina","Granada","Andalucía",265.14419337045223,"No",5624,2795,2829,"GUADALQUIVIR","GUADALQUIVIR","18059 Chauchina"]
["18049 Cogollos de Guadix",630,"Cogollos de Guadix","Granada","Andalucía",20.821758804051054,"No",630,356,274,"GUADALQUIVIR","GUADALQUIVIR","18049 Cogollos de Guadix"]
["18053 Cortes de Baza",1870,"Cortes de Baza","Granada","Andalucía",13.30424139215582,"No",1870,932,938,"GUADALQUIVIR","GUADALQUIVIR","18053 Cortes de Baza"]
["18056 Cúllar",4079,"Cúllar","Granada","Andalucía",9.5407460493849978,"Sí",4079,2033,2046,"GUADALQUIVIR","GUADALQUIVIR","18056 Cúllar"]
["18064 Dehesas de Guadix",412,"Dehesas de Guadix","Granada","Andalucía",7.2339988817150767,"Sí",412,199,213,"GUADALQUIVIR","GUADALQUIVIR","18064 Dehesas de Guadix"]
["18067 Diezma",776,"Diezma","Granada","Andalucía",18.435006671286821,"No",776,416,360,"GUADALQUIVIR","GUADALQUIVIR","18067 Diezma"]
["18068 Dílar",2137,"Dílar","Granada","Andalucía",26.955767036883589,"No",2137,1069,1068,"GUADALQUIVIR","GUADALQUIVIR","18068 Dílar"]
["18070 Dúdar",362,"Dúdar","Granada","Andalucía",43.263879668091946,"No",362,192,170,"GUADALQUIVIR","GUADALQUIVIR","18070 Dúdar"]
["18074 Ferreira",293,"Ferreira","Granada","Andalucía",6.7231694369949064,"Sí",293,151,142,"GUADALQUIVIR","GUADALQUIVIR","18074 Ferreira"]
["18079 Fuente Vaqueros",4415,"Fuente Vaqueros","Granada","Andalucía",274.77656899599197,"No",4415,2208,2207,"GUADALQUIVIR","GUADALQUIVIR","18079 Fuente Vaqueros"]
["18083 Gobernador",220,"Gobernador","Granada","Andalucía",9.5630137403120141,"Sí",220,109,111,"GUADALQUIVIR","GUADALQUIVIR","18083 Gobernador"]
["18085 Gor",729,"Gor","Granada","Andalucía",4.0268498416031155,"Sí",729,380,349,"GUADALQUIVIR","GUADALQUIVIR","18085 Gor"]
["18089 Guadix",18462,"Guadix","Granada","Andalucía",56.94701447673183,"No",18462,9191,9271,"GUADALQUIVIR","GUADALQUIVIR","18089 Guadix"]
["18094 Güéjar Sierra",2906,"Güéjar Sierra","Granada","Andalucía",12.161779234989016,"Sí",2906,1550,1356,"GUADALQUIVIR","GUADALQUIVIR","18094 Güéjar Sierra"]
["18095 Güevéjar",2658,"Güevéjar","Granada","Andalucía",272.63056804086631,"No",2658,1398,1260,"GUADALQUIVIR","GUADALQUIVIR","18095 Güevéjar"]
["18098 Huéscar",7236,"Huéscar","Granada","Andalucía",15.302581263769891,"No",7236,3574,3662,"GUADALQUIVIR","GUADALQUIVIR","18098 Huéscar"]
["18100 Huétor Tájar",10514,"Huétor Tájar","Granada","Andalucía",263.22839081179194,"No",10514,5288,5226,"GUADALQUIVIR","GUADALQUIVIR","18100 Huétor Tájar"]
["18105 Iznalloz",5094,"Iznalloz","Granada","Andalucía",20.570689231159385,"No",5094,2605,2489,"GUADALQUIVIR","GUADALQUIVIR","18105 Iznalloz"]
["18108 Jérez del Marquesado",954,"Jérez del Marquesado","Granada","Andalucía",11.528514221038597,"Sí",954,491,463,"GUADALQUIVIR","GUADALQUIVIR","18108 Jérez del Marquesado"]
["18112 Juviles",136,"Juviles","Granada","Andalucía",9.0753560175415959,"Sí",136,70,66,"CUENCAS MEDITERRÁNEAS ANDALUZAS","CUENCAS MEDITERRÁNEAS ANDALUZAS","18112 Juviles"]
["18119 Lecrín",2197,"Lecrín","Granada","Andalucía",54.263731317419662,"No",2197,1098,1099,"CUENCAS MEDITERRÁNEAS ANDALUZAS","CUENCAS MEDITERRÁNEAS ANDALUZAS","18119 Lecrín"]
["18120 Lentegí",337,"Lentegí","Granada","Andalucía",14.185280216740981,"No",337,173,164,"CUENCAS MEDITERRÁNEAS ANDALUZAS","CUENCAS MEDITERRÁNEAS ANDALUZAS","18120 Lentegí"]
["18122 Loja",20465,"Loja","Granada","Andalucía",45.732364771084548,"No",20465,10224,10241,"GUADALQUIVIR","GUADALQUIVIR","18122 Loja"]
["18126 Malahá La",1788,"Malahá La","Granada","Andalucía",70.325421448097188,"No",1788,899,889,"GUADALQUIVIR","GUADALQUIVIR","18126 Malahá La"]
["18132 Moclín",3613,"Moclín","Granada","Andalucía",31.941546810204244,"No",3613,1791,1822,"GUADALQUIVIR","GUADALQUIVIR","18132 Moclín"]
["18136 Montejícar",2072,"Montejícar","Granada","Andalucía",23.660449708412365,"No",2072,1072,1000,"GUADALQUIVIR","GUADALQUIVIR","18136 Montejícar"]
["18909 Morelábor",589,"Morelábor","Granada","Andalucía",15.277709329259277,"No",589,317,272,"GUADALQUIVIR","GUADALQUIVIR","18909 Morelábor"]
["18903 Nevada",1116,"Nevada","Granada","Andalucía",14.434492476971455,"No",1116,578,538,"GUADALQUIVIR","CUENCAS MEDITERRÁNEAS ANDALUZAS","18903 Nevada"]
["18145 Ogíjares",14559,"Ogíjares","Granada","Andalucía",2093.6452925696371,"No",14559,7223,7336,"GUADALQUIVIR","GUADALQUIVIR","18145 Ogíjares"]
["18148 Otívar",1012,"Otívar","Granada","Andalucía",17.609138683607956,"No",1012,516,496,"GUADALQUIVIR","CUENCAS MEDITERRÁNEAS ANDALUZAS","18148 Otívar"]
["18150 Padul",8934,"Padul","Granada","Andalucía",100.21593426624415,"No",8934,4461,4473,"GUADALQUIVIR","CUENCAS MEDITERRÁNEAS ANDALUZAS - GUADALQUIVIR","18150 Padul"]
["18153 Peligros",11544,"Peligros","Granada","Andalucía",1138.1489403551391,"No",11544,5707,5837,"GUADALQUIVIR","GUADALQUIVIR","18153 Peligros"]
["18910 Pinar El",886,"Pinar El","Granada","Andalucía",23.309087497631605,"No",886,470,416,"CUENCAS MEDITERRÁNEAS ANDALUZAS","CUENCAS MEDITERRÁNEAS ANDALUZAS","18910 Pinar El"]
["18161 Polícar",261,"Polícar","Granada","Andalucía",48.539401068424752,"No",261,138,123,"GUADALQUIVIR","GUADALQUIVIR","18161 Polícar"]
["18164 Puebla de Don Fadrique",2227,"Puebla de Don Fadrique","Granada","Andalucía",4.2606239145166169,"Sí",2227,1130,1097,"GUADALQUIVIR","GUADALQUIVIR","18164 Puebla de Don Fadrique"]
["18170 Rubite",384,"Rubite","Granada","Andalucía",13.450241148112585,"No",384,213,171,"CUENCAS MEDITERRÁNEAS ANDALUZAS","CUENCAS MEDITERRÁNEAS ANDALUZAS","18170 Rubite"]
["18174 Santa Cruz del Comercio",543,"Santa Cruz del Comercio","Granada","Andalucía",32.141061733508927,"No",543,277,266,"GUADALQUIVIR","GUADALQUIVIR","18174 Santa Cruz del Comercio"]
["18175 Santa Fe",15175,"Santa Fe","Granada","Andalucía",396.23272112005264,"No",15175,7474,7701,"GUADALQUIVIR","GUADALQUIVIR","18175 Santa Fe"]
["18177 Sorvilán",524,"Sorvilán","Granada","Andalucía",15.262595281993923,"No",524,290,234,"CUENCAS MEDITERRÁNEAS ANDALUZAS","CUENCAS MEDITERRÁNEAS ANDALUZAS","18177 Sorvilán"]
["18916 Torrenueva Costa",2892,"Torrenueva Costa","Granada","Andalucía",446.64782467682898,"No",2892,1491,1401,"CUENCAS MEDITERRÁNEAS ANDALUZAS","CUENCAS MEDITERRÁNEAS ANDALUZAS","18916 Torrenueva Costa"]
["18182 Ugíjar",2550,"Ugíjar","Granada","Andalucía",38.08207783940869,"No",2550,1262,1288,"CUENCAS MEDITERRÁNEAS ANDALUZAS","CUENCAS MEDITERRÁNEAS ANDALUZAS","18182 Ugíjar"]
["18902 Valle El",917,"Valle El","Granada","Andalucía",35.485696246000316,"No",917,458,459,"CUENCAS MEDITERRÁNEAS ANDALUZAS","CUENCAS MEDITERRÁNEAS ANDALUZAS","18902 Valle El"]
["18184 Vélez de Benaudalla",2923,"Vélez de Benaudalla","Granada","Andalucía",36.948468578885802,"No",2923,1475,1448,"CUENCAS MEDITERRÁNEAS ANDALUZAS","CUENCAS MEDITERRÁNEAS ANDALUZAS","18184 Vélez de Benaudalla"]
["18908 Villamena",963,"Villamena","Granada","Andalucía",47.719590765114511,"No",963,500,463,"CUENCAS MEDITERRÁNEAS ANDALUZAS","CUENCAS MEDITERRÁNEAS ANDALUZAS","18908 Villamena"]
["18189 Víznar",1000,"Víznar","Granada","Andalucía",76.931693272723479,"No",1000,523,477,"GUADALQUIVIR","GUADALQUIVIR","18189 Víznar"]
["18193 Zubia La",19473,"Zubia La","Granada","Andalucía",968.40126514292535,"No",19473,9649,9824,"GUADALQUIVIR","GUADALQUIVIR","18193 Zubia La"]
["18194 Zújar",2516,"Zújar","Granada","Andalucía",24.637932557047829,"No",2516,1275,1241,"GUADALQUIVIR","GUADALQUIVIR","18194 Zújar"]
["19003 Adobes",32,"Adobes","Guadalajara","Castilla La Mancha",0.97978021447756325,"Sí",32,18,14,"TAJO","TAJO","19003 Adobes"]
["19007 Albares",479,"Albares","Guadalajara","Castilla La Mancha",16.272751701929391,"No",479,250,229,"TAJO","TAJO","19007 Albares"]
["19009 Alcocer",326,"Alcocer","Guadalajara","Castilla La Mancha",5.327402724812881,"Sí",326,164,162,"TAJO","TAJO","19009 Alcocer"]
["19013 Alcoroches",128,"Alcoroches","Guadalajara","Castilla La Mancha",3.9693115160952792,"Sí",128,78,50,"TAJO","TAJO","19013 Alcoroches"]
["19018 Alhóndiga",157,"Alhóndiga","Guadalajara","Castilla La Mancha",8.1500586726357636,"Sí",157,88,69,"TAJO","TAJO","19018 Alhóndiga"]
["19021 Almoguera",1307,"Almoguera","Guadalajara","Castilla La Mancha",10.944926503185584,"Sí",1307,662,645,"TAJO","TAJO","19021 Almoguera"]
["19022 Almonacid de Zorita",694,"Almonacid de Zorita","Guadalajara","Castilla La Mancha",15.457299644052245,"No",694,358,336,"TAJO","TAJO","19022 Almonacid de Zorita"]
["19024 Alovera",13051,"Alovera","Guadalajara","Castilla La Mancha",945.24516549576299,"No",13051,6657,6394,"TAJO","TAJO","19024 Alovera"]
["19032 Anguita",152,"Anguita","Guadalajara","Castilla La Mancha",1.1947844796269871,"Sí",152,78,74,"TAJO","TAJO","19032 Anguita"]
["19037 Arbancón",139,"Arbancón","Guadalajara","Castilla La Mancha",3.9791706732716698,"Sí",139,82,57,"TAJO","TAJO","19037 Arbancón"]
["19040 Armallones",55,"Armallones","Guadalajara","Castilla La Mancha",0.707395498392283,"Sí",55,32,23,"TAJO","TAJO","19040 Armallones"]
["19043 Atanzón",100,"Atanzón","Guadalajara","Castilla La Mancha",3.5678734403933223,"Sí",100,66,34,"TAJO","TAJO","19043 Atanzón"]
["19045 Auñón",140,"Auñón","Guadalajara","Castilla La Mancha",2.6560320660474734,"Sí",140,80,60,"TAJO","TAJO","19045 Auñón"]
["19049 Bañuelos",13,"Bañuelos","Guadalajara","Castilla La Mancha",0.69259452889746775,"Sí",13,11,2,"DUERO","DUERO - TAJO","19049 Bañuelos"]
["19050 Barriopedro",17,"Barriopedro","Guadalajara","Castilla La Mancha",1.5916200641872285,"Sí",17,11,6,"TAJO","TAJO","19050 Barriopedro"]
["19053 Brihuega",2467,"Brihuega","Guadalajara","Castilla La Mancha",8.3228436377480914,"Sí",2467,1297,1170,"TAJO","TAJO","19053 Brihuega"]
["19057 Bustares",76,"Bustares","Guadalajara","Castilla La Mancha",2.5020229349249181,"Sí",76,46,30,"TAJO","TAJO","19057 Bustares"]
["19061 Campisábalos",66,"Campisábalos","Guadalajara","Castilla La Mancha",1.2219257694535999,"Sí",66,46,20,"DUERO","TAJO","19061 Campisábalos"]
["19065 Cantalojas",146,"Cantalojas","Guadalajara","Castilla La Mancha",0.92960946215088702,"Sí",146,82,64,"DUERO","TAJO","19065 Cantalojas"]
["19070 Casa de Uceda",98,"Casa de Uceda","Guadalajara","Castilla La Mancha",4.5839833936314252,"Sí",98,51,47,"TAJO","TAJO","19070 Casa de Uceda"]
["19075 Castejón de Henares",61,"Castejón de Henares","Guadalajara","Castilla La Mancha",3.8253265590353553,"Sí",61,39,22,"TAJO","TAJO","19075 Castejón de Henares"]
["19079 Castilnuevo",6,"Castilnuevo","Guadalajara","Castilla La Mancha",0.30708302347803257,"Sí",6,5,1,"TAJO","TAJO","19079 Castilnuevo"]
["19080 Cendejas de Enmedio",66,"Cendejas de Enmedio","Guadalajara","Castilla La Mancha",3.4567276876869575,"Sí",66,33,33,"TAJO","TAJO","19080 Cendejas de Enmedio"]
["19082 Centenera",143,"Centenera","Guadalajara","Castilla La Mancha",8.2141421104026637,"Sí",143,82,61,"TAJO","TAJO","19082 Centenera"]
["19106 Chillarón del Rey",84,"Chillarón del Rey","Guadalajara","Castilla La Mancha",4.857996426943628,"Sí",84,48,36,"TAJO","TAJO","19106 Chillarón del Rey"]
["19088 Ciruelas",117,"Ciruelas","Guadalajara","Castilla La Mancha",5.4099793311046067,"Sí",117,65,52,"TAJO","TAJO","19088 Ciruelas"]
["19091 Cogollor",21,"Cogollor","Guadalajara","Castilla La Mancha",2.5229337683031341,"Sí",21,14,7,"TAJO","TAJO","19091 Cogollor"]
["19096 Condemios de Arriba",111,"Condemios de Arriba","Guadalajara","Castilla La Mancha",2.5748086290883787,"Sí",111,65,46,"TAJO","TAJO","19096 Condemios de Arriba"]
["19098 Copernal",31,"Copernal","Guadalajara","Castilla La Mancha",3.0690978673927956,"Sí",31,19,12,"TAJO","TAJO","19098 Copernal"]
["19108 Durón",105,"Durón","Guadalajara","Castilla La Mancha",4.5032698242193661,"Sí",105,59,46,"TAJO","TAJO","19108 Durón"]
["19109 Embid",33,"Embid","Guadalajara","Castilla La Mancha",0.91157186618511732,"Sí",33,19,14,"EBRO","EBRO","19109 Embid"]
["19112 Escopete",64,"Escopete","Guadalajara","Castilla La Mancha",3.3668336791527449,"Sí",64,31,33,"TAJO","TAJO","19112 Escopete"]
["19115 Establés",29,"Establés","Guadalajara","Castilla La Mancha",0.55477623311069846,"Sí",29,18,11,"EBRO","EBRO","19115 Establés"]
["19119 Fuencemillán",86,"Fuencemillán","Guadalajara","Castilla La Mancha",11.856163778289186,"Sí",86,52,34,"TAJO","TAJO","19119 Fuencemillán"]
["19121 Fuentelencina",299,"Fuentelencina","Guadalajara","Castilla La Mancha",6.749453034709842,"Sí",299,159,140,"TAJO","TAJO","19121 Fuentelencina"]
["19125 Gajanejos",57,"Gajanejos","Guadalajara","Castilla La Mancha",2.2364820843071351,"Sí",57,34,23,"TAJO","TAJO","19125 Gajanejos"]
["19129 Gascueña de Bornova",31,"Gascueña de Bornova","Guadalajara","Castilla La Mancha",1.1690953491161959,"Sí",31,19,12,"TAJO","TAJO","19129 Gascueña de Bornova"]
["19133 Heras de Ayuso",239,"Heras de Ayuso","Guadalajara","Castilla La Mancha",23.331358791002177,"No",239,141,98,"TAJO","TAJO","19133 Heras de Ayuso"]
["19134 Herrería",26,"Herrería","Guadalajara","Castilla La Mancha",1.3586032847578662,"Sí",26,15,11,"TAJO","TAJO","19134 Herrería"]
["19139 Hombrados",39,"Hombrados","Guadalajara","Castilla La Mancha",1.0307872904878579,"Sí",39,25,14,"TAJO","EBRO - TAJO","19139 Hombrados"]
["19142 Hontoba",378,"Hontoba","Guadalajara","Castilla La Mancha",11.75956285785003,"Sí",378,211,167,"TAJO","TAJO","19142 Hontoba"]
["19147 Huérmeces del Cerro",41,"Huérmeces del Cerro","Guadalajara","Castilla La Mancha",2.0675672922553772,"Sí",41,29,12,"TAJO","TAJO","19147 Huérmeces del Cerro"]
["19151 Humanes",1577,"Humanes","Guadalajara","Castilla La Mancha",32.840565199246647,"No",1577,796,781,"TAJO","TAJO","19151 Humanes"]
["19155 Irueste",82,"Irueste","Guadalajara","Castilla La Mancha",5.7530811257404633,"Sí",82,50,32,"TAJO","TAJO","19155 Irueste"]
["19156 Jadraque",1383,"Jadraque","Guadalajara","Castilla La Mancha",35.545783791986182,"No",1383,728,655,"TAJO","TAJO","19156 Jadraque"]
["19161 Lupiana",268,"Lupiana","Guadalajara","Castilla La Mancha",8.6685383809240406,"Sí",268,141,127,"TAJO","TAJO","19161 Lupiana"]
["19162 Luzaga",65,"Luzaga","Guadalajara","Castilla La Mancha",2.1885090815551278,"Sí",65,37,28,"TAJO","TAJO","19162 Luzaga"]
["19166 Málaga del Fresno",180,"Málaga del Fresno","Guadalajara","Castilla La Mancha",7.4860260846420017,"Sí",180,102,78,"TAJO","TAJO","19166 Málaga del Fresno"]
["19170 Maranchón",232,"Maranchón","Guadalajara","Castilla La Mancha",1.5132205974421902,"Sí",232,122,110,"TAJO","EBRO - TAJO","19170 Maranchón"]
["19173 Matarrubia",65,"Matarrubia","Guadalajara","Castilla La Mancha",2.3040408800656329,"Sí",65,42,23,"TAJO","TAJO","19173 Matarrubia"]
["19175 Mazarete",31,"Mazarete","Guadalajara","Castilla La Mancha",0.55189195237386079,"Sí",31,17,14,"TAJO","EBRO - TAJO","19175 Mazarete"]
["19179 Membrillera",102,"Membrillera","Guadalajara","Castilla La Mancha",2.6610711124294717,"Sí",102,60,42,"TAJO","TAJO","19179 Membrillera"]
["19184 Millana",108,"Millana","Guadalajara","Castilla La Mancha",3.8841606625514951,"Sí",108,63,45,"TAJO","TAJO","19184 Millana"]
["19186 Mirabueno",78,"Mirabueno","Guadalajara","Castilla La Mancha",4.0072691863039553,"Sí",78,47,31,"TAJO","TAJO","19186 Mirabueno"]
["19187 Miralrío",59,"Miralrío","Guadalajara","Castilla La Mancha",7.1870163990660281,"Sí",59,32,27,"TAJO","TAJO","19187 Miralrío"]
["19191 Monasterio",14,"Monasterio","Guadalajara","Castilla La Mancha",0.6519484947650166,"Sí",14,6,8,"TAJO","TAJO","19191 Monasterio"]
["19193 Montarrón",28,"Montarrón","Guadalajara","Castilla La Mancha",2.5076070049643455,"Sí",28,18,10,"TAJO","TAJO","19193 Montarrón"]
["19196 Muduex",101,"Muduex","Guadalajara","Castilla La Mancha",4.5441718701183902,"Sí",101,53,48,"TAJO","TAJO","19196 Muduex"]
["19199 Ocentejo",17,"Ocentejo","Guadalajara","Castilla La Mancha",0.54930729280718615,"Sí",17,12,5,"TAJO","TAJO","19199 Ocentejo"]
["19203 Ordial El",37,"Ordial El","Guadalajara","Castilla La Mancha",1.2340258686508201,"Sí",37,23,14,"TAJO","TAJO","19203 Ordial El"]
["19209 Pardos",40,"Pardos","Guadalajara","Castilla La Mancha",1.7276257243988651,"Sí",40,24,16,"TAJO","EBRO","19209 Pardos"]
["19211 Pareja",455,"Pareja","Guadalajara","Castilla La Mancha",4.9671087881101688,"Sí",455,268,187,"TAJO","TAJO","19211 Pareja"]
["19212 Pastrana",839,"Pastrana","Guadalajara","Castilla La Mancha",8.7667329006050299,"Sí",839,417,422,"TAJO","TAJO","19212 Pastrana"]
["19215 Peñalver",151,"Peñalver","Guadalajara","Castilla La Mancha",3.684321569636154,"Sí",151,95,56,"TAJO","TAJO","19215 Peñalver"]
["19219 Pinilla de Molina",10,"Pinilla de Molina","Guadalajara","Castilla La Mancha",0.43146315628242715,"Sí",10,8,2,"TAJO","TAJO","19219 Pinilla de Molina"]
["19222 Pobo de Dueñas El",104,"Pobo de Dueñas El","Guadalajara","Castilla La Mancha",1.8811662572386687,"Sí",104,55,49,"TAJO","EBRO - TAJO","19222 Pobo de Dueñas El"]
["19224 Pozo de Almoguera",104,"Pozo de Almoguera","Guadalajara","Castilla La Mancha",6.2187768072632448,"Sí",104,63,41,"TAJO","TAJO","19224 Pozo de Almoguera"]
["19228 Puebla de Beleña",35,"Puebla de Beleña","Guadalajara","Castilla La Mancha",1.2006137812075541,"Sí",35,21,14,"TAJO","TAJO","19228 Puebla de Beleña"]
["19231 Rebollosa de Jadraque",10,"Rebollosa de Jadraque","Guadalajara","Castilla La Mancha",1.3042024925657196,"Sí",10,7,3,"TAJO","TAJO","19231 Rebollosa de Jadraque"]
["19232 Recuenco El",62,"Recuenco El","Guadalajara","Castilla La Mancha",0.82471479766074707,"Sí",62,36,26,"TAJO","TAJO","19232 Recuenco El"]
["19235 Riba de Saelices",106,"Riba de Saelices","Guadalajara","Castilla La Mancha",1.5897626722794687,"Sí",106,65,41,"TAJO","TAJO","19235 Riba de Saelices"]
["19240 Robledo de Corpes",40,"Robledo de Corpes","Guadalajara","Castilla La Mancha",0.9729793420431524,"Sí",40,23,17,"TAJO","TAJO","19240 Robledo de Corpes"]
["19242 Romanones",104,"Romanones","Guadalajara","Castilla La Mancha",3.6016570115708078,"Sí",104,54,50,"TAJO","TAJO","19242 Romanones"]
["19245 Sacedón",1530,"Sacedón","Guadalajara","Castilla La Mancha",13.744084552745793,"No",1530,796,734,"TAJO","TAJO","19245 Sacedón"]
["19248 San Andrés del Congosto",74,"San Andrés del Congosto","Guadalajara","Castilla La Mancha",4.8472062340836422,"Sí",74,47,27,"TAJO","TAJO","19248 San Andrés del Congosto"]
["19252 Sayatón",64,"Sayatón","Guadalajara","Castilla La Mancha",1.4104568493977427,"Sí",64,36,28,"TAJO","TAJO","19252 Sayatón"]
["19255 Setiles",85,"Setiles","Guadalajara","Castilla La Mancha",1.4972829510890329,"Sí",85,46,39,"TAJO","EBRO - TAJO","19255 Setiles"]
["19257 Sigüenza",4298,"Sigüenza","Guadalajara","Castilla La Mancha",11.109708654714549,"Sí",4298,2170,2128,"DUERO","TAJO","19257 Sigüenza"]
["19258 Solanillos del Extremo",87,"Solanillos del Extremo","Guadalajara","Castilla La Mancha",2.4975098104768989,"Sí",87,53,34,"TAJO","TAJO","19258 Solanillos del Extremo"]
["19261 Sotodosos",30,"Sotodosos","Guadalajara","Castilla La Mancha",1.0363415980884887,"Sí",30,18,12,"TAJO","TAJO","19261 Sotodosos"]
["19265 Tartanedo",144,"Tartanedo","Guadalajara","Castilla La Mancha",0.97106122898453229,"Sí",144,83,61,"TAJO","EBRO","19265 Tartanedo"]
["19268 Tierzo",48,"Tierzo","Guadalajara","Castilla La Mancha",1.1983116687321316,"Sí",48,27,21,"TAJO","TAJO","19268 Tierzo"]
["19271 Tordellego",50,"Tordellego","Guadalajara","Castilla La Mancha",1.493879218311565,"Sí",50,29,21,"TAJO","TAJO","19271 Tordellego"]
["19279 Torre del Burgo",470,"Torre del Burgo","Guadalajara","Castilla La Mancha",95.81660620027219,"No",470,269,201,"TAJO","TAJO","19279 Torre del Burgo"]
["19280 Torrejón del Rey",5892,"Torrejón del Rey","Guadalajara","Castilla La Mancha",234.12339781236878,"No",5892,3072,2820,"TAJO","TAJO","19280 Torrejón del Rey"]
["19281 Torremocha de Jadraque",20,"Torremocha de Jadraque","Guadalajara","Castilla La Mancha",1.78997971147496,"Sí",20,11,9,"TAJO","TAJO","19281 Torremocha de Jadraque"]
["19284 Torremochuela",8,"Torremochuela","Guadalajara","Castilla La Mancha",0.44887572062087366,"Sí",8,6,2,"TAJO","TAJO","19284 Torremochuela"]
["19287 Tortuera",184,"Tortuera","Guadalajara","Castilla La Mancha",2.2382957810557453,"Sí",184,96,88,"EBRO","EBRO","19287 Tortuera"]
["19290 Trijueque",1327,"Trijueque","Guadalajara","Castilla La Mancha",37.247180203205126,"No",1327,728,599,"TAJO","TAJO","19290 Trijueque"]
["19294 Ujados",30,"Ujados","Guadalajara","Castilla La Mancha",2.534764720603869,"Sí",30,15,15,"TAJO","TAJO","19294 Ujados"]
["19299 Valdeavellano",100,"Valdeavellano","Guadalajara","Castilla La Mancha",4.16234823037765,"Sí",100,54,46,"TAJO","TAJO","19299 Valdeavellano"]
["19302 Valdegrudas",52,"Valdegrudas","Guadalajara","Castilla La Mancha",3.7349069358155527,"Sí",52,33,19,"TAJO","TAJO","19302 Valdegrudas"]
["19305 Valdepeñas de la Sierra",145,"Valdepeñas de la Sierra","Guadalajara","Castilla La Mancha",2.0699113559748041,"Sí",145,84,61,"TAJO","TAJO","19305 Valdepeñas de la Sierra"]
["19307 Valdesotos",24,"Valdesotos","Guadalajara","Castilla La Mancha",0.87927702326039447,"Sí",24,15,9,"TAJO","TAJO","19307 Valdesotos"]
["19308 Valfermoso de Tajuña",64,"Valfermoso de Tajuña","Guadalajara","Castilla La Mancha",2.1732117692999884,"Sí",64,42,22,"TAJO","TAJO","19308 Valfermoso de Tajuña"]
["19311 Valverde de los Arroyos",92,"Valverde de los Arroyos","Guadalajara","Castilla La Mancha",2.035005050904656,"Sí",92,49,43,"TAJO","TAJO","19311 Valverde de los Arroyos"]
["19319 Villanueva de la Torre",6591,"Villanueva de la Torre","Guadalajara","Castilla La Mancha",587.71601305441118,"No",6591,3331,3260,"TAJO","TAJO","19319 Villanueva de la Torre"]
["19323 Villaseca de Uceda",40,"Villaseca de Uceda","Guadalajara","Castilla La Mancha",3.0115125607930273,"Sí",40,21,19,"TAJO","TAJO","19323 Villaseca de Uceda"]
["19327 Yebra",465,"Yebra","Guadalajara","Castilla La Mancha",8.2320493260146819,"Sí",465,249,216,"TAJO","TAJO","19327 Yebra"]
["19330 Yélamos de Arriba",77,"Yélamos de Arriba","Guadalajara","Castilla La Mancha",4.2019390802872136,"Sí",77,47,30,"TAJO","TAJO","19330 Yélamos de Arriba"]
["19333 Zaorejas",104,"Zaorejas","Guadalajara","Castilla La Mancha",0.54987001416533887,"Sí",104,73,31,"TAJO","TAJO","19333 Zaorejas"]
["19334 Zarzuela de Jadraque",56,"Zarzuela de Jadraque","Guadalajara","Castilla La Mancha",1.7476536111844587,"Sí",56,35,21,"TAJO","TAJO","19334 Zarzuela de Jadraque"]
["21002 Aljaraque",21706,"Aljaraque","Huelva","Andalucía",641.74024485941106,"No",21706,10810,10896,"TINTO, ODIEL Y PIEDRAS","TINTO, ODIEL Y PIEDRAS","21002 Aljaraque"]
["21006 Alosno",3929,"Alosno","Huelva","Andalucía",20.563179804711126,"No",3929,1934,1995,"GUADIANA","TINTO, ODIEL Y PIEDRAS","21006 Alosno"]
["21008 Aroche",3046,"Aroche","Huelva","Andalucía",6.1148745226141958,"Sí",3046,1519,1527,"GUADIANA","GUADIANA","21008 Aroche"]
["21011 Beas",4464,"Beas","Huelva","Andalucía",30.858244937319192,"No",4464,2231,2233,"TINTO, ODIEL Y PIEDRAS","TINTO, ODIEL Y PIEDRAS","21011 Beas"]
["21015 Cabezas Rubias",716,"Cabezas Rubias","Huelva","Andalucía",6.5898705002090896,"Sí",716,377,339,"GUADIANA","GUADIANA","21015 Cabezas Rubias"]
["21018 Campillo El",1996,"Campillo El","Huelva","Andalucía",22.002031660548777,"No",1996,967,1029,"TINTO, ODIEL Y PIEDRAS","TINTO, ODIEL Y PIEDRAS","21018 Campillo El"]
["21021 Cartaya",20314,"Cartaya","Huelva","Andalucía",90.318364007816271,"No",20314,10337,9977,"TINTO, ODIEL Y PIEDRAS","TINTO, ODIEL Y PIEDRAS","21021 Cartaya"]
["21023 Cerro de Andévalo El",2320,"Cerro de Andévalo El","Huelva","Andalucía",8.108468946311449,"Sí",2320,1156,1164,"GUADIANA","TINTO, ODIEL Y PIEDRAS","21023 Cerro de Andévalo El"]
["21030 Chucena",2242,"Chucena","Huelva","Andalucía",86.039826999313064,"No",2242,1123,1119,"GUADALQUIVIR","GUADALQUIVIR","21030 Chucena"]
["21027 Cumbres de Enmedio",53,"Cumbres de Enmedio","Huelva","Andalucía",3.911053493175876,"Sí",53,29,24,"GUADIANA","GUADIANA","21027 Cumbres de Enmedio"]
["21031 Encinasola",1292,"Encinasola","Huelva","Andalucía",7.2715811749344317,"Sí",1292,659,633,"GUADIANA","GUADIANA","21031 Encinasola"]
["21034 Galaroza",1373,"Galaroza","Huelva","Andalucía",61.663675177496394,"No",1373,680,693,"GUADIANA","GUADALQUIVIR - GUADIANA","21034 Galaroza"]
["21038 Higuera de la Sierra",1326,"Higuera de la Sierra","Huelva","Andalucía",54.161277088603448,"No",1326,694,632,"GUADALQUIVIR","GUADALQUIVIR - TINTO, ODIEL Y PIEDRAS","21038 Higuera de la Sierra"]
["21040 Hinojos",3903,"Hinojos","Huelva","Andalucía",12.201440855427107,"Sí",3903,1971,1932,"GUADALQUIVIR","GUADALQUIVIR","21040 Hinojos"]
["21043 Jabugo",2247,"Jabugo","Huelva","Andalucía",90.183463748174063,"No",2247,1127,1120,"GUADIANA","GUADIANA","21043 Jabugo"]
["21044 Lepe",28293,"Lepe","Huelva","Andalucía",221.14382766066808,"No",28293,14593,13700,"GUADIANA","TINTO, ODIEL Y PIEDRAS","21044 Lepe"]
["21047 Manzanilla",2152,"Manzanilla","Huelva","Andalucía",54.308051824821206,"No",2152,1102,1050,"GUADALQUIVIR","GUADALQUIVIR - TINTO, ODIEL Y PIEDRAS","21047 Manzanilla"]
["21051 Nava La",255,"Nava La","Huelva","Andalucía",4.178296942551694,"Sí",255,135,120,"GUADIANA","GUADIANA","21051 Nava La"]
["21053 Niebla",4158,"Niebla","Huelva","Andalucía",18.596621479589782,"No",4158,2087,2071,"GUADALQUIVIR","TINTO, ODIEL Y PIEDRAS","21053 Niebla"]
["21056 Paterna del Campo",3478,"Paterna del Campo","Huelva","Andalucía",26.242916751552468,"No",3478,1772,1706,"GUADALQUIVIR","GUADALQUIVIR - TINTO, ODIEL Y PIEDRAS","21056 Paterna del Campo"]
["21060 Punta Umbría",15891,"Punta Umbría","Huelva","Andalucía",410.17923885435812,"No",15891,8063,7828,"TINTO, ODIEL Y PIEDRAS","TINTO, ODIEL Y PIEDRAS","21060 Punta Umbría"]
["21063 San Bartolomé de la Torre",3846,"San Bartolomé de la Torre","Huelva","Andalucía",67.938526762056171,"No",3846,1917,1929,"TINTO, ODIEL Y PIEDRAS","TINTO, ODIEL Y PIEDRAS","21063 San Bartolomé de la Torre"]
["21064 San Juan del Puerto",9503,"San Juan del Puerto","Huelva","Andalucía",209.85707723835773,"No",9503,4777,4726,"TINTO, ODIEL Y PIEDRAS","TINTO, ODIEL Y PIEDRAS","21064 San Juan del Puerto"]
["21067 Santa Ana la Real",489,"Santa Ana la Real","Huelva","Andalucía",18.404489581402871,"No",489,226,263,"GUADIANA","TINTO, ODIEL Y PIEDRAS","21067 Santa Ana la Real"]
["21070 Trigueros",7906,"Trigueros","Huelva","Andalucía",67.012607456657094,"No",7906,3919,3987,"TINTO, ODIEL Y PIEDRAS","TINTO, ODIEL Y PIEDRAS","21070 Trigueros"]
["21073 Villablanca",2911,"Villablanca","Huelva","Andalucía",29.610291035797175,"No",2911,1458,1453,"GUADIANA","GUADIANA - TINTO, ODIEL Y PIEDRAS","21073 Villablanca"]
["21076 Villanueva de los Castillejos",2849,"Villanueva de los Castillejos","Huelva","Andalucía",10.79254801720721,"Sí",2849,1438,1411,"GUADIANA","TINTO, ODIEL Y PIEDRAS","21076 Villanueva de los Castillejos"]
["21902 Zarza-Perrunal La",1252,"Zarza-Perrunal La","Huelva","Andalucía",28.061052961875522,"No",1252,629,623,"TINTO, ODIEL Y PIEDRAS","TINTO, ODIEL Y PIEDRAS","21902 Zarza-Perrunal La"]
["22003 Adahuesca",190,"Adahuesca","Huesca","Aragón",3.6212005434774013,"Sí",190,106,84,"EBRO","EBRO","22003 Adahuesca"]
["22907 Aínsa-Sobrarbe",2312,"Aínsa-Sobrarbe","Huesca","Aragón",8.1189520874159431,"Sí",2312,1159,1153,"EBRO","EBRO","22907 Aínsa-Sobrarbe"]
["22006 Aisa",336,"Aisa","Huesca","Aragón",4.1498301101545234,"Sí",336,183,153,"EBRO","EBRO","22006 Aisa"]
["22009 Albelda",686,"Albelda","Huesca","Aragón",13.230421483427257,"No",686,358,328,"EBRO","EBRO","22009 Albelda"]
["22013 Alberuela de Tubo",306,"Alberuela de Tubo","Huesca","Aragón",14.718253664773016,"No",306,154,152,"EBRO","EBRO","22013 Alberuela de Tubo"]
["22017 Alcolea de Cinca",1200,"Alcolea de Cinca","Huesca","Aragón",14.416010825270847,"No",1200,654,546,"EBRO","EBRO","22017 Alcolea de Cinca"]
["22020 Alfántega",133,"Alfántega","Huesca","Aragón",15.17728091138545,"No",133,71,62,"EBRO","EBRO","22020 Alfántega"]
["22023 Almuniente",454,"Almuniente","Huesca","Aragón",12.088624958052604,"Sí",454,240,214,"EBRO","EBRO","22023 Almuniente"]
["22027 Angüés",370,"Angüés","Huesca","Aragón",6.5475137143868345,"Sí",370,199,171,"EBRO","EBRO","22027 Angüés"]
["22032 Aragüés del Puerto",116,"Aragüés del Puerto","Huesca","Aragón",1.8000528874159558,"Sí",116,63,53,"EBRO","EBRO","22032 Aragüés del Puerto"]
["22035 Arén",318,"Arén","Huesca","Aragón",2.6628036475385817,"Sí",318,177,141,"EBRO","EBRO","22035 Arén"]
["22039 Ayerbe",1028,"Ayerbe","Huesca","Aragón",16.089321905198585,"No",1028,508,520,"EBRO","EBRO","22039 Ayerbe"]
["22042 Azlor",148,"Azlor","Huesca","Aragón",9.3155664500126072,"Sí",148,65,83,"EBRO","EBRO","22042 Azlor"]
["22045 Baldellou",71,"Baldellou","Huesca","Aragón",2.3337364013837281,"Sí",71,41,30,"EBRO","EBRO","22045 Baldellou"]
["22048 Barbastro",17146,"Barbastro","Huesca","Aragón",159.3521629175026,"No",17146,8342,8804,"EBRO","EBRO","22048 Barbastro"]
["22052 Belver de Cinca",1307,"Belver de Cinca","Huesca","Aragón",15.819031250756455,"No",1307,757,550,"EBRO","EBRO","22052 Belver de Cinca"]
["22246 Beranuy",74,"Beranuy","Huesca","Aragón",1.1607843137254903,"Sí",74,42,32,"EBRO","EBRO","22246 Beranuy"]
["22057 Bielsa",481,"Bielsa","Huesca","Aragón",2.3763185715007427,"Sí",481,258,223,"EBRO","EBRO","22057 Bielsa"]
["22058 Bierge",254,"Bierge","Huesca","Aragón",1.751374346199545,"Sí",254,141,113,"EBRO","EBRO","22058 Bierge"]
["22061 Binéfar",9888,"Binéfar","Huesca","Aragón",394.09652335763218,"No",9888,5234,4654,"EBRO","EBRO","22061 Binéfar"]
["22064 Blecua y Torres",179,"Blecua y Torres","Huesca","Aragón",4.9441788398426345,"Sí",179,99,80,"EBRO","EBRO","22064 Blecua y Torres"]
["22069 Broto",564,"Broto","Huesca","Aragón",4.4045981036565154,"Sí",564,317,247,"EBRO","EBRO","22069 Broto"]
["22075 Camporrélls",123,"Camporrélls","Huesca","Aragón",4.6102121822045818,"Sí",123,67,56,"EBRO","EBRO","22075 Camporrélls"]
["22078 Canfranc",599,"Canfranc","Huesca","Aragón",8.3703600659204298,"Sí",599,332,267,"EBRO","EBRO","22078 Canfranc"]
["22081 Casbas de Huesca",290,"Casbas de Huesca","Huesca","Aragón",2.1854810700148479,"Sí",290,163,127,"EBRO","EBRO","22081 Casbas de Huesca"]
["22082 Castejón del Puente",345,"Castejón del Puente","Huesca","Aragón",13.566496181031324,"No",345,179,166,"EBRO","EBRO","22082 Castejón del Puente"]
["22085 Castelflorite",103,"Castelflorite","Huesca","Aragón",2.9630585138754126,"Sí",103,51,52,"EBRO","EBRO","22085 Castelflorite"]
["22088 Castillazuelo",164,"Castillazuelo","Huesca","Aragón",10.701679778725804,"Sí",164,84,80,"EBRO","EBRO","22088 Castillazuelo"]
["22095 Chía",83,"Chía","Huesca","Aragón",3.1798362522250714,"Sí",83,52,31,"EBRO","EBRO","22095 Chía"]
["22099 Esplús",649,"Esplús","Huesca","Aragón",8.8886575798746552,"Sí",649,335,314,"EBRO","EBRO","22099 Esplús"]
["22105 Estopiñán del Castillo",120,"Estopiñán del Castillo","Huesca","Aragón",1.3535752999579265,"Sí",120,62,58,"EBRO","EBRO","22105 Estopiñán del Castillo"]
["22110 Fonz",845,"Fonz","Huesca","Aragón",16.324874665533265,"No",845,431,414,"EBRO","EBRO","22110 Fonz"]
["22113 Fueva La",612,"Fueva La","Huesca","Aragón",2.7964526668926033,"Sí",612,329,283,"EBRO","EBRO","22113 Fueva La"]
["22116 Grañén",1740,"Grañén","Huesca","Aragón",14.034639199511931,"No",1740,907,833,"EBRO","EBRO","22116 Grañén"]
["22117 Graus",3434,"Graus","Huesca","Aragón",11.454851807391316,"Sí",3434,1707,1727,"EBRO","EBRO","22117 Graus"]
["22122 Hoz de Jaca",68,"Hoz de Jaca","Huesca","Aragón",5.4607359433830895,"Sí",68,36,32,"EBRO","EBRO","22122 Hoz de Jaca"]
["22126 Ibieca",113,"Ibieca","Huesca","Aragón",7.5647401170352317,"Sí",113,61,52,"EBRO","EBRO","22126 Ibieca"]
["22129 Isábena",247,"Isábena","Huesca","Aragón",2.0838569340255111,"Sí",247,127,120,"EBRO","EBRO","22129 Isábena"]
["22133 Labuerda",154,"Labuerda","Huesca","Aragón",8.6291192767856693,"Sí",154,85,69,"EBRO","EBRO","22133 Labuerda"]
["22137 Lanaja",1195,"Lanaja","Huesca","Aragón",6.5053199608415673,"Sí",1195,623,572,"EBRO","EBRO","22137 Lanaja"]
["22142 Lascuarre",147,"Lascuarre","Huesca","Aragón",4.6123730326660182,"Sí",147,74,73,"EBRO","EBRO","22142 Lascuarre"]
["22149 Loarre",345,"Loarre","Huesca","Aragón",4.6359781575284416,"Sí",345,190,155,"EBRO","EBRO","22149 Loarre"]
["22150 Loporzano",574,"Loporzano","Huesca","Aragón",3.3907516363034897,"Sí",574,322,252,"EBRO","EBRO","22150 Loporzano"]
["22155 Monesma y Cajigar",69,"Monesma y Cajigar","Huesca","Aragón",1.102277184851165,"Sí",69,37,32,"EBRO","EBRO","22155 Monesma y Cajigar"]
["22160 Naval",261,"Naval","Huesca","Aragón",5.5159241454338277,"Sí",261,141,120,"EBRO","EBRO","22160 Naval"]
["22164 Olvena",58,"Olvena","Huesca","Aragón",3.6497133496257379,"Sí",58,30,28,"EBRO","EBRO","22164 Olvena"]
["22167 Osso de Cinca",671,"Osso de Cinca","Huesca","Aragón",24.262709239199904,"No",671,377,294,"EBRO","EBRO","22167 Osso de Cinca"]
["22173 Peñas de Riglos Las",255,"Peñas de Riglos Las","Huesca","Aragón",1.1704232609900529,"Sí",255,156,99,"EBRO","EBRO","22173 Peñas de Riglos Las"]
["22176 Peraltilla",224,"Peraltilla","Huesca","Aragón",13.830467853855916,"No",224,108,116,"EBRO","EBRO","22176 Peraltilla"]
["22177 Perarrúa",107,"Perarrúa","Huesca","Aragón",3.5603425488751848,"Sí",107,56,51,"EBRO","EBRO","22177 Perarrúa"]
["22182 Plan",274,"Plan","Huesca","Aragón",2.9349783922927464,"Sí",274,141,133,"EBRO","EBRO","22182 Plan"]
["22186 Pozán de Vero",234,"Pozán de Vero","Huesca","Aragón",15.861138847392729,"No",234,116,118,"EBRO","EBRO","22186 Pozán de Vero"]
["22189 Puértolas",212,"Puértolas","Huesca","Aragón",2.1229273257187069,"Sí",212,115,97,"EBRO","EBRO","22189 Puértolas"]
["22195 Quicena",291,"Quicena","Huesca","Aragón",30.093189611293198,"No",291,139,152,"EBRO","EBRO","22195 Quicena"]
["22200 Sahún",302,"Sahún","Huesca","Aragón",4.1164974222820288,"Sí",302,147,155,"EBRO","EBRO","22200 Sahún"]
["22204 Sallent de Gállego",1519,"Sallent de Gállego","Huesca","Aragón",9.368553164130768,"Sí",1519,751,768,"EBRO","EBRO","22204 Sallent de Gállego"]
["22205 San Esteban de Litera",570,"San Esteban de Litera","Huesca","Aragón",7.9279875024874062,"Sí",570,300,270,"EBRO","EBRO","22205 San Esteban de Litera"]
["22903 San Miguel del Cinca",795,"San Miguel del Cinca","Huesca","Aragón",7.4653799344071992,"Sí",795,413,382,"EBRO","EBRO","22903 San Miguel del Cinca"]
["22209 Santa Cruz de la Serós",193,"Santa Cruz de la Serós","Huesca","Aragón",7.1576420976460362,"Sí",193,110,83,"EBRO","EBRO","22209 Santa Cruz de la Serós"]
["22213 Sariñena",4173,"Sariñena","Huesca","Aragón",15.143398237715607,"No",4173,2186,1987,"EBRO","EBRO","22213 Sariñena"]
["22218 Senés de Alcubierre",45,"Senés de Alcubierre","Huesca","Aragón",2.1917821029594027,"Sí",45,23,22,"EBRO","EBRO","22218 Senés de Alcubierre"]
["22222 Siétamo",710,"Siétamo","Huesca","Aragón",14.494941622643383,"No",710,396,314,"EBRO","EBRO","22222 Siétamo"]
["22225 Tamarite de Litera",3449,"Tamarite de Litera","Huesca","Aragón",31.107439268790287,"No",3449,1776,1673,"EBRO","EBRO","22225 Tamarite de Litera"]
["22228 Tierz",800,"Tierz","Huesca","Aragón",122.3234295697625,"No",800,394,406,"EBRO","EBRO","22228 Tierz"]
["22232 Torralba de Aragón",109,"Torralba de Aragón","Huesca","Aragón",2.6984782093057045,"Sí",109,63,46,"EBRO","EBRO","22232 Torralba de Aragón"]
["22233 Torre la Ribera",95,"Torre la Ribera","Huesca","Aragón",2.9631265414106291,"Sí",95,50,45,"EBRO","EBRO","22233 Torre la Ribera"]
["22236 Torres de Barbués",251,"Torres de Barbués","Huesca","Aragón",18.00609796952909,"No",251,121,130,"EBRO","EBRO","22236 Torres de Barbués"]
["22242 Valfarta",65,"Valfarta","Huesca","Aragón",1.9575473630090285,"Sí",65,38,27,"EBRO","EBRO","22242 Valfarta"]
["22245 Velilla de Cinca",480,"Velilla de Cinca","Huesca","Aragón",29.015640760253316,"No",480,251,229,"EBRO","EBRO","22245 Velilla de Cinca"]
["22248 Vicién",122,"Vicién","Huesca","Aragón",8.8668906016846663,"Sí",122,72,50,"EBRO","EBRO","22248 Vicién"]
["22252 Yebra de Basa",152,"Yebra de Basa","Huesca","Aragón",1.6725352112676057,"Sí",152,91,61,"EBRO","EBRO","22252 Yebra de Basa"]
["23001 Albanchez de Mágina",992,"Albanchez de Mágina","Jaén","Andalucía",25.550072191832005,"No",992,519,473,"GUADALQUIVIR","GUADALQUIVIR","23001 Albanchez de Mágina"]
["23002 Alcalá la Real",21623,"Alcalá la Real","Jaén","Andalucía",82.731331502681499,"No",21623,10662,10961,"GUADALQUIVIR","GUADALQUIVIR","23002 Alcalá la Real"]
["23004 Aldeaquemada",487,"Aldeaquemada","Jaén","Andalucía",4.0489906248823022,"Sí",487,260,227,"GUADALQUIVIR","GUADALQUIVIR","23004 Aldeaquemada"]
["23007 Arjonilla",3545,"Arjonilla","Jaén","Andalucía",83.299390887596488,"No",3545,1794,1751,"GUADALQUIVIR","GUADALQUIVIR","23007 Arjonilla"]
["23009 Baeza",15762,"Baeza","Jaén","Andalucía",81.764053488485501,"No",15762,7799,7963,"GUADALQUIVIR","GUADALQUIVIR","23009 Baeza"]
["23902 Bedmar y Garcíez",2656,"Bedmar y Garcíez","Jaén","Andalucía",22.356479691469808,"No",2656,1344,1312,"GUADALQUIVIR","GUADALQUIVIR","23902 Bedmar y Garcíez"]
["23016 Benatae",443,"Benatae","Jaén","Andalucía",9.963825465716063,"Sí",443,226,217,"GUADALQUIVIR","GUADALQUIVIR","23016 Benatae"]
["23019 Campillo de Arenas",1743,"Campillo de Arenas","Jaén","Andalucía",14.937255812717837,"No",1743,878,865,"GUADALQUIVIR","GUADALQUIVIR","23019 Campillo de Arenas"]
["23901 Cárcheles",1320,"Cárcheles","Jaén","Andalucía",32.589094696428511,"No",1320,696,624,"GUADALQUIVIR","GUADALQUIVIR","23901 Cárcheles"]
["23026 Castillo de Locubín",4019,"Castillo de Locubín","Jaén","Andalucía",39.190231333138946,"No",4019,1994,2025,"GUADALQUIVIR","GUADALQUIVIR","23026 Castillo de Locubín"]
["23027 Cazalilla",775,"Cazalilla","Jaén","Andalucía",16.621947907415795,"No",775,393,382,"GUADALQUIVIR","GUADALQUIVIR","23027 Cazalilla"]
["23030 Chilluévar",1392,"Chilluévar","Jaén","Andalucía",35.896910879987502,"No",1392,685,707,"GUADALQUIVIR","GUADALQUIVIR","23030 Chilluévar"]
["23034 Fuensanta de Martos",3011,"Fuensanta de Martos","Jaén","Andalucía",55.715260711522546,"No",3011,1511,1500,"GUADALQUIVIR","GUADALQUIVIR","23034 Fuensanta de Martos"]
["23037 Génave",593,"Génave","Jaén","Andalucía",9.3262769851420924,"Sí",593,324,269,"GUADALQUIVIR","GUADALQUIVIR","23037 Génave"]
["23041 Higuera de Calatrava",601,"Higuera de Calatrava","Jaén","Andalucía",15.505115914285861,"No",601,316,285,"GUADALQUIVIR","GUADALQUIVIR","23041 Higuera de Calatrava"]
["23045 Huesa",2475,"Huesa","Jaén","Andalucía",17.878990054210401,"No",2475,1251,1224,"GUADALQUIVIR","GUADALQUIVIR","23045 Huesa"]
["23048 Iznatoraf",907,"Iznatoraf","Jaén","Andalucía",10.481110473539113,"Sí",907,455,452,"GUADALQUIVIR","GUADALQUIVIR","23048 Iznatoraf"]
["23049 Jabalquinto",2013,"Jabalquinto","Jaén","Andalucía",27.484602990234695,"No",2013,1014,999,"GUADALQUIVIR","GUADALQUIVIR","23049 Jabalquinto"]
["23051 Jamilena",3302,"Jamilena","Jaén","Andalucía",367.38256942162053,"No",3302,1668,1634,"GUADALQUIVIR","GUADALQUIVIR","23051 Jamilena"]
["23040 Lahiguera",1652,"Lahiguera","Jaén","Andalucía",36.913199393685062,"No",1652,816,836,"GUADALQUIVIR","GUADALQUIVIR","23040 Lahiguera"]
["23057 Lupión",830,"Lupión","Jaén","Andalucía",34.118933422409782,"No",830,408,422,"GUADALQUIVIR","GUADALQUIVIR","23057 Lupión"]
["23060 Martos",24271,"Martos","Jaén","Andalucía",92.956547825372127,"No",24271,12017,12254,"GUADALQUIVIR","GUADALQUIVIR","23060 Martos"]
["23063 Navas de San Juan",4473,"Navas de San Juan","Jaén","Andalucía",25.427211834880588,"No",4473,2257,2216,"GUADALQUIVIR","GUADALQUIVIR","23063 Navas de San Juan"]
["23065 Orcera",1761,"Orcera","Jaén","Andalucía",13.942871439757848,"No",1761,889,872,"GUADALQUIVIR","GUADALQUIVIR","23065 Orcera"]
["23070 Pozo Alcón",4706,"Pozo Alcón","Jaén","Andalucía",33.95173295820684,"No",4706,2428,2278,"GUADALQUIVIR","GUADALQUIVIR","23070 Pozo Alcón"]
["23071 Puente de Génave",2166,"Puente de Génave","Jaén","Andalucía",55.764156236954413,"No",2166,1091,1075,"GUADALQUIVIR","GUADALQUIVIR","23071 Puente de Génave"]
["23074 Rus",3516,"Rus","Jaén","Andalucía",74.984324949136067,"No",3516,1792,1724,"GUADALQUIVIR","GUADALQUIVIR","23074 Rus"]
["23077 Santiago de Calatrava",670,"Santiago de Calatrava","Jaén","Andalucía",14.093839729903129,"No",670,355,315,"GUADALQUIVIR","GUADALQUIVIR","23077 Santiago de Calatrava"]
["23081 Segura de la Sierra",1771,"Segura de la Sierra","Jaén","Andalucía",7.8755669318685637,"Sí",1771,873,898,"GUADALQUIVIR","GUADALQUIVIR - SEGURA","23081 Segura de la Sierra"]
["23084 Sorihuela del Guadalimar",1075,"Sorihuela del Guadalimar","Jaén","Andalucía",19.436494265384407,"No",1075,558,517,"GUADALQUIVIR","GUADALQUIVIR","23084 Sorihuela del Guadalimar"]
["23087 Torredonjimeno",13545,"Torredonjimeno","Jaén","Andalucía",85.848414592739786,"No",13545,6679,6866,"GUADALQUIVIR","GUADALQUIVIR","23087 Torredonjimeno"]
["23092 Úbeda",34208,"Úbeda","Jaén","Andalucía",84.69014246650633,"No",34208,16725,17483,"GUADALQUIVIR","GUADALQUIVIR","23092 Úbeda"]
["23095 Villacarrillo",10545,"Villacarrillo","Jaén","Andalucía",44.01933928829348,"No",10545,5316,5229,"GUADALQUIVIR","GUADALQUIVIR","23095 Villacarrillo"]
["23096 Villanueva de la Reina",3026,"Villanueva de la Reina","Jaén","Andalucía",14.460537832609095,"No",3026,1527,1499,"GUADALQUIVIR","GUADALQUIVIR","23096 Villanueva de la Reina"]
["23098 Villardompardo",956,"Villardompardo","Jaén","Andalucía",54.719781487198951,"No",956,483,473,"GUADALQUIVIR","GUADALQUIVIR","23098 Villardompardo"]
["23903 Villatorres",4311,"Villatorres","Jaén","Andalucía",59.31619122466828,"No",4311,2190,2121,"GUADALQUIVIR","GUADALQUIVIR","23903 Villatorres"]
["24004 Almanza",596,"Almanza","León","Castilla y León",4.1974967580147844,"Sí",596,342,254,"DUERO","DUERO","24004 Almanza"]
["24007 Arganza",788,"Arganza","León","Castilla y León",19.707193125490804,"No",788,397,391,"MIÑO-SIL","MIÑO-SIL","24007 Arganza"]
["24010 Bañeza La",10068,"Bañeza La","León","Castilla y León",510.69756173870911,"No",10068,4853,5215,"DUERO","DUERO","24010 Bañeza La"]
["24012 Barrios de Luna Los",308,"Barrios de Luna Los","León","Castilla y León",3.2665012827168733,"Sí",308,179,129,"DUERO","DUERO","24012 Barrios de Luna Los"]
["24017 Bercianos del Páramo",541,"Bercianos del Páramo","León","Castilla y León",15.418113444768769,"No",541,273,268,"DUERO","DUERO","24017 Bercianos del Páramo"]
["24018 Bercianos del Real Camino",178,"Bercianos del Real Camino","León","Castilla y León",5.1990503145980389,"Sí",178,95,83,"DUERO","DUERO","24018 Bercianos del Real Camino"]
["24021 Boñar",1819,"Boñar","León","Castilla y León",10.0709712806793,"Sí",1819,928,891,"DUERO","DUERO","24021 Boñar"]
["24024 Burgo Ranero El",725,"Burgo Ranero El","León","Castilla y León",7.3722531150133621,"Sí",725,383,342,"DUERO","DUERO","24024 Burgo Ranero El"]
["24028 Cabreros del Río",409,"Cabreros del Río","León","Castilla y León",16.510955038852821,"No",409,228,181,"DUERO","DUERO","24028 Cabreros del Río"]
["24030 Cacabelos",4888,"Cacabelos","León","Castilla y León",149.6437236428205,"No",4888,2410,2478,"MIÑO-SIL","MIÑO-SIL","24030 Cacabelos"]
["24034 Camponaraya",4105,"Camponaraya","León","Castilla y León",140.92567398003973,"No",4105,2017,2088,"MIÑO-SIL","MIÑO-SIL","24034 Camponaraya"]
["24038 Carracedelo",3403,"Carracedelo","León","Castilla y León",104.92551768240098,"No",3403,1705,1698,"MIÑO-SIL","MIÑO-SIL","24038 Carracedelo"]
["24041 Carucedo",511,"Carucedo","León","Castilla y León",14.600626158281816,"No",511,253,258,"MIÑO-SIL","MIÑO-SIL","24041 Carucedo"]
["24042 Castilfalé",65,"Castilfalé","León","Castilla y León",2.5097706336062688,"Sí",65,38,27,"DUERO","DUERO","24042 Castilfalé"]
["24047 Castrocontrigo",720,"Castrocontrigo","León","Castilla y León",3.7020165439417334,"Sí",720,398,322,"DUERO","DUERO","24047 Castrocontrigo"]
["24049 Castropodame",1605,"Castropodame","León","Castilla y León",26.928290867418635,"No",1605,837,768,"MIÑO-SIL","MIÑO-SIL","24049 Castropodame"]
["24053 Cebrones del Río",423,"Cebrones del Río","León","Castilla y León",19.916191911106925,"No",423,236,187,"DUERO","DUERO","24053 Cebrones del Río"]
["24055 Cimanes del Tejar",737,"Cimanes del Tejar","León","Castilla y León",9.9678448415821368,"Sí",737,405,332,"DUERO","DUERO","24055 Cimanes del Tejar"]
["24059 Corullón",862,"Corullón","León","Castilla y León",11.013566234910169,"Sí",862,432,430,"MIÑO-SIL","MIÑO-SIL","24059 Corullón"]
["24060 Crémenes",522,"Crémenes","León","Castilla y León",3.4090113165134763,"Sí",522,287,235,"DUERO","DUERO","24060 Crémenes"]
["24064 Cubillos del Sil",1796,"Cubillos del Sil","León","Castilla y León",33.627866131958633,"No",1796,937,859,"MIÑO-SIL","MIÑO-SIL","24064 Cubillos del Sil"]
["24066 Destriana",441,"Destriana","León","Castilla y León",7.8447612470929027,"Sí",441,207,234,"DUERO","DUERO","24066 Destriana"]
["24069 Escobar de Campos",33,"Escobar de Campos","León","Castilla y León",1.9251923908929298,"Sí",33,19,14,"DUERO","DUERO","24069 Escobar de Campos"]
["24073 Fresno de la Vega",478,"Fresno de la Vega","León","Castilla y León",31.577313219861999,"No",478,244,234,"DUERO","DUERO","24073 Fresno de la Vega"]
["24078 Gordoncillo",350,"Gordoncillo","León","Castilla y León",14.981377933209334,"No",350,170,180,"DUERO","DUERO","24078 Gordoncillo"]
["24080 Grajal de Campos",205,"Grajal de Campos","León","Castilla y León",8.0793698375289971,"Sí",205,100,105,"DUERO","DUERO","24080 Grajal de Campos"]
["24084 Izagre",150,"Izagre","León","Castilla y León",3.3912814404571923,"Sí",150,77,73,"DUERO","DUERO","24084 Izagre"]
["24088 Laguna de Negrillos",1057,"Laguna de Negrillos","León","Castilla y León",14.720747899783099,"No",1057,536,521,"DUERO","DUERO","24088 Laguna de Negrillos"]
["24090 Lucillo",377,"Lucillo","León","Castilla y León",2.2860846608825045,"Sí",377,199,178,"DUERO","DUERO","24090 Lucillo"]
["24091 Luyego",564,"Luyego","León","Castilla y León",4.2627228559445012,"Sí",564,305,259,"DUERO","DUERO","24091 Luyego"]
["24096 Maraña",113,"Maraña","León","Castilla y León",3.3663841753966,"Sí",113,68,45,"CANTÁBRICO OCCIDENTAL","DUERO","24096 Maraña"]
["24098 Matallana de Torío",1278,"Matallana de Torío","León","Castilla y León",17.39899082585794,"No",1278,665,613,"DUERO","DUERO","24098 Matallana de Torío"]
["24101 Murias de Paredes",367,"Murias de Paredes","León","Castilla y León",1.815206381521749,"Sí",367,190,177,"DUERO","DUERO - MIÑO-SIL","24101 Murias de Paredes"]
["24104 Omañas Las",261,"Omañas Las","León","Castilla y León",8.0325596265210617,"Sí",261,140,121,"DUERO","DUERO","24104 Omañas Las"]
["24108 Palacios de la Valduerna",373,"Palacios de la Valduerna","León","Castilla y León",18.266322293439117,"No",373,184,189,"DUERO","DUERO","24108 Palacios de la Valduerna"]
["24109 Palacios del Sil",912,"Palacios del Sil","León","Castilla y León",5.0273638532538945,"Sí",912,499,413,"CANTÁBRICO OCCIDENTAL","MIÑO-SIL","24109 Palacios del Sil"]
["24114 Pola de Gordón La",3060,"Pola de Gordón La","León","Castilla y León",19.41184310330868,"No",3060,1548,1512,"DUERO","DUERO","24114 Pola de Gordón La"]
["24115 Ponferrada",63747,"Ponferrada","León","Castilla y León",225.12316140765984,"No",63747,30144,33603,"DUERO","MIÑO-SIL","24115 Ponferrada"]
["24118 Prado de la Guzpeña",99,"Prado de la Guzpeña","León","Castilla y León",4.3158444852139164,"Sí",99,57,42,"DUERO","DUERO","24118 Prado de la Guzpeña"]
["24122 Puente de Domingo Flórez",1438,"Puente de Domingo Flórez","León","Castilla y León",24.297715343951481,"No",1438,749,689,"MIÑO-SIL","MIÑO-SIL","24122 Puente de Domingo Flórez"]
["24125 Quintana y Congosto",411,"Quintana y Congosto","León","Castilla y León",4.6429786639879733,"Sí",411,218,193,"DUERO","DUERO","24125 Quintana y Congosto"]
["24129 Reyero",131,"Reyero","León","Castilla y León",4.9998568743261167,"Sí",131,68,63,"DUERO","DUERO","24129 Reyero"]
["24133 Rioseco de Tapia",386,"Rioseco de Tapia","León","Castilla y León",5.34669115931404,"Sí",386,219,167,"DUERO","DUERO","24133 Rioseco de Tapia"]
["24137 Sabero",1108,"Sabero","León","Castilla y León",44.42711911544162,"No",1108,567,541,"DUERO","DUERO","24137 Sabero"]
["24139 Sahagún",2441,"Sahagún","León","Castilla y León",19.74283409734165,"No",2441,1210,1231,"DUERO","DUERO","24139 Sahagún"]
["24144 San Cristóbal de la Polantera",658,"San Cristóbal de la Polantera","León","Castilla y León",26.79519673701288,"No",658,346,312,"DUERO","DUERO","24144 San Cristóbal de la Polantera"]
["24149 San Millán de los Caballeros",173,"San Millán de los Caballeros","León","Castilla y León",7.0055413021811086,"Sí",173,91,82,"DUERO","DUERO","24149 San Millán de los Caballeros"]
["24143 Sancedo",536,"Sancedo","León","Castilla y León",17.291415286533756,"No",536,269,267,"MIÑO-SIL","MIÑO-SIL","24143 Sancedo"]
["24153 Santa Cristina de Valmadrigal",262,"Santa Cristina de Valmadrigal","León","Castilla y León",6.5462836747578406,"Sí",262,135,127,"DUERO","DUERO","24153 Santa Cristina de Valmadrigal"]
["24158 Santa María de Ordás",332,"Santa María de Ordás","León","Castilla y León",7.2833534700506535,"Sí",332,179,153,"DUERO","DUERO","24158 Santa María de Ordás"]
["24160 Santas Martas",728,"Santas Martas","León","Castilla y León",6.1279455605437612,"Sí",728,386,342,"DUERO","DUERO","24160 Santas Martas"]
["24163 Sariegos",5170,"Sariegos","León","Castilla y León",142.21174360372424,"No",5170,2599,2571,"DUERO","DUERO","24163 Sariegos"]
["24165 Sobrado",292,"Sobrado","León","Castilla y León",7.1315495894987251,"Sí",292,149,143,"MIÑO-SIL","MIÑO-SIL","24165 Sobrado"]
["24166 Soto de la Vega",1518,"Soto de la Vega","León","Castilla y León",64.379233210252224,"No",1518,791,727,"DUERO","DUERO","24166 Soto de la Vega"]
["24206 Toral de los Vados",1809,"Toral de los Vados","León","Castilla y León",74.975598737558471,"No",1809,902,907,"MIÑO-SIL","MIÑO-SIL","24206 Toral de los Vados"]
["24172 Truchas",418,"Truchas","León","Castilla y León",1.3869589946203675,"Sí",418,221,197,"DUERO","DUERO","24172 Truchas"]
["24185 Val de San Lorenzo",496,"Val de San Lorenzo","León","Castilla y León",10.021982693692747,"Sí",496,247,249,"DUERO","DUERO","24185 Val de San Lorenzo"]
["24176 Valdefuentes del Páramo",310,"Valdefuentes del Páramo","León","Castilla y León",12.824067813339655,"No",310,167,143,"DUERO","DUERO","24176 Valdefuentes del Páramo"]
["24180 Valdepolo",1207,"Valdepolo","León","Castilla y León",8.4680161241971579,"Sí",1207,660,547,"DUERO","DUERO","24180 Valdepolo"]
["24183 Valderrueda",836,"Valderrueda","León","Castilla y León",5.1996850085555337,"Sí",836,446,390,"DUERO","DUERO","24183 Valderrueda"]
["24184 Valdesamario",195,"Valdesamario","León","Castilla y León",3.1587539690756041,"Sí",195,112,83,"DUERO","DUERO","24184 Valdesamario"]
["24191 Vallecillo",123,"Vallecillo","León","Castilla y León",5.2648729772347327,"Sí",123,72,51,"DUERO","DUERO","24191 Vallecillo"]
["24193 Vecilla La",414,"Vecilla La","León","Castilla y León",9.3473942828898107,"Sí",414,221,193,"DUERO","DUERO","24193 Vecilla La"]
["24198 Vega de Valcarce",578,"Vega de Valcarce","León","Castilla y León",8.3392587036720442,"Sí",578,300,278,"CANTÁBRICO OCCIDENTAL","MIÑO-SIL","24198 Vega de Valcarce"]
["24201 Vegas del Condado",1149,"Vegas del Condado","León","Castilla y León",9.3490400895463903,"Sí",1149,663,486,"DUERO","DUERO","24201 Vegas del Condado"]
["24207 Villademor de la Vega",299,"Villademor de la Vega","León","Castilla y León",17.979519343106535,"No",299,158,141,"DUERO","DUERO","24207 Villademor de la Vega"]
["24211 Villamandos",292,"Villamandos","León","Castilla y León",17.989329001108622,"No",292,159,133,"DUERO","DUERO","24211 Villamandos"]
["24213 Villamartín de Don Sancho",156,"Villamartín de Don Sancho","León","Castilla y León",4.9276018416848704,"Sí",156,86,70,"DUERO","DUERO","24213 Villamartín de Don Sancho"]
["24215 Villamol",150,"Villamol","León","Castilla y León",3.7852907387184143,"Sí",150,78,72,"DUERO","DUERO","24215 Villamol"]
["24216 Villamontán de la Valduerna",711,"Villamontán de la Valduerna","León","Castilla y León",12.479079332491063,"Sí",711,373,338,"DUERO","DUERO","24216 Villamontán de la Valduerna"]
["24219 Villaobispo de Otero",515,"Villaobispo de Otero","León","Castilla y León",16.198869016983114,"No",515,287,228,"DUERO","DUERO","24219 Villaobispo de Otero"]
["24223 Villarejo de Órbigo",2945,"Villarejo de Órbigo","León","Castilla y León",81.249907748937503,"No",2945,1439,1506,"DUERO","DUERO","24223 Villarejo de Órbigo"]
["24226 Villaselán",181,"Villaselán","León","Castilla y León",3.2024915596654076,"Sí",181,104,77,"DUERO","DUERO","24226 Villaselán"]
["24230 Zotes del Páramo",419,"Zotes del Páramo","León","Castilla y León",7.7677122563524508,"Sí",419,237,182,"DUERO","DUERO","24230 Zotes del Páramo"]
["25002 Àger",588,"Àger","Lleida","Cataluña",3.6525505114191898,"Sí",588,322,266,"EBRO","EBRO","25002 Àger"]
["25004 Alamús Els",773,"Alamús Els","Lleida","Cataluña",37.800250371645411,"No",773,390,383,"EBRO","EBRO","25004 Alamús Els"]
["25005 Alàs i Cerc",322,"Alàs i Cerc","Lleida","Cataluña",5.6132668341349383,"Sí",322,155,167,"EBRO","EBRO","25005 Alàs i Cerc"]
["25008 Albesa",1561,"Albesa","Lleida","Cataluña",41.605919181634761,"No",1561,847,714,"EBRO","EBRO","25008 Albesa"]
["25012 Alcoletge",3492,"Alcoletge","Lleida","Cataluña",210.97275841444184,"No",3492,1843,1649,"EBRO","EBRO","25012 Alcoletge"]
["25014 Alfés",301,"Alfés","Lleida","Cataluña",9.4075435372363696,"Sí",301,162,139,"EBRO","EBRO","25014 Alfés"]
["25017 Alins",279,"Alins","Lleida","Cataluña",1.5078949243689359,"Sí",279,147,132,"EBRO","EBRO","25017 Alins"]
["25022 Alòs de Balaguer",122,"Alòs de Balaguer","Lleida","Cataluña",1.7660069713848972,"Sí",122,74,48,"EBRO","EBRO","25022 Alòs de Balaguer"]
["25027 Anglesola",1356,"Anglesola","Lleida","Cataluña",57.272946135554413,"No",1356,686,670,"EBRO","EBRO","25027 Anglesola"]
["25032 Arsèguel",85,"Arsèguel","Lleida","Cataluña",8.1102226971738265,"Sí",85,49,36,"EBRO","EBRO","25032 Arsèguel"]
["25034 Artesa de Segre",3441,"Artesa de Segre","Lleida","Cataluña",19.511404049934679,"No",3441,1772,1669,"EBRO","EBRO","25034 Artesa de Segre"]
["25036 Aspa",207,"Aspa","Lleida","Cataluña",20.629036115761782,"No",207,103,104,"EBRO","EBRO","25036 Aspa"]
["25041 Barbens",943,"Barbens","Lleida","Cataluña",121.13193489961334,"No",943,518,425,"EBRO","EBRO","25041 Barbens"]
["25045 Bausen",66,"Bausen","Lleida","Cataluña",3.7404461354787326,"Sí",66,34,32,"EBRO","EBRO","25045 Bausen"]
["25047 Bellcaire d'Urgell",1225,"Bellcaire d'Urgell","Lleida","Cataluña",39.311203532552888,"No",1225,629,596,"EBRO","EBRO","25047 Bellcaire d'Urgell"]
["25051 Bellver de Cerdanya",2135,"Bellver de Cerdanya","Lleida","Cataluña",21.801130799636887,"No",2135,1106,1029,"CUENCAS INTERNAS DE CATALUÑA","EBRO","25051 Bellver de Cerdanya"]
["25053 Benavent de Segrià",1533,"Benavent de Segrià","Lleida","Cataluña",202.89317998332382,"No",1533,810,723,"EBRO","EBRO","25053 Benavent de Segrià"]
["25058 Borges Blanques Les",6195,"Borges Blanques Les","Lleida","Cataluña",100.46934347054683,"No",6195,3167,3028,"EBRO","EBRO","25058 Borges Blanques Les"]
["25059 Bossòst",1120,"Bossòst","Lleida","Cataluña",40.205911704946047,"No",1120,546,574,"EBRO","EBRO","25059 Bossòst"]
["25061 Cabó",94,"Cabó","Lleida","Cataluña",1.1871669775612812,"Sí",94,47,47,"EBRO","EBRO","25061 Cabó"]
["25064 Castellar de la Ribera",136,"Castellar de la Ribera","Lleida","Cataluña",2.2565867194495572,"Sí",136,68,68,"CUENCAS INTERNAS DE CATALUÑA","EBRO","25064 Castellar de la Ribera"]
["25068 Castellnou de Seana",692,"Castellnou de Seana","Lleida","Cataluña",42.42613744351867,"No",692,359,333,"EBRO","EBRO","25068 Castellnou de Seana"]
["25071 Cava",46,"Cava","Lleida","Cataluña",1.1040945104900977,"Sí",46,32,14,"EBRO","EBRO","25071 Cava"]
["25075 Clariana de Cardener",158,"Clariana de Cardener","Lleida","Cataluña",3.8849561221253168,"Sí",158,83,75,"CUENCAS INTERNAS DE CATALUÑA","DISTRITO DE CUENCA FLUVIAL DE CATALUÑA","25075 Clariana de Cardener"]
["25163 Coma i la Pedra La",277,"Coma i la Pedra La","Lleida","Cataluña",4.5686388507481768,"Sí",277,162,115,"CUENCAS INTERNAS DE CATALUÑA","DISTRITO DE CUENCA FLUVIAL DE CATALUÑA","25163 Coma i la Pedra La"]
["25161 Conca de Dalt",421,"Conca de Dalt","Lleida","Cataluña",2.5363951619316607,"Sí",421,215,206,"EBRO","EBRO","25161 Conca de Dalt"]
["25081 Espluga Calba L'",328,"Espluga Calba L'","Lleida","Cataluña",15.291375291375292,"No",328,165,163,"EBRO","EBRO","25081 Espluga Calba L'"]
["25085 Estaràs",172,"Estaràs","Lleida","Cataluña",8.1336952512460634,"Sí",172,87,85,"EBRO","EBRO","25085 Estaràs"]
["25089 Farrera",116,"Farrera","Lleida","Cataluña",1.8302316560496137,"Sí",116,67,49,"EBRO","EBRO","25089 Farrera"]
["25093 Fondarella",781,"Fondarella","Lleida","Cataluña",145.95959180652747,"No",781,390,391,"EBRO","EBRO","25093 Fondarella"]
["25097 Fulleda",101,"Fulleda","Lleida","Cataluña",6.1832318099727566,"Sí",101,50,51,"CUENCAS INTERNAS DE CATALUÑA","EBRO","25097 Fulleda"]
["25100 Gósol",232,"Gósol","Lleida","Cataluña",4.1190841429464236,"Sí",232,133,99,"CUENCAS INTERNAS DE CATALUÑA","DISTRITO DE CUENCA FLUVIAL DE CATALUÑA","25100 Gósol"]
["25102 Granja d'Escarp La",931,"Granja d'Escarp La","Lleida","Cataluña",24.340569271273161,"No",931,523,408,"EBRO","EBRO","25102 Granja d'Escarp La"]
["25103 Granyanella",145,"Granyanella","Lleida","Cataluña",6.0463525899238579,"Sí",145,82,63,"EBRO","EBRO","25103 Granyanella"]
["25109 Guimerà",263,"Guimerà","Lleida","Cataluña",10.363919374224183,"Sí",263,141,122,"EBRO","EBRO","25109 Guimerà"]
["25111 Guixers",126,"Guixers","Lleida","Cataluña",1.9177819481924905,"Sí",126,76,50,"CUENCAS INTERNAS DE CATALUÑA","DISTRITO DE CUENCA FLUVIAL DE CATALUÑA","25111 Guixers"]
["25114 Ivorra",110,"Ivorra","Lleida","Cataluña",7.1786103515561273,"Sí",110,61,49,"EBRO","EBRO","25114 Ivorra"]
["25119 Juneda",3569,"Juneda","Lleida","Cataluña",75.407196749609653,"No",3569,1916,1653,"EBRO","EBRO","25119 Juneda"]
["25123 Lladorre",244,"Lladorre","Lleida","Cataluña",1.6458516461029082,"Sí",244,124,120,"EBRO","EBRO","25123 Lladorre"]
["25126 Llavorsí",345,"Llavorsí","Lleida","Cataluña",4.9852321528688934,"Sí",345,176,169,"EBRO","EBRO","25126 Llavorsí"]
["25128 Llimiana",155,"Llimiana","Lleida","Cataluña",3.7632502828507475,"Sí",155,90,65,"EBRO","EBRO","25128 Llimiana"]
["25129 Llobera",187,"Llobera","Lleida","Cataluña",4.8068257542629347,"Sí",187,108,79,"CUENCAS INTERNAS DE CATALUÑA","EBRO","25129 Llobera"]
["25131 Massalcoreig",599,"Massalcoreig","Lleida","Cataluña",41.468497095820609,"No",599,344,255,"EBRO","EBRO","25131 Massalcoreig"]
["25135 Miralcamp",1366,"Miralcamp","Lleida","Cataluña",91.696930233807038,"No",1366,713,653,"EBRO","EBRO","25135 Miralcamp"]
["25139 Montellà i Martinet",596,"Montellà i Martinet","Lleida","Cataluña",10.802874724717013,"Sí",596,328,268,"EBRO","EBRO","25139 Montellà i Martinet"]
["25142 Montoliu de Lleida",493,"Montoliu de Lleida","Lleida","Cataluña",67.109526013449127,"No",493,259,234,"EBRO","EBRO","25142 Montoliu de Lleida"]
["25025 Naut Aran",1941,"Naut Aran","Lleida","Cataluña",7.6044013789377196,"Sí",1941,1013,928,"EBRO","EBRO","25025 Naut Aran"]
["25149 Oliana",1857,"Oliana","Lleida","Cataluña",57.917225462370951,"No",1857,929,928,"EBRO","EBRO","25149 Oliana"]
["25151 Olius",962,"Olius","Lleida","Cataluña",17.525545942617502,"No",962,519,443,"CUENCAS INTERNAS DE CATALUÑA","DISTRITO DE CUENCA FLUVIAL DE CATALUÑA","25151 Olius"]
["25152 Oluges Les",169,"Oluges Les","Lleida","Cataluña",8.8524315377040264,"Sí",169,92,77,"EBRO","EBRO","25152 Oluges Les"]
["25155 Organyà",766,"Organyà","Lleida","Cataluña",61.456503076836675,"No",766,378,388,"EBRO","EBRO","25155 Organyà"]
["25158 Palau d'Anglesola El",2205,"Palau d'Anglesola El","Lleida","Cataluña",178.35569156064548,"No",2205,1101,1104,"EBRO","EBRO","25158 Palau d'Anglesola El"]
["25167 Pinós",290,"Pinós","Lleida","Cataluña",2.7765754461420573,"Sí",290,155,135,"CUENCAS INTERNAS DE CATALUÑA","DISTRITO DE CUENCA FLUVIAL DE CATALUÑA -- EBRO","25167 Pinós"]
["25169 Pobla de Cérvoles La",198,"Pobla de Cérvoles La","Lleida","Cataluña",3.1942336017242408,"Sí",198,104,94,"EBRO","EBRO","25169 Pobla de Cérvoles La"]
["25173 Pont de Suert El",2331,"Pont de Suert El","Lleida","Cataluña",15.706954454548885,"No",2331,1169,1162,"EBRO","EBRO","25173 Pont de Suert El"]
["25175 Prats i Sansor",251,"Prats i Sansor","Lleida","Cataluña",40.389307872085297,"No",251,132,119,"EBRO","EBRO","25175 Prats i Sansor"]
["25179 Prullans",246,"Prullans","Lleida","Cataluña",11.631975639049392,"Sí",246,115,131,"EBRO","EBRO","25179 Prullans"]
["25180 Puiggròs",265,"Puiggròs","Lleida","Cataluña",26.959113706420336,"No",265,134,131,"EBRO","EBRO","25180 Puiggròs"]
["25183 Rialp",658,"Rialp","Lleida","Cataluña",10.476421309251108,"Sí",658,327,331,"EBRO","EBRO","25183 Rialp"]
["25186 Riner",281,"Riner","Lleida","Cataluña",5.9270483699878733,"Sí",281,139,142,"CUENCAS INTERNAS DE CATALUÑA","DISTRITO DE CUENCA FLUVIAL DE CATALUÑA","25186 Riner"]
["25190 Salàs de Pallars",343,"Salàs de Pallars","Lleida","Cataluña",16.212128373587941,"No",343,187,156,"EBRO","EBRO","25190 Salàs de Pallars"]
["25192 Sant Guim de Freixenet",1059,"Sant Guim de Freixenet","Lleida","Cataluña",42.095137395507471,"No",1059,551,508,"CUENCAS INTERNAS DE CATALUÑA","DISTRITO DE CUENCA FLUVIAL DE CATALUÑA -- EBRO","25192 Sant Guim de Freixenet"]
["25194 Sant Ramon",497,"Sant Ramon","Lleida","Cataluña",26.342709641855755,"No",497,261,236,"EBRO","EBRO","25194 Sant Ramon"]
["25202 Senterada",150,"Senterada","Lleida","Cataluña",4.3210854566667152,"Sí",150,88,62,"EBRO","EBRO","25202 Senterada"]
["25203 Seu d'Urgell La",12252,"Seu d'Urgell La","Lleida","Cataluña",806.58327847267947,"No",12252,5949,6303,"EBRO","EBRO","25203 Seu d'Urgell La"]
["25205 Sidamon",755,"Sidamon","Lleida","Cataluña",93.035291798107252,"No",755,403,352,"EBRO","EBRO","25205 Sidamon"]
["25207 Solsona",9175,"Solsona","Lleida","Cataluña",518.09521658356437,"No",9175,4533,4642,"CUENCAS INTERNAS DE CATALUÑA","DISTRITO DE CUENCA FLUVIAL DE CATALUÑA","25207 Solsona"]
["25211 Sudanell",844,"Sudanell","Lleida","Cataluña",103.39842697179822,"No",844,465,379,"EBRO","EBRO","25211 Sudanell"]
["25216 Talavera",287,"Talavera","Lleida","Cataluña",9.3740915786688781,"Sí",287,158,129,"CUENCAS INTERNAS DE CATALUÑA","EBRO","25216 Talavera"]
["25219 Tarroja de Segarra",187,"Tarroja de Segarra","Lleida","Cataluña",23.65741033588462,"No",187,103,84,"EBRO","EBRO","25219 Tarroja de Segarra"]
["25222 Tiurana",73,"Tiurana","Lleida","Cataluña",4.6743034967632049,"Sí",73,33,40,"EBRO","EBRO","25222 Tiurana"]
["25225 Tornabous",826,"Tornabous","Lleida","Cataluña",41.092074105028559,"No",826,444,382,"EBRO","EBRO","25225 Tornabous"]
["25228 Torrefarrera",4702,"Torrefarrera","Lleida","Cataluña",200.85004591956599,"No",4702,2379,2323,"EBRO","EBRO","25228 Torrefarrera"]
["25907 Torrefeta i Florejacs",602,"Torrefeta i Florejacs","Lleida","Cataluña",6.7513680744603661,"Sí",602,330,272,"EBRO","EBRO","25907 Torrefeta i Florejacs"]
["25232 Torres de Segre",2381,"Torres de Segre","Lleida","Cataluña",46.997842560188232,"No",2381,1257,1124,"EBRO","EBRO","25232 Torres de Segre"]
["25901 Vall de Cardós",382,"Vall de Cardós","Lleida","Cataluña",6.7758969637950699,"Sí",382,204,178,"EBRO","EBRO","25901 Vall de Cardós"]
["25906 Valls d'Aguilar Les",264,"Valls d'Aguilar Les","Lleida","Cataluña",2.1327697650802575,"Sí",264,149,115,"EBRO","EBRO","25906 Valls d'Aguilar Les"]
["25909 Vansa i Fórnols La",156,"Vansa i Fórnols La","Lleida","Cataluña",1.4674825618859031,"Sí",156,81,75,"CUENCAS INTERNAS DE CATALUÑA","EBRO","25909 Vansa i Fórnols La"]
["25245 Vilaller",554,"Vilaller","Lleida","Cataluña",9.4474439036701767,"Sí",554,293,261,"EBRO","EBRO","25245 Vilaller"]
["25254 Vilanova de la Barca",1127,"Vilanova de la Barca","Lleida","Cataluña",52.686915833236327,"No",1127,625,502,"EBRO","EBRO","25254 Vilanova de la Barca"]
["25249 Vilanova de l'Aguda",194,"Vilanova de l'Aguda","Lleida","Cataluña",3.6259690332151662,"Sí",194,95,99,"EBRO","EBRO","25249 Vilanova de l'Aguda"]
["25252 Vila-sana",761,"Vila-sana","Lleida","Cataluña",40.077943964609226,"No",761,378,383,"EBRO","EBRO","25252 Vila-sana"]
["25255 Vinaixa",464,"Vinaixa","Lleida","Cataluña",12.381785965886044,"Sí",464,244,220,"CUENCAS INTERNAS DE CATALUÑA","EBRO","25255 Vinaixa"]
["27004 Baleira",1190,"Baleira","Lugo","Galicia",7.0491165022411861,"Sí",1190,641,549,"CANTÁBRICO OCCIDENTAL","CANTÁBRICO OCCIDENTAL - MIÑO-SIL","27004 Baleira"]
["27006 Becerreá",2826,"Becerreá","Lugo","Galicia",16.425489507050312,"No",2826,1414,1412,"CANTÁBRICO OCCIDENTAL","CANTÁBRICO OCCIDENTAL - MIÑO-SIL","27006 Becerreá"]
["27902 Burela",9428,"Burela","Lugo","Galicia",1211.9819092288797,"No",9428,4717,4711,"GALICIA-COSTA","GALICIA-COSTA","27902 Burela"]
["27011 Castroverde",2609,"Castroverde","Lugo","Galicia",14.981448040502395,"No",2609,1343,1266,"CANTÁBRICO OCCIDENTAL","MIÑO-SIL","27011 Castroverde"]
["27016 Chantada",8134,"Chantada","Lugo","Galicia",46.02575368954075,"No",8134,3931,4203,"GALICIA-COSTA","MIÑO-SIL","27016 Chantada"]
["27014 Corgo O",3440,"Corgo O","Lugo","Galicia",21.856604157202355,"No",3440,1766,1674,"MIÑO-SIL","MIÑO-SIL","27014 Corgo O"]
["27018 Fonsagrada A",3328,"Fonsagrada A","Lugo","Galicia",7.5908634105329611,"Sí",3328,1751,1577,"CANTÁBRICO OCCIDENTAL","CANTÁBRICO OCCIDENTAL","27018 Fonsagrada A"]
["27022 Guitiriz",5455,"Guitiriz","Lugo","Galicia",18.555639877039546,"No",5455,2735,2720,"GALICIA-COSTA","MIÑO-SIL","27022 Guitiriz"]
["27027 Lourenzá",2129,"Lourenzá","Lugo","Galicia",34.045533702519755,"No",2129,1032,1097,"GALICIA-COSTA","GALICIA-COSTA","27027 Lourenzá"]
["27030 Mondoñedo",3480,"Mondoñedo","Lugo","Galicia",24.388144552905811,"No",3480,1629,1851,"GALICIA-COSTA","CANTÁBRICO OCCIDENTAL - GALICIA-COSTA - MIÑO-SIL","27030 Mondoñedo"]
["27032 Monterroso",3562,"Monterroso","Lugo","Galicia",31.084858417109441,"No",3562,1771,1791,"GALICIA-COSTA","GALICIA-COSTA - MIÑO-SIL","27032 Monterroso"]
["27037 Nogais As",1018,"Nogais As","Lugo","Galicia",9.225708573387541,"Sí",1018,541,477,"CANTÁBRICO OCCIDENTAL","CANTÁBRICO OCCIDENTAL","27037 Nogais As"]
["27040 Palas de Rei",3316,"Palas de Rei","Lugo","Galicia",16.606433622847842,"No",3316,1679,1637,"GALICIA-COSTA","GALICIA-COSTA - MIÑO-SIL","27040 Palas de Rei"]
["27041 Pantón",2429,"Pantón","Lugo","Galicia",16.957495983956715,"No",2429,1205,1224,"MIÑO-SIL","MIÑO-SIL","27041 Pantón"]
["27044 Pastoriza A",2918,"Pastoriza A","Lugo","Galicia",16.675252307196594,"No",2918,1474,1444,"GALICIA-COSTA","CANTÁBRICO OCCIDENTAL - GALICIA-COSTA - MIÑO-SIL","27044 Pastoriza A"]
["27047 Pobra do Brollón A",1615,"Pobra do Brollón A","Lugo","Galicia",9.1390451335507059,"Sí",1615,794,821,"MIÑO-SIL","MIÑO-SIL","27047 Pobra do Brollón A"]
["27050 Quiroga",3151,"Quiroga","Lugo","Galicia",9.9224624585475034,"Sí",3151,1481,1670,"MIÑO-SIL","MIÑO-SIL","27050 Quiroga"]
["27052 Ribas de Sil",946,"Ribas de Sil","Lugo","Galicia",13.95619836815159,"No",946,481,465,"MIÑO-SIL","MIÑO-SIL","27052 Ribas de Sil"]
["27057 Sarria",13257,"Sarria","Lugo","Galicia",71.807688772119548,"No",13257,6446,6811,"MIÑO-SIL","MIÑO-SIL","27057 Sarria"]
["27060 Taboada",2689,"Taboada","Lugo","Galicia",18.33401036444992,"No",2689,1289,1400,"GALICIA-COSTA","MIÑO-SIL","27060 Taboada"]
["27061 Trabada",1114,"Trabada","Lugo","Galicia",13.475931430009229,"No",1114,538,576,"GALICIA-COSTA","CANTÁBRICO OCCIDENTAL","27061 Trabada"]
["27063 Valadouro O",1960,"Valadouro O","Lugo","Galicia",17.730416257706171,"No",1960,935,1025,"GALICIA-COSTA","GALICIA-COSTA","27063 Valadouro O"]
["27066 Viveiro",15312,"Viveiro","Lugo","Galicia",140.04315655957865,"No",15312,7485,7827,"GALICIA-COSTA","GALICIA-COSTA","27066 Viveiro"]
["28001 Acebeda La",55,"Acebeda La","Madrid","Comunidad de Madrid",2.4936140810306697,"Sí",55,26,29,"DUERO","TAJO","28001 Acebeda La"]
["28005 Alcalá de Henares",195982,"Alcalá de Henares","Madrid","Comunidad de Madrid",2234.13052227757,"No",195982,95061,100921,"TAJO","TAJO","28005 Alcalá de Henares"]
["28008 Aldea del Fresno",3085,"Aldea del Fresno","Madrid","Comunidad de Madrid",59.574258212137693,"No",3085,1574,1511,"TAJO","TAJO","28008 Aldea del Fresno"]
["28011 Ambite",662,"Ambite","Madrid","Comunidad de Madrid",25.462490366947566,"No",662,330,332,"TAJO","TAJO","28011 Ambite"]
["28014 Arganda del Rey",56386,"Arganda del Rey","Madrid","Comunidad de Madrid",707.93458496609901,"No",56386,28161,28225,"TAJO","TAJO","28014 Arganda del Rey"]
["28017 Batres",1820,"Batres","Madrid","Comunidad de Madrid",85.153991167566019,"No",1820,924,896,"TAJO","TAJO","28017 Batres"]
["28018 Becerril de la Sierra",6108,"Becerril de la Sierra","Madrid","Comunidad de Madrid",201.24393661211369,"No",6108,3042,3066,"TAJO","TAJO","28018 Becerril de la Sierra"]
["28020 Berzosa del Lozoya",216,"Berzosa del Lozoya","Madrid","Comunidad de Madrid",15.084581553358529,"No",216,124,92,"TAJO","TAJO","28020 Berzosa del Lozoya"]
["28025 Brea de Tajo",523,"Brea de Tajo","Madrid","Comunidad de Madrid",11.798769038712551,"Sí",523,302,221,"TAJO","TAJO","28025 Brea de Tajo"]
["28027 Buitrago del Lozoya",1940,"Buitrago del Lozoya","Madrid","Comunidad de Madrid",73.218245322486368,"No",1940,930,1010,"TAJO","TAJO","28027 Buitrago del Lozoya"]
["28030 Cabrera La",2782,"Cabrera La","Madrid","Comunidad de Madrid",124.17481993535233,"No",2782,1357,1425,"TAJO","TAJO","28030 Cabrera La"]
["28034 Canencia",461,"Canencia","Madrid","Comunidad de Madrid",8.7476314032756761,"Sí",461,247,214,"TAJO","TAJO","28034 Canencia"]
["28037 Cenicientos",2083,"Cenicientos","Madrid","Comunidad de Madrid",30.865095277200343,"No",2083,1043,1040,"TAJO","TAJO","28037 Cenicientos"]
["28038 Cercedilla",7359,"Cercedilla","Madrid","Comunidad de Madrid",205.67998168081434,"No",7359,3645,3714,"DUERO","TAJO","28038 Cercedilla"]
["28051 Chapinería",2494,"Chapinería","Madrid","Comunidad de Madrid",98.198908385655216,"No",2494,1256,1238,"TAJO","TAJO","28051 Chapinería"]
["28041 Cobeña",7444,"Cobeña","Madrid","Comunidad de Madrid",357.25860555784777,"No",7444,3646,3798,"TAJO","TAJO","28041 Cobeña"]
["28042 Colmenar del Arroyo",1875,"Colmenar del Arroyo","Madrid","Comunidad de Madrid",37.080685673494422,"No",1875,980,895,"TAJO","TAJO","28042 Colmenar del Arroyo"]
["28048 Corpa",742,"Corpa","Madrid","Comunidad de Madrid",28.636085257267244,"No",742,381,361,"TAJO","TAJO","28048 Corpa"]
["28053 Daganzo de Arriba",10520,"Daganzo de Arriba","Madrid","Comunidad de Madrid",240.33383374706011,"No",10520,5242,5278,"TAJO","TAJO","28053 Daganzo de Arriba"]
["28055 Estremera",1381,"Estremera","Madrid","Comunidad de Madrid",17.458965079326472,"No",1381,716,665,"TAJO","TAJO","28055 Estremera"]
["28059 Fuente el Saz de Jarama",6883,"Fuente el Saz de Jarama","Madrid","Comunidad de Madrid",207.15786868231706,"No",6883,3470,3413,"TAJO","TAJO","28059 Fuente el Saz de Jarama"]
["28062 Garganta de los Montes",411,"Garganta de los Montes","Madrid","Comunidad de Madrid",10.363526539138137,"Sí",411,216,195,"TAJO","TAJO","28062 Garganta de los Montes"]
["28063 Gargantilla del Lozoya y Pinilla de Buitrago",344,"Gargantilla del Lozoya y Pinilla de Buitrago","Madrid","Comunidad de Madrid",14.261559657430704,"No",344,192,152,"TAJO","TAJO","28063 Gargantilla del Lozoya y Pinilla de Buitrago"]
["28066 Griñón",10467,"Griñón","Madrid","Comunidad de Madrid",600.82851996998556,"No",10467,5210,5257,"TAJO","TAJO","28066 Griñón"]
["28070 Horcajo de la Sierra-Aoslos",170,"Horcajo de la Sierra-Aoslos","Madrid","Comunidad de Madrid",8.2660633801868393,"Sí",170,88,82,"TAJO","TAJO","28070 Horcajo de la Sierra-Aoslos"]
["28072 Hoyo de Manzanares",8680,"Hoyo de Manzanares","Madrid","Comunidad de Madrid",191.55189497236083,"No",8680,4363,4317,"TAJO","TAJO","28072 Hoyo de Manzanares"]
["28075 Loeches",8860,"Loeches","Madrid","Comunidad de Madrid",201.08788089641982,"No",8860,4458,4402,"TAJO","TAJO","28075 Loeches"]
["28079 Madrid",3305408,"Madrid","Madrid","Comunidad de Madrid",5456.5184069129709,"No",3305408,1540894,1764514,"TAJO","TAJO","28079 Madrid"]
["28083 Meco",14903,"Meco","Madrid","Comunidad de Madrid",424.43999723400566,"No",14903,7533,7370,"TAJO","TAJO","28083 Meco"]
["28084 Mejorada del Campo",23737,"Mejorada del Campo","Madrid","Comunidad de Madrid",1379.1219402456798,"No",23737,11788,11949,"TAJO","TAJO","28084 Mejorada del Campo"]
["28086 Molar El",9291,"Molar El","Madrid","Comunidad de Madrid",184.74913122073997,"No",9291,4714,4577,"TAJO","TAJO","28086 Molar El"]
["28089 Moraleja de Enmedio",5294,"Moraleja de Enmedio","Madrid","Comunidad de Madrid",169.16756011679527,"No",5294,2654,2640,"TAJO","TAJO","28089 Moraleja de Enmedio"]
["28093 Navacerrada",3220,"Navacerrada","Madrid","Comunidad de Madrid",118.01196458072457,"No",3220,1611,1609,"DUERO","TAJO","28093 Navacerrada"]
["28096 Navalcarnero",30695,"Navalcarnero","Madrid","Comunidad de Madrid",306.28053506925096,"No",30695,15285,15410,"TAJO","TAJO","28096 Navalcarnero"]
["28100 Nuevo Baztán",6630,"Nuevo Baztán","Madrid","Comunidad de Madrid",328.26974365499893,"No",6630,3403,3227,"TAJO","TAJO","28100 Nuevo Baztán"]
["28102 Orusco de Tajuña",1291,"Orusco de Tajuña","Madrid","Comunidad de Madrid",60.030621661959145,"No",1291,661,630,"TAJO","TAJO","28102 Orusco de Tajuña"]
["28108 Pedrezuela",6226,"Pedrezuela","Madrid","Comunidad de Madrid",219.64523026588503,"No",6226,3113,3113,"TAJO","TAJO","28108 Pedrezuela"]
["28109 Pelayos de la Presa",2827,"Pelayos de la Presa","Madrid","Comunidad de Madrid",372.71784481278803,"No",2827,1442,1385,"TAJO","TAJO","28109 Pelayos de la Presa"]
["28112 Pinilla del Valle",196,"Pinilla del Valle","Madrid","Comunidad de Madrid",7.5863565415720347,"Sí",196,106,90,"DUERO","TAJO","28112 Pinilla del Valle"]
["28115 Pozuelo de Alarcón",87134,"Pozuelo de Alarcón","Madrid","Comunidad de Madrid",2017.0040006744491,"No",87134,41716,45418,"TAJO","TAJO","28115 Pozuelo de Alarcón"]
["28902 Puentes Viejas",719,"Puentes Viejas","Madrid","Comunidad de Madrid",12.326511423598747,"Sí",719,396,323,"TAJO","TAJO","28902 Puentes Viejas"]
["28120 Rascafría",1754,"Rascafría","Madrid","Comunidad de Madrid",11.671164889319263,"Sí",1754,955,799,"DUERO","TAJO","28120 Rascafría"]
["28124 Robledillo de la Jara",97,"Robledillo de la Jara","Madrid","Comunidad de Madrid",4.7670994259183663,"Sí",97,50,47,"TAJO","TAJO","28124 Robledillo de la Jara"]
["28127 Rozas de Madrid Las",94862,"Rozas de Madrid Las","Madrid","Comunidad de Madrid",1626.8856967280085,"No",94862,45806,49056,"TAJO","TAJO","28127 Rozas de Madrid Las"]
["28130 San Fernando de Henares",39313,"San Fernando de Henares","Madrid","Comunidad de Madrid",986.18923665245438,"No",39313,19140,20173,"TAJO","TAJO","28130 San Fernando de Henares"]
["28131 San Lorenzo de El Escorial",18454,"San Lorenzo de El Escorial","Madrid","Comunidad de Madrid",327.18794795197527,"No",18454,8835,9619,"TAJO","TAJO","28131 San Lorenzo de El Escorial"]
["28135 Santa María de la Alameda",1436,"Santa María de la Alameda","Madrid","Comunidad de Madrid",19.299017485138311,"No",1436,769,667,"DUERO","TAJO","28135 Santa María de la Alameda"]
["28136 Santorcaz",925,"Santorcaz","Madrid","Comunidad de Madrid",33.054137245208878,"No",925,467,458,"TAJO","TAJO","28136 Santorcaz"]
["28141 Sevilla la Nueva",9345,"Sevilla la Nueva","Madrid","Comunidad de Madrid",371.8654517974233,"No",9345,4598,4747,"TAJO","TAJO","28141 Sevilla la Nueva"]
["28145 Talamanca de Jarama",4123,"Talamanca de Jarama","Madrid","Comunidad de Madrid",104.76105852321668,"No",4123,2032,2091,"TAJO","TAJO","28145 Talamanca de Jarama"]
["28149 Torrejón de la Calzada",9549,"Torrejón de la Calzada","Madrid","Comunidad de Madrid",1063.1120492712189,"No",9549,4737,4812,"TAJO","TAJO","28149 Torrejón de la Calzada"]
["28150 Torrejón de Velasco",4594,"Torrejón de Velasco","Madrid","Comunidad de Madrid",87.803571674988262,"No",4594,2273,2321,"TAJO","TAJO","28150 Torrejón de Velasco"]
["28154 Torres de la Alameda",7729,"Torres de la Alameda","Madrid","Comunidad de Madrid",177.21008187568927,"No",7729,3946,3783,"TAJO","TAJO","28154 Torres de la Alameda"]
["28903 Tres Cantos",48751,"Tres Cantos","Madrid","Comunidad de Madrid",1285.170777898574,"No",48751,23678,25073,"TAJO","TAJO","28903 Tres Cantos"]
["28157 Valdelaguna",1026,"Valdelaguna","Madrid","Comunidad de Madrid",24.353539911642219,"No",1026,517,509,"TAJO","TAJO","28157 Valdelaguna"]
["28160 Valdemorillo",13245,"Valdemorillo","Madrid","Comunidad de Madrid",141.38208917895435,"No",13245,6691,6554,"TAJO","TAJO","28160 Valdemorillo"]
["28164 Valdetorres de Jarama",4696,"Valdetorres de Jarama","Madrid","Comunidad de Madrid",140.09322106027122,"No",4696,2353,2343,"TAJO","TAJO","28164 Valdetorres de Jarama"]
["28166 Valverde de Alcalá",518,"Valverde de Alcalá","Madrid","Comunidad de Madrid",38.29439146108998,"No",518,275,243,"TAJO","TAJO","28166 Valverde de Alcalá"]
["28171 Villa del Prado",6837,"Villa del Prado","Madrid","Comunidad de Madrid",87.179571402427939,"No",6837,3484,3353,"TAJO","TAJO","28171 Villa del Prado"]
["28173 Villamanrique de Tajo",762,"Villamanrique de Tajo","Madrid","Comunidad de Madrid",25.985871393057892,"No",762,393,369,"TAJO","TAJO","28173 Villamanrique de Tajo"]
["28176 Villanueva de la Cañada",22580,"Villanueva de la Cañada","Madrid","Comunidad de Madrid",646.67153321839692,"No",22580,11005,11575,"TAJO","TAJO","28176 Villanueva de la Cañada"]
["28178 Villanueva de Perales",1599,"Villanueva de Perales","Madrid","Comunidad de Madrid",51.28060564608127,"No",1599,825,774,"TAJO","TAJO","28178 Villanueva de Perales"]
["28181 Villaviciosa de Odón",28030,"Villaviciosa de Odón","Madrid","Comunidad de Madrid",411.91126887539667,"No",28030,13559,14471,"TAJO","TAJO","28181 Villaviciosa de Odón"]
["28183 Zarzalejo",1786,"Zarzalejo","Madrid","Comunidad de Madrid",86.561455240554579,"No",1786,908,878,"TAJO","TAJO","28183 Zarzalejo"]
["29003 Alfarnate",1057,"Alfarnate","Málaga","Andalucía",31.09033846407257,"No",1057,541,516,"CUENCAS MEDITERRÁNEAS ANDALUZAS","CUENCAS MEDITERRÁNEAS ANDALUZAS","29003 Alfarnate"]
["29006 Algatocín",825,"Algatocín","Málaga","Andalucía",41.84632265168328,"No",825,429,396,"CUENCAS MEDITERRÁNEAS ANDALUZAS","CUENCAS MEDITERRÁNEAS ANDALUZAS","29006 Algatocín"]
["29010 Almargen",1944,"Almargen","Málaga","Andalucía",56.562270870430503,"No",1944,990,954,"GUADALQUIVIR","CUENCAS MEDITERRÁNEAS ANDALUZAS","29010 Almargen"]
["29011 Almogía",3859,"Almogía","Málaga","Andalucía",23.690989927922054,"No",3859,2002,1857,"CUENCAS MEDITERRÁNEAS ANDALUZAS","CUENCAS MEDITERRÁNEAS ANDALUZAS","29011 Almogía"]
["29015 Antequera",41348,"Antequera","Málaga","Andalucía",55.27552539354803,"No",41348,20247,21101,"GUADALQUIVIR","CUENCAS MEDITERRÁNEAS ANDALUZAS","29015 Antequera"]
["29016 Árchez",398,"Árchez","Málaga","Andalucía",82.98244754435548,"No",398,204,194,"CUENCAS MEDITERRÁNEAS ANDALUZAS","CUENCAS MEDITERRÁNEAS ANDALUZAS","29016 Árchez"]
["29019 Arenas",1181,"Arenas","Málaga","Andalucía",44.896916148299262,"No",1181,615,566,"CUENCAS MEDITERRÁNEAS ANDALUZAS","CUENCAS MEDITERRÁNEAS ANDALUZAS","29019 Arenas"]
["29023 Benahavís",7829,"Benahavís","Málaga","Andalucía",53.847603509964117,"No",7829,3871,3958,"CUENCAS MEDITERRÁNEAS ANDALUZAS","CUENCAS MEDITERRÁNEAS ANDALUZAS","29023 Benahavís"]
["29026 Benamargosa",1535,"Benamargosa","Málaga","Andalucía",126.66316575727738,"No",1535,787,748,"CUENCAS MEDITERRÁNEAS ANDALUZAS","CUENCAS MEDITERRÁNEAS ANDALUZAS","29026 Benamargosa"]
["29028 Benaoján",1470,"Benaoján","Málaga","Andalucía",45.943764145092658,"No",1470,747,723,"GUADALETE Y BARBATE","CUENCAS MEDITERRÁNEAS ANDALUZAS","29028 Benaoján"]
["29032 Campillos",8301,"Campillos","Málaga","Andalucía",44.285651790258541,"No",8301,4162,4139,"GUADALQUIVIR","CUENCAS MEDITERRÁNEAS ANDALUZAS","29032 Campillos"]
["29035 Cañete la Real",1633,"Cañete la Real","Málaga","Andalucía",9.8986374674035975,"Sí",1633,811,822,"GUADALQUIVIR","CUENCAS MEDITERRÁNEAS ANDALUZAS - GUADALQUIVIR","29035 Cañete la Real"]
["29038 Cártama",27436,"Cártama","Málaga","Andalucía",261.04703705856508,"No",27436,13883,13553,"CUENCAS MEDITERRÁNEAS ANDALUZAS","CUENCAS MEDITERRÁNEAS ANDALUZAS","29038 Cártama"]
["29039 Casabermeja",3712,"Casabermeja","Málaga","Andalucía",54.893702603901708,"No",3712,1939,1773,"CUENCAS MEDITERRÁNEAS ANDALUZAS","CUENCAS MEDITERRÁNEAS ANDALUZAS","29039 Casabermeja"]
["29043 Colmenar",3450,"Colmenar","Málaga","Andalucía",52.309242294105672,"No",3450,1776,1674,"CUENCAS MEDITERRÁNEAS ANDALUZAS","CUENCAS MEDITERRÁNEAS ANDALUZAS","29043 Colmenar"]
["29045 Cómpeta",3866,"Cómpeta","Málaga","Andalucía",71.284624533409314,"No",3866,1939,1927,"GUADALQUIVIR","CUENCAS MEDITERRÁNEAS ANDALUZAS","29045 Cómpeta"]
["29049 Cuevas de San Marcos",3614,"Cuevas de San Marcos","Málaga","Andalucía",97.968787697245546,"No",3614,1811,1803,"GUADALQUIVIR","GUADALQUIVIR","29049 Cuevas de San Marcos"]
["29051 Estepona",71925,"Estepona","Málaga","Andalucía",523.56992797774251,"No",71925,35203,36722,"CUENCAS MEDITERRÁNEAS ANDALUZAS","CUENCAS MEDITERRÁNEAS ANDALUZAS","29051 Estepona"]
["29055 Fuente de Piedra",2770,"Fuente de Piedra","Málaga","Andalucía",30.592117615095937,"No",2770,1389,1381,"GUADALQUIVIR","CUENCAS MEDITERRÁNEAS ANDALUZAS","29055 Fuente de Piedra"]
["29058 Guaro",2326,"Guaro","Málaga","Andalucía",103.83557730081068,"No",2326,1191,1135,"CUENCAS MEDITERRÁNEAS ANDALUZAS","CUENCAS MEDITERRÁNEAS ANDALUZAS","29058 Guaro"]
["29060 Igualeja",740,"Igualeja","Málaga","Andalucía",16.869556518964277,"No",740,371,369,"CUENCAS MEDITERRÁNEAS ANDALUZAS","CUENCAS MEDITERRÁNEAS ANDALUZAS","29060 Igualeja"]
["29061 Istán",1520,"Istán","Málaga","Andalucía",15.292612058627045,"No",1520,758,762,"CUENCAS MEDITERRÁNEAS ANDALUZAS","CUENCAS MEDITERRÁNEAS ANDALUZAS","29061 Istán"]
["29064 Jubrique",553,"Jubrique","Málaga","Andalucía",14.06337490785692,"No",553,279,274,"CUENCAS MEDITERRÁNEAS ANDALUZAS","CUENCAS MEDITERRÁNEAS ANDALUZAS","29064 Jubrique"]
["29068 Manilva",16849,"Manilva","Málaga","Andalucía",473.51029036868431,"No",16849,8488,8361,"CUENCAS MEDITERRÁNEAS ANDALUZAS","CUENCAS MEDITERRÁNEAS ANDALUZAS","29068 Manilva"]
["29071 Moclinejo",1244,"Moclinejo","Málaga","Andalucía",86.574663688052823,"No",1244,651,593,"CUENCAS MEDITERRÁNEAS ANDALUZAS","CUENCAS MEDITERRÁNEAS ANDALUZAS","29071 Moclinejo"]
["29073 Monda",2762,"Monda","Málaga","Andalucía",47.906975130694804,"No",2762,1437,1325,"CUENCAS MEDITERRÁNEAS ANDALUZAS","CUENCAS MEDITERRÁNEAS ANDALUZAS","29073 Monda"]
["29076 Ojén",4023,"Ojén","Málaga","Andalucía",46.990582026774,"No",4023,2062,1961,"CUENCAS MEDITERRÁNEAS ANDALUZAS","CUENCAS MEDITERRÁNEAS ANDALUZAS","29076 Ojén"]
["29080 Pizarra",9572,"Pizarra","Málaga","Andalucía",150.47662906317748,"No",9572,4801,4771,"CUENCAS MEDITERRÁNEAS ANDALUZAS","CUENCAS MEDITERRÁNEAS ANDALUZAS","29080 Pizarra"]
["29081 Pujerra",298,"Pujerra","Málaga","Andalucía",12.220769262977297,"Sí",298,154,144,"CUENCAS MEDITERRÁNEAS ANDALUZAS","CUENCAS MEDITERRÁNEAS ANDALUZAS","29081 Pujerra"]
["29084 Ronda",33624,"Ronda","Málaga","Andalucía",84.644810999193425,"No",33624,16295,17329,"GUADALQUIVIR","CUENCAS MEDITERRÁNEAS ANDALUZAS - GUADALETE Y BARBATE - GUADALQUIVIR","29084 Ronda"]
["29087 Sedella",592,"Sedella","Málaga","Andalucía",18.72588093882457,"No",592,336,256,"GUADALQUIVIR","CUENCAS MEDITERRÁNEAS ANDALUZAS","29087 Sedella"]
["29089 Teba",3727,"Teba","Málaga","Andalucía",25.927876397701763,"No",3727,1873,1854,"GUADALQUIVIR","CUENCAS MEDITERRÁNEAS ANDALUZAS","29089 Teba"]
["29091 Torrox",18937,"Torrox","Málaga","Andalucía",378.33623956513605,"No",18937,9547,9390,"CUENCAS MEDITERRÁNEAS ANDALUZAS","CUENCAS MEDITERRÁNEAS ANDALUZAS","29091 Torrox"]
["29095 Villanueva de Algaidas",4129,"Villanueva de Algaidas","Málaga","Andalucía",58.362651295526476,"No",4129,2119,2010,"GUADALQUIVIR","GUADALQUIVIR","29095 Villanueva de Algaidas"]
["29096 Villanueva del Rosario",3374,"Villanueva del Rosario","Málaga","Andalucía",76.768706399515807,"No",3374,1633,1741,"CUENCAS MEDITERRÁNEAS ANDALUZAS","CUENCAS MEDITERRÁNEAS ANDALUZAS","29096 Villanueva del Rosario"]
["29100 Yunquera",2866,"Yunquera","Málaga","Andalucía",51.964714037235815,"No",2866,1465,1401,"CUENCAS MEDITERRÁNEAS ANDALUZAS","CUENCAS MEDITERRÁNEAS ANDALUZAS","29100 Yunquera"]
["30001 Abanilla",6116,"Abanilla","Murcia","Región de Murcia",25.957258801424846,"No",6116,3099,3017,"SEGURA","SEGURA","30001 Abanilla"]
["30002 Abarán",13066,"Abarán","Murcia","Región de Murcia",113.58055169931839,"No",13066,6531,6535,"SEGURA","SEGURA","30002 Abarán"]
["30005 Alcantarilla",42559,"Alcantarilla","Murcia","Región de Murcia",2619.9308287535791,"No",42559,21073,21486,"SEGURA","SEGURA","30005 Alcantarilla"]
["30008 Alhama de Murcia",22240,"Alhama de Murcia","Murcia","Región de Murcia",71.048592892840574,"No",22240,11262,10978,"SEGURA","SEGURA","30008 Alhama de Murcia"]
["30011 Blanca",6608,"Blanca","Murcia","Región de Murcia",75.808157636914714,"No",6608,3390,3218,"SEGURA","SEGURA","30011 Blanca"]
["30013 Calasparra",10133,"Calasparra","Murcia","Región de Murcia",54.6091161062132,"No",10133,5141,4992,"SEGURA","SEGURA","30013 Calasparra"]
["30017 Cehegín",14798,"Cehegín","Murcia","Región de Murcia",49.306319592114981,"No",14798,7412,7386,"SEGURA","SEGURA","30017 Cehegín"]
["30020 Fortuna",10512,"Fortuna","Murcia","Región de Murcia",70.365449172141652,"No",10512,5577,4935,"SEGURA","SEGURA","30020 Fortuna"]
["30021 Fuente Álamo de Murcia",17225,"Fuente Álamo de Murcia","Murcia","Región de Murcia",62.820759699014715,"No",17225,8944,8281,"SEGURA","SEGURA","30021 Fuente Álamo de Murcia"]
["30024 Lorca",96238,"Lorca","Murcia","Región de Murcia",57.446173237716657,"No",96238,49260,46978,"SEGURA","SEGURA","30024 Lorca"]
["30027 Molina de Segura",73498,"Molina de Segura","Murcia","Región de Murcia",433.95062275084945,"No",73498,36682,36816,"SEGURA","SEGURA","30027 Molina de Segura"]
["30030 Murcia",460349,"Murcia","Murcia","Región de Murcia",520.10083662584373,"No",460349,225606,234743,"SEGURA","SEGURA","30030 Murcia"]
["30033 Puerto Lumbreras",16060,"Puerto Lumbreras","Murcia","Región de Murcia",111.04626881770987,"No",16060,8174,7886,"SEGURA","SEGURA","30033 Puerto Lumbreras"]
["30901 Santomera",16154,"Santomera","Murcia","Región de Murcia",366.14112548617851,"No",16154,8092,8062,"SEGURA","SEGURA","30901 Santomera"]
["30039 Totana",32316,"Totana","Murcia","Región de Murcia",112.48779519953217,"No",32316,16616,15700,"SEGURA","SEGURA","30039 Totana"]
["30042 Villanueva del Río Segura",3268,"Villanueva del Río Segura","Murcia","Región de Murcia",248.74031450274774,"No",3268,1652,1616,"SEGURA","SEGURA","30042 Villanueva del Río Segura"]
["31001 Abáigar",84,"Abáigar","Navarra","Comunidad Foral de Navarra",17.280857130513674,"No",84,49,35,"EBRO","EBRO","31001 Abáigar"]
["31002 Abárzuza/Abartzuza",538,"Abárzuza/Abartzuza","Navarra","Comunidad Foral de Navarra",23.368421583004679,"No",538,270,268,"EBRO","EBRO","31002 Abárzuza/Abartzuza"]
["31006 Ablitas",2480,"Ablitas","Navarra","Comunidad Foral de Navarra",32.010140399444474,"No",2480,1252,1228,"EBRO","EBRO","31006 Ablitas"]
["31009 Aibar/Oibar",782,"Aibar/Oibar","Navarra","Comunidad Foral de Navarra",16.391423847740022,"No",782,409,373,"EBRO","EBRO","31009 Aibar/Oibar"]
["31010 Altsasu/Alsasua",7441,"Altsasu/Alsasua","Navarra","Comunidad Foral de Navarra",278.44429531215957,"No",7441,3755,3686,"CANTÁBRICO ORIENTAL","EBRO","31010 Altsasu/Alsasua"]
["31016 Ansoáin/Antsoain",10732,"Ansoáin/Antsoain","Navarra","Comunidad Foral de Navarra",5566.6123595185072,"No",10732,5275,5457,"EBRO","EBRO","31016 Ansoáin/Antsoain"]
["31018 Añorbe",614,"Añorbe","Navarra","Comunidad Foral de Navarra",25.482342562700261,"No",614,337,277,"EBRO","EBRO","31018 Añorbe"]
["31025 Arakil",966,"Arakil","Navarra","Comunidad Foral de Navarra",17.963717419121107,"No",966,506,460,"EBRO","EBRO","31025 Arakil"]
["31021 Aranarache/Aranaratxe",69,"Aranarache/Aranaratxe","Navarra","Comunidad Foral de Navarra",18.414933283230482,"No",69,40,29,"EBRO","EBRO","31021 Aranarache/Aranaratxe"]
["31022 Arantza",606,"Arantza","Navarra","Comunidad Foral de Navarra",19.113613431457871,"No",606,320,286,"CANTÁBRICO ORIENTAL","CANTÁBRICO ORIENTAL","31022 Arantza"]
["31029 Arcos Los",1132,"Arcos Los","Navarra","Comunidad Foral de Navarra",19.628864300441755,"No",1132,560,572,"EBRO","EBRO","31029 Arcos Los"]
["31031 Areso",275,"Areso","Navarra","Comunidad Foral de Navarra",22.533591849624408,"No",275,142,133,"CANTÁBRICO ORIENTAL","CANTÁBRICO ORIENTAL","31031 Areso"]
["31034 Aribe",32,"Aribe","Navarra","Comunidad Foral de Navarra",7.9288858230530375,"Sí",32,18,14,"EBRO","EBRO","31034 Aribe"]
["31038 Artajona",1741,"Artajona","Navarra","Comunidad Foral de Navarra",25.931682067568609,"No",1741,893,848,"EBRO","EBRO","31038 Artajona"]
["31058 Auritz/Burguete",228,"Auritz/Burguete","Navarra","Comunidad Foral de Navarra",11.88149583655189,"Sí",228,125,103,"CANTÁBRICO ORIENTAL","EBRO","31058 Auritz/Burguete"]
["31041 Ayegui/Aiegi",2430,"Ayegui/Aiegi","Navarra","Comunidad Foral de Navarra",252.75726450902107,"No",2430,1265,1165,"EBRO","EBRO","31041 Ayegui/Aiegi"]
["31044 Bakaiku",353,"Bakaiku","Navarra","Comunidad Foral de Navarra",29.985389555230881,"No",353,187,166,"CANTÁBRICO ORIENTAL","EBRO","31044 Bakaiku"]
["31046 Barbarin",48,"Barbarin","Navarra","Comunidad Foral de Navarra",5.7471539614653331,"Sí",48,25,23,"EBRO","EBRO","31046 Barbarin"]
["31049 Basaburua",838,"Basaburua","Navarra","Comunidad Foral de Navarra",10.086940762791313,"Sí",838,478,360,"CANTÁBRICO ORIENTAL","EBRO","31049 Basaburua"]
["31051 Beire",301,"Beire","Navarra","Comunidad Foral de Navarra",13.528143392207575,"No",301,154,147,"EBRO","EBRO","31051 Beire"]
["31053 Berbinzana",677,"Berbinzana","Navarra","Comunidad Foral de Navarra",52.141056576512185,"No",677,345,332,"EBRO","EBRO","31053 Berbinzana"]
["31054 Bertizarana",596,"Bertizarana","Navarra","Comunidad Foral de Navarra",15.064583969397054,"No",596,290,306,"CANTÁBRICO ORIENTAL","CANTÁBRICO ORIENTAL","31054 Bertizarana"]
["31253 Bidaurreta",165,"Bidaurreta","Navarra","Comunidad Foral de Navarra",32.118557576991584,"No",165,85,80,"EBRO","EBRO","31253 Bidaurreta"]
["31056 Biurrun-Olcoz",227,"Biurrun-Olcoz","Navarra","Comunidad Foral de Navarra",14.46980406865393,"No",227,126,101,"EBRO","EBRO","31056 Biurrun-Olcoz"]
["31060 Burlada/Burlata",19723,"Burlada/Burlata","Navarra","Comunidad Foral de Navarra",9333.6803748047878,"No",19723,9557,10166,"EBRO","EBRO","31060 Burlada/Burlata"]
["31063 Cabredo",85,"Cabredo","Navarra","Comunidad Foral de Navarra",7.1419178906303502,"Sí",85,47,38,"EBRO","EBRO","31063 Cabredo"]
["31067 Carcastillo",2487,"Carcastillo","Navarra","Comunidad Foral de Navarra",25.63958469811028,"No",2487,1265,1222,"EBRO","EBRO","31067 Carcastillo"]
["31070 Castejón",4306,"Castejón","Navarra","Comunidad Foral de Navarra",238.33581161618636,"No",4306,2162,2144,"EBRO","EBRO","31070 Castejón"]
["31072 Cintruénigo",8051,"Cintruénigo","Navarra","Comunidad Foral de Navarra",215.59180499425341,"No",8051,4159,3892,"EBRO","EBRO","31072 Cintruénigo"]
["31076 Cizur",3890,"Cizur","Navarra","Comunidad Foral de Navarra",74.096127248765086,"No",3890,2001,1889,"EBRO","EBRO","31076 Cizur"]
["31079 Desojo",72,"Desojo","Navarra","Comunidad Foral de Navarra",5.201104310025114,"Sí",72,41,31,"EBRO","EBRO","31079 Desojo"]
["31080 Dicastillo",589,"Dicastillo","Navarra","Comunidad Foral de Navarra",17.629015359930619,"No",589,305,284,"EBRO","EBRO","31080 Dicastillo"]
["31083 Echarri/Etxarri",78,"Echarri/Etxarri","Navarra","Comunidad Foral de Navarra",34.05332838541382,"No",78,39,39,"EBRO","EBRO","31083 Echarri/Etxarri"]
["31090 Eratsun",146,"Eratsun","Navarra","Comunidad Foral de Navarra",5.6827733459714063,"Sí",146,89,57,"CANTÁBRICO ORIENTAL","CANTÁBRICO ORIENTAL","31090 Eratsun"]
["31094 Eslava",106,"Eslava","Navarra","Comunidad Foral de Navarra",5.5513103160994648,"Sí",106,49,57,"EBRO","EBRO","31094 Eslava"]
["31097 Estella-Lizarra",13911,"Estella-Lizarra","Navarra","Comunidad Foral de Navarra",900.6304996178261,"No",13911,6692,7219,"EBRO","EBRO","31097 Estella-Lizarra"]
["31084 Etxarri Aranatz",2489,"Etxarri Aranatz","Navarra","Comunidad Foral de Navarra",75.720470081439814,"No",2489,1293,1196,"CANTÁBRICO ORIENTAL","EBRO","31084 Etxarri Aranatz"]
["31101 Ezcabarte",1809,"Ezcabarte","Navarra","Comunidad Foral de Navarra",52.957573635617941,"No",1809,939,870,"EBRO","EBRO","31101 Ezcabarte"]
["31102 Ezkurra",136,"Ezkurra","Navarra","Comunidad Foral de Navarra",5.7387719450006234,"Sí",136,93,43,"CANTÁBRICO ORIENTAL","CANTÁBRICO ORIENTAL","31102 Ezkurra"]
["31103 Ezprogui",43,"Ezprogui","Navarra","Comunidad Foral de Navarra",0.92685653459291562,"Sí",43,20,23,"EBRO","EBRO","31103 Ezprogui"]
["31106 Fontellas",999,"Fontellas","Navarra","Comunidad Foral de Navarra",44.87764574835294,"No",999,508,491,"EBRO","EBRO","31106 Fontellas"]
["31109 Galar",2274,"Galar","Navarra","Comunidad Foral de Navarra",55.217761587042972,"No",2274,1184,1090,"EBRO","EBRO","31109 Galar"]
["31113 Garde",137,"Garde","Navarra","Comunidad Foral de Navarra",3.1427923338256583,"Sí",137,81,56,"EBRO","EBRO","31113 Garde"]
["31116 Genevilla",61,"Genevilla","Navarra","Comunidad Foral de Navarra",7.0625491773403786,"Sí",61,37,24,"EBRO","EBRO","31116 Genevilla"]
["31119 Güesa/Gorza",34,"Güesa/Gorza","Navarra","Comunidad Foral de Navarra",1.2786395515856221,"Sí",34,21,13,"EBRO","EBRO","31119 Güesa/Gorza"]
["31256 Hiriberri/Villanueva de Aezkoa",101,"Hiriberri/Villanueva de Aezkoa","Navarra","Comunidad Foral de Navarra",4.6663452278627195,"Sí",101,55,46,"EBRO","EBRO","31256 Hiriberri/Villanueva de Aezkoa"]
["31259 Igantzi",587,"Igantzi","Navarra","Comunidad Foral de Navarra",35.448932039022573,"No",587,314,273,"CANTÁBRICO ORIENTAL","CANTÁBRICO ORIENTAL","31259 Igantzi"]
["31125 Igúzquiza",317,"Igúzquiza","Navarra","Comunidad Foral de Navarra",19.476963053614242,"No",317,161,156,"EBRO","EBRO","31125 Igúzquiza"]
["31904 Irurtzun",2296,"Irurtzun","Navarra","Comunidad Foral de Navarra",613.12111224869648,"No",2296,1188,1108,"EBRO","EBRO","31904 Irurtzun"]
["31130 Iturmendi",431,"Iturmendi","Navarra","Comunidad Foral de Navarra",44.176583335895785,"No",431,225,206,"CANTÁBRICO ORIENTAL","EBRO","31130 Iturmendi"]
["31133 Izalzu/Itzaltzu",38,"Izalzu/Itzaltzu","Navarra","Comunidad Foral de Navarra",5.1037128167659649,"Sí",38,22,16,"EBRO","EBRO","31133 Izalzu/Itzaltzu"]
["31136 Juslapeña",585,"Juslapeña","Navarra","Comunidad Foral de Navarra",18.564586195373703,"No",585,319,266,"EBRO","EBRO","31136 Juslapeña"]
["31141 Lapoblación",126,"Lapoblación","Navarra","Comunidad Foral de Navarra",6.1012815645080503,"Sí",126,72,54,"EBRO","EBRO","31141 Lapoblación"]
["31144 Larraun",916,"Larraun","Navarra","Comunidad Foral de Navarra",8.5531579748575819,"Sí",916,501,415,"CANTÁBRICO ORIENTAL","CANTÁBRICO ORIENTAL - EBRO","31144 Larraun"]
["31147 Legarda",124,"Legarda","Navarra","Comunidad Foral de Navarra",14.943566945070941,"No",124,64,60,"EBRO","EBRO","31147 Legarda"]
["31148 Legaria",108,"Legaria","Navarra","Comunidad Foral de Navarra",21.934532326321662,"No",108,47,61,"EBRO","EBRO","31148 Legaria"]
["31908 Lekunberri",1624,"Lekunberri","Navarra","Comunidad Foral de Navarra",242.19538784817451,"No",1624,826,798,"CANTÁBRICO ORIENTAL","EBRO","31908 Lekunberri"]
["31153 Lesaka",2744,"Lesaka","Navarra","Comunidad Foral de Navarra",49.386904061691297,"No",2744,1395,1349,"CANTÁBRICO ORIENTAL","CANTÁBRICO ORIENTAL","31153 Lesaka"]
["31156 Lizoáin-Arriasgoiti",314,"Lizoáin-Arriasgoiti","Navarra","Comunidad Foral de Navarra",4.7982591793448695,"Sí",314,184,130,"EBRO","EBRO","31156 Lizoáin-Arriasgoiti"]
["31159 Lumbier",1293,"Lumbier","Navarra","Comunidad Foral de Navarra",22.532995546361274,"No",1293,700,593,"EBRO","EBRO","31159 Lumbier"]
["31161 Mañeru",423,"Mañeru","Navarra","Comunidad Foral de Navarra",32.595689539850582,"No",423,218,205,"EBRO","EBRO","31161 Mañeru"]
["31164 Mélida",733,"Mélida","Navarra","Comunidad Foral de Navarra",28.077007302052024,"No",733,375,358,"EBRO","EBRO","31164 Mélida"]
["31167 Mendigorria",1112,"Mendigorria","Navarra","Comunidad Foral de Navarra",28.1989080987188,"No",1112,583,529,"EBRO","EBRO","31167 Mendigorria"]
["31168 Metauten",289,"Metauten","Navarra","Comunidad Foral de Navarra",12.797490168627084,"No",289,162,127,"EBRO","EBRO","31168 Metauten"]
["31171 Miranda de Arga",852,"Miranda de Arga","Navarra","Comunidad Foral de Navarra",14.248858147181842,"No",852,450,402,"EBRO","EBRO","31171 Miranda de Arga"]
["31175 Mues",85,"Mues","Navarra","Comunidad Foral de Navarra",5.8742525704692614,"Sí",85,48,37,"EBRO","EBRO","31175 Mues"]
["31178 Murillo el Cuende",673,"Murillo el Cuende","Navarra","Comunidad Foral de Navarra",11.46104206178595,"Sí",673,351,322,"EBRO","EBRO","31178 Murillo el Cuende"]
["31180 Muruzábal",254,"Muruzábal","Navarra","Comunidad Foral de Navarra",42.754140965789112,"No",254,116,138,"EBRO","EBRO","31180 Muruzábal"]
["31183 Obanos",928,"Obanos","Navarra","Comunidad Foral de Navarra",46.756358260115292,"No",928,459,469,"EBRO","EBRO","31183 Obanos"]
["31186 Odieta",362,"Odieta","Navarra","Comunidad Foral de Navarra",15.029595016352365,"No",362,198,164,"EBRO","EBRO","31186 Odieta"]
["31187 Oiz",132,"Oiz","Navarra","Comunidad Foral de Navarra",16.288483856816821,"No",132,75,57,"CANTÁBRICO ORIENTAL","CANTÁBRICO ORIENTAL","31187 Oiz"]
["31190 Olejua",51,"Olejua","Navarra","Comunidad Foral de Navarra",11.711118398029225,"Sí",51,29,22,"EBRO","EBRO","31190 Olejua"]
["31192 Olóriz/Oloritz",210,"Olóriz/Oloritz","Navarra","Comunidad Foral de Navarra",5.1570076772373294,"Sí",210,121,89,"EBRO","EBRO","31192 Olóriz/Oloritz"]
["31906 Orkoien",4160,"Orkoien","Navarra","Comunidad Foral de Navarra",738.71506197393182,"No",4160,2103,2057,"EBRO","EBRO","31906 Orkoien"]
["31211 Orreaga/Roncesvalles",19,"Orreaga/Roncesvalles","Navarra","Comunidad Foral de Navarra",1.2435231261595445,"Sí",19,10,9,"CANTÁBRICO ORIENTAL","EBRO","31211 Orreaga/Roncesvalles"]
["31202 Peralta/Azkoien",5965,"Peralta/Azkoien","Navarra","Comunidad Foral de Navarra",67.509908621122847,"No",5965,3014,2951,"EBRO","EBRO","31202 Peralta/Azkoien"]
["31205 Pitillas",532,"Pitillas","Navarra","Comunidad Foral de Navarra",12.551764526821245,"No",532,260,272,"EBRO","EBRO","31205 Pitillas"]
["31208 Ribaforada",3718,"Ribaforada","Navarra","Comunidad Foral de Navarra",128.4245806443501,"No",3718,1949,1769,"EBRO","EBRO","31208 Ribaforada"]
["31209 Romanzado",187,"Romanzado","Navarra","Comunidad Foral de Navarra",2.0450415479717812,"Sí",187,102,85,"EBRO","EBRO","31209 Romanzado"]
["31213 Saldías",114,"Saldías","Navarra","Comunidad Foral de Navarra",12.738872008641874,"No",114,62,52,"CANTÁBRICO ORIENTAL","CANTÁBRICO ORIENTAL","31213 Saldías"]
["31217 San Martín de Unx",393,"San Martín de Unx","Navarra","Comunidad Foral de Navarra",7.8336810251860625,"Sí",393,207,186,"EBRO","EBRO","31217 San Martín de Unx"]
["31222 Sarriés/Sartze",61,"Sarriés/Sartze","Navarra","Comunidad Foral de Navarra",2.65786961206258,"Sí",61,43,18,"EBRO","EBRO","31222 Sarriés/Sartze"]
["31225 Sorlada",51,"Sorlada","Navarra","Comunidad Foral de Navarra",8.3099243308066821,"Sí",51,29,22,"EBRO","EBRO","31225 Sorlada"]
["31227 Tafalla",10582,"Tafalla","Navarra","Comunidad Foral de Navarra",107.88741635105876,"No",10582,5256,5326,"EBRO","EBRO","31227 Tafalla"]
["31231 Torres del Río",122,"Torres del Río","Navarra","Comunidad Foral de Navarra",9.8502129785598829,"Sí",122,61,61,"EBRO","EBRO","31231 Torres del Río"]
["31234 Ucar",185,"Ucar","Navarra","Comunidad Foral de Navarra",15.610296788025334,"No",185,104,81,"EBRO","EBRO","31234 Ucar"]
["31123 Uharte Arakil",781,"Uharte Arakil","Navarra","Comunidad Foral de Navarra",20.524687217301015,"No",781,408,373,"EBRO","EBRO","31123 Uharte Arakil"]
["31237 Unciti",227,"Unciti","Navarra","Comunidad Foral de Navarra",6.084361467572645,"Sí",227,129,98,"EBRO","EBRO","31237 Unciti"]
["31239 Urdazubi/Urdax",348,"Urdazubi/Urdax","Navarra","Comunidad Foral de Navarra",44.901702045466067,"No",348,176,172,"CANTÁBRICO ORIENTAL","CANTÁBRICO ORIENTAL","31239 Urdazubi/Urdax"]
["31244 Urroz",179,"Urroz","Navarra","Comunidad Foral de Navarra",14.998546230295554,"No",179,99,80,"CANTÁBRICO ORIENTAL","CANTÁBRICO ORIENTAL","31244 Urroz"]
["31246 Uterga",170,"Uterga","Navarra","Comunidad Foral de Navarra",19.707076335823881,"No",170,99,71,"EBRO","EBRO","31246 Uterga"]
["31260 Valle de Yerri/Deierri",1563,"Valle de Yerri/Deierri","Navarra","Comunidad Foral de Navarra",6.1874684658816816,"Sí",1563,807,756,"EBRO","EBRO","31260 Valle de Yerri/Deierri"]
["31252 Vidángoz/Bidankoze",82,"Vidángoz/Bidankoze","Navarra","Comunidad Foral de Navarra",2.0654539328711352,"Sí",82,48,34,"EBRO","EBRO","31252 Vidángoz/Bidankoze"]
["31254 Villafranca",2907,"Villafranca","Navarra","Comunidad Foral de Navarra",62.082883960319919,"No",2907,1489,1418,"EBRO","EBRO","31254 Villafranca"]
["31257 Villatuerta",1258,"Villatuerta","Navarra","Comunidad Foral de Navarra",52.834426273779016,"No",1258,623,635,"EBRO","EBRO","31257 Villatuerta"]
["31262 Zabalza/Zabaltza",303,"Zabalza/Zabaltza","Navarra","Comunidad Foral de Navarra",21.584449622179527,"No",303,163,140,"EBRO","EBRO","31262 Zabalza/Zabaltza"]
["31263 Zubieta",304,"Zubieta","Navarra","Comunidad Foral de Navarra",17.061644676320675,"No",304,157,147,"CANTÁBRICO ORIENTAL","CANTÁBRICO ORIENTAL","31263 Zubieta"]
["32002 Amoeiro",2333,"Amoeiro","Ourense","Galicia",58.799092674300937,"No",2333,1179,1154,"MIÑO-SIL","MIÑO-SIL","32002 Amoeiro"]
["32005 Baltar",919,"Baltar","Ourense","Galicia",9.7028745425712302,"Sí",919,496,423,"DUERO","MIÑO-SIL","32005 Baltar"]
["32008 Barbadás",11022,"Barbadás","Ourense","Galicia",367.14422285807552,"No",11022,5395,5627,"MIÑO-SIL","MIÑO-SIL","32008 Barbadás"]
["32011 Beariz",971,"Beariz","Ourense","Galicia",17.34881300082526,"No",971,440,531,"GALICIA-COSTA","MIÑO-SIL","32011 Beariz"]
["32014 Bola A",1075,"Bola A","Ourense","Galicia",30.800331279767803,"No",1075,508,567,"MIÑO-SIL","MIÑO-SIL","32014 Bola A"]
["32015 Bolo O",828,"Bolo O","Ourense","Galicia",9.0821480289215959,"Sí",828,420,408,"MIÑO-SIL","MIÑO-SIL","32015 Bolo O"]
["32017 Carballeda de Valdeorras",1460,"Carballeda de Valdeorras","Ourense","Galicia",6.5566437887700859,"Sí",1460,759,701,"DUERO","MIÑO-SIL","32017 Carballeda de Valdeorras"]
["32021 Castrelo do Val",979,"Castrelo do Val","Ourense","Galicia",8.0212890090175932,"Sí",979,489,490,"DUERO","DUERO - MIÑO-SIL","32021 Castrelo do Val"]
["32024 Celanova",5652,"Celanova","Ourense","Galicia",83.971108411945437,"No",5652,2653,2999,"MIÑO-SIL","MIÑO-SIL","32024 Celanova"]
["32026 Coles",3125,"Coles","Ourense","Galicia",81.995942342237569,"No",3125,1594,1531,"MIÑO-SIL","MIÑO-SIL","32026 Coles"]
["32031 Esgos",1109,"Esgos","Ourense","Galicia",29.344791402722311,"No",1109,564,545,"MIÑO-SIL","MIÑO-SIL","32031 Esgos"]
["32035 Irixo O",1401,"Irixo O","Ourense","Galicia",11.573290069109312,"Sí",1401,674,727,"GALICIA-COSTA","MIÑO-SIL","32035 Irixo O"]
["32038 Larouco",427,"Larouco","Ourense","Galicia",18.024005865273217,"No",427,208,219,"MIÑO-SIL","MIÑO-SIL","32038 Larouco"]
["32040 Leiro",1510,"Leiro","Ourense","Galicia",39.473034467043327,"No",1510,743,767,"MIÑO-SIL","MIÑO-SIL","32040 Leiro"]
["32043 Maceda",2849,"Maceda","Ourense","Galicia",27.951837130325671,"No",2849,1416,1433,"MIÑO-SIL","MIÑO-SIL","32043 Maceda"]
["32047 Merca A",1939,"Merca A","Ourense","Galicia",38.028380468553188,"No",1939,968,971,"MIÑO-SIL","MIÑO-SIL","32047 Merca A"]
["32050 Monterrei",2501,"Monterrei","Ourense","Galicia",20.992568244732553,"No",2501,1280,1221,"DUERO","DUERO","32050 Monterrei"]
["32053 Oímbra",1713,"Oímbra","Ourense","Galicia",23.963471443879591,"No",1713,936,777,"DUERO","DUERO","32053 Oímbra"]
["32056 Padrenda",1653,"Padrenda","Ourense","Galicia",28.70284996900509,"No",1653,799,854,"MIÑO-SIL","MIÑO-SIL","32056 Padrenda"]
["32059 Peroxa A",1826,"Peroxa A","Ourense","Galicia",33.493723512834194,"No",1826,906,920,"MIÑO-SIL","MIÑO-SIL","32059 Peroxa A"]
["32063 Pobra de Trives A",2015,"Pobra de Trives A","Ourense","Galicia",23.932380655928235,"No",2015,1000,1015,"MIÑO-SIL","MIÑO-SIL","32063 Pobra de Trives A"]
["32064 Pontedeva",491,"Pontedeva","Ourense","Galicia",49.803984298457124,"No",491,241,250,"MIÑO-SIL","MIÑO-SIL","32064 Pontedeva"]
["32066 Quintela de Leirado",614,"Quintela de Leirado","Ourense","Galicia",19.6600162019026,"No",614,272,342,"MIÑO-SIL","MIÑO-SIL","32066 Quintela de Leirado"]
["32071 Riós",1459,"Riós","Ourense","Galicia",12.767558674764164,"No",1459,749,710,"DUERO","DUERO","32071 Riós"]
["32073 Rubiá",1390,"Rubiá","Ourense","Galicia",13.791502251785206,"No",1390,682,708,"MIÑO-SIL","MIÑO-SIL","32073 Rubiá"]
["32076 San Cristovo de Cea",2072,"San Cristovo de Cea","Ourense","Galicia",21.939724968182105,"No",2072,1016,1056,"GALICIA-COSTA","MIÑO-SIL","32076 San Cristovo de Cea"]
["32079 Taboadela",1452,"Taboadela","Ourense","Galicia",57.649924644163583,"No",1452,738,714,"MIÑO-SIL","MIÑO-SIL","32079 Taboadela"]
["32082 Trasmiras",1261,"Trasmiras","Ourense","Galicia",22.225503661462259,"No",1261,632,629,"DUERO","MIÑO-SIL","32082 Trasmiras"]
["32083 Veiga A",886,"Veiga A","Ourense","Galicia",3.0469110821245708,"Sí",886,452,434,"DUERO","MIÑO-SIL","32083 Veiga A"]
["32085 Verín",13644,"Verín","Ourense","Galicia",144.97666071274878,"No",13644,6544,7100,"DUERO","DUERO","32085 Verín"]
["32088 Vilamartín de Valdeorras",1837,"Vilamartín de Valdeorras","Ourense","Galicia",20.812672431773152,"No",1837,940,897,"MIÑO-SIL","MIÑO-SIL","32088 Vilamartín de Valdeorras"]
["32092 Vilariño de Conso",513,"Vilariño de Conso","Ourense","Galicia",2.5621167347431406,"Sí",513,293,220,"DUERO","MIÑO-SIL","32092 Vilariño de Conso"]
["32037 Xunqueira de Espadanedo",738,"Xunqueira de Espadanedo","Ourense","Galicia",26.689198425727866,"No",738,365,373,"MIÑO-SIL","MIÑO-SIL","32037 Xunqueira de Espadanedo"]
["34004 Aguilar de Campoo",6711,"Aguilar de Campoo","Palencia","Castilla y León",28.518940171419612,"No",6711,3232,3479,"DUERO","DUERO","34004 Aguilar de Campoo"]
["34006 Alba de Cerrato",83,"Alba de Cerrato","Palencia","Castilla y León",2.3574330973268243,"Sí",83,47,36,"DUERO","DUERO","34006 Alba de Cerrato"]
["34012 Antigüedad",362,"Antigüedad","Palencia","Castilla y León",5.7612494921506325,"Sí",362,202,160,"DUERO","DUERO","34012 Antigüedad"]
["34015 Arconada",43,"Arconada","Palencia","Castilla y León",2.2125238212920841,"Sí",43,26,17,"DUERO","DUERO","34015 Arconada"]
["34019 Autillo de Campos",132,"Autillo de Campos","Palencia","Castilla y León",4.3238043346203971,"Sí",132,69,63,"DUERO","DUERO","34019 Autillo de Campos"]
["34024 Baquerín de Campos",26,"Baquerín de Campos","Palencia","Castilla y León",1.175920300102097,"Sí",26,16,10,"DUERO","DUERO","34024 Baquerín de Campos"]
["34029 Becerril de Campos",762,"Becerril de Campos","Palencia","Castilla y León",9.6505331704276056,"Sí",762,392,370,"DUERO","DUERO","34029 Becerril de Campos"]
["34032 Berzosilla",39,"Berzosilla","Palencia","Castilla y León",1.9891079508776022,"Sí",39,22,17,"EBRO","EBRO","34032 Berzosilla"]
["34034 Boadilla del Camino",121,"Boadilla del Camino","Palencia","Castilla y León",4.2220178439920444,"Sí",121,70,51,"DUERO","DUERO","34034 Boadilla del Camino"]
["34039 Bustillo del Páramo de Carrión",60,"Bustillo del Páramo de Carrión","Palencia","Castilla y León",1.9228788419039142,"Sí",60,33,27,"DUERO","DUERO","34039 Bustillo del Páramo de Carrión"]
["34045 Capillas",72,"Capillas","Palencia","Castilla y León",3.9410385599970574,"Sí",72,39,33,"DUERO","DUERO","34045 Capillas"]
["34046 Cardeñosa de Volpejera",56,"Cardeñosa de Volpejera","Palencia","Castilla y León",4.0887056369962433,"Sí",56,29,27,"DUERO","DUERO","34046 Cardeñosa de Volpejera"]
["34050 Castrillo de Don Juan",196,"Castrillo de Don Juan","Palencia","Castilla y León",4.0049484816504703,"Sí",196,113,83,"DUERO","DUERO","34050 Castrillo de Don Juan"]
["34051 Castrillo de Onielo",104,"Castrillo de Onielo","Palencia","Castilla y León",2.5827909286124289,"Sí",104,51,53,"DUERO","DUERO","34051 Castrillo de Onielo"]
["34056 Cervera de Pisuerga",2288,"Cervera de Pisuerga","Palencia","Castilla y León",7.0105664065791462,"Sí",2288,1138,1150,"CANTÁBRICO OCCIDENTAL","DUERO","34056 Cervera de Pisuerga"]
["34059 Cisneros",429,"Cisneros","Palencia","Castilla y León",6.7781781783331727,"Sí",429,212,217,"DUERO","DUERO","34059 Cisneros"]
["34063 Cordovilla la Real",98,"Cordovilla la Real","Palencia","Castilla y León",2.5254279021901773,"Sí",98,57,41,"DUERO","DUERO","34063 Cordovilla la Real"]
["34066 Cubillas de Cerrato",63,"Cubillas de Cerrato","Palencia","Castilla y León",2.9862068527474857,"Sí",63,38,25,"DUERO","DUERO","34066 Cubillas de Cerrato"]
["34070 Espinosa de Cerrato",134,"Espinosa de Cerrato","Palencia","Castilla y León",2.9595074884815529,"Sí",134,73,61,"DUERO","DUERO","34070 Espinosa de Cerrato"]
["34071 Espinosa de Villagonzalo",165,"Espinosa de Villagonzalo","Palencia","Castilla y León",4.3371352485684493,"Sí",165,89,76,"DUERO","DUERO","34071 Espinosa de Villagonzalo"]
["34074 Frómista",777,"Frómista","Palencia","Castilla y León",16.677131906776765,"No",777,397,380,"DUERO","DUERO","34074 Frómista"]
["34079 Grijota",2496,"Grijota","Palencia","Castilla y León",87.496669798224829,"No",2496,1296,1200,"DUERO","DUERO","34079 Grijota"]
["34083 Herrera de Pisuerga",1889,"Herrera de Pisuerga","Palencia","Castilla y León",19.066079245710778,"No",1889,931,958,"DUERO","DUERO","34083 Herrera de Pisuerga"]
["34086 Hontoria de Cerrato",102,"Hontoria de Cerrato","Palencia","Castilla y León",3.4539288389750271,"Sí",102,51,51,"DUERO","DUERO","34086 Hontoria de Cerrato"]
["34091 Lagartos",128,"Lagartos","Palencia","Castilla y León",2.9406707049580283,"Sí",128,74,54,"DUERO","DUERO","34091 Lagartos"]
["34903 Loma de Ucieza",199,"Loma de Ucieza","Palencia","Castilla y León",2.7936822686474501,"Sí",199,118,81,"DUERO","DUERO","34903 Loma de Ucieza"]
["34099 Manquillos",61,"Manquillos","Palencia","Castilla y León",4.8430809998151689,"Sí",61,38,23,"DUERO","DUERO","34099 Manquillos"]
["34100 Mantinos",140,"Mantinos","Palencia","Castilla y León",5.4843699569504381,"Sí",140,79,61,"DUERO","DUERO","34100 Mantinos"]
["34104 Melgar de Yuso",254,"Melgar de Yuso","Palencia","Castilla y León",9.5567496726813239,"Sí",254,147,107,"DUERO","DUERO","34104 Melgar de Yuso"]
["34107 Micieces de Ojeda",71,"Micieces de Ojeda","Palencia","Castilla y León",3.4245618936264512,"Sí",71,42,29,"DUERO","DUERO","34107 Micieces de Ojeda"]
["34110 Mudá",81,"Mudá","Palencia","Castilla y León",11.901214629149337,"Sí",81,46,35,"DUERO","DUERO","34110 Mudá"]
["34114 Olmos de Ojeda",187,"Olmos de Ojeda","Palencia","Castilla y León",1.8050737185832348,"Sí",187,118,69,"DUERO","DUERO","34114 Olmos de Ojeda"]
["34121 Palenzuela",214,"Palenzuela","Palencia","Castilla y León",2.7719582127040372,"Sí",214,123,91,"DUERO","DUERO","34121 Palenzuela"]
["34122 Páramo de Boedo",106,"Páramo de Boedo","Palencia","Castilla y León",4.6564538626251215,"Sí",106,62,44,"DUERO","DUERO","34122 Páramo de Boedo"]
["34126 Pedrosa de la Vega",288,"Pedrosa de la Vega","Palencia","Castilla y León",13.676277385677004,"No",288,163,125,"DUERO","DUERO","34126 Pedrosa de la Vega"]
["34127 Perales",91,"Perales","Palencia","Castilla y León",3.3140725023647364,"Sí",91,44,47,"DUERO","DUERO","34127 Perales"]
["34130 Piña de Campos",203,"Piña de Campos","Palencia","Castilla y León",16.386798181888775,"No",203,102,101,"DUERO","DUERO","34130 Piña de Campos"]
["34134 Polentinos",44,"Polentinos","Palencia","Castilla y León",2.9589778076664426,"Sí",44,24,20,"DUERO","DUERO","34134 Polentinos"]
["34137 Pozo de Urama",21,"Pozo de Urama","Palencia","Castilla y León",1.5203560471148203,"Sí",21,14,7,"DUERO","DUERO","34137 Pozo de Urama"]
["34140 Puebla de Valdavia La",92,"Puebla de Valdavia La","Palencia","Castilla y León",3.1187384757104684,"Sí",92,48,44,"DUERO","DUERO","34140 Puebla de Valdavia La"]
["34147 Renedo de la Vega",191,"Renedo de la Vega","Palencia","Castilla y León",8.5860717732665695,"Sí",191,102,89,"DUERO","DUERO","34147 Renedo de la Vega"]
["34152 Revenga de Campos",147,"Revenga de Campos","Palencia","Castilla y León",6.5606966870757901,"Sí",147,74,73,"DUERO","DUERO","34152 Revenga de Campos"]
["34156 Riberos de la Cueza",54,"Riberos de la Cueza","Palencia","Castilla y León",2.7282383583037877,"Sí",54,33,21,"DUERO","DUERO","34156 Riberos de la Cueza"]
["34157 Saldaña",2950,"Saldaña","Palencia","Castilla y León",22.35671923466478,"No",2950,1515,1435,"DUERO","DUERO","34157 Saldaña"]
["34161 San Cristóbal de Boedo",23,"San Cristóbal de Boedo","Palencia","Castilla y León",2.1343829795763676,"Sí",23,15,8,"DUERO","DUERO","34161 San Cristóbal de Boedo"]
["34165 San Román de la Cuba",62,"San Román de la Cuba","Palencia","Castilla y León",3.401745732016177,"Sí",62,37,25,"DUERO","DUERO","34165 San Román de la Cuba"]
["34169 Santervás de la Vega",413,"Santervás de la Vega","Palencia","Castilla y León",5.8435864339655277,"Sí",413,236,177,"DUERO","DUERO","34169 Santervás de la Vega"]
["34174 Santoyo",188,"Santoyo","Palencia","Castilla y León",5.4189785600130973,"Sí",188,104,84,"DUERO","DUERO","34174 Santoyo"]
["34178 Tabanera de Cerrato",137,"Tabanera de Cerrato","Palencia","Castilla y León",2.956610255406237,"Sí",137,73,64,"DUERO","DUERO","34178 Tabanera de Cerrato"]
["34181 Tariego de Cerrato",485,"Tariego de Cerrato","Palencia","Castilla y León",23.454537031135342,"No",485,255,230,"DUERO","DUERO","34181 Tariego de Cerrato"]
["34184 Torremormojón",47,"Torremormojón","Palencia","Castilla y León",1.6640288858420242,"Sí",47,25,22,"DUERO","DUERO","34184 Torremormojón"]
["34185 Triollo",71,"Triollo","Palencia","Castilla y León",1.1217536567668274,"Sí",71,39,32,"DUERO","DUERO","34185 Triollo"]
["34190 Valderrábano",48,"Valderrábano","Palencia","Castilla y León",1.6658557188479775,"Sí",48,26,22,"DUERO","DUERO","34190 Valderrábano"]
["34199 Velilla del Río Carrión",1187,"Velilla del Río Carrión","Palencia","Castilla y León",5.9667220779273009,"Sí",1187,607,580,"DUERO","DUERO","34199 Velilla del Río Carrión"]
["34093 Vid de Ojeda La",88,"Vid de Ojeda La","Palencia","Castilla y León",4.3827401120278182,"Sí",88,53,35,"DUERO","DUERO","34093 Vid de Ojeda La"]
["34204 Villacidaler",45,"Villacidaler","Palencia","Castilla y León",2.0659391775569591,"Sí",45,27,18,"DUERO","DUERO","34204 Villacidaler"]
["34210 Villahán",95,"Villahán","Palencia","Castilla y León",3.0622442401522818,"Sí",95,52,43,"DUERO","DUERO","34210 Villahán"]
["34214 Villalba de Guardo",191,"Villalba de Guardo","Palencia","Castilla y León",5.6424692769024958,"Sí",191,103,88,"DUERO","DUERO","34214 Villalba de Guardo"]
["34215 Villalcázar de Sirga",168,"Villalcázar de Sirga","Palencia","Castilla y León",6.6104776070071063,"Sí",168,86,82,"DUERO","DUERO","34215 Villalcázar de Sirga"]
["34218 Villaluenga de la Vega",566,"Villaluenga de la Vega","Palencia","Castilla y León",21.508860225355853,"No",566,328,238,"DUERO","DUERO","34218 Villaluenga de la Vega"]
["34222 Villameriel",108,"Villameriel","Palencia","Castilla y León",2.0315025094134747,"Sí",108,62,46,"DUERO","DUERO","34222 Villameriel"]
["34225 Villamuriel de Cerrato",6470,"Villamuriel de Cerrato","Palencia","Castilla y León",162.75132754270649,"No",6470,3344,3126,"DUERO","DUERO","34225 Villamuriel de Cerrato"]
["34229 Villaprovedo",52,"Villaprovedo","Palencia","Castilla y León",1.9684861270372365,"Sí",52,34,18,"DUERO","DUERO","34229 Villaprovedo"]
["34232 Villarramiel",833,"Villarramiel","Palencia","Castilla y León",27.526296948734768,"No",833,439,394,"DUERO","DUERO","34232 Villarramiel"]
["34237 Villaumbrales",653,"Villaumbrales","Palencia","Castilla y León",15.505863971068385,"No",653,324,329,"DUERO","DUERO","34237 Villaumbrales"]
["34241 Villodre",17,"Villodre","Palencia","Castilla y León",1.9542163885414405,"Sí",17,9,8,"DUERO","DUERO","34241 Villodre"]
["34243 Villoldo",325,"Villoldo","Palencia","Castilla y León",7.9966930598546329,"Sí",325,173,152,"DUERO","DUERO","34243 Villoldo"]
["34245 Villota del Páramo",315,"Villota del Páramo","Palencia","Castilla y León",4.040401604632029,"Sí",315,180,135,"DUERO","DUERO","34245 Villota del Páramo"]
["35002 Agüimes",32105,"Agüimes","Las Palmas","Canarias",406.92191864857057,"No",32105,16197,15908,"GRAN CANARIA","GRAN CANARIA","35002 Agüimes"]
["35005 Artenara",1046,"Artenara","Las Palmas","Canarias",15.748505698670561,"No",1046,594,452,"GRAN CANARIA","GRAN CANARIA","35005 Artenara"]
["35008 Firgas",7513,"Firgas","Las Palmas","Canarias",468.74805026266864,"No",7513,3792,3721,"GRAN CANARIA","GRAN CANARIA","35008 Firgas"]
["35010 Haría",5365,"Haría","Las Palmas","Canarias",50.314736731539696,"No",5365,2767,2598,"LANZAROTE","LANZAROTE","35010 Haría"]
["35014 Oliva La",27768,"Oliva La","Las Palmas","Canarias",78.146128870756357,"No",27768,14398,13370,"FUERTEVENTURA","FUERTEVENTURA","35014 Oliva La"]
["35017 Puerto del Rosario",41786,"Puerto del Rosario","Las Palmas","Canarias",143.70749235137458,"No",41786,21069,20717,"FUERTEVENTURA","FUERTEVENTURA","35017 Puerto del Rosario"]
["35018 San Bartolomé",19058,"San Bartolomé","Las Palmas","Canarias",467.5536234301822,"No",19058,9528,9530,"LANZAROTE","LANZAROTE","35018 San Bartolomé"]
["35022 Santa Lucía de Tirajana",73573,"Santa Lucía de Tirajana","Las Palmas","Canarias",1176.6352195725774,"No",73573,36635,36938,"GRAN CANARIA","GRAN CANARIA","35022 Santa Lucía de Tirajana"]
["35025 Tejeda",1865,"Tejeda","Las Palmas","Canarias",17.956363629361398,"No",1865,1015,850,"GRAN CANARIA","GRAN CANARIA","35025 Tejeda"]
["35028 Tías",20801,"Tías","Las Palmas","Canarias",323.39611787843694,"No",20801,10641,10160,"LANZAROTE","LANZAROTE","35028 Tías"]
["35032 Valleseco",3754,"Valleseco","Las Palmas","Canarias",169.64241331471516,"No",3754,1968,1786,"GRAN CANARIA","GRAN CANARIA","35032 Valleseco"]
["36020 Agolada",2228,"Agolada","Pontevedra","Galicia",15.068868686489802,"No",2228,1115,1113,"GALICIA-COSTA","GALICIA-COSTA","36020 Agolada"]
["36002 Barro",3622,"Barro","Pontevedra","Galicia",96.455744070048922,"No",3622,1778,1844,"GALICIA-COSTA","GALICIA-COSTA","36002 Barro"]
["36006 Cambados",13673,"Cambados","Pontevedra","Galicia",583.27230651840614,"No",13673,6600,7073,"GALICIA-COSTA","GALICIA-COSTA","36006 Cambados"]
["36008 Cangas",26708,"Cangas","Pontevedra","Galicia",701.294551194988,"No",26708,13265,13443,"GALICIA-COSTA","GALICIA-COSTA","36008 Cangas"]
["36009 Cañiza A",5115,"Cañiza A","Pontevedra","Galicia",48.697728486600276,"No",5115,2512,2603,"MIÑO-SIL","MIÑO-SIL","36009 Cañiza A"]
["36014 Crecente",1961,"Crecente","Pontevedra","Galicia",34.084667635382708,"No",1961,952,1009,"MIÑO-SIL","MIÑO-SIL","36014 Crecente"]
["36017 Estrada A",20261,"Estrada A","Pontevedra","Galicia",72.17123900787611,"No",20261,9736,10525,"GALICIA-COSTA","GALICIA-COSTA","36017 Estrada A"]
["36021 Gondomar",14920,"Gondomar","Pontevedra","Galicia",200.25289847280055,"No",14920,7437,7483,"GALICIA-COSTA","GALICIA-COSTA","36021 Gondomar"]
["36024 Lalín",20199,"Lalín","Pontevedra","Galicia",61.778539275051067,"No",20199,9855,10344,"GALICIA-COSTA","GALICIA-COSTA","36024 Lalín"]
["36026 Marín",24248,"Marín","Pontevedra","Galicia",666.57503367512447,"No",24248,12095,12153,"GALICIA-COSTA","GALICIA-COSTA","36026 Marín"]
["36029 Moaña",19496,"Moaña","Pontevedra","Galicia",556.15099693546426,"No",19496,9469,10027,"GALICIA-COSTA","GALICIA-COSTA","36029 Moaña"]
["36030 Mondariz",4394,"Mondariz","Pontevedra","Galicia",53.371359718591805,"No",4394,2177,2217,"GALICIA-COSTA","MIÑO-SIL","36030 Mondariz"]
["36033 Mos",15190,"Mos","Pontevedra","Galicia",285.04409832989302,"No",15190,7498,7692,"GALICIA-COSTA","MIÑO-SIL","36033 Mos"]
["36037 Pazos de Borbén",2975,"Pazos de Borbén","Pontevedra","Galicia",59.512416670614158,"No",2975,1459,1516,"GALICIA-COSTA","GALICIA-COSTA - MIÑO-SIL","36037 Pazos de Borbén"]
["36043 Ponte Caldelas",5548,"Ponte Caldelas","Pontevedra","Galicia",63.772680510135466,"No",5548,2685,2863,"GALICIA-COSTA","GALICIA-COSTA","36043 Ponte Caldelas"]
["36038 Pontevedra",83114,"Pontevedra","Pontevedra","Galicia",701.57282846605972,"No",83114,39314,43800,"GALICIA-COSTA","GALICIA-COSTA","36038 Pontevedra"]
["36046 Ribadumia",5157,"Ribadumia","Pontevedra","Galicia",261.70612193901655,"No",5157,2516,2641,"GALICIA-COSTA","GALICIA-COSTA","36046 Ribadumia"]
["36049 Salceda de Caselas",9249,"Salceda de Caselas","Pontevedra","Galicia",257.51845869146655,"No",9249,4635,4614,"MIÑO-SIL","MIÑO-SIL","36049 Salceda de Caselas"]
["36052 Silleda",8845,"Silleda","Pontevedra","Galicia",52.661796298932522,"No",8845,4296,4549,"GALICIA-COSTA","GALICIA-COSTA","36052 Silleda"]
["36053 Soutomaior",7482,"Soutomaior","Pontevedra","Galicia",299.41593483441488,"No",7482,3733,3749,"GALICIA-COSTA","GALICIA-COSTA","36053 Soutomaior"]
["36056 Valga",5768,"Valga","Pontevedra","Galicia",141.93163791792293,"No",5768,2835,2933,"GALICIA-COSTA","GALICIA-COSTA","36056 Valga"]
["36058 Vilaboa",5955,"Vilaboa","Pontevedra","Galicia",161.37380460084711,"No",5955,2915,3040,"GALICIA-COSTA","GALICIA-COSTA","36058 Vilaboa"]
["26001 Ábalos",248,"Ábalos","La Rioja","La Rioja",13.611490732660444,"No",248,144,104,"EBRO","EBRO","26001 Ábalos"]
["26004 Ajamil de Cameros",67,"Ajamil de Cameros","La Rioja","La Rioja",1.0127846527632296,"Sí",67,47,20,"EBRO","EBRO","26004 Ajamil de Cameros"]
["26008 Aldeanueva de Ebro",2794,"Aldeanueva de Ebro","La Rioja","La Rioja",71.488505830355891,"No",2794,1452,1342,"EBRO","EBRO","26008 Aldeanueva de Ebro"]
["26010 Alesón",92,"Alesón","La Rioja","La Rioja",14.171532226064281,"No",92,52,40,"EBRO","EBRO","26010 Alesón"]
["26011 Alfaro",9562,"Alfaro","La Rioja","La Rioja",49.258608741647429,"No",9562,4794,4768,"EBRO","EBRO","26011 Alfaro"]
["26014 Anguiano",511,"Anguiano","La Rioja","La Rioja",5.6210118041247892,"Sí",511,279,232,"EBRO","EBRO","26014 Anguiano"]
["26017 Arnedillo",452,"Arnedillo","La Rioja","La Rioja",9.3515496831593588,"Sí",452,217,235,"EBRO","EBRO","26017 Arnedillo"]
["26021 Autol",4702,"Autol","La Rioja","La Rioja",55.133643388746826,"No",4702,2363,2339,"EBRO","EBRO","26021 Autol"]
["26023 Badarán",502,"Badarán","La Rioja","La Rioja",24.267066902466503,"No",502,255,247,"EBRO","EBRO","26023 Badarán"]
["26025 Baños de Rioja",84,"Baños de Rioja","La Rioja","La Rioja",9.0959295715167467,"Sí",84,49,35,"EBRO","EBRO","26025 Baños de Rioja"]
["26030 Bezares",25,"Bezares","La Rioja","La Rioja",5.4119781797698954,"Sí",25,12,13,"EBRO","EBRO","26030 Bezares"]
["26033 Briñas",187,"Briñas","La Rioja","La Rioja",76.712252341467163,"No",187,88,99,"EBRO","EBRO","26033 Briñas"]
["26034 Briones",754,"Briones","La Rioja","La Rioja",20.001432463332918,"No",754,391,363,"EBRO","EBRO","26034 Briones"]
["26037 Camprovín",171,"Camprovín","La Rioja","La Rioja",8.3626789191486903,"Sí",171,89,82,"EBRO","EBRO","26037 Camprovín"]
["26040 Cañas",91,"Cañas","La Rioja","La Rioja",9.3643962362124693,"Sí",91,47,44,"EBRO","EBRO","26040 Cañas"]
["26043 Castañares de Rioja",407,"Castañares de Rioja","La Rioja","La Rioja",37.21517135437621,"No",407,197,210,"EBRO","EBRO","26043 Castañares de Rioja"]
["26046 Cenicero",2106,"Cenicero","La Rioja","La Rioja",66.188741628192759,"No",2106,1084,1022,"EBRO","EBRO","26046 Cenicero"]
["26049 Cihuri",184,"Cihuri","La Rioja","La Rioja",18.853073286609135,"No",184,97,87,"EBRO","EBRO","26049 Cihuri"]
["26053 Corera",262,"Corera","La Rioja","La Rioja",31.966512759701985,"No",262,139,123,"EBRO","EBRO","26053 Corera"]
["26055 Corporales",38,"Corporales","La Rioja","La Rioja",4.5157800368297512,"Sí",38,24,14,"EBRO","EBRO","26055 Corporales"]
["26056 Cuzcurrita de Río Tirón",522,"Cuzcurrita de Río Tirón","La Rioja","La Rioja",27.205495301579688,"No",522,274,248,"EBRO","EBRO","26056 Cuzcurrita de Río Tirón"]
["26059 Entrena",1613,"Entrena","La Rioja","La Rioja",76.695364585418531,"No",1613,848,765,"EBRO","EBRO","26059 Entrena"]
["26062 Foncea",98,"Foncea","La Rioja","La Rioja",4.3131251390762806,"Sí",98,58,40,"EBRO","EBRO","26062 Foncea"]
["26066 Galilea",385,"Galilea","La Rioja","La Rioja",39.507768099457785,"No",385,200,185,"EBRO","EBRO","26066 Galilea"]
["26069 Grañón",249,"Grañón","La Rioja","La Rioja",8.0287751300661583,"Sí",249,138,111,"EBRO","EBRO","26069 Grañón"]
["26072 Herce",332,"Herce","La Rioja","La Rioja",19.287562746304936,"No",332,171,161,"EBRO","EBRO","26072 Herce"]
["26075 Hormilla",429,"Hormilla","La Rioja","La Rioja",27.055045097417715,"No",429,229,200,"EBRO","EBRO","26075 Hormilla"]
["26078 Hornos de Moncalvillo",96,"Hornos de Moncalvillo","La Rioja","La Rioja",12.966859274053085,"No",96,58,38,"EBRO","EBRO","26078 Hornos de Moncalvillo"]
["26079 Huércanos",866,"Huércanos","La Rioja","La Rioja",40.311412645029151,"No",866,482,384,"EBRO","EBRO","26079 Huércanos"]
["26082 Laguna de Cameros",110,"Laguna de Cameros","La Rioja","La Rioja",2.6442375069513395,"Sí",110,66,44,"EBRO","EBRO","26082 Laguna de Cameros"]
["26086 Ledesma de la Cogolla",18,"Ledesma de la Cogolla","La Rioja","La Rioja",1.4836715761084365,"Sí",18,13,5,"EBRO","EBRO","26086 Ledesma de la Cogolla"]
["26089 Logroño",150808,"Logroño","La Rioja","La Rioja",1909.5929161406491,"No",150808,71462,79346,"EBRO","EBRO","26089 Logroño"]
["26093 Mansilla de la Sierra",54,"Mansilla de la Sierra","La Rioja","La Rioja",0.63712879372145914,"Sí",54,39,15,"DUERO","EBRO","26093 Mansilla de la Sierra"]
["26098 Munilla",108,"Munilla","La Rioja","La Rioja",1.9931472276401683,"Sí",108,62,46,"EBRO","EBRO","26098 Munilla"]
["26101 Muro en Cameros",35,"Muro en Cameros","La Rioja","La Rioja",2.1895240781650087,"Sí",35,19,16,"EBRO","EBRO","26101 Muro en Cameros"]
["26104 Navajún",10,"Navajún","La Rioja","La Rioja",0.61062892458842699,"Sí",10,8,2,"EBRO","EBRO","26104 Navajún"]
["26105 Navarrete",2996,"Navarrete","La Rioja","La Rioja",105.00616175175793,"No",2996,1505,1491,"EBRO","EBRO","26105 Navarrete"]
["26107 Nieva de Cameros",89,"Nieva de Cameros","La Rioja","La Rioja",2.1166437165409757,"Sí",89,60,29,"EBRO","EBRO","26107 Nieva de Cameros"]
["26111 Ollauri",310,"Ollauri","La Rioja","La Rioja",119.28325386246871,"No",310,165,145,"EBRO","EBRO","26111 Ollauri"]
["26114 Pedroso",83,"Pedroso","La Rioja","La Rioja",4.3027029268747867,"Sí",83,53,30,"EBRO","EBRO","26114 Pedroso"]
["26118 Pradillo",64,"Pradillo","La Rioja","La Rioja",6.2283170629903761,"Sí",64,35,29,"EBRO","EBRO","26118 Pradillo"]
["26121 Rabanera",32,"Rabanera","La Rioja","La Rioja",2.3179916572582764,"Sí",32,22,10,"EBRO","EBRO","26121 Rabanera"]
["26124 Ribafrecha",1009,"Ribafrecha","La Rioja","La Rioja",29.178304250651404,"No",1009,521,488,"EBRO","EBRO","26124 Ribafrecha"]
["26127 Rodezno",212,"Rodezno","La Rioja","La Rioja",14.822892307072715,"No",212,118,94,"EBRO","EBRO","26127 Rodezno"]
["26128 Sajazarra",129,"Sajazarra","La Rioja","La Rioja",9.3214585177753708,"Sí",129,70,59,"EBRO","EBRO","26128 Sajazarra"]
["26131 San Millán de Yécora",34,"San Millán de Yécora","La Rioja","La Rioja",3.156678487189688,"Sí",34,24,10,"EBRO","EBRO","26131 San Millán de Yécora"]
["26134 Santa Coloma",97,"Santa Coloma","La Rioja","La Rioja",4.7923717299473827,"Sí",97,60,37,"EBRO","EBRO","26134 Santa Coloma"]
["26138 Santo Domingo de la Calzada",6222,"Santo Domingo de la Calzada","La Rioja","La Rioja",155.21116626348848,"No",6222,3118,3104,"EBRO","EBRO","26138 Santo Domingo de la Calzada"]
["26141 Santurdejo",99,"Santurdejo","La Rioja","La Rioja",5.39523238028824,"Sí",99,63,36,"EBRO","EBRO","26141 Santurdejo"]
["26146 Soto en Cameros",84,"Soto en Cameros","La Rioja","La Rioja",1.7126645898705553,"Sí",84,48,36,"EBRO","EBRO","26146 Soto en Cameros"]
["26149 Tobía",49,"Tobía","La Rioja","La Rioja",1.4024554189474934,"Sí",49,26,23,"EBRO","EBRO","26149 Tobía"]
["26151 Torrecilla en Cameros",454,"Torrecilla en Cameros","La Rioja","La Rioja",14.908072359974126,"No",454,251,203,"EBRO","EBRO","26151 Torrecilla en Cameros"]
["26152 Torrecilla sobre Alesanco",35,"Torrecilla sobre Alesanco","La Rioja","La Rioja",8.0287677630751926,"Sí",35,22,13,"EBRO","EBRO","26152 Torrecilla sobre Alesanco"]
["26155 Treviana",145,"Treviana","La Rioja","La Rioja",4.1504312054721346,"Sí",145,76,69,"EBRO","EBRO","26155 Treviana"]
["26161 Valdemadera",10,"Valdemadera","La Rioja","La Rioja",0.71764655562665036,"Sí",10,6,4,"EBRO","EBRO","26161 Valdemadera"]
["26164 Ventrosa",55,"Ventrosa","La Rioja","La Rioja",0.75416182489061734,"Sí",55,34,21,"EBRO","EBRO","26164 Ventrosa"]
["26167 Villalobar de Rioja",69,"Villalobar de Rioja","La Rioja","La Rioja",6.3050504001970831,"Sí",69,49,20,"EBRO","EBRO","26167 Villalobar de Rioja"]
["26170 Villar de Arnedo El",590,"Villar de Arnedo El","La Rioja","La Rioja",32.3372563175352,"No",590,310,280,"EBRO","EBRO","26170 Villar de Arnedo El"]
["26173 Villarroya",5,"Villarroya","La Rioja","La Rioja",0.42488872376768888,"Sí",5,3,2,"EBRO","EBRO","26173 Villarroya"]
["26174 Villarta-Quintana",136,"Villarta-Quintana","La Rioja","La Rioja",5.5000266306436494,"Sí",136,79,57,"EBRO","EBRO","26174 Villarta-Quintana"]
["26177 Villoslada de Cameros",354,"Villoslada de Cameros","La Rioja","La Rioja",3.7379200244768294,"Sí",354,228,126,"DUERO","EBRO","26177 Villoslada de Cameros"]
["26180 Zarratón",256,"Zarratón","La Rioja","La Rioja",13.715951222648464,"No",256,139,117,"EBRO","EBRO","26180 Zarratón"]
["37002 Agallas",128,"Agallas","Salamanca","Castilla y León",2.8691662005765952,"Sí",128,65,63,"DUERO","DUERO","37002 Agallas"]
["37005 Alameda de Gardón La",67,"Alameda de Gardón La","Salamanca","Castilla y León",2.075331433527444,"Sí",67,36,31,"DUERO","DUERO","37005 Alameda de Gardón La"]
["37007 Alaraz",429,"Alaraz","Salamanca","Castilla y León",8.7240786828926957,"Sí",429,226,203,"DUERO","DUERO","37007 Alaraz"]
["37011 Alberguería de Argañán La",107,"Alberguería de Argañán La","Salamanca","Castilla y León",3.5496402257173094,"Sí",107,55,52,"DUERO","DUERO","37011 Alberguería de Argañán La"]
["37013 Aldeacipreste",100,"Aldeacipreste","Salamanca","Castilla y León",2.6904633486383926,"Sí",100,53,47,"TAJO","TAJO","37013 Aldeacipreste"]
["37014 Aldeadávila de la Ribera",1181,"Aldeadávila de la Ribera","Salamanca","Castilla y León",25.582483472112713,"No",1181,584,597,"DUERO","DUERO","37014 Aldeadávila de la Ribera"]
["37018 Aldeanueva de la Sierra",110,"Aldeanueva de la Sierra","Salamanca","Castilla y León",7.5834805045606704,"Sí",110,69,41,"DUERO","DUERO","37018 Aldeanueva de la Sierra"]
["37020 Aldearrubia",519,"Aldearrubia","Salamanca","Castilla y León",15.801551030317452,"No",519,285,234,"DUERO","DUERO","37020 Aldearrubia"]
["37024 Aldeavieja de Tormes",100,"Aldeavieja de Tormes","Salamanca","Castilla y León",7.7820781541657702,"Sí",100,55,45,"DUERO","DUERO","37024 Aldeavieja de Tormes"]
["37027 Almenara de Tormes",289,"Almenara de Tormes","Salamanca","Castilla y León",14.980692530979191,"No",289,157,132,"DUERO","DUERO","37027 Almenara de Tormes"]
["37031 Arabayona de Mógica",339,"Arabayona de Mógica","Salamanca","Castilla y León",14.576924753914419,"No",339,192,147,"DUERO","DUERO","37031 Arabayona de Mógica"]
["37034 Arco El",93,"Arco El","Salamanca","Castilla y León",13.105637213696435,"No",93,47,46,"DUERO","DUERO","37034 Arco El"]
["37035 Armenteros",192,"Armenteros","Salamanca","Castilla y León",4.9320364098340388,"Sí",192,114,78,"DUERO","DUERO","37035 Armenteros"]
["37038 Babilafuente",932,"Babilafuente","Salamanca","Castilla y León",41.237303158246469,"No",932,488,444,"DUERO","DUERO","37038 Babilafuente"]
["37041 Barbalos",74,"Barbalos","Salamanca","Castilla y León",1.9699522124200535,"Sí",74,42,32,"DUERO","DUERO","37041 Barbalos"]
["37045 Bastida La",32,"Bastida La","Salamanca","Castilla y León",1.7268607140050993,"Sí",32,18,14,"DUERO","DUERO - TAJO","37045 Bastida La"]
["37050 Berrocal de Huebra",79,"Berrocal de Huebra","Salamanca","Castilla y León",2.0415012921411089,"Sí",79,44,35,"DUERO","DUERO","37050 Berrocal de Huebra"]
["37054 Bodón El",256,"Bodón El","Salamanca","Castilla y León",4.2149091280410032,"Sí",256,140,116,"DUERO","DUERO","37054 Bodón El"]
["37057 Bóveda del Río Almar",221,"Bóveda del Río Almar","Salamanca","Castilla y León",9.6033102827814218,"Sí",221,122,99,"DUERO","DUERO","37057 Bóveda del Río Almar"]
["37060 Buenavista",365,"Buenavista","Salamanca","Castilla y León",13.496347518598522,"No",365,196,169,"DUERO","DUERO","37060 Buenavista"]
["37065 Cabeza del Caballo",257,"Cabeza del Caballo","Salamanca","Castilla y León",5.7134001531413547,"Sí",257,141,116,"DUERO","DUERO","37065 Cabeza del Caballo"]
["37062 Cabezabellosa de la Calzada",75,"Cabezabellosa de la Calzada","Salamanca","Castilla y León",8.8335144007485162,"Sí",75,44,31,"DUERO","DUERO","37062 Cabezabellosa de la Calzada"]
["37069 Calvarrasa de Abajo",1169,"Calvarrasa de Abajo","Salamanca","Castilla y León",41.513360501560939,"No",1169,620,549,"DUERO","DUERO","37069 Calvarrasa de Abajo"]
["37073 Calzada de Valdunciel",698,"Calzada de Valdunciel","Salamanca","Castilla y León",34.850778502981314,"No",698,349,349,"DUERO","DUERO","37073 Calzada de Valdunciel"]
["37077 Campo de Peñaranda El",249,"Campo de Peñaranda El","Salamanca","Castilla y León",5.5090585848555982,"Sí",249,147,102,"DUERO","DUERO","37077 Campo de Peñaranda El"]
["37080 Cantagallo",267,"Cantagallo","Salamanca","Castilla y León",35.54382180484339,"No",267,140,127,"TAJO","TAJO","37080 Cantagallo"]
["37085 Carbajosa de la Sagrada",7368,"Carbajosa de la Sagrada","Salamanca","Castilla y León",542.44275933151732,"No",7368,3673,3695,"DUERO","DUERO","37085 Carbajosa de la Sagrada"]
["37088 Carrascal del Obispo",194,"Carrascal del Obispo","Salamanca","Castilla y León",4.73518409712341,"Sí",194,106,88,"DUERO","DUERO","37088 Carrascal del Obispo"]
["37089 Casafranca",61,"Casafranca","Salamanca","Castilla y León",2.0604592797512584,"Sí",61,31,30,"DUERO","DUERO - TAJO","37089 Casafranca"]
["37091 Casillas de Flores",191,"Casillas de Flores","Salamanca","Castilla y León",4.486327271702315,"Sí",191,93,98,"DUERO","DUERO","37091 Casillas de Flores"]
["37096 Castillejo de Martín Viejo",211,"Castillejo de Martín Viejo","Salamanca","Castilla y León",1.3554409826060627,"Sí",211,126,85,"DUERO","DUERO","37096 Castillejo de Martín Viejo"]
["37100 Cerezal de Peñahorcada",64,"Cerezal de Peñahorcada","Salamanca","Castilla y León",3.5700529455586452,"Sí",64,31,33,"DUERO","DUERO","37100 Cerezal de Peñahorcada"]
["37103 Cespedosa de Tormes",518,"Cespedosa de Tormes","Salamanca","Castilla y León",11.18918580312649,"Sí",518,276,242,"DUERO","DUERO","37103 Cespedosa de Tormes"]
["37106 Cipérez",255,"Cipérez","Salamanca","Castilla y León",2.4364039568079279,"Sí",255,132,123,"DUERO","DUERO","37106 Cipérez"]
["37109 Colmenar de Montemayor",177,"Colmenar de Montemayor","Salamanca","Castilla y León",4.4269768665197446,"Sí",177,101,76,"TAJO","TAJO","37109 Colmenar de Montemayor"]
["37113 Cubo de Don Sancho El",427,"Cubo de Don Sancho El","Salamanca","Castilla y León",4.6849105274800014,"Sí",427,221,206,"DUERO","DUERO","37113 Cubo de Don Sancho El"]
["37117 Doñinos de Salamanca",2214,"Doñinos de Salamanca","Salamanca","Castilla y León",159.03115976382364,"No",2214,1152,1062,"DUERO","DUERO","37117 Doñinos de Salamanca"]
["37118 Éjeme",129,"Éjeme","Salamanca","Castilla y León",7.3882099403954733,"Sí",129,75,54,"DUERO","DUERO","37118 Éjeme"]
["37121 Encinas de Abajo",617,"Encinas de Abajo","Salamanca","Castilla y León",29.573125592271339,"No",617,323,294,"DUERO","DUERO","37121 Encinas de Abajo"]
["37125 Escurial de la Sierra",241,"Escurial de la Sierra","Salamanca","Castilla y León",11.492933491156903,"Sí",241,134,107,"DUERO","DUERO","37125 Escurial de la Sierra"]
["37127 Espeja",220,"Espeja","Salamanca","Castilla y León",2.235445219398787,"Sí",220,117,103,"DUERO","DUERO","37127 Espeja"]
["37130 Forfoleda",198,"Forfoleda","Salamanca","Castilla y León",5.2009725398368882,"Sí",198,113,85,"DUERO","DUERO","37130 Forfoleda"]
["37134 Fresno Alhándiga",196,"Fresno Alhándiga","Salamanca","Castilla y León",14.754490916992363,"No",196,107,89,"DUERO","DUERO","37134 Fresno Alhándiga"]
["37137 Fuenteliante",97,"Fuenteliante","Salamanca","Castilla y León",1.9338036290596219,"Sí",97,48,49,"DUERO","DUERO","37137 Fuenteliante"]
["37138 Fuenterroble de Salvatierra",264,"Fuenterroble de Salvatierra","Salamanca","Castilla y León",9.6891447116703215,"Sí",264,134,130,"DUERO","DUERO - TAJO","37138 Fuenterroble de Salvatierra"]
["37140 Fuentes de Oñoro",1119,"Fuentes de Oñoro","Salamanca","Castilla y León",19.47289195938362,"No",1119,606,513,"DUERO","DUERO","37140 Fuentes de Oñoro"]
["37143 Galinduste",414,"Galinduste","Salamanca","Castilla y León",13.087733272248814,"No",414,202,212,"DUERO","DUERO","37143 Galinduste"]
["37147 Garcibuey",189,"Garcibuey","Salamanca","Castilla y León",15.108882280063039,"No",189,107,82,"TAJO","TAJO","37147 Garcibuey"]
["37150 Gejuelo del Barro",34,"Gejuelo del Barro","Salamanca","Castilla y León",0.78462795676949193,"Sí",34,20,14,"DUERO","DUERO","37150 Gejuelo del Barro"]
["37154 Guadramiro",133,"Guadramiro","Salamanca","Castilla y León",4.2253691161735061,"Sí",133,82,51,"DUERO","DUERO","37154 Guadramiro"]
["37156 Guijuelo",5550,"Guijuelo","Salamanca","Castilla y León",87.772329268704823,"No",5550,2776,2774,"DUERO","DUERO","37156 Guijuelo"]
["37160 Hinojosa de Duero",616,"Hinojosa de Duero","Salamanca","Castilla y León",6.6321350629998994,"Sí",616,312,304,"DUERO","DUERO","37160 Hinojosa de Duero"]
["37161 Horcajo de Montemayor",133,"Horcajo de Montemayor","Salamanca","Castilla y León",4.4367255057641906,"Sí",133,71,62,"TAJO","TAJO","37161 Horcajo de Montemayor"]
["37164 Huerta",287,"Huerta","Salamanca","Castilla y León",20.210570198633992,"No",287,159,128,"DUERO","DUERO","37164 Huerta"]
["37167 Juzbado",199,"Juzbado","Salamanca","Castilla y León",9.1519979455374241,"Sí",199,100,99,"DUERO","DUERO","37167 Juzbado"]
["37171 Ledrada",466,"Ledrada","Salamanca","Castilla y León",27.49598653003482,"No",466,240,226,"TAJO","TAJO","37171 Ledrada"]
["37173 Lumbrales",1550,"Lumbrales","Salamanca","Castilla y León",22.160868547060684,"No",1550,780,770,"DUERO","DUERO","37173 Lumbrales"]
["37176 Madroñal",136,"Madroñal","Salamanca","Castilla y León",84.67679924189359,"No",136,76,60,"TAJO","TAJO","37176 Madroñal"]
["37180 Manzano El",65,"Manzano El","Salamanca","Castilla y León",1.7707042109716156,"Sí",65,34,31,"DUERO","DUERO","37180 Manzano El"]
["37182 Martinamor",81,"Martinamor","Salamanca","Castilla y León",3.3695946086486264,"Sí",81,53,28,"DUERO","DUERO","37182 Martinamor"]
["37184 Masueco",274,"Masueco","Salamanca","Castilla y León",13.865484558202141,"No",274,143,131,"DUERO","DUERO","37184 Masueco"]
["37189 Membribe de la Sierra",111,"Membribe de la Sierra","Salamanca","Castilla y León",2.3856783473275582,"Sí",111,66,45,"DUERO","DUERO - TAJO","37189 Membribe de la Sierra"]
["37190 Mieza",189,"Mieza","Salamanca","Castilla y León",5.4419496576466599,"Sí",189,98,91,"DUERO","DUERO","37190 Mieza"]
["37194 Mogarraz",260,"Mogarraz","Salamanca","Castilla y León",28.728669101310878,"No",260,134,126,"TAJO","TAJO","37194 Mogarraz"]
["37197 Monleón",96,"Monleón","Salamanca","Castilla y León",5.0263211685191456,"Sí",96,55,41,"TAJO","TAJO","37197 Monleón"]
["37201 Montemayor del Río",267,"Montemayor del Río","Salamanca","Castilla y León",17.455119423089346,"No",267,141,126,"TAJO","TAJO","37201 Montemayor del Río"]
["37202 Monterrubio de Armuña",1319,"Monterrubio de Armuña","Salamanca","Castilla y León",119.70559140370462,"No",1319,686,633,"DUERO","DUERO","37202 Monterrubio de Armuña"]
["37206 Moríñigo",96,"Moríñigo","Salamanca","Castilla y León",11.48629141032395,"Sí",96,52,44,"DUERO","DUERO","37206 Moríñigo"]
["37207 Moriscos",487,"Moriscos","Salamanca","Castilla y León",40.305030456781793,"No",487,264,223,"DUERO","DUERO","37207 Moriscos"]
["37211 Narros de Matalayegua",210,"Narros de Matalayegua","Salamanca","Castilla y León",2.8351033040766422,"Sí",210,117,93,"DUERO","DUERO - TAJO","37211 Narros de Matalayegua"]
["37215 Nava de Sotrobal",163,"Nava de Sotrobal","Salamanca","Castilla y León",3.6512907973785169,"Sí",163,95,68,"DUERO","DUERO","37215 Nava de Sotrobal"]
["37218 Navamorales",47,"Navamorales","Salamanca","Castilla y León",2.681278072838801,"Sí",47,27,20,"DUERO","DUERO","37218 Navamorales"]
["37221 Navasfrías",408,"Navasfrías","Salamanca","Castilla y León",6.8351783847535312,"Sí",408,219,189,"DUERO","DUERO","37221 Navasfrías"]
["37225 Pajares de la Laguna",104,"Pajares de la Laguna","Salamanca","Castilla y León",10.808060485232032,"Sí",104,57,47,"DUERO","DUERO","37225 Pajares de la Laguna"]
["37229 Palencia de Negrilla",151,"Palencia de Negrilla","Salamanca","Castilla y León",9.2325060518771451,"Sí",151,92,59,"DUERO","DUERO","37229 Palencia de Negrilla"]
["37232 Paradinas de San Juan",388,"Paradinas de San Juan","Salamanca","Castilla y León",10.890209205128963,"Sí",388,228,160,"DUERO","DUERO","37232 Paradinas de San Juan"]
["37233 Pastores",51,"Pastores","Salamanca","Castilla y León",4.0196860577898441,"Sí",51,31,20,"DUERO","DUERO","37233 Pastores"]
["37237 Pedrosillo de los Aires",323,"Pedrosillo de los Aires","Salamanca","Castilla y León",4.5886715530194078,"Sí",323,182,141,"DUERO","DUERO","37237 Pedrosillo de los Aires"]
["37238 Pedrosillo el Ralo",122,"Pedrosillo el Ralo","Salamanca","Castilla y León",15.028426515121,"No",122,64,58,"DUERO","DUERO","37238 Pedrosillo el Ralo"]
["37242 Pelayos",80,"Pelayos","Salamanca","Castilla y León",1.8017585433647021,"Sí",80,48,32,"DUERO","DUERO","37242 Pelayos"]
["37245 Peñaparda",339,"Peñaparda","Salamanca","Castilla y León",5.4460021974217243,"Sí",339,169,170,"DUERO","DUERO","37245 Peñaparda"]
["37249 Peralejos de Arriba",37,"Peralejos de Arriba","Salamanca","Castilla y León",1.1317623411648026,"Sí",37,25,12,"DUERO","DUERO","37249 Peralejos de Arriba"]
["37250 Pereña de la Ribera",327,"Pereña de la Ribera","Salamanca","Castilla y León",6.6962777296546809,"Sí",327,178,149,"DUERO","DUERO","37250 Pereña de la Ribera"]
["37254 Pitiegua",186,"Pitiegua","Salamanca","Castilla y León",9.4176590524893236,"Sí",186,102,84,"DUERO","DUERO","37254 Pitiegua"]
["37255 Pizarral",54,"Pizarral","Salamanca","Castilla y León",3.239370590294306,"Sí",54,34,20,"DUERO","DUERO","37255 Pizarral"]
["37258 Puebla de Azaba",140,"Puebla de Azaba","Salamanca","Castilla y León",5.3891090724881359,"Sí",140,79,61,"DUERO","DUERO","37258 Puebla de Azaba"]
["37262 Puertas",73,"Puertas","Salamanca","Castilla y León",1.1641565511163681,"Sí",73,42,31,"DUERO","DUERO","37262 Puertas"]
["37265 Rágama",210,"Rágama","Salamanca","Castilla y León",6.632609166114265,"Sí",210,106,104,"DUERO","DUERO","37265 Rágama"]
["37267 Retortillo",182,"Retortillo","Salamanca","Castilla y León",2.8184607007854754,"Sí",182,98,84,"DUERO","DUERO","37267 Retortillo"]
["37271 Rollán",352,"Rollán","Salamanca","Castilla y León",15.319818178130664,"No",352,190,162,"DUERO","DUERO","37271 Rollán"]
["37303 Sahugo El",186,"Sahugo El","Salamanca","Castilla y León",3.1539235241032588,"Sí",186,101,85,"DUERO","DUERO","37303 Sahugo El"]
["37276 Salmoral",124,"Salmoral","Salamanca","Castilla y León",5.3920456368827754,"Sí",124,71,53,"DUERO","DUERO","37276 Salmoral"]
["37277 Salvatierra de Tormes",76,"Salvatierra de Tormes","Salamanca","Castilla y León",2.1920003064185694,"Sí",76,39,37,"DUERO","DUERO","37277 Salvatierra de Tormes"]
["37286 San Martín del Castañar",228,"San Martín del Castañar","Salamanca","Castilla y León",14.706552988452195,"No",228,124,104,"DUERO","TAJO","37286 San Martín del Castañar"]
["37036 San Miguel del Robledo",54,"San Miguel del Robledo","Salamanca","Castilla y León",5.1995345453705122,"Sí",54,31,23,"DUERO","DUERO - TAJO","37036 San Miguel del Robledo"]
["37291 San Pedro de Rozados",276,"San Pedro de Rozados","Salamanca","Castilla y León",2.7009340035290053,"Sí",276,157,119,"DUERO","DUERO","37291 San Pedro de Rozados"]
["37280 Sanchón de la Ribera",79,"Sanchón de la Ribera","Salamanca","Castilla y León",2.7019041481376749,"Sí",79,42,37,"DUERO","DUERO","37280 Sanchón de la Ribera"]
["37283 Sando",116,"Sando","Salamanca","Castilla y León",1.9147400585210588,"Sí",116,67,49,"DUERO","DUERO","37283 Sando"]
["37296 Santiago de la Puebla",297,"Santiago de la Puebla","Salamanca","Castilla y León",5.5685982208947422,"Sí",297,153,144,"DUERO","DUERO","37296 Santiago de la Puebla"]
["37298 Santibáñez de la Sierra",178,"Santibáñez de la Sierra","Salamanca","Castilla y León",13.081158002898139,"No",178,100,78,"TAJO","TAJO","37298 Santibáñez de la Sierra"]
["37299 Santiz",253,"Santiz","Salamanca","Castilla y León",9.352171391219775,"Sí",253,138,115,"DUERO","DUERO","37299 Santiz"]
["37302 Saucelle",275,"Saucelle","Salamanca","Castilla y León",5.966936661509787,"Sí",275,135,140,"DUERO","DUERO","37302 Saucelle"]
["37307 Serradilla del Llano",147,"Serradilla del Llano","Salamanca","Castilla y León",2.1772567199251309,"Sí",147,77,70,"DUERO","DUERO","37307 Serradilla del Llano"]
["37311 Sobradillo",196,"Sobradillo","Salamanca","Castilla y León",3.7184806591576121,"Sí",196,99,97,"DUERO","DUERO","37311 Sobradillo"]
["37313 Sotoserrano",553,"Sotoserrano","Salamanca","Castilla y León",9.6387810166560932,"Sí",553,298,255,"TAJO","TAJO","37313 Sotoserrano"]
["37317 Tarazona de Guareña",288,"Tarazona de Guareña","Salamanca","Castilla y León",9.8422754848807266,"Sí",288,156,132,"DUERO","DUERO","37317 Tarazona de Guareña"]
["37320 Tejeda y Segoyuela",90,"Tejeda y Segoyuela","Salamanca","Castilla y León",2.0408229904424178,"Sí",90,49,41,"DUERO","DUERO","37320 Tejeda y Segoyuela"]
["37321 Tenebrón",135,"Tenebrón","Salamanca","Castilla y León",3.3700572213249131,"Sí",135,72,63,"DUERO","DUERO","37321 Tenebrón"]
["37324 Tordillos",328,"Tordillos","Salamanca","Castilla y León",13.075460275137186,"No",328,179,149,"DUERO","DUERO","37324 Tordillos"]
["37328 Trabanca",174,"Trabanca","Salamanca","Castilla y León",5.8590372214532884,"Sí",174,85,89,"DUERO","DUERO","37328 Trabanca"]
["37331 Valdefuentes de Sangusín",188,"Valdefuentes de Sangusín","Salamanca","Castilla y León",5.4395286729419157,"Sí",188,107,81,"TAJO","TAJO","37331 Valdefuentes de Sangusín"]
["37334 Valdelageve",65,"Valdelageve","Salamanca","Castilla y León",3.9754544433715471,"Sí",65,35,30,"TAJO","TAJO","37334 Valdelageve"]
["37337 Valderrodrigo",136,"Valderrodrigo","Salamanca","Castilla y León",6.08510702271463,"Sí",136,72,64,"DUERO","DUERO","37337 Valderrodrigo"]
["37340 Valsalabroso",133,"Valsalabroso","Salamanca","Castilla y León",4.8567377394850997,"Sí",133,75,58,"DUERO","DUERO","37340 Valsalabroso"]
["37344 Vecinos",239,"Vecinos","Salamanca","Castilla y León",5.3037476236325762,"Sí",239,119,120,"DUERO","DUERO","37344 Vecinos"]
["37346 Veguillas Las",284,"Veguillas Las","Salamanca","Castilla y León",6.4987747864471705,"Sí",284,142,142,"DUERO","DUERO","37346 Veguillas Las"]
["37347 Vellés La",514,"Vellés La","Salamanca","Castilla y León",20.153711653005466,"No",514,282,232,"DUERO","DUERO","37347 Vellés La"]
["37351 Villaflores",260,"Villaflores","Salamanca","Castilla y León",6.1854213757647534,"Sí",260,129,131,"DUERO","DUERO","37351 Villaflores"]
["37355 Villanueva del Conde",171,"Villanueva del Conde","Salamanca","Castilla y León",13.162463517461317,"No",171,87,84,"TAJO","TAJO","37355 Villanueva del Conde"]
["37358 Villar de Gallimazo",210,"Villar de Gallimazo","Salamanca","Castilla y León",4.7422851432629667,"Sí",210,141,69,"DUERO","DUERO","37358 Villar de Gallimazo"]
["37360 Villar de Peralonso",212,"Villar de Peralonso","Salamanca","Castilla y León",6.6961296370697747,"Sí",212,113,99,"DUERO","DUERO","37360 Villar de Peralonso"]
["37364 Villarino de los Aires",789,"Villarino de los Aires","Salamanca","Castilla y León",7.6865897747897396,"Sí",789,414,375,"DUERO","DUERO","37364 Villarino de los Aires"]
["37367 Villasbuenas",181,"Villasbuenas","Salamanca","Castilla y León",4.5809458316822314,"Sí",181,99,82,"DUERO","DUERO","37367 Villasbuenas"]
["37368 Villasdardo",24,"Villasdardo","Salamanca","Castilla y León",1.1143654710144255,"Sí",24,8,16,"DUERO","DUERO","37368 Villasdardo"]
["37371 Villasrubias",251,"Villasrubias","Salamanca","Castilla y León",6.3538667354673146,"Sí",251,135,116,"DUERO","DUERO","37371 Villasrubias"]
["37374 Villoria",1344,"Villoria","Salamanca","Castilla y León",42.458830019770211,"No",1344,685,659,"DUERO","DUERO","37374 Villoria"]
["37376 Vitigudino",2410,"Vitigudino","Salamanca","Castilla y León",46.057102130324438,"No",2410,1164,1246,"DUERO","DUERO","37376 Vitigudino"]
["37379 Zamayón",198,"Zamayón","Salamanca","Castilla y León",6.4077924970380948,"Sí",198,114,84,"DUERO","DUERO","37379 Zamayón"]
["38001 Adeje",48733,"Adeje","Santa Cruz de Tenerife","Canarias",459.95269564954765,"No",48733,24562,24171,"TENERIFE","TENERIFE","38001 Adeje"]
["38004 Arafo",5604,"Arafo","Santa Cruz de Tenerife","Canarias",163.08808036831601,"No",5604,2794,2810,"TENERIFE","TENERIFE","38004 Arafo"]
["38007 Barlovento",1921,"Barlovento","Santa Cruz de Tenerife","Canarias",44.165793007044449,"No",1921,970,951,"LA PALMA","LA PALMA","38007 Barlovento"]
["38009 Breña Baja",5866,"Breña Baja","Santa Cruz de Tenerife","Canarias",414.30064694748137,"No",5866,2957,2909,"LA PALMA","LA PALMA","38009 Breña Baja"]
["38010 Buenavista del Norte",4766,"Buenavista del Norte","Santa Cruz de Tenerife","Canarias",71.815936628387945,"No",4766,2385,2381,"TENERIFE","TENERIFE","38010 Buenavista del Norte"]
["38013 Frontera",4278,"Frontera","Santa Cruz de Tenerife","Canarias",52.623097825084166,"No",4278,2137,2141,"EL HIERRO","EL HIERRO","38013 Frontera"]
["38017 Granadilla de Abona",51850,"Granadilla de Abona","Santa Cruz de Tenerife","Canarias",319.06946176027884,"No",51850,25952,25898,"TENERIFE","TENERIFE","38017 Granadilla de Abona"]
["38020 Güímar",21000,"Güímar","Santa Cruz de Tenerife","Canarias",204.10483990891092,"No",21000,10342,10658,"TENERIFE","TENERIFE","38020 Güímar"]
["38025 Matanza de Acentejo La",9114,"Matanza de Acentejo La","Santa Cruz de Tenerife","Canarias",648.65095689182749,"No",9114,4577,4537,"TENERIFE","TENERIFE","38025 Matanza de Acentejo La"]
["38027 Paso El",7745,"Paso El","Santa Cruz de Tenerife","Canarias",56.973790585090306,"No",7745,3868,3877,"LA PALMA","LA PALMA","38027 Paso El"]
["38029 Puntagorda",2234,"Puntagorda","Santa Cruz de Tenerife","Canarias",72.518811392659828,"No",2234,1133,1101,"LA PALMA","LA PALMA","38029 Puntagorda"]
["38030 Puntallana",2549,"Puntallana","Santa Cruz de Tenerife","Canarias",72.723849085887764,"No",2549,1286,1263,"LA PALMA","LA PALMA","38030 Puntallana"]
["38033 San Andrés y Sauces",4213,"San Andrés y Sauces","Santa Cruz de Tenerife","Canarias",98.267203758084946,"No",4213,2101,2112,"LA PALMA","LA PALMA","38033 San Andrés y Sauces"]
["38036 San Sebastián de la Gomera",9261,"San Sebastián de la Gomera","Santa Cruz de Tenerife","Canarias",81.858391435319405,"No",9261,4644,4617,"LA GOMERA","LA GOMERA","38036 San Sebastián de la Gomera"]
["38038 Santa Cruz de Tenerife",208563,"Santa Cruz de Tenerife","Santa Cruz de Tenerife","Canarias",1386.3524419353616,"No",208563,99438,109125,"TENERIFE","TENERIFE","38038 Santa Cruz de Tenerife"]
["38041 Sauzal El",8918,"Sauzal El","Santa Cruz de Tenerife","Canarias",489.97038640521725,"No",8918,4437,4481,"TENERIFE","TENERIFE","38041 Sauzal El"]
["38045 Tazacorte",4558,"Tazacorte","Santa Cruz de Tenerife","Canarias",378.63432463864427,"No",4558,2342,2216,"LA PALMA","LA PALMA","38045 Tazacorte"]
["38049 Valle Gran Rey",4643,"Valle Gran Rey","Santa Cruz de Tenerife","Canarias",144.1558360914301,"No",4643,2374,2269,"LA GOMERA","LA GOMERA","38049 Valle Gran Rey"]
["38051 Victoria de Acentejo La",9161,"Victoria de Acentejo La","Santa Cruz de Tenerife","Canarias",506.51598170991298,"No",9161,4568,4593,"TENERIFE","TENERIFE","38051 Victoria de Acentejo La"]
["38052 Vilaflor de Chasna",1789,"Vilaflor de Chasna","Santa Cruz de Tenerife","Canarias",31.792518717423334,"No",1789,907,882,"TENERIFE","TENERIFE","38052 Vilaflor de Chasna"]
["40002 Adrada de Pirón",39,"Adrada de Pirón","Segovia","Castilla y León",3.6380098146042217,"Sí",39,20,19,"DUERO","DUERO","40002 Adrada de Pirón"]
["40005 Alconada de Maderuelo",22,"Alconada de Maderuelo","Segovia","Castilla y León",1.822514884976115,"Sí",22,14,8,"DUERO","DUERO","40005 Alconada de Maderuelo"]
["40007 Aldealengua de Pedraza",80,"Aldealengua de Pedraza","Segovia","Castilla y León",2.2737608003638017,"Sí",80,48,32,"DUERO","DUERO","40007 Aldealengua de Pedraza"]
["40010 Aldeanueva del Codonal",116,"Aldeanueva del Codonal","Segovia","Castilla y León",5.2520323554169828,"Sí",116,63,53,"DUERO","DUERO","40010 Aldeanueva del Codonal"]
["40016 Aldeonte",56,"Aldeonte","Segovia","Castilla y León",2.7236833459360437,"Sí",56,32,24,"DUERO","DUERO","40016 Aldeonte"]
["40018 Añe",68,"Añe","Segovia","Castilla y León",5.8537571350197499,"Sí",68,40,28,"DUERO","DUERO","40018 Añe"]
["40019 Arahuetes",28,"Arahuetes","Segovia","Castilla y León",1.7118137155405786,"Sí",28,23,5,"DUERO","DUERO","40019 Arahuetes"]
["40022 Armuña",246,"Armuña","Segovia","Castilla y León",5.366807668993629,"Sí",246,143,103,"DUERO","DUERO","40022 Armuña"]
["40026 Basardilla",168,"Basardilla","Segovia","Castilla y León",8.8348039951404367,"Sí",168,77,91,"DUERO","DUERO","40026 Basardilla"]
["40031 Bernuy de Porreros",788,"Bernuy de Porreros","Segovia","Castilla y León",84.997489985289405,"No",788,412,376,"DUERO","DUERO","40031 Bernuy de Porreros"]
["40033 Brieva",94,"Brieva","Segovia","Castilla y León",6.8607274516900789,"Sí",94,53,41,"DUERO","DUERO","40033 Brieva"]
["40036 Cabezuela",640,"Cabezuela","Segovia","Castilla y León",18.15377318091463,"No",640,332,308,"DUERO","DUERO","40036 Cabezuela"]
["40041 Cantimpalos",1346,"Cantimpalos","Segovia","Castilla y León",51.190915187074268,"No",1346,716,630,"DUERO","DUERO","40041 Cantimpalos"]
["40044 Carrascal del Río",150,"Carrascal del Río","Segovia","Castilla y León",4.9154715844452461,"Sí",150,82,68,"DUERO","DUERO","40044 Carrascal del Río"]
["40045 Casla",159,"Casla","Segovia","Castilla y León",9.0381909611723863,"Sí",159,82,77,"DUERO","DUERO","40045 Casla"]
["40048 Castrojimeno",32,"Castrojimeno","Segovia","Castilla y León",1.7464568211473217,"Sí",32,17,15,"DUERO","DUERO","40048 Castrojimeno"]
["40052 Cedillo de la Torre",89,"Cedillo de la Torre","Segovia","Castilla y León",3.7490648926484758,"Sí",89,47,42,"DUERO","DUERO","40052 Cedillo de la Torre"]
["40065 Chañe",708,"Chañe","Segovia","Castilla y León",20.081910368307341,"No",708,361,347,"DUERO","DUERO","40065 Chañe"]
["40057 Coca",1726,"Coca","Segovia","Castilla y León",17.532042245030219,"No",1726,867,859,"DUERO","DUERO","40057 Coca"]
["40060 Condado de Castilnovo",85,"Condado de Castilnovo","Segovia","Castilla y León",3.5646838301579971,"Sí",85,46,39,"DUERO","DUERO","40060 Condado de Castilnovo"]
["40063 Cuéllar",9620,"Cuéllar","Segovia","Castilla y León",35.195047827015124,"No",9620,4856,4764,"DUERO","DUERO","40063 Cuéllar"]
["40068 Domingo García",32,"Domingo García","Segovia","Castilla y León",1.801887533500327,"Sí",32,19,13,"DUERO","DUERO","40068 Domingo García"]
["40069 Donhierro",85,"Donhierro","Segovia","Castilla y León",4.9358662573033403,"Sí",85,47,38,"DUERO","DUERO","40069 Donhierro"]
["40072 Encinillas",319,"Encinillas","Segovia","Castilla y León",38.558935338236807,"No",319,178,141,"DUERO","DUERO","40072 Encinillas"]
["40075 Escobar de Polendos",168,"Escobar de Polendos","Segovia","Castilla y León",4.2367232818990086,"Sí",168,93,75,"DUERO","DUERO","40075 Escobar de Polendos"]
["40079 Fresno de Cantespino",313,"Fresno de Cantespino","Segovia","Castilla y León",4.942684910027185,"Sí",313,179,134,"DUERO","DUERO","40079 Fresno de Cantespino"]
["40082 Fuente de Santa Cruz",108,"Fuente de Santa Cruz","Segovia","Castilla y León",6.1285820781987779,"Sí",108,57,51,"DUERO","DUERO","40082 Fuente de Santa Cruz"]
["40086 Fuentepelayo",804,"Fuentepelayo","Segovia","Castilla y León",26.019861244882723,"No",804,429,375,"DUERO","DUERO","40086 Fuentepelayo"]
["40089 Fuentesaúco de Fuentidueña",234,"Fuentesaúco de Fuentidueña","Segovia","Castilla y León",9.0512901801856582,"Sí",234,124,110,"DUERO","DUERO","40089 Fuentesaúco de Fuentidueña"]
["40093 Gallegos",99,"Gallegos","Segovia","Castilla y León",4.5421849230842923,"Sí",99,57,42,"DUERO","DUERO","40093 Gallegos"]
["40094 Garcillán",512,"Garcillán","Segovia","Castilla y León",22.850606971479188,"No",512,268,244,"DUERO","DUERO","40094 Garcillán"]
["40099 Honrubia de la Cuesta",54,"Honrubia de la Cuesta","Segovia","Castilla y León",2.5945532064065091,"Sí",54,32,22,"DUERO","DUERO","40099 Honrubia de la Cuesta"]
["40103 Huertos Los",171,"Huertos Los","Segovia","Castilla y León",9.8995267505185538,"Sí",171,95,76,"DUERO","DUERO","40103 Huertos Los"]
["40106 Juarros de Voltoya",188,"Juarros de Voltoya","Segovia","Castilla y León",8.693311976147033,"Sí",188,97,91,"DUERO","DUERO","40106 Juarros de Voltoya"]
["40109 Languilla",70,"Languilla","Segovia","Castilla y León",2.6254131743983211,"Sí",70,41,29,"DUERO","DUERO","40109 Languilla"]
["40113 Losa La",521,"Losa La","Segovia","Castilla y León",18.605598592459685,"No",521,292,229,"DUERO","DUERO","40113 Losa La"]
["40118 Marazuela",52,"Marazuela","Segovia","Castilla y León",3.3879073078984892,"Sí",52,32,20,"DUERO","DUERO","40118 Marazuela"]
["40121 Martín Muñoz de las Posadas",277,"Martín Muñoz de las Posadas","Segovia","Castilla y León",6.0758683814244163,"Sí",277,152,125,"DUERO","DUERO","40121 Martín Muñoz de las Posadas"]
["40122 Marugán",714,"Marugán","Segovia","Castilla y León",24.631718719571506,"No",714,393,321,"DUERO","DUERO","40122 Marugán"]
["40123 Matabuena",183,"Matabuena","Segovia","Castilla y León",8.5429343840551315,"Sí",183,103,80,"DUERO","DUERO","40123 Matabuena"]
["40127 Membibre de la Hoz",35,"Membibre de la Hoz","Segovia","Castilla y León",2.2325613200076209,"Sí",35,18,17,"DUERO","DUERO","40127 Membibre de la Hoz"]
["40131 Monterrubio",60,"Monterrubio","Segovia","Castilla y León",2.3490368009501381,"Sí",60,32,28,"DUERO","DUERO","40131 Monterrubio"]
["40135 Muñopedro",315,"Muñopedro","Segovia","Castilla y León",3.6117828326481232,"Sí",315,166,149,"DUERO","DUERO","40135 Muñopedro"]
["40139 Navafría",299,"Navafría","Segovia","Castilla y León",9.814412415395827,"Sí",299,163,136,"DUERO","DUERO","40139 Navafría"]
["40142 Navares de Ayuso",52,"Navares de Ayuso","Segovia","Castilla y León",3.5032648070034575,"Sí",52,26,26,"DUERO","DUERO","40142 Navares de Ayuso"]
["40145 Navas de Oro",1304,"Navas de Oro","Segovia","Castilla y León",20.941909936232847,"No",1304,666,638,"DUERO","DUERO","40145 Navas de Oro"]
["40904 Navas de Riofrío",367,"Navas de Riofrío","Segovia","Castilla y León",24.702431614481601,"No",367,178,189,"DUERO","DUERO","40904 Navas de Riofrío"]
["40149 Olombrada",519,"Olombrada","Segovia","Castilla y León",7.803420324830677,"Sí",519,285,234,"DUERO","DUERO","40149 Olombrada"]
["40901 Ortigosa del Monte",580,"Ortigosa del Monte","Segovia","Castilla y León",37.629941703434795,"No",580,300,280,"DUERO","DUERO","40901 Ortigosa del Monte"]
["40155 Palazuelos de Eresma",5597,"Palazuelos de Eresma","Segovia","Castilla y León",152.52384312558931,"No",5597,2921,2676,"DUERO","DUERO","40155 Palazuelos de Eresma"]
["40158 Perosillo",15,"Perosillo","Segovia","Castilla y León",1.4824000570822848,"Sí",15,12,3,"DUERO","DUERO","40158 Perosillo"]
["40163 Puebla de Pedraza",43,"Puebla de Pedraza","Segovia","Castilla y León",2.4420348942933958,"Sí",43,23,20,"DUERO","DUERO","40163 Puebla de Pedraza"]
["40165 Rebollo",73,"Rebollo","Segovia","Castilla y León",5.224467828907982,"Sí",73,38,35,"DUERO","DUERO","40165 Rebollo"]
["40170 Riaza",2135,"Riaza","Segovia","Castilla y León",14.290198797749177,"No",2135,1135,1000,"DUERO","DUERO","40170 Riaza"]
["40171 Ribota",45,"Ribota","Segovia","Castilla y León",2.08030466015519,"Sí",45,35,10,"DUERO","DUERO","40171 Ribota"]
["40173 Roda de Eresma",201,"Roda de Eresma","Segovia","Castilla y León",20.172481744154922,"No",201,109,92,"DUERO","DUERO","40173 Roda de Eresma"]
["40178 San Cristóbal de la Vega",88,"San Cristóbal de la Vega","Segovia","Castilla y León",5.8042937262840191,"Sí",88,49,39,"DUERO","DUERO","40178 San Cristóbal de la Vega"]
["40183 San Miguel de Bernuy",138,"San Miguel de Bernuy","Segovia","Castilla y León",7.532721487120793,"Sí",138,69,69,"DUERO","DUERO","40183 San Miguel de Bernuy"]
["40180 Sangarcía",306,"Sangarcía","Segovia","Castilla y León",8.1559716025060904,"Sí",306,173,133,"DUERO","DUERO","40180 Sangarcía"]
["40188 Santiuste de Pedraza",85,"Santiuste de Pedraza","Segovia","Castilla y León",2.9272593276257517,"Sí",85,57,28,"DUERO","DUERO","40188 Santiuste de Pedraza"]
["40191 Santo Tomé del Puerto",259,"Santo Tomé del Puerto","Segovia","Castilla y León",4.5609431819182378,"Sí",259,141,118,"DUERO","DUERO","40191 Santo Tomé del Puerto"]
["40192 Sauquillo de Cabezas",141,"Sauquillo de Cabezas","Segovia","Castilla y León",6.9542850454906411,"Sí",141,78,63,"DUERO","DUERO","40192 Sauquillo de Cabezas"]
["40195 Sepúlveda",987,"Sepúlveda","Segovia","Castilla y León",7.4716896769727379,"Sí",987,510,477,"DUERO","DUERO","40195 Sepúlveda"]
["40199 Sotosalbos",137,"Sotosalbos","Segovia","Castilla y León",5.7281412457611758,"Sí",137,75,62,"DUERO","DUERO","40199 Sotosalbos"]
["40202 Torreadrada",50,"Torreadrada","Segovia","Castilla y León",1.52175602854303,"Sí",50,26,24,"DUERO","DUERO","40202 Torreadrada"]
["40205 Torreiglesias",261,"Torreiglesias","Segovia","Castilla y León",4.738409306192306,"Sí",261,130,131,"DUERO","DUERO","40205 Torreiglesias"]
["40208 Turégano",998,"Turégano","Segovia","Castilla y León",14.101024373013068,"No",998,508,490,"DUERO","DUERO","40208 Turégano"]
["40213 Valdevacas y Guijar",96,"Valdevacas y Guijar","Segovia","Castilla y León",5.2843805929801624,"Sí",96,53,43,"DUERO","DUERO","40213 Valdevacas y Guijar"]
["40220 Valleruela de Pedraza",73,"Valleruela de Pedraza","Segovia","Castilla y León",7.5259066449425704,"Sí",73,34,39,"DUERO","DUERO","40220 Valleruela de Pedraza"]
["40221 Valleruela de Sepúlveda",53,"Valleruela de Sepúlveda","Segovia","Castilla y León",3.3137536344218219,"Sí",53,26,27,"DUERO","DUERO","40221 Valleruela de Sepúlveda"]
["40216 Valverde del Majano",1112,"Valverde del Majano","Segovia","Castilla y León",35.870976998961801,"No",1112,567,545,"DUERO","DUERO","40216 Valverde del Majano"]
["40223 Vegas de Matute",313,"Vegas de Matute","Segovia","Castilla y León",14.281120340659015,"No",313,183,130,"DUERO","DUERO","40223 Vegas de Matute"]
["40229 Villaverde de Montejo",31,"Villaverde de Montejo","Segovia","Castilla y León",1.2499228374248348,"Sí",31,20,11,"DUERO","DUERO","40229 Villaverde de Montejo"]
["40233 Zarzuela del Monte",512,"Zarzuela del Monte","Segovia","Castilla y León",18.040383751378705,"No",512,266,246,"DUERO","DUERO","40233 Zarzuela del Monte"]
["41002 Alanís",1716,"Alanís","Sevilla","Andalucía",6.1043849832129418,"Sí",1716,854,862,"GUADALQUIVIR","GUADALQUIVIR","41002 Alanís"]
["41006 Alcolea del Río",3348,"Alcolea del Río","Sevilla","Andalucía",66.73018125575517,"No",3348,1664,1684,"GUADALQUIVIR","GUADALQUIVIR","41006 Alcolea del Río"]
["41007 Algaba La",16484,"Algaba La","Sevilla","Andalucía",909.98421163039757,"No",16484,8171,8313,"GUADALQUIVIR","GUADALQUIVIR","41007 Algaba La"]
["41009 Almadén de la Plata",1331,"Almadén de la Plata","Sevilla","Andalucía",5.2037681239551494,"Sí",1331,689,642,"GUADALQUIVIR","GUADALQUIVIR","41009 Almadén de la Plata"]
["41012 Aznalcázar",4614,"Aznalcázar","Sevilla","Andalucía",10.261964785936614,"Sí",4614,2344,2270,"GUADALQUIVIR","GUADALQUIVIR","41012 Aznalcázar"]
["41015 Benacazón",7322,"Benacazón","Sevilla","Andalucía",227.74282044024471,"No",7322,3688,3634,"GUADALQUIVIR","GUADALQUIVIR","41015 Benacazón"]
["41019 Burguillos",6902,"Burguillos","Sevilla","Andalucía",159.98056683465165,"No",6902,3481,3421,"GUADALQUIVIR","GUADALQUIVIR","41019 Burguillos"]
["41022 Campana La",5228,"Campana La","Sevilla","Andalucía",41.566718638316274,"No",5228,2619,2609,"GUADALQUIVIR","GUADALQUIVIR","41022 Campana La"]
["41024 Carmona",29123,"Carmona","Sevilla","Andalucía",31.584205533000144,"No",29123,14675,14448,"GUADALQUIVIR","GUADALQUIVIR","41024 Carmona"]
["41027 Castilblanco de los Arroyos",5059,"Castilblanco de los Arroyos","Sevilla","Andalucía",15.636131548731168,"No",5059,2562,2497,"GUADALQUIVIR","GUADALQUIVIR","41027 Castilblanco de los Arroyos"]
["41030 Castilleja del Campo",633,"Castilleja del Campo","Sevilla","Andalucía",39.028300141808984,"No",633,320,313,"GUADALQUIVIR","GUADALQUIVIR","41030 Castilleja del Campo"]
["41031 Castillo de las Guardas El",1512,"Castillo de las Guardas El","Sevilla","Andalucía",5.84376508528148,"Sí",1512,801,711,"GUADALQUIVIR","GUADALQUIVIR","41031 Castillo de las Guardas El"]
["41034 Coria del Río",30774,"Coria del Río","Sevilla","Andalucía",491.08047598454664,"No",30774,15307,15467,"GUADALQUIVIR","GUADALQUIVIR","41034 Coria del Río"]
["41903 Cuervo de Sevilla El",8667,"Cuervo de Sevilla El","Sevilla","Andalucía",284.75147474783051,"No",8667,4366,4301,"GUADALQUIVIR","GUADALQUIVIR","41903 Cuervo de Sevilla El"]
["41039 Écija",39838,"Écija","Sevilla","Andalucía",40.714422735241072,"No",39838,19621,20217,"GUADALQUIVIR","GUADALQUIVIR","41039 Écija"]
["41042 Fuentes de Andalucía",7160,"Fuentes de Andalucía","Sevilla","Andalucía",47.568587458767801,"No",7160,3567,3593,"GUADALQUIVIR","GUADALQUIVIR","41042 Fuentes de Andalucía"]
["41046 Gilena",3709,"Gilena","Sevilla","Andalucía",72.769310162439197,"No",3709,1859,1850,"GUADALQUIVIR","GUADALQUIVIR","41046 Gilena"]
["41049 Guillena",13054,"Guillena","Sevilla","Andalucía",57.530710002296111,"No",13054,6562,6492,"GUADALQUIVIR","GUADALQUIVIR","41049 Guillena"]
["41050 Herrera",6504,"Herrera","Sevilla","Andalucía",121.62617335409904,"No",6504,3232,3272,"GUADALQUIVIR","GUADALQUIVIR","41050 Herrera"]
["41902 Isla Mayor",5826,"Isla Mayor","Sevilla","Andalucía",50.934489643582715,"No",5826,2913,2913,"GUADALQUIVIR","GUADALQUIVIR","41902 Isla Mayor"]
["41054 Lora de Estepa",875,"Lora de Estepa","Sevilla","Andalucía",48.374709281818561,"No",875,448,427,"GUADALQUIVIR","GUADALQUIVIR","41054 Lora de Estepa"]
["41058 Mairena del Alcor",23893,"Mairena del Alcor","Sevilla","Andalucía",341.72643863927283,"No",23893,11958,11935,"GUADALQUIVIR","GUADALQUIVIR","41058 Mairena del Alcor"]
["41061 Marinaleda",2618,"Marinaleda","Sevilla","Andalucía",105.47044329815505,"No",2618,1335,1283,"GUADALQUIVIR","GUADALQUIVIR","41061 Marinaleda"]
["41064 Montellano",7014,"Montellano","Sevilla","Andalucía",60.096982855566317,"No",7014,3519,3495,"GUADALQUIVIR","GUADALETE Y BARBATE - GUADALQUIVIR","41064 Montellano"]
["41067 Olivares",9452,"Olivares","Sevilla","Andalucía",207.7723384939363,"No",9452,4719,4733,"GUADALQUIVIR","GUADALQUIVIR","41067 Olivares"]
["41904 Palmar de Troya El",2340,"Palmar de Troya El","Sevilla","Andalucía",70.86571250325558,"No",2340,1172,1168,"GUADALQUIVIR","GUADALQUIVIR","41904 Palmar de Troya El"]
["41072 Pedrera",5147,"Pedrera","Sevilla","Andalucía",84.880906415279782,"No",5147,2541,2606,"GUADALQUIVIR","GUADALQUIVIR","41072 Pedrera"]
["41073 Pedroso El",2038,"Pedroso El","Sevilla","Andalucía",6.487838327398352,"Sí",2038,1013,1025,"GUADALQUIVIR","GUADALQUIVIR","41073 Pedroso El"]
["41076 Pruna",2604,"Pruna","Sevilla","Andalucía",25.874756559678055,"No",2604,1319,1285,"GUADALQUIVIR","GUADALETE Y BARBATE","41076 Pruna"]
["41080 Real de la Jara El",1513,"Real de la Jara El","Sevilla","Andalucía",9.6155672691199818,"Sí",1513,752,761,"GUADALQUIVIR","GUADALQUIVIR","41080 Real de la Jara El"]
["41082 Roda de Andalucía La",4223,"Roda de Andalucía La","Sevilla","Andalucía",55.027891831035831,"No",4223,2085,2138,"GUADALQUIVIR","GUADALQUIVIR","41082 Roda de Andalucía La"]
["41085 Salteras",5646,"Salteras","Sevilla","Andalucía",98.275051783258775,"No",5646,2724,2922,"GUADALQUIVIR","GUADALQUIVIR","41085 Salteras"]
["41089 Santiponce",8491,"Santiponce","Sevilla","Andalucía",1016.338500209468,"No",8491,4222,4269,"GUADALQUIVIR","GUADALQUIVIR","41089 Santiponce"]
["41092 Tocina",9508,"Tocina","Sevilla","Andalucía",608.76914408646212,"No",9508,4712,4796,"GUADALQUIVIR","GUADALQUIVIR","41092 Tocina"]
["41093 Tomares",25370,"Tomares","Sevilla","Andalucía",4860.8982219497238,"No",25370,12519,12851,"GUADALQUIVIR","GUADALQUIVIR","41093 Tomares"]
["41095 Utrera",51145,"Utrera","Sevilla","Andalucía",78.531551350145378,"No",51145,25205,25940,"GUADALQUIVIR","GUADALQUIVIR","41095 Utrera"]
["41100 Villanueva de San Juan",1076,"Villanueva de San Juan","Sevilla","Andalucía",30.970021364709531,"No",1076,533,543,"GUADALQUIVIR","GUADALQUIVIR","41100 Villanueva de San Juan"]
["41102 Viso del Alcor El",19251,"Viso del Alcor El","Sevilla","Andalucía",952.1901709401709,"No",19251,9624,9627,"GUADALQUIVIR","GUADALQUIVIR","41102 Viso del Alcor El"]
["42004 Ágreda",3006,"Ágreda","Soria","Castilla y León",18.239162381939952,"No",3006,1546,1460,"DUERO","EBRO","42004 Ágreda"]
["42008 Alcubilla de las Peñas",51,"Alcubilla de las Peñas","Soria","Castilla y León",0.59258310437742534,"Sí",51,30,21,"DUERO","DUERO","42008 Alcubilla de las Peñas"]
["42010 Aldealices",29,"Aldealices","Soria","Castilla y León",4.5847279865076196,"Sí",29,20,9,"DUERO","DUERO","42010 Aldealices"]
["42014 Aldehuelas Las",56,"Aldehuelas Las","Soria","Castilla y León",1.4818777857813881,"Sí",56,32,24,"DUERO","EBRO","42014 Aldehuelas Las"]
["42015 Alentisque",26,"Alentisque","Soria","Castilla y León",0.74356703692968584,"Sí",26,16,10,"DUERO","DUERO - EBRO","42015 Alentisque"]
["42018 Almaluez",124,"Almaluez","Soria","Castilla y León",0.77935808761916969,"Sí",124,74,50,"DUERO","EBRO","42018 Almaluez"]
["42021 Almazul",65,"Almazul","Soria","Castilla y León",0.95788771905418457,"Sí",65,43,22,"DUERO","EBRO","42021 Almazul"]
["42025 Arcos de Jalón",1477,"Arcos de Jalón","Soria","Castilla y León",3.3451057577606811,"Sí",1477,762,715,"EBRO","EBRO","42025 Arcos de Jalón"]
["42027 Arévalo de la Sierra",73,"Arévalo de la Sierra","Soria","Castilla y León",1.8212321893159387,"Sí",73,46,27,"DUERO","DUERO","42027 Arévalo de la Sierra"]
["42030 Barca",108,"Barca","Soria","Castilla y León",2.397206029736719,"Sí",108,69,39,"DUERO","DUERO","42030 Barca"]
["42034 Beratón",38,"Beratón","Soria","Castilla y León",0.92876154536144717,"Sí",38,20,18,"DUERO","DUERO - EBRO","42034 Beratón"]
["42037 Bliecos",29,"Bliecos","Soria","Castilla y León",1.7597403448508544,"Sí",29,18,11,"EBRO","EBRO","42037 Bliecos"]
["42038 Borjabad",33,"Borjabad","Soria","Castilla y León",1.4105181397334499,"Sí",33,20,13,"DUERO","DUERO","42038 Borjabad"]
["42043 Burgo de Osma-Ciudad de Osma",5034,"Burgo de Osma-Ciudad de Osma","Soria","Castilla y León",17.397504592350238,"No",5034,2533,2501,"DUERO","DUERO","42043 Burgo de Osma-Ciudad de Osma"]
["42044 Cabrejas del Campo",48,"Cabrejas del Campo","Soria","Castilla y León",2.6866195933599748,"Sí",48,29,19,"DUERO","DUERO","42044 Cabrejas del Campo"]
["42049 Candilichera",100,"Candilichera","Soria","Castilla y León",2.2306411078916271,"Sí",100,61,39,"DUERO","DUERO","42049 Candilichera"]
["42052 Caracena",14,"Caracena","Soria","Castilla y León",0.77145905665655934,"Sí",14,10,4,"DUERO","DUERO","42052 Caracena"]
["42055 Casarejos",156,"Casarejos","Soria","Castilla y León",5.5551915401554881,"Sí",156,82,74,"DUERO","DUERO","42055 Casarejos"]
["42058 Castillejo de Robledo",104,"Castillejo de Robledo","Soria","Castilla y León",1.9629617060522979,"Sí",104,63,41,"DUERO","DUERO","42058 Castillejo de Robledo"]
["42061 Cidones",302,"Cidones","Soria","Castilla y León",4.2417966216674312,"Sí",302,181,121,"DUERO","DUERO","42061 Cidones"]
["42062 Cigudosa",20,"Cigudosa","Soria","Castilla y León",0.95116233225955016,"Sí",20,14,6,"EBRO","EBRO","42062 Cigudosa"]
["42065 Cirujales del Río",20,"Cirujales del Río","Soria","Castilla y León",2.2842703657836401,"Sí",20,15,5,"DUERO","DUERO","42065 Cirujales del Río"]
["42070 Cubilla",27,"Cubilla","Soria","Castilla y León",1.3358018291480764,"Sí",27,15,12,"DUERO","DUERO","42070 Cubilla"]
["42076 Deza",211,"Deza","Soria","Castilla y León",1.785824403491908,"Sí",211,113,98,"EBRO","EBRO","42076 Deza"]
["42079 Escobosa de Almazán",20,"Escobosa de Almazán","Soria","Castilla y León",1.0286619155515886,"Sí",20,13,7,"DUERO","DUERO","42079 Escobosa de Almazán"]
["42083 Frechilla de Almazán",20,"Frechilla de Almazán","Soria","Castilla y León",0.77884070495676039,"Sí",20,10,10,"DUERO","DUERO","42083 Frechilla de Almazán"]
["42086 Fuentecambrón",32,"Fuentecambrón","Soria","Castilla y León",0.65791494500262815,"Sí",32,20,12,"DUERO","DUERO","42086 Fuentecambrón"]
["42089 Fuentelsaz de Soria",63,"Fuentelsaz de Soria","Soria","Castilla y León",2.3913944418375292,"Sí",63,33,30,"DUERO","DUERO","42089 Fuentelsaz de Soria"]
["42090 Fuentepinilla",82,"Fuentepinilla","Soria","Castilla y León",1.5612946376992944,"Sí",82,50,32,"DUERO","DUERO","42090 Fuentepinilla"]
["42095 Golmayo",2844,"Golmayo","Soria","Castilla y León",14.982061431034989,"No",2844,1482,1362,"DUERO","DUERO","42095 Golmayo"]
["42096 Gómara",294,"Gómara","Soria","Castilla y León",4.3065829445458155,"Sí",294,158,136,"DUERO","DUERO - EBRO","42096 Gómara"]
["42103 Langa de Duero",694,"Langa de Duero","Soria","Castilla y León",3.6542715775653627,"Sí",694,368,326,"DUERO","DUERO","42103 Langa de Duero"]
["42107 Magaña",68,"Magaña","Soria","Castilla y León",1.1621310174204122,"Sí",68,37,31,"DUERO","EBRO","42107 Magaña"]
["42113 Medinaceli",664,"Medinaceli","Soria","Castilla y León",3.2331226481619479,"Sí",664,339,325,"DUERO","DUERO - EBRO - TAJO","42113 Medinaceli"]
["42115 Miño de Medinaceli",83,"Miño de Medinaceli","Soria","Castilla y León",1.4755197758404577,"Sí",83,52,31,"DUERO","DUERO - EBRO - TAJO","42115 Miño de Medinaceli"]
["42119 Monteagudo de las Vicarías",179,"Monteagudo de las Vicarías","Soria","Castilla y León",1.8446436006865989,"Sí",179,89,90,"EBRO","EBRO","42119 Monteagudo de las Vicarías"]
["42120 Montejo de Tiermes",148,"Montejo de Tiermes","Soria","Castilla y León",0.88480006570477454,"Sí",148,93,55,"DUERO","DUERO","42120 Montejo de Tiermes"]
["42124 Muriel de la Fuente",54,"Muriel de la Fuente","Soria","Castilla y León",14.768281560022809,"No",54,35,19,"DUERO","DUERO","42124 Muriel de la Fuente"]
["42129 Navaleno",755,"Navaleno","Soria","Castilla y León",30.165970372142592,"No",755,400,355,"DUERO","DUERO","42129 Navaleno"]
["42132 Noviercas",160,"Noviercas","Soria","Castilla y León",1.7474012266712928,"Sí",160,88,72,"DUERO","DUERO","42132 Noviercas"]
["42135 Oncala",67,"Oncala","Soria","Castilla y León",1.6782748176516837,"Sí",67,42,25,"DUERO","EBRO","42135 Oncala"]
["42142 Pozalmuro",53,"Pozalmuro","Soria","Castilla y León",1.4403124206129687,"Sí",53,27,26,"DUERO","DUERO","42142 Pozalmuro"]
["42148 Quiñonería",8,"Quiñonería","Soria","Castilla y León",0.20794472039142056,"Sí",8,4,4,"EBRO","EBRO","42148 Quiñonería"]
["42152 Recuerda",71,"Recuerda","Soria","Castilla y León",1.0548654226465404,"Sí",71,42,29,"DUERO","DUERO","42152 Recuerda"]
["42153 Rello",15,"Rello","Soria","Castilla y León",0.61505981333672732,"Sí",15,9,6,"DUERO","DUERO","42153 Rello"]
["42157 Riba de Escalote La",11,"Riba de Escalote La","Soria","Castilla y León",0.46924471990910649,"Sí",11,7,4,"DUERO","DUERO","42157 Riba de Escalote La"]
["42159 Rollamienta",41,"Rollamienta","Soria","Castilla y León",2.2024471121271731,"Sí",41,27,14,"DUERO","DUERO","42159 Rollamienta"]
["42162 San Esteban de Gormaz",2948,"San Esteban de Gormaz","Soria","Castilla y León",7.2483354214915652,"Sí",2948,1552,1396,"DUERO","DUERO","42162 San Esteban de Gormaz"]
["42165 San Pedro Manrique",655,"San Pedro Manrique","Soria","Castilla y León",3.7173878529635651,"Sí",655,361,294,"EBRO","EBRO","42165 San Pedro Manrique"]
["42171 Serón de Nágima",130,"Serón de Nágima","Soria","Castilla y León",2.1607880985919072,"Sí",130,73,57,"EBRO","EBRO","42171 Serón de Nágima"]
["42174 Sotillo del Rincón",178,"Sotillo del Rincón","Soria","Castilla y León",2.9403058446672761,"Sí",178,95,83,"DUERO","DUERO","42174 Sotillo del Rincón"]
["42176 Tajahuerce",24,"Tajahuerce","Soria","Castilla y León",1.1501532219745398,"Sí",24,13,11,"DUERO","DUERO","42176 Tajahuerce"]
["42177 Tajueco",60,"Tajueco","Soria","Castilla y León",3.3210151346962227,"Sí",60,36,24,"DUERO","DUERO","42177 Tajueco"]
["42182 Taroda",46,"Taroda","Soria","Castilla y León",1.2462278241547615,"Sí",46,26,20,"DUERO","DUERO","42182 Taroda"]
["42187 Torrubia de Soria",61,"Torrubia de Soria","Soria","Castilla y León",1.1656900349936326,"Sí",61,41,20,"DUERO","DUERO - EBRO","42187 Torrubia de Soria"]
["42190 Vadillo",86,"Vadillo","Soria","Castilla y León",6.109760135790129,"Sí",86,45,41,"DUERO","DUERO","42190 Vadillo"]
["42192 Valdegeña",38,"Valdegeña","Soria","Castilla y León",2.857292596461634,"Sí",38,29,9,"DUERO","DUERO","42192 Valdegeña"]
["42196 Valdeprado",6,"Valdeprado","Soria","Castilla y León",0.18799189253631454,"Sí",6,3,3,"EBRO","EBRO","42196 Valdeprado"]
["42200 Velamazán",72,"Velamazán","Soria","Castilla y León",1.0057112104728956,"Sí",72,49,23,"DUERO","DUERO","42200 Velamazán"]
["42201 Velilla de la Sierra",28,"Velilla de la Sierra","Soria","Castilla y León",1.5074485996367801,"Sí",28,17,11,"DUERO","DUERO","42201 Velilla de la Sierra"]
["42205 Villaciervos",72,"Villaciervos","Soria","Castilla y León",0.88518697140506764,"Sí",72,44,28,"DUERO","DUERO","42205 Villaciervos"]
["42209 Villar del Río",154,"Villar del Río","Soria","Castilla y León",1.212290102595954,"Sí",154,93,61,"EBRO","EBRO","42209 Villar del Río"]
["42212 Villasayas",66,"Villasayas","Soria","Castilla y León",1.0687007820784709,"Sí",66,41,25,"DUERO","DUERO","42212 Villasayas"]
["42216 Vizmanos",26,"Vizmanos","Soria","Castilla y León",1.0697176990306467,"Sí",26,16,10,"DUERO","EBRO","42216 Vizmanos"]
["42219 Yelo",47,"Yelo","Soria","Castilla y León",1.8837403548485874,"Sí",47,29,18,"DUERO","DUERO","42219 Yelo"]
["43004 Alcanar",9579,"Alcanar","Tarragona","Cataluña",203.37065362105176,"No",9579,4862,4717,"CUENCAS INTERNAS DE CATALUÑA","DISTRITO DE CUENCA FLUVIAL DE CATALUÑA -- JÚCAR","43004 Alcanar"]
["43006 Aldover",911,"Aldover","Tarragona","Cataluña",45.830482553225742,"No",911,464,447,"EBRO","EBRO","43006 Aldover"]
["43008 Alfara de Carles",376,"Alfara de Carles","Tarragona","Cataluña",5.8773050055568667,"Sí",376,203,173,"EBRO","EBRO","43008 Alfara de Carles"]
["43009 Alforja",1843,"Alforja","Tarragona","Cataluña",48.31665102427106,"No",1843,937,906,"CUENCAS INTERNAS DE CATALUÑA","DISTRITO DE CUENCA FLUVIAL DE CATALUÑA -- EBRO","43009 Alforja"]
["43012 Altafulla",5512,"Altafulla","Tarragona","Cataluña",799.73303541633413,"No",5512,2679,2833,"CUENCAS INTERNAS DE CATALUÑA","DISTRITO DE CUENCA FLUVIAL DE CATALUÑA","43012 Altafulla"]
["43016 Arboç L'",5625,"Arboç L'","Tarragona","Cataluña",396.44503333662237,"No",5625,2886,2739,"CUENCAS INTERNAS DE CATALUÑA","DISTRITO DE CUENCA FLUVIAL DE CATALUÑA","43016 Arboç L'"]
["43018 Arnes",441,"Arnes","Tarragona","Cataluña",10.288425870841762,"Sí",441,218,223,"EBRO","EBRO","43018 Arnes"]
["43020 Banyeres del Penedès",3280,"Banyeres del Penedès","Tarragona","Cataluña",267.75291630272409,"No",3280,1659,1621,"CUENCAS INTERNAS DE CATALUÑA","DISTRITO DE CUENCA FLUVIAL DE CATALUÑA","43020 Banyeres del Penedès"]
["43024 Bellvei",2303,"Bellvei","Tarragona","Cataluña",278.75281415672134,"No",2303,1183,1120,"CUENCAS INTERNAS DE CATALUÑA","DISTRITO DE CUENCA FLUVIAL DE CATALUÑA","43024 Bellvei"]
["43027 Bisbal de Falset La",218,"Bisbal de Falset La","Tarragona","Cataluña",15.489335095422829,"No",218,124,94,"EBRO","EBRO","43027 Bisbal de Falset La"]
["43028 Bisbal del Penedès La",3830,"Bisbal del Penedès La","Tarragona","Cataluña",117.80084582852749,"No",3830,2012,1818,"CUENCAS INTERNAS DE CATALUÑA","DISTRITO DE CUENCA FLUVIAL DE CATALUÑA","43028 Bisbal del Penedès La"]
["43031 Borges del Camp Les",2104,"Borges del Camp Les","Tarragona","Cataluña",252.45071571697687,"No",2104,1077,1027,"CUENCAS INTERNAS DE CATALUÑA","DISTRITO DE CUENCA FLUVIAL DE CATALUÑA","43031 Borges del Camp Les"]
["43034 Bràfim",695,"Bràfim","Tarragona","Cataluña",109.48675131541637,"No",695,347,348,"CUENCAS INTERNAS DE CATALUÑA","DISTRITO DE CUENCA FLUVIAL DE CATALUÑA","43034 Bràfim"]
["43037 Calafell",28463,"Calafell","Tarragona","Cataluña",1397.8695295579446,"No",28463,14280,14183,"CUENCAS INTERNAS DE CATALUÑA","DISTRITO DE CUENCA FLUVIAL DE CATALUÑA","43037 Calafell"]
["43907 Canonja La",5933,"Canonja La","Tarragona","Cataluña",813.58674784707364,"No",5933,2892,3041,"CUENCAS INTERNAS DE CATALUÑA","DISTRITO DE CUENCA FLUVIAL DE CATALUÑA","43907 Canonja La"]
["43042 Castellvell del Camp",2873,"Castellvell del Camp","Tarragona","Cataluña",555.46962607787782,"No",2873,1441,1432,"CUENCAS INTERNAS DE CATALUÑA","DISTRITO DE CUENCA FLUVIAL DE CATALUÑA","43042 Castellvell del Camp"]
["43046 Conesa",106,"Conesa","Tarragona","Cataluña",3.641285305009172,"Sí",106,52,54,"CUENCAS INTERNAS DE CATALUÑA","DISTRITO DE CUENCA FLUVIAL DE CATALUÑA -- EBRO","43046 Conesa"]
["43049 Cornudella de Montsant",965,"Cornudella de Montsant","Tarragona","Cataluña",15.326826711561829,"No",965,509,456,"EBRO","EBRO","43049 Cornudella de Montsant"]
["43051 Cunit",14081,"Cunit","Tarragona","Cataluña",1447.5158567801227,"No",14081,6956,7125,"CUENCAS INTERNAS DE CATALUÑA","DISTRITO DE CUENCA FLUVIAL DE CATALUÑA","43051 Cunit"]
["43901 Deltebre",11539,"Deltebre","Tarragona","Cataluña",108.49564428397481,"No",11539,5801,5738,"EBRO","EBRO","43901 Deltebre"]
["43055 Falset",2724,"Falset","Tarragona","Cataluña",85.080598562625127,"No",2724,1368,1356,"EBRO","EBRO","43055 Falset"]
["43059 Figuerola del Camp",336,"Figuerola del Camp","Tarragona","Cataluña",14.964992606581035,"No",336,167,169,"CUENCAS INTERNAS DE CATALUÑA","DISTRITO DE CUENCA FLUVIAL DE CATALUÑA","43059 Figuerola del Camp"]
["43062 Freginals",391,"Freginals","Tarragona","Cataluña",22.484703500943091,"No",391,210,181,"EBRO","EBRO","43062 Freginals"]
["43066 Garidells Els",198,"Garidells Els","Tarragona","Cataluña",65.815715995213409,"No",198,98,100,"CUENCAS INTERNAS DE CATALUÑA","DISTRITO DE CUENCA FLUVIAL DE CATALUÑA","43066 Garidells Els"]
["43068 Godall",614,"Godall","Tarragona","Cataluña",18.109583627048757,"No",614,304,310,"JÚCAR","EBRO","43068 Godall"]
["43071 Horta de Sant Joan",1138,"Horta de Sant Joan","Tarragona","Cataluña",9.5709876283630919,"Sí",1138,589,549,"EBRO","EBRO","43071 Horta de Sant Joan"]
["43072 Lloar El",111,"Lloar El","Tarragona","Cataluña",16.771931945241906,"No",111,57,54,"EBRO","EBRO","43072 Lloar El"]
["43076 Marçà",612,"Marçà","Tarragona","Cataluña",38.040066383645254,"No",612,320,292,"EBRO","EBRO","43076 Marçà"]
["43079 Masllorenç",508,"Masllorenç","Tarragona","Cataluña",77.26823332572819,"No",508,276,232,"CUENCAS INTERNAS DE CATALUÑA","DISTRITO DE CUENCA FLUVIAL DE CATALUÑA","43079 Masllorenç"]
["43081 Maspujols",826,"Maspujols","Tarragona","Cataluña",232.63673745282486,"No",826,420,406,"CUENCAS INTERNAS DE CATALUÑA","DISTRITO DE CUENCA FLUVIAL DE CATALUÑA","43081 Maspujols"]
["43084 Miravet",685,"Miravet","Tarragona","Cataluña",20.956792295242959,"No",685,364,321,"EBRO","EBRO","43084 Miravet"]
["43089 Montferri",397,"Montferri","Tarragona","Cataluña",20.526130746799577,"No",397,211,186,"CUENCAS INTERNAS DE CATALUÑA","DISTRITO DE CUENCA FLUVIAL DE CATALUÑA","43089 Montferri"]
["43092 Mont-roig del Camp",12689,"Mont-roig del Camp","Tarragona","Cataluña",200.31668000637779,"No",12689,6514,6175,"CUENCAS INTERNAS DE CATALUÑA","DISTRITO DE CUENCA FLUVIAL DE CATALUÑA","43092 Mont-roig del Camp"]
["43095 Morell El",3732,"Morell El","Tarragona","Cataluña",630.59714102260818,"No",3732,1918,1814,"CUENCAS INTERNAS DE CATALUÑA","DISTRITO DE CUENCA FLUVIAL DE CATALUÑA","43095 Morell El"]
["43096 Morera de Montsant La",163,"Morera de Montsant La","Tarragona","Cataluña",3.0616423175317529,"Sí",163,87,76,"EBRO","EBRO","43096 Morera de Montsant La"]
["43100 Pallaresos Els",4872,"Pallaresos Els","Tarragona","Cataluña",968.8581314878893,"No",4872,2441,2431,"CUENCAS INTERNAS DE CATALUÑA","DISTRITO DE CUENCA FLUVIAL DE CATALUÑA","43100 Pallaresos Els"]
["43102 Paüls",563,"Paüls","Tarragona","Cataluña",12.963389362192034,"No",563,287,276,"EBRO","EBRO","43102 Paüls"]
["43105 Piles Les",218,"Piles Les","Tarragona","Cataluña",9.6541340064656129,"Sí",218,117,101,"CUENCAS INTERNAS DE CATALUÑA","DISTRITO DE CUENCA FLUVIAL DE CATALUÑA","43105 Piles Les"]
["43108 Pla de Santa Maria El",2340,"Pla de Santa Maria El","Tarragona","Cataluña",66.350038987736582,"No",2340,1222,1118,"CUENCAS INTERNAS DE CATALUÑA","DISTRITO DE CUENCA FLUVIAL DE CATALUÑA","43108 Pla de Santa Maria El"]
["43112 Poboleda",328,"Poboleda","Tarragona","Cataluña",23.784661793711567,"No",328,165,163,"EBRO","EBRO","43112 Poboleda"]
["43141 Pontils",138,"Pontils","Tarragona","Cataluña",2.0456384912082015,"Sí",138,74,64,"CUENCAS INTERNAS DE CATALUÑA","DISTRITO DE CUENCA FLUVIAL DE CATALUÑA","43141 Pontils"]
["43116 Prades",602,"Prades","Tarragona","Cataluña",18.473454382535529,"No",602,322,280,"CUENCAS INTERNAS DE CATALUÑA","DISTRITO DE CUENCA FLUVIAL DE CATALUÑA -- EBRO","43116 Prades"]
["43117 Prat de Comte",186,"Prat de Comte","Tarragona","Cataluña",7.0390021268382776,"Sí",186,98,88,"EBRO","EBRO","43117 Prat de Comte"]
["43120 Querol",544,"Querol","Tarragona","Cataluña",7.5348765055902129,"Sí",544,305,239,"CUENCAS INTERNAS DE CATALUÑA","DISTRITO DE CUENCA FLUVIAL DE CATALUÑA","43120 Querol"]
["43124 Riba La",575,"Riba La","Tarragona","Cataluña",71.625207090272681,"No",575,310,265,"CUENCAS INTERNAS DE CATALUÑA","DISTRITO DE CUENCA FLUVIAL DE CATALUÑA","43124 Riba La"]
["43126 Riera de Gaià La",1737,"Riera de Gaià La","Tarragona","Cataluña",198.10223306950115,"No",1737,864,873,"CUENCAS INTERNAS DE CATALUÑA","DISTRITO DE CUENCA FLUVIAL DE CATALUÑA","43126 Riera de Gaià La"]
["43129 Riudoms",6617,"Riudoms","Tarragona","Cataluña",203.97782970301915,"No",6617,3364,3253,"CUENCAS INTERNAS DE CATALUÑA","DISTRITO DE CUENCA FLUVIAL DE CATALUÑA","43129 Riudoms"]
["43133 Roquetes",8159,"Roquetes","Tarragona","Cataluña",59.45103068369778,"No",8159,4207,3952,"EBRO","EBRO","43133 Roquetes"]
["43905 Salou",28512,"Salou","Tarragona","Cataluña",1883.8578385057053,"No",28512,14673,13839,"CUENCAS INTERNAS DE CATALUÑA","DISTRITO DE CUENCA FLUVIAL DE CATALUÑA","43905 Salou"]
["43136 Sant Carles de la Ràpita",14931,"Sant Carles de la Ràpita","Tarragona","Cataluña",281.83290485520462,"No",14931,7312,7619,"CUENCAS INTERNAS DE CATALUÑA","EBRO","43136 Sant Carles de la Ràpita"]
["43138 Santa Bàrbara",3762,"Santa Bàrbara","Tarragona","Cataluña",133.2908163265306,"No",3762,1928,1834,"EBRO","EBRO","43138 Santa Bàrbara"]
["43142 Sarral",1549,"Sarral","Tarragona","Cataluña",29.647918999358811,"No",1549,803,746,"CUENCAS INTERNAS DE CATALUÑA","DISTRITO DE CUENCA FLUVIAL DE CATALUÑA","43142 Sarral"]
["43145 Selva del Camp La",5694,"Selva del Camp La","Tarragona","Cataluña",161.5575807787904,"No",5694,2854,2840,"CUENCAS INTERNAS DE CATALUÑA","DISTRITO DE CUENCA FLUVIAL DE CATALUÑA","43145 Selva del Camp La"]
["43147 Solivella",640,"Solivella","Tarragona","Cataluña",30.070547383571071,"No",640,332,308,"CUENCAS INTERNAS DE CATALUÑA","DISTRITO DE CUENCA FLUVIAL DE CATALUÑA","43147 Solivella"]
["43150 Tivissa",1639,"Tivissa","Tarragona","Cataluña",7.8338179084231943,"Sí",1639,830,809,"CUENCAS INTERNAS DE CATALUÑA","DISTRITO DE CUENCA FLUVIAL DE CATALUÑA -- EBRO","43150 Tivissa"]
["43154 Torroja del Priorat",141,"Torroja del Priorat","Tarragona","Cataluña",10.661383862747916,"Sí",141,79,62,"EBRO","EBRO","43154 Torroja del Priorat"]
["43156 Ulldecona",6317,"Ulldecona","Tarragona","Cataluña",49.8130877630905,"No",6317,3335,2982,"CUENCAS INTERNAS DE CATALUÑA","DISTRITO DE CUENCA FLUVIAL DE CATALUÑA -- EBRO - JÚCAR","43156 Ulldecona"]
["43157 Ulldemolins",400,"Ulldemolins","Tarragona","Cataluña",10.508920760110239,"Sí",400,227,173,"EBRO","EBRO","43157 Ulldemolins"]
["43160 Vallmoll",1793,"Vallmoll","Tarragona","Cataluña",108.26183302438758,"No",1793,900,893,"CUENCAS INTERNAS DE CATALUÑA","DISTRITO DE CUENCA FLUVIAL DE CATALUÑA","43160 Vallmoll"]
["43163 Vendrell El",38891,"Vendrell El","Tarragona","Cataluña",1055.7362274620091,"No",38891,19299,19592,"CUENCAS INTERNAS DE CATALUÑA","DISTRITO DE CUENCA FLUVIAL DE CATALUÑA","43163 Vendrell El"]
["43166 Vilallonga del Camp",2385,"Vilallonga del Camp","Tarragona","Cataluña",261.7427568042142,"No",2385,1222,1163,"CUENCAS INTERNAS DE CATALUÑA","DISTRITO DE CUENCA FLUVIAL DE CATALUÑA","43166 Vilallonga del Camp"]
["43169 Vilaplana",536,"Vilaplana","Tarragona","Cataluña",23.162853006633387,"No",536,287,249,"CUENCAS INTERNAS DE CATALUÑA","DISTRITO DE CUENCA FLUVIAL DE CATALUÑA -- EBRO","43169 Vilaplana"]
["43172 Vilaverd",445,"Vilaverd","Tarragona","Cataluña",35.52471602180659,"No",445,243,202,"CUENCAS INTERNAS DE CATALUÑA","DISTRITO DE CUENCA FLUVIAL DE CATALUÑA","43172 Vilaverd"]
["43176 Vimbodí i Poblet",880,"Vimbodí i Poblet","Tarragona","Cataluña",13.373497593925418,"No",880,474,406,"CUENCAS INTERNAS DE CATALUÑA","DISTRITO DE CUENCA FLUVIAL DE CATALUÑA","43176 Vimbodí i Poblet"]
["43052 Xerta",1159,"Xerta","Tarragona","Cataluña",35.472388770035472,"No",1159,573,586,"EBRO","EBRO","43052 Xerta"]
["44001 Ababuj",76,"Ababuj","Teruel","Aragón",1.3996269331242044,"Sí",76,44,32,"JÚCAR","JÚCAR","44001 Ababuj"]
["44004 Aguaviva",547,"Aguaviva","Teruel","Aragón",12.977260399738052,"No",547,267,280,"EBRO","EBRO","44004 Aguaviva"]
["44007 Alba",184,"Alba","Teruel","Aragón",2.6461837852010932,"Sí",184,103,81,"EBRO","EBRO","44007 Alba"]
["44010 Albentosa",294,"Albentosa","Teruel","Aragón",4.3305410672279674,"Sí",294,160,134,"JÚCAR","JÚCAR","44010 Albentosa"]
["44013 Alcañiz",16029,"Alcañiz","Teruel","Aragón",33.951350859626849,"No",16029,7994,8035,"EBRO","EBRO","44013 Alcañiz"]
["44021 Allepuz",128,"Allepuz","Teruel","Aragón",1.9029496567086253,"Sí",128,64,64,"JÚCAR","JÚCAR","44021 Allepuz"]
["44018 Almohaja",14,"Almohaja","Teruel","Aragón",0.54784204821550042,"Sí",14,10,4,"TAJO","EBRO","44018 Almohaja"]
["44024 Anadón",32,"Anadón","Teruel","Aragón",1.2997924597008488,"Sí",32,20,12,"EBRO","EBRO","44024 Anadón"]
["44025 Andorra",7327,"Andorra","Teruel","Aragón",51.83240167297194,"No",7327,3682,3645,"EBRO","EBRO","44025 Andorra"]
["44027 Arens de Lledó",221,"Arens de Lledó","Teruel","Aragón",6.4573812835287097,"Sí",221,113,108,"EBRO","EBRO","44027 Arens de Lledó"]
["44031 Azaila",100,"Azaila","Teruel","Aragón",1.2279575480340152,"Sí",100,52,48,"EBRO","EBRO","44031 Azaila"]
["44035 Barrachina",113,"Barrachina","Teruel","Aragón",4.5460190491071844,"Sí",113,60,53,"EBRO","EBRO","44035 Barrachina"]
["44039 Bello",224,"Bello","Teruel","Aragón",4.2677281522707116,"Sí",224,112,112,"EBRO","EBRO","44039 Bello"]
["44041 Bezas",63,"Bezas","Teruel","Aragón",2.3939237200145853,"Sí",63,40,23,"JÚCAR","JÚCAR","44041 Bezas"]
["44044 Bordón",116,"Bordón","Teruel","Aragón",3.8688283100044099,"Sí",116,66,50,"EBRO","EBRO","44044 Bordón"]
["44047 Burbáguena",207,"Burbáguena","Teruel","Aragón",5.3055311879884002,"Sí",207,116,91,"EBRO","EBRO","44047 Burbáguena"]
["44048 Cabra de Mora",68,"Cabra de Mora","Teruel","Aragón",1.9820407867267857,"Sí",68,44,24,"JÚCAR","JÚCAR","44048 Cabra de Mora"]
["44051 Calanda",3753,"Calanda","Teruel","Aragón",33.434409243654692,"No",3753,1864,1889,"EBRO","EBRO","44051 Calanda"]
["44054 Camarena de la Sierra",116,"Camarena de la Sierra","Teruel","Aragón",1.4583820508371867,"Sí",116,70,46,"JÚCAR","JÚCAR","44054 Camarena de la Sierra"]
["44059 Cantavieja",734,"Cantavieja","Teruel","Aragón",5.8944176492034508,"Sí",734,388,346,"EBRO","EBRO","44059 Cantavieja"]
["44062 Cañada Vellida",37,"Cañada Vellida","Teruel","Aragón",1.5877273652406747,"Sí",37,26,11,"JÚCAR","JÚCAR","44062 Cañada Vellida"]
["44066 Castel de Cabra",95,"Castel de Cabra","Teruel","Aragón",3.2266751887120981,"Sí",95,52,43,"EBRO","EBRO","44066 Castel de Cabra"]
["44067 Castelnou",120,"Castelnou","Teruel","Aragón",3.2745371987425775,"Sí",120,63,57,"EBRO","EBRO","44067 Castelnou"]
["44075 Celadas",374,"Celadas","Teruel","Aragón",3.7231127053908879,"Sí",374,213,161,"JÚCAR","EBRO","44075 Celadas"]
["44076 Cella",2578,"Cella","Teruel","Aragón",20.677441592182895,"No",2578,1334,1244,"JÚCAR","EBRO","44076 Cella"]
["44080 Codoñera La",317,"Codoñera La","Teruel","Aragón",15.118659778980454,"No",317,167,150,"EBRO","EBRO","44080 Codoñera La"]
["44086 Cretas",555,"Cretas","Teruel","Aragón",10.556729582238825,"Sí",555,284,271,"EBRO","EBRO","44086 Cretas"]
["44089 Cubla",52,"Cubla","Teruel","Aragón",1.0691947035219727,"Sí",52,35,17,"JÚCAR","JÚCAR","44089 Cubla"]
["44093 Cuevas de Almudén",118,"Cuevas de Almudén","Teruel","Aragón",3.2917712803667993,"Sí",118,64,54,"JÚCAR","EBRO","44093 Cuevas de Almudén"]
["44097 Escorihuela",141,"Escorihuela","Teruel","Aragón",2.4742682246437608,"Sí",141,73,68,"JÚCAR","JÚCAR","44097 Escorihuela"]
["44101 Ferreruela de Huerva",74,"Ferreruela de Huerva","Teruel","Aragón",3.6204154837733711,"Sí",74,43,31,"EBRO","EBRO","44101 Ferreruela de Huerva"]
["44105 Fórnoles",81,"Fórnoles","Teruel","Aragón",2.4820247782065725,"Sí",81,43,38,"EBRO","EBRO","44105 Fórnoles"]
["44106 Fortanete",200,"Fortanete","Teruel","Aragón",1.1889824746242306,"Sí",200,116,84,"EBRO","EBRO","44106 Fortanete"]
["44109 Frías de Albarracín",105,"Frías de Albarracín","Teruel","Aragón",2.0673087780234285,"Sí",105,67,38,"TAJO","JÚCAR","44109 Frías de Albarracín"]
["44113 Fuentes de Rubielos",154,"Fuentes de Rubielos","Teruel","Aragón",3.9577634678643099,"Sí",154,83,71,"JÚCAR","JÚCAR","44113 Fuentes de Rubielos"]
["44116 Gargallo",98,"Gargallo","Teruel","Aragón",3.2580007105766042,"Sí",98,50,48,"EBRO","EBRO","44116 Gargallo"]
["44118 Ginebrosa La",201,"Ginebrosa La","Teruel","Aragón",2.5094013598333609,"Sí",201,111,90,"EBRO","EBRO","44118 Ginebrosa La"]
["44122 Híjar",1771,"Híjar","Teruel","Aragón",10.710061861825299,"Sí",1771,909,862,"EBRO","EBRO","44122 Híjar"]
["44125 Huesa del Común",73,"Huesa del Común","Teruel","Aragón",1.1833667653356794,"Sí",73,45,28,"EBRO","EBRO","44125 Huesa del Común"]
["44126 Iglesuela del Cid La",407,"Iglesuela del Cid La","Teruel","Aragón",10.060163236653599,"Sí",407,214,193,"EBRO","EBRO","44126 Iglesuela del Cid La"]
["44129 Jatiel",45,"Jatiel","Teruel","Aragón",4.1499431642228419,"Sí",45,30,15,"EBRO","EBRO","44129 Jatiel"]
["44131 Josa",36,"Josa","Teruel","Aragón",1.2752911037924359,"Sí",36,25,11,"EBRO","EBRO","44131 Josa"]
["44136 Lidón",54,"Lidón","Teruel","Aragón",1.3367607879937493,"Sí",54,30,24,"JÚCAR","JÚCAR","44136 Lidón"]
["44138 Loscos",122,"Loscos","Teruel","Aragón",1.6995637192071098,"Sí",122,72,50,"EBRO","EBRO","44138 Loscos"]
["44144 Martín del Río",372,"Martín del Río","Teruel","Aragón",6.7779346015310544,"Sí",372,174,198,"EBRO","EBRO","44144 Martín del Río"]
["44148 Mezquita de Jarque",87,"Mezquita de Jarque","Teruel","Aragón",2.7934446138920119,"Sí",87,49,38,"JÚCAR","EBRO","44148 Mezquita de Jarque"]
["44149 Mirambel",111,"Mirambel","Teruel","Aragón",2.4411343542289154,"Sí",111,67,44,"EBRO","EBRO","44149 Mirambel"]
["44151 Molinos",238,"Molinos","Teruel","Aragón",2.9896139054328845,"Sí",238,126,112,"EBRO","EBRO","44151 Molinos"]
["44154 Monroyo",318,"Monroyo","Teruel","Aragón",4.0133475357036481,"Sí",318,182,136,"EBRO","EBRO","44154 Monroyo"]
["44157 Monterde de Albarracín",57,"Monterde de Albarracín","Teruel","Aragón",1.2608919775482477,"Sí",57,34,23,"JÚCAR","JÚCAR","44157 Monterde de Albarracín"]
["44161 Muniesa",571,"Muniesa","Teruel","Aragón",4.3991920556354343,"Sí",571,306,265,"EBRO","EBRO","44161 Muniesa"]
["44165 Nogueruelas",207,"Nogueruelas","Teruel","Aragón",2.0775310500564546,"Sí",207,120,87,"JÚCAR","JÚCAR","44165 Nogueruelas"]
["44169 Ojos Negros",330,"Ojos Negros","Teruel","Aragón",3.6297265763267319,"Sí",330,183,147,"TAJO","EBRO","44169 Ojos Negros"]
["44173 Olmos Los",118,"Olmos Los","Teruel","Aragón",2.6835036660753557,"Sí",118,64,54,"EBRO","EBRO","44173 Olmos Los"]
["44176 Palomar de Arroyos",168,"Palomar de Arroyos","Teruel","Aragón",4.9969450224806016,"Sí",168,100,68,"EBRO","EBRO","44176 Palomar de Arroyos"]
["44177 Pancrudo",119,"Pancrudo","Teruel","Aragón",1.1885176807485704,"Sí",119,70,49,"JÚCAR","EBRO","44177 Pancrudo"]
["44180 Peracense",85,"Peracense","Teruel","Aragón",2.9657967914893777,"Sí",85,45,40,"TAJO","EBRO","44180 Peracense"]
["44182 Perales del Alfambra",251,"Perales del Alfambra","Teruel","Aragón",2.4079241464369381,"Sí",251,130,121,"JÚCAR","JÚCAR","44182 Perales del Alfambra"]
["44187 Portellada La",230,"Portellada La","Teruel","Aragón",10.763094509469394,"Sí",230,119,111,"EBRO","EBRO","44187 Portellada La"]
["44191 Puebla de Híjar La",909,"Puebla de Híjar La","Teruel","Aragón",14.95600540462979,"No",909,459,450,"EBRO","EBRO","44191 Puebla de Híjar La"]
["44195 Rillo",92,"Rillo","Teruel","Aragón",1.7258900522867771,"Sí",92,56,36,"JÚCAR","EBRO - JÚCAR","44195 Rillo"]
["44198 Royuela",212,"Royuela","Teruel","Aragón",6.522561540368133,"Sí",212,115,97,"JÚCAR","JÚCAR","44198 Royuela"]
["44199 Rubiales",42,"Rubiales","Teruel","Aragón",1.5319275029169541,"Sí",42,24,18,"JÚCAR","JÚCAR","44199 Rubiales"]
["44201 Rubielos de Mora",632,"Rubielos de Mora","Teruel","Aragón",9.9190126740341391,"Sí",632,324,308,"JÚCAR","JÚCAR","44201 Rubielos de Mora"]
["44205 Samper de Calanda",731,"Samper de Calanda","Teruel","Aragón",5.1192878097221657,"Sí",731,373,358,"EBRO","EBRO","44205 Samper de Calanda"]
["44208 Santa Cruz de Nogueras",30,"Santa Cruz de Nogueras","Teruel","Aragón",1.9768482081057104,"Sí",30,13,17,"EBRO","EBRO","44208 Santa Cruz de Nogueras"]
["44212 Seno",44,"Seno","Teruel","Aragón",2.464947190467198,"Sí",44,20,24,"EBRO","EBRO","44212 Seno"]
["44216 Teruel",35994,"Teruel","Teruel","Aragón",81.727562734061479,"No",35994,17166,18828,"JÚCAR","JÚCAR","44216 Teruel"]
["44219 Tornos",201,"Tornos","Teruel","Aragón",4.1060482356075809,"Sí",201,105,96,"EBRO","EBRO","44219 Tornos"]
["44224 Torre de las Arcas",25,"Torre de las Arcas","Teruel","Aragón",0.67266584145815012,"Sí",25,15,10,"EBRO","EBRO","44224 Torre de las Arcas"]
["44221 Torrecilla de Alcañiz",450,"Torrecilla de Alcañiz","Teruel","Aragón",16.814617238218549,"No",450,234,216,"EBRO","EBRO","44221 Torrecilla de Alcañiz"]
["44222 Torrecilla del Rebollar",122,"Torrecilla del Rebollar","Teruel","Aragón",1.9228302952378256,"Sí",122,80,42,"EBRO","EBRO","44222 Torrecilla del Rebollar"]
["44229 Torres de Albarracín",171,"Torres de Albarracín","Teruel","Aragón",6.0402742171460213,"Sí",171,97,74,"JÚCAR","JÚCAR","44229 Torres de Albarracín"]
["44234 Tramacastiel",67,"Tramacastiel","Teruel","Aragón",1.4166552136083477,"Sí",67,39,28,"JÚCAR","JÚCAR","44234 Tramacastiel"]
["44236 Tronchón",65,"Tronchón","Teruel","Aragón",1.1381576474064303,"Sí",65,33,32,"EBRO","EBRO","44236 Tronchón"]
["44239 Valacloche",24,"Valacloche","Teruel","Aragón",1.5979838770085077,"Sí",24,14,10,"JÚCAR","JÚCAR","44239 Valacloche"]
["44244 Valdelinares",82,"Valdelinares","Teruel","Aragón",1.4885954346883838,"Sí",82,51,31,"JÚCAR","EBRO - JÚCAR","44244 Valdelinares"]
["44247 Valjunquera",342,"Valjunquera","Teruel","Aragón",8.1746633956858581,"Sí",342,176,166,"EBRO","EBRO","44247 Valjunquera"]
["44249 Vallecillo El",39,"Vallecillo El","Teruel","Aragón",1.806008144541037,"Sí",39,25,14,"JÚCAR","JÚCAR","44249 Vallecillo El"]
["44251 Villafranca del Campo",302,"Villafranca del Campo","Teruel","Aragón",4.5379413974455298,"Sí",302,160,142,"EBRO","EBRO","44251 Villafranca del Campo"]
["44257 Villar del Cobo",163,"Villar del Cobo","Teruel","Aragón",3.011347106914775,"Sí",163,97,66,"TAJO","JÚCAR","44257 Villar del Cobo"]
["44262 Villarroya de los Pinares",175,"Villarroya de los Pinares","Teruel","Aragón",2.6349603741860554,"Sí",175,92,83,"JÚCAR","EBRO","44262 Villarroya de los Pinares"]
["44265 Vinaceite",215,"Vinaceite","Teruel","Aragón",4.2934813789615776,"Sí",215,117,98,"EBRO","EBRO","44265 Vinaceite"]
["44268 Zoma La",31,"Zoma La","Teruel","Aragón",2.1375955056985538,"Sí",31,17,14,"EBRO","EBRO","44268 Zoma La"]
["45002 Alameda de la Sagra",3757,"Alameda de la Sagra","Toledo","Castilla La Mancha",113.87263965083501,"No",3757,1960,1797,"TAJO","TAJO","45002 Alameda de la Sagra"]
["45006 Alcaudete de la Jara",1644,"Alcaudete de la Jara","Toledo","Castilla La Mancha",10.530400179611219,"Sí",1644,832,812,"TAJO","TAJO","45006 Alcaudete de la Jara"]
["45007 Alcolea de Tajo",843,"Alcolea de Tajo","Toledo","Castilla La Mancha",13.075043475295061,"No",843,422,421,"TAJO","TAJO","45007 Alcolea de Tajo"]
["45010 Aldeanueva de San Bartolomé",413,"Aldeanueva de San Bartolomé","Toledo","Castilla La Mancha",11.934100762473454,"Sí",413,210,203,"TAJO","TAJO","45010 Aldeanueva de San Bartolomé"]
["45013 Almorox",2318,"Almorox","Toledo","Castilla La Mancha",35.789383093401135,"No",2318,1218,1100,"TAJO","TAJO","45013 Almorox"]
["45017 Azután",303,"Azután","Toledo","Castilla La Mancha",14.023404553098626,"No",303,152,151,"TAJO","TAJO","45017 Azután"]
["45019 Bargas",10611,"Bargas","Toledo","Castilla La Mancha",118.28152362565029,"No",10611,5313,5298,"TAJO","TAJO","45019 Bargas"]
["45022 Buenaventura",419,"Buenaventura","Toledo","Castilla La Mancha",11.661629065566745,"Sí",419,207,212,"TAJO","TAJO","45022 Buenaventura"]
["45026 Cabañas de Yepes",301,"Cabañas de Yepes","Toledo","Castilla La Mancha",16.749251792559459,"No",301,156,145,"TAJO","TAJO","45026 Cabañas de Yepes"]
["45029 Caleruela",214,"Caleruela","Toledo","Castilla La Mancha",22.721184627356113,"No",214,106,108,"TAJO","TAJO","45029 Caleruela"]
["45030 Calzada de Oropesa",513,"Calzada de Oropesa","Toledo","Castilla La Mancha",3.6083663455478527,"Sí",513,284,229,"TAJO","TAJO","45030 Calzada de Oropesa"]
["45034 Camuñas",1726,"Camuñas","Toledo","Castilla La Mancha",16.916019343889548,"No",1726,894,832,"GUADIANA","GUADIANA","45034 Camuñas"]
["45035 Cardiel de los Montes",380,"Cardiel de los Montes","Toledo","Castilla La Mancha",15.630852571690701,"No",380,208,172,"TAJO","TAJO","45035 Cardiel de los Montes"]
["45039 Carriches",278,"Carriches","Toledo","Castilla La Mancha",14.887293282837206,"No",278,143,135,"TAJO","TAJO","45039 Carriches"]
["45042 Casasbuenas",182,"Casasbuenas","Toledo","Castilla La Mancha",5.9748685865407687,"Sí",182,92,90,"TAJO","TAJO","45042 Casasbuenas"]
["45046 Cebolla",3204,"Cebolla","Toledo","Castilla La Mancha",87.134550921741578,"No",3204,1587,1617,"TAJO","TAJO","45046 Cebolla"]
["45048 Cerralbos Los",418,"Cerralbos Los","Toledo","Castilla La Mancha",10.410962793634916,"Sí",418,229,189,"TAJO","TAJO","45048 Cerralbos Los"]
["45050 Ciruelos",616,"Ciruelos","Toledo","Castilla La Mancha",26.857618521013734,"No",616,333,283,"TAJO","TAJO","45050 Ciruelos"]
["45051 Cobeja",2412,"Cobeja","Toledo","Castilla La Mancha",136.30353735369621,"No",2412,1261,1151,"TAJO","TAJO","45051 Cobeja"]
["45054 Corral de Almaguer",5068,"Corral de Almaguer","Toledo","Castilla La Mancha",15.418151009757922,"No",5068,2624,2444,"TAJO","GUADIANA","45054 Corral de Almaguer"]
["45059 Dosbarrios",2263,"Dosbarrios","Toledo","Castilla La Mancha",20.280335171656549,"No",2263,1166,1097,"TAJO","TAJO","45059 Dosbarrios"]
["45063 Espinoso del Rey",435,"Espinoso del Rey","Toledo","Castilla La Mancha",9.0105226125900533,"Sí",435,252,183,"TAJO","TAJO","45063 Espinoso del Rey"]
["45065 Estrella La",205,"Estrella La","Toledo","Castilla La Mancha",2.6542754557607835,"Sí",205,109,96,"TAJO","TAJO","45065 Estrella La"]
["45069 Gerindote",2395,"Gerindote","Toledo","Castilla La Mancha",54.116134172944591,"No",2395,1203,1192,"TAJO","TAJO","45069 Gerindote"]
["45072 Herencias Las",742,"Herencias Las","Toledo","Castilla La Mancha",8.2435559723007632,"Sí",742,402,340,"TAJO","TAJO","45072 Herencias Las"]
["45075 Hontanar",137,"Hontanar","Toledo","Castilla La Mancha",0.90270558192213601,"Sí",137,82,55,"TAJO","GUADIANA - TAJO","45075 Hontanar"]
["45076 Hormigos",806,"Hormigos","Toledo","Castilla La Mancha",29.325410766777264,"No",806,454,352,"TAJO","TAJO","45076 Hormigos"]
["45080 Illán de Vacas",3,"Illán de Vacas","Toledo","Castilla La Mancha",0.32775379833876894,"Sí",3,3,0,"TAJO","TAJO","45080 Illán de Vacas"]
["45081 Illescas",30229,"Illescas","Toledo","Castilla La Mancha",532.71184499211392,"No",30229,15247,14982,"TAJO","TAJO","45081 Illescas"]
["45085 Lominchar",2527,"Lominchar","Toledo","Castilla La Mancha",113.50428327075777,"No",2527,1328,1199,"TAJO","TAJO","45085 Lominchar"]
["45088 Magán",3894,"Magán","Toledo","Castilla La Mancha",133.4286819583109,"No",3894,1970,1924,"TAJO","TAJO","45088 Magán"]
["45092 Marjaliza",263,"Marjaliza","Toledo","Castilla La Mancha",3.9974708017436873,"Sí",263,136,127,"TAJO","TAJO","45092 Marjaliza"]
["45093 Marrupe",154,"Marrupe","Toledo","Castilla La Mancha",14.667858255532568,"No",154,79,75,"TAJO","TAJO","45093 Marrupe"]
["45097 Mejorada",1293,"Mejorada","Toledo","Castilla La Mancha",28.002408250423393,"No",1293,667,626,"TAJO","TAJO","45097 Mejorada"]
["45098 Menasalbas",2544,"Menasalbas","Toledo","Castilla La Mancha",14.177406558337868,"No",2544,1327,1217,"TAJO","TAJO","45098 Menasalbas"]
["45101 Miguel Esteban",4809,"Miguel Esteban","Toledo","Castilla La Mancha",51.729201021030519,"No",4809,2410,2399,"GUADIANA","GUADIANA","45101 Miguel Esteban"]
["45104 Montearagón",522,"Montearagón","Toledo","Castilla La Mancha",43.62250653919758,"No",522,273,249,"TAJO","TAJO","45104 Montearagón"]
["45108 Nava de Ricomalillo La",521,"Nava de Ricomalillo La","Toledo","Castilla La Mancha",13.180865380735369,"No",521,276,245,"TAJO","TAJO","45108 Nava de Ricomalillo La"]
["45110 Navalcán",1925,"Navalcán","Toledo","Castilla La Mancha",32.019774081781001,"No",1925,1002,923,"TAJO","TAJO","45110 Navalcán"]
["45114 Navamorcuende",611,"Navamorcuende","Toledo","Castilla La Mancha",5.5140721648554161,"Sí",611,309,302,"TAJO","TAJO","45114 Navamorcuende"]
["45117 Nombela",877,"Nombela","Toledo","Castilla La Mancha",7.214376183667718,"Sí",877,462,415,"TAJO","TAJO","45117 Nombela"]
["45120 Nuño Gómez",137,"Nuño Gómez","Toledo","Castilla La Mancha",8.1091618672167964,"Sí",137,79,58,"TAJO","TAJO","45120 Nuño Gómez"]
["45121 Ocaña",13023,"Ocaña","Toledo","Castilla La Mancha",88.052738336713986,"No",13023,6564,6459,"TAJO","TAJO","45121 Ocaña"]
["45125 Oropesa",2626,"Oropesa","Toledo","Castilla La Mancha",7.804821215798551,"Sí",2626,1260,1366,"TAJO","TAJO","45125 Oropesa"]
["45127 Palomeque",1081,"Palomeque","Toledo","Castilla La Mancha",48.519293061781489,"No",1081,582,499,"TAJO","TAJO","45127 Palomeque"]
["45130 Parrillas",325,"Parrillas","Toledo","Castilla La Mancha",6.3351221119152932,"Sí",325,171,154,"TAJO","TAJO","45130 Parrillas"]
["45133 Polán",3908,"Polán","Toledo","Castilla La Mancha",24.638197401893258,"No",3908,1961,1947,"TAJO","TAJO","45133 Polán"]
["45137 Pueblanueva La",2169,"Pueblanueva La","Toledo","Castilla La Mancha",17.730974762176864,"No",2169,1103,1066,"TAJO","TAJO","45137 Pueblanueva La"]
["45140 Pulgar",1484,"Pulgar","Toledo","Castilla La Mancha",38.443389841748719,"No",1484,755,729,"TAJO","TAJO","45140 Pulgar"]
["45142 Quintanar de la Orden",11129,"Quintanar de la Orden","Toledo","Castilla La Mancha",126.65768898211489,"No",11129,5538,5591,"GUADIANA","GUADIANA","45142 Quintanar de la Orden"]
["45143 Quismondo",1633,"Quismondo","Toledo","Castilla La Mancha",105.85648919725776,"No",1633,827,806,"TAJO","TAJO","45143 Quismondo"]
["45146 Retamoso de la Jara",97,"Retamoso de la Jara","Toledo","Castilla La Mancha",2.0105741692001802,"Sí",97,53,44,"TAJO","TAJO","45146 Retamoso de la Jara"]
["45150 San Bartolomé de las Abiertas",427,"San Bartolomé de las Abiertas","Toledo","Castilla La Mancha",7.5090305324567383,"Sí",427,223,204,"TAJO","TAJO","45150 San Bartolomé de las Abiertas"]
["45153 San Pablo de los Montes",1723,"San Pablo de los Montes","Toledo","Castilla La Mancha",17.222237937361633,"No",1723,864,859,"TAJO","GUADIANA - TAJO","45153 San Pablo de los Montes"]
["45155 Santa Ana de Pusa",346,"Santa Ana de Pusa","Toledo","Castilla La Mancha",17.794535956302795,"No",346,198,148,"TAJO","TAJO","45155 Santa Ana de Pusa"]
["45901 Santo Domingo-Caudilla",1094,"Santo Domingo-Caudilla","Toledo","Castilla La Mancha",20.334486314816363,"No",1094,577,517,"TAJO","TAJO","45901 Santo Domingo-Caudilla"]
["45161 Seseña",27466,"Seseña","Toledo","Castilla La Mancha",384.61269168670299,"No",27466,14116,13350,"TAJO","TAJO","45161 Seseña"]
["45162 Sevilleja de la Jara",640,"Sevilleja de la Jara","Toledo","Castilla La Mancha",2.7356816570010118,"Sí",640,356,284,"TAJO","GUADIANA - TAJO","45162 Sevilleja de la Jara"]
["45165 Talavera de la Reina",83477,"Talavera de la Reina","Toledo","Castilla La Mancha",446.10454120603254,"No",83477,40020,43457,"TAJO","TAJO","45165 Talavera de la Reina"]
["45169 Torralba de Oropesa",188,"Torralba de Oropesa","Toledo","Castilla La Mancha",8.0176764176680582,"Sí",188,101,87,"TAJO","TAJO","45169 Torralba de Oropesa"]
["45170 Torrecilla de la Jara",212,"Torrecilla de la Jara","Toledo","Castilla La Mancha",3.0023712785006111,"Sí",212,117,95,"TAJO","TAJO","45170 Torrecilla de la Jara"]
["45174 Totanés",346,"Totanés","Toledo","Castilla La Mancha",13.285155064061133,"No",346,176,170,"TAJO","TAJO","45174 Totanés"]
["45177 Urda",2420,"Urda","Toledo","Castilla La Mancha",11.110196636845229,"Sí",2420,1207,1213,"TAJO","GUADIANA - TAJO","45177 Urda"]
["45182 Ventas con Peña Aguilera Las",1084,"Ventas con Peña Aguilera Las","Toledo","Castilla La Mancha",7.7379068722064126,"Sí",1084,546,538,"TAJO","GUADIANA - TAJO","45182 Ventas con Peña Aguilera Las"]
["45186 Villa de Don Fadrique La",3576,"Villa de Don Fadrique La","Toledo","Castilla La Mancha",43.001443001443,"No",3576,1774,1802,"GUADIANA","GUADIANA","45186 Villa de Don Fadrique La"]
["45187 Villafranca de los Caballeros",4866,"Villafranca de los Caballeros","Toledo","Castilla La Mancha",45.60971357549785,"No",4866,2435,2431,"GUADIANA","GUADIANA","45187 Villafranca de los Caballeros"]
["45188 Villaluenga de la Sagra",4034,"Villaluenga de la Sagra","Toledo","Castilla La Mancha",149.22915594413502,"No",4034,2022,2012,"TAJO","TAJO","45188 Villaluenga de la Sagra"]
["45191 Villamuelas",613,"Villamuelas","Toledo","Castilla La Mancha",14.137860794517332,"No",613,322,291,"TAJO","TAJO","45191 Villamuelas"]
["45195 Villarrubia de Santiago",2508,"Villarrubia de Santiago","Toledo","Castilla La Mancha",16.150627396815409,"No",2508,1265,1243,"TAJO","TAJO","45195 Villarrubia de Santiago"]
["45198 Villatobas",2570,"Villatobas","Toledo","Castilla La Mancha",14.153685575390302,"No",2570,1325,1245,"TAJO","TAJO","45198 Villatobas"]
["45200 Yébenes Los",5796,"Yébenes Los","Toledo","Castilla La Mancha",8.555499299588611,"Sí",5796,2969,2827,"TAJO","GUADIANA - TAJO","45200 Yébenes Los"]
["45204 Yunclillos",789,"Yunclillos","Toledo","Castilla La Mancha",25.399607616302518,"No",789,417,372,"TAJO","TAJO","45204 Yunclillos"]
["46002 Ador",1772,"Ador","Valencia/València","Comunitat Valenciana",128.12355391022675,"No",1772,931,841,"JÚCAR","JÚCAR","46002 Ador"]
["46004 Agullent",2369,"Agullent","Valencia/València","Comunitat Valenciana",145.8844182817254,"No",2369,1184,1185,"JÚCAR","JÚCAR","46004 Agullent"]
["46005 Alaquàs",29649,"Alaquàs","Valencia/València","Comunitat Valenciana",7599.1296972983864,"No",29649,14501,15148,"JÚCAR","JÚCAR","46005 Alaquàs"]
["46008 Albalat de la Ribera",3368,"Albalat de la Ribera","Valencia/València","Comunitat Valenciana",234.70383275261324,"No",3368,1701,1667,"JÚCAR","JÚCAR","46008 Albalat de la Ribera"]
["46011 Alberic",10571,"Alberic","Valencia/València","Comunitat Valenciana",394.55365907368906,"No",10571,5258,5313,"JÚCAR","JÚCAR","46011 Alberic"]
["46014 Albuixech",4189,"Albuixech","Valencia/València","Comunitat Valenciana",960.62558763501283,"No",4189,2030,2159,"JÚCAR","JÚCAR","46014 Albuixech"]
["46020 Alcúdia de Crespins l'",5144,"Alcúdia de Crespins l'","Valencia/València","Comunitat Valenciana",995.35603715170294,"No",5144,2546,2598,"JÚCAR","JÚCAR","46020 Alcúdia de Crespins l'"]
["46022 Alfafar",21415,"Alfafar","Valencia/València","Comunitat Valenciana",2122.7560639552748,"No",21415,10498,10917,"JÚCAR","JÚCAR","46022 Alfafar"]
["46026 Alfarp",1564,"Alfarp","Valencia/València","Comunitat Valenciana",76.003594911724548,"No",1564,799,765,"JÚCAR","JÚCAR","46026 Alfarp"]
["46023 Alfauir",467,"Alfauir","Valencia/València","Comunitat Valenciana",75.075992337425916,"No",467,244,223,"JÚCAR","JÚCAR","46023 Alfauir"]
["46028 Algar de Palancia",499,"Algar de Palancia","Valencia/València","Comunitat Valenciana",37.943570990368265,"No",499,254,245,"JÚCAR","JÚCAR","46028 Algar de Palancia"]
["46031 Alginet",13942,"Alginet","Valencia/València","Comunitat Valenciana",579.17730070310506,"No",13942,7056,6886,"JÚCAR","JÚCAR","46031 Alginet"]
["46035 Almussafes",8984,"Almussafes","Valencia/València","Comunitat Valenciana",834.76107147864673,"No",8984,4493,4491,"JÚCAR","JÚCAR","46035 Almussafes"]
["46017 Alzira",44865,"Alzira","Valencia/València","Comunitat Valenciana",406.05484659245184,"No",44865,21930,22935,"JÚCAR","JÚCAR","46017 Alzira"]
["46041 Aras de los Olmos",374,"Aras de los Olmos","Valencia/València","Comunitat Valenciana",4.9187485861885749,"Sí",374,215,159,"JÚCAR","JÚCAR","46041 Aras de los Olmos"]
["46044 Ayora",5215,"Ayora","Valencia/València","Comunitat Valenciana",11.675024626130563,"Sí",5215,2582,2633,"JÚCAR","JÚCAR","46044 Ayora"]
["46047 Bèlgida",654,"Bèlgida","Valencia/València","Comunitat Valenciana",37.887422794962127,"No",654,320,334,"JÚCAR","JÚCAR","46047 Bèlgida"]
["46048 Bellreguard",4632,"Bellreguard","Valencia/València","Comunitat Valenciana",1624.286875993482,"No",4632,2298,2334,"JÚCAR","JÚCAR","46048 Bellreguard"]
["46051 Benaguasil",11369,"Benaguasil","Valencia/València","Comunitat Valenciana",451.05413919239527,"No",11369,5831,5538,"JÚCAR","JÚCAR","46051 Benaguasil"]
["46054 Benetússer",15430,"Benetússer","Valencia/València","Comunitat Valenciana",19817.010521124444,"No",15430,7511,7919,"JÚCAR","JÚCAR","46054 Benetússer"]
["46057 Benicolet",587,"Benicolet","Valencia/València","Comunitat Valenciana",51.986895759720291,"No",587,284,303,"JÚCAR","JÚCAR","46057 Benicolet"]
["46059 Benifairó de la Valldigna",1542,"Benifairó de la Valldigna","Valencia/València","Comunitat Valenciana",76.341044059327587,"No",1542,772,770,"JÚCAR","JÚCAR","46059 Benifairó de la Valldigna"]
["46063 Benimodo",2253,"Benimodo","Valencia/València","Comunitat Valenciana",179.92921187091957,"No",2253,1146,1107,"JÚCAR","JÚCAR","46063 Benimodo"]
["46066 Benirredrà",1547,"Benirredrà","Valencia/València","Comunitat Valenciana",3979.9535886472277,"No",1547,743,804,"JÚCAR","JÚCAR","46066 Benirredrà"]
["46069 Benissuera",183,"Benissuera","Valencia/València","Comunitat Valenciana",86.34417353763402,"No",183,86,97,"JÚCAR","JÚCAR","46069 Benissuera"]
["46071 Bicorp",527,"Bicorp","Valencia/València","Comunitat Valenciana",3.8606915390827767,"Sí",527,249,278,"JÚCAR","JÚCAR","46071 Bicorp"]
["46072 Bocairent",4101,"Bocairent","Valencia/València","Comunitat Valenciana",42.286513556354045,"No",4101,2068,2033,"JÚCAR","JÚCAR","46072 Bocairent"]
["46076 Bugarra",728,"Bugarra","Valencia/València","Comunitat Valenciana",18.044412057038191,"No",728,368,360,"JÚCAR","JÚCAR","46076 Bugarra"]
["46079 Calles",368,"Calles","Valencia/València","Comunitat Valenciana",5.6683142772206168,"Sí",368,212,156,"JÚCAR","JÚCAR","46079 Calles"]
["46082 Canet d'En Berenguer",6812,"Canet d'En Berenguer","Valencia/València","Comunitat Valenciana",1724.7752880111407,"No",6812,3468,3344,"JÚCAR","JÚCAR","46082 Canet d'En Berenguer"]
["46086 Carrícola",102,"Carrícola","Valencia/València","Comunitat Valenciana",22.177649495295402,"No",102,49,53,"JÚCAR","JÚCAR","46086 Carrícola"]
["46088 Casas Bajas",164,"Casas Bajas","Valencia/València","Comunitat Valenciana",7.2396972376273023,"Sí",164,87,77,"JÚCAR","JÚCAR","46088 Casas Bajas"]
["46090 Castelló de Rugat",2316,"Castelló de Rugat","Valencia/València","Comunitat Valenciana",121.7505841504711,"No",2316,1185,1131,"JÚCAR","JÚCAR","46090 Castelló de Rugat"]
["46091 Castellonet de la Conquesta",139,"Castellonet de la Conquesta","Valencia/València","Comunitat Valenciana",25.582884865975132,"No",139,76,63,"JÚCAR","JÚCAR","46091 Castellonet de la Conquesta"]
["46094 Catarroja",28509,"Catarroja","Valencia/València","Comunitat Valenciana",2166.8478136947151,"No",28509,14086,14423,"JÚCAR","JÚCAR","46094 Catarroja"]
["46106 Chelva",1583,"Chelva","Valencia/València","Comunitat Valenciana",8.3148529641951807,"Sí",1583,805,778,"JÚCAR","JÚCAR","46106 Chelva"]
["46109 Cheste",8871,"Cheste","Valencia/València","Comunitat Valenciana",124.01928163603115,"No",8871,4545,4326,"JÚCAR","JÚCAR","46109 Cheste"]
["46097 Cofrentes",1122,"Cofrentes","Valencia/València","Comunitat Valenciana",10.873758014768891,"Sí",1122,565,557,"JÚCAR","JÚCAR","46097 Cofrentes"]
["46105 Cullera",22708,"Cullera","Valencia/València","Comunitat Valenciana",421.91748752112323,"No",22708,11428,11280,"JÚCAR","JÚCAR","46105 Cullera"]
["46115 Dos Aguas",312,"Dos Aguas","Valencia/València","Comunitat Valenciana",2.5676899020656734,"Sí",312,177,135,"JÚCAR","JÚCAR","46115 Dos Aguas"]
["46116 Eliana l'",18302,"Eliana l'","Valencia/València","Comunitat Valenciana",2090.3432128376448,"No",18302,8975,9327,"JÚCAR","JÚCAR","46116 Eliana l'"]
["46119 Ènova l'",912,"Ènova l'","Valencia/València","Comunitat Valenciana",118.84719781894542,"No",912,471,441,"JÚCAR","JÚCAR","46119 Ènova l'"]
["46122 Faura",3563,"Faura","Valencia/València","Comunitat Valenciana",2177.3737682377205,"No",3563,1786,1777,"JÚCAR","JÚCAR","46122 Faura"]
["46128 Font de la Figuera la",2025,"Font de la Figuera la","Valencia/València","Comunitat Valenciana",23.906386133587702,"No",2025,1028,997,"JÚCAR","JÚCAR","46128 Font de la Figuera la"]
["46125 Fortaleny",1011,"Fortaleny","Valencia/València","Comunitat Valenciana",221.29811592343918,"No",1011,501,510,"JÚCAR","JÚCAR","46125 Fortaleny"]
["46902 Gátova",419,"Gátova","Valencia/València","Comunitat Valenciana",13.775055642677028,"No",419,209,210,"JÚCAR","JÚCAR","46902 Gátova"]
["46134 Gilet",3501,"Gilet","Valencia/València","Comunitat Valenciana",310.32546147284137,"No",3501,1808,1693,"JÚCAR","JÚCAR","46134 Gilet"]
["46136 Godelleta",3714,"Godelleta","Valencia/València","Comunitat Valenciana",99.169475667431399,"No",3714,1912,1802,"JÚCAR","JÚCAR","46136 Godelleta"]
["46137 Granja de la Costera la",281,"Granja de la Costera la","Valencia/València","Comunitat Valenciana",337.97721239762961,"No",281,143,138,"JÚCAR","JÚCAR","46137 Granja de la Costera la"]
["46140 Guardamar de la Safor",547,"Guardamar de la Safor","Valencia/València","Comunitat Valenciana",497.93906026974281,"No",547,285,262,"JÚCAR","JÚCAR","46140 Guardamar de la Safor"]
["46144 Jarafuel",772,"Jarafuel","Valencia/València","Comunitat Valenciana",7.4884765973805711,"Sí",772,409,363,"JÚCAR","JÚCAR","46144 Jarafuel"]
["46152 Llocnou de la Corona",124,"Llocnou de la Corona","Valencia/València","Comunitat Valenciana",9841.269841269841,"No",124,69,55,"JÚCAR","JÚCAR","46152 Llocnou de la Corona"]
["46156 Llombai",2651,"Llombai","Valencia/València","Comunitat Valenciana",47.701333726411995,"No",2651,1324,1327,"JÚCAR","JÚCAR","46156 Llombai"]
["46148 Loriguilla",2027,"Loriguilla","Valencia/València","Comunitat Valenciana",27.989090192323161,"No",2027,1050,977,"JÚCAR","JÚCAR","46148 Loriguilla"]
["46159 Manises",31287,"Manises","Valencia/València","Comunitat Valenciana",1591.9760377763441,"No",31287,15467,15820,"JÚCAR","JÚCAR","46159 Manises"]
["46162 Massalavés",1632,"Massalavés","Valencia/València","Comunitat Valenciana",218.07633687342138,"No",1632,842,790,"JÚCAR","JÚCAR","46162 Massalavés"]
["46163 Massalfassar",2574,"Massalfassar","Valencia/València","Comunitat Valenciana",1015.0642795173121,"No",2574,1284,1290,"JÚCAR","JÚCAR","46163 Massalfassar"]
["46166 Meliana",10926,"Meliana","Valencia/València","Comunitat Valenciana",2319.1051302188357,"No",10926,5377,5549,"JÚCAR","JÚCAR","46166 Meliana"]
["46169 Mislata",44320,"Mislata","Valencia/València","Comunitat Valenciana",21808.877079027654,"No",44320,21468,22852,"JÚCAR","JÚCAR","46169 Mislata"]
["46173 Montaverner",1630,"Montaverner","Valencia/València","Comunitat Valenciana",220.32335628976548,"No",1630,801,829,"JÚCAR","JÚCAR","46173 Montaverner"]
["46176 Montroi/Montroy",3069,"Montroi/Montroy","Valencia/València","Comunitat Valenciana",97.768299197627783,"No",3069,1640,1429,"JÚCAR","JÚCAR","46176 Montroi/Montroy"]
["46179 Navarrés",3004,"Navarrés","Valencia/València","Comunitat Valenciana",63.861467385157781,"No",3004,1495,1509,"JÚCAR","JÚCAR","46179 Navarrés"]
["46183 Olleria l'",8404,"Olleria l'","Valencia/València","Comunitat Valenciana",260.79378752207856,"No",8404,4210,4194,"JÚCAR","JÚCAR","46183 Olleria l'"]
["46185 Otos",428,"Otos","Valencia/València","Comunitat Valenciana",38.670144570323188,"No",428,215,213,"JÚCAR","JÚCAR","46185 Otos"]
["46186 Paiporta",26401,"Paiporta","Valencia/València","Comunitat Valenciana",6671.6365106641051,"No",26401,13016,13385,"JÚCAR","JÚCAR","46186 Paiporta"]
["46188 Palmera",1024,"Palmera","Valencia/València","Comunitat Valenciana",1047.2125125532555,"No",1024,516,508,"JÚCAR","JÚCAR","46188 Palmera"]
["46191 Pedralba",2852,"Pedralba","Valencia/València","Comunitat Valenciana",48.308769600029812,"No",2852,1511,1341,"JÚCAR","JÚCAR","46191 Pedralba"]
["46195 Piles",2742,"Piles","Valencia/València","Comunitat Valenciana",695.83771298293095,"No",2742,1370,1372,"JÚCAR","JÚCAR","46195 Piles"]
["46202 Pobla de Vallbona la",25275,"Pobla de Vallbona la","Valencia/València","Comunitat Valenciana",760.20524789759247,"No",25275,12763,12512,"JÚCAR","JÚCAR","46202 Pobla de Vallbona la"]
["46197 Polinyà de Xúquer",2495,"Polinyà de Xúquer","Valencia/València","Comunitat Valenciana",271.87776985693893,"No",2495,1283,1212,"JÚCAR","JÚCAR","46197 Polinyà de Xúquer"]
["46201 Puebla de San Miguel",60,"Puebla de San Miguel","Valencia/València","Comunitat Valenciana",0.94322864019443087,"Sí",60,38,22,"JÚCAR","JÚCAR","46201 Puebla de San Miguel"]
["46102 Quart de Poblet",25035,"Quart de Poblet","Valencia/València","Comunitat Valenciana",1269.368839492151,"No",25035,12181,12854,"JÚCAR","JÚCAR","46102 Quart de Poblet"]
["46103 Quartell",1640,"Quartell","Valencia/València","Comunitat Valenciana",516.0648794249023,"No",1640,786,854,"JÚCAR","JÚCAR","46103 Quartell"]
["46207 Rafelbunyol",9351,"Rafelbunyol","Valencia/València","Comunitat Valenciana",2227.309949794419,"No",9351,4594,4757,"JÚCAR","JÚCAR","46207 Rafelbunyol"]
["46210 Ráfol de Salem",449,"Ráfol de Salem","Valencia/València","Comunitat Valenciana",103.81008442141254,"No",449,220,229,"JÚCAR","JÚCAR","46210 Ráfol de Salem"]
["46213 Requena",20235,"Requena","Valencia/València","Comunitat Valenciana",24.844554248056575,"No",20235,10085,10150,"JÚCAR","JÚCAR","46213 Requena"]
["46216 Rocafort",7445,"Rocafort","Valencia/València","Comunitat Valenciana",3236.1123185256019,"No",7445,3638,3807,"JÚCAR","JÚCAR","46216 Rocafort"]
["46220 Sagunto/Sagunt",67043,"Sagunto/Sagunt","Valencia/València","Comunitat Valenciana",500.61192290144794,"No",67043,32822,34221,"JÚCAR","JÚCAR","46220 Sagunto/Sagunt"]
["46222 Sant Joanet",519,"Sant Joanet","Valencia/València","Comunitat Valenciana",279.38629758247413,"No",519,263,256,"JÚCAR","JÚCAR","46222 Sant Joanet"]
["46225 Sellent",377,"Sellent","Valencia/València","Comunitat Valenciana",26.918496219986235,"No",377,192,185,"JÚCAR","JÚCAR","46225 Sellent"]
["46226 Sempere",26,"Sempere","Valencia/València","Comunitat Valenciana",6.796346179734603,"Sí",26,14,12,"JÚCAR","JÚCAR","46226 Sempere"]
["46228 Serra",3326,"Serra","Valencia/València","Comunitat Valenciana",58.06878514724086,"No",3326,1705,1621,"JÚCAR","JÚCAR","46228 Serra"]
["46232 Sinarcas",1109,"Sinarcas","Valencia/València","Comunitat Valenciana",10.82358397461523,"Sí",1109,589,520,"JÚCAR","JÚCAR","46232 Sinarcas"]
["46235 Sueca",27617,"Sueca","Valencia/València","Comunitat Valenciana",298.50963414794569,"No",27617,13590,14027,"JÚCAR","JÚCAR","46235 Sueca"]
["46238 Tavernes de la Valldigna",17162,"Tavernes de la Valldigna","Valencia/València","Comunitat Valenciana",348.58432759013465,"No",17162,8524,8638,"JÚCAR","JÚCAR","46238 Tavernes de la Valldigna"]
["46241 Titaguas",470,"Titaguas","Valencia/València","Comunitat Valenciana",7.4351444216689977,"Sí",470,249,221,"JÚCAR","JÚCAR","46241 Titaguas"]
["46244 Torrent",84025,"Torrent","Valencia/València","Comunitat Valenciana",1213.6237845707651,"No",84025,41389,42636,"JÚCAR","JÚCAR","46244 Torrent"]
["46247 Tuéjar",1164,"Tuéjar","Valencia/València","Comunitat Valenciana",9.5470462156677591,"Sí",1164,615,549,"JÚCAR","JÚCAR","46247 Tuéjar"]
["46248 Turís",6910,"Turís","Valencia/València","Comunitat Valenciana",85.832703614022634,"No",6910,3619,3291,"JÚCAR","JÚCAR","46248 Turís"]
["46251 Vallada",3092,"Vallada","Valencia/València","Comunitat Valenciana",50.27858351701196,"No",3092,1568,1524,"JÚCAR","JÚCAR","46251 Vallada"]
["46255 Vilallonga/Villalonga",4453,"Vilallonga/Villalonga","Valencia/València","Comunitat Valenciana",102.84017163893006,"No",4453,2191,2262,"JÚCAR","JÚCAR","46255 Vilallonga/Villalonga"]
["46259 Villargordo del Cabriel",585,"Villargordo del Cabriel","Valencia/València","Comunitat Valenciana",8.1612723214285712,"Sí",585,296,289,"JÚCAR","JÚCAR","46259 Villargordo del Cabriel"]
["46145 Xàtiva",29459,"Xàtiva","Valencia/València","Comunitat Valenciana",384.76107393935234,"No",29459,14372,15087,"JÚCAR","JÚCAR","46145 Xàtiva"]
["46261 Yátova",2112,"Yátova","Valencia/València","Comunitat Valenciana",17.56487025948104,"No",2112,1094,1018,"JÚCAR","JÚCAR","46261 Yátova"]
["47001 Adalia",52,"Adalia","Valladolid","Castilla y León",3.1977932274921175,"Sí",52,30,22,"DUERO","DUERO","47001 Adalia"]
["47002 Aguasal",17,"Aguasal","Valladolid","Castilla y León",0.62913231218744381,"Sí",17,11,6,"DUERO","DUERO","47002 Aguasal"]
["47005 Alcazarén",632,"Alcazarén","Valladolid","Castilla y León",13.154808702855101,"No",632,338,294,"DUERO","DUERO","47005 Alcazarén"]
["47007 Aldeamayor de San Martín",5789,"Aldeamayor de San Martín","Valladolid","Castilla y León",108.07500640674387,"No",5789,3001,2788,"DUERO","DUERO","47007 Aldeamayor de San Martín"]
["47011 Ataquines",564,"Ataquines","Valladolid","Castilla y León",13.239289309316135,"No",564,309,255,"DUERO","DUERO","47011 Ataquines"]
["47014 Barruelo del Valle",47,"Barruelo del Valle","Valladolid","Castilla y León",3.6262958606835767,"Sí",47,29,18,"DUERO","DUERO","47014 Barruelo del Valle"]
["47017 Bercero",195,"Bercero","Valladolid","Castilla y León",4.7134174509954443,"Sí",195,110,85,"DUERO","DUERO","47017 Bercero"]
["47021 Bocigas",80,"Bocigas","Valladolid","Castilla y León",4.9032689235841467,"Sí",80,47,33,"DUERO","DUERO","47021 Bocigas"]
["47022 Bocos de Duero",69,"Bocos de Duero","Valladolid","Castilla y León",11.129466666279555,"Sí",69,32,37,"DUERO","DUERO","47022 Bocos de Duero"]
["47024 Bolaños de Campos",277,"Bolaños de Campos","Valladolid","Castilla y León",9.2584583202923874,"Sí",277,159,118,"DUERO","DUERO","47024 Bolaños de Campos"]
["47027 Cabezón de Pisuerga",3747,"Cabezón de Pisuerga","Valladolid","Castilla y León",82.522133638726146,"No",3747,1907,1840,"DUERO","DUERO","47027 Cabezón de Pisuerga"]
["47030 Campaspero",1047,"Campaspero","Valladolid","Castilla y León",22.376783268800072,"No",1047,584,463,"DUERO","DUERO","47030 Campaspero"]
["47034 Canillas de Esgueva",78,"Canillas de Esgueva","Valladolid","Castilla y León",3.3162117603582937,"Sí",78,45,33,"DUERO","DUERO","47034 Canillas de Esgueva"]
["47037 Castrejón de Trabancos",170,"Castrejón de Trabancos","Valladolid","Castilla y León",5.6292035663719862,"Sí",170,85,85,"DUERO","DUERO","47037 Castrejón de Trabancos"]
["47039 Castrillo-Tejeriego",162,"Castrillo-Tejeriego","Valladolid","Castilla y León",4.5097249713604626,"Sí",162,89,73,"DUERO","DUERO","47039 Castrillo-Tejeriego"]
["47043 Castromonte",314,"Castromonte","Valladolid","Castilla y León",3.6088158544245057,"Sí",314,169,145,"DUERO","DUERO","47043 Castromonte"]
["47046 Castroponce",148,"Castroponce","Valladolid","Castilla y León",5.9511511818383092,"Sí",148,77,71,"DUERO","DUERO","47046 Castroponce"]
["47047 Castroverde de Cerrato",196,"Castroverde de Cerrato","Valladolid","Castilla y León",6.0384233504105698,"Sí",196,126,70,"DUERO","DUERO","47047 Castroverde de Cerrato"]
["47050 Cigales",5299,"Cigales","Valladolid","Castilla y León",86.915849711260265,"No",5299,2695,2604,"DUERO","DUERO","47050 Cigales"]
["47052 Cistérniga",9109,"Cistérniga","Valladolid","Castilla y León",286.73239865517502,"No",9109,4604,4505,"DUERO","DUERO","47052 Cistérniga"]
["47056 Corrales de Duero",109,"Corrales de Duero","Valladolid","Castilla y León",6.1267421728620395,"Sí",109,63,46,"DUERO","DUERO","47056 Corrales de Duero"]
["47059 Curiel de Duero",118,"Curiel de Duero","Valladolid","Castilla y León",6.2088780220661413,"Sí",118,77,41,"DUERO","DUERO","47059 Curiel de Duero"]
["47063 Fompedraza",103,"Fompedraza","Valladolid","Castilla y León",6.282541889610493,"Sí",103,55,48,"DUERO","DUERO","47063 Fompedraza"]
["47066 Fuensaldaña",1996,"Fuensaldaña","Valladolid","Castilla y León",79.546942699340207,"No",1996,1027,969,"DUERO","DUERO","47066 Fuensaldaña"]
["47067 Fuente el Sol",148,"Fuente el Sol","Valladolid","Castilla y León",7.0657028729673028,"Sí",148,78,70,"DUERO","DUERO","47067 Fuente el Sol"]
["47069 Gallegos de Hornija",111,"Gallegos de Hornija","Valladolid","Castilla y León",9.8980827413729973,"Sí",111,56,55,"DUERO","DUERO","47069 Gallegos de Hornija"]
["47073 Herrín de Campos",119,"Herrín de Campos","Valladolid","Castilla y León",4.0355961282558575,"Sí",119,64,55,"DUERO","DUERO","47073 Herrín de Campos"]
["47076 Laguna de Duero",22633,"Laguna de Duero","Valladolid","Castilla y León",774.2741867974363,"No",22633,11260,11373,"DUERO","DUERO","47076 Laguna de Duero"]
["47080 Manzanillo",49,"Manzanillo","Valladolid","Castilla y León",2.6032481417722564,"Sí",49,26,23,"DUERO","DUERO","47080 Manzanillo"]
["47083 Matilla de los Caños",94,"Matilla de los Caños","Valladolid","Castilla y León",7.6509468738597342,"Sí",94,48,46,"DUERO","DUERO","47083 Matilla de los Caños"]
["47085 Medina del Campo",20271,"Medina del Campo","Valladolid","Castilla y León",132.36707998659051,"No",20271,9862,10409,"DUERO","DUERO","47085 Medina del Campo"]
["47089 Melgar de Arriba",153,"Melgar de Arriba","Valladolid","Castilla y León",4.3669690226626283,"Sí",153,85,68,"DUERO","DUERO","47089 Melgar de Arriba"]
["47092 Montealegre de Campos",103,"Montealegre de Campos","Valladolid","Castilla y León",3.0323929637413531,"Sí",103,60,43,"DUERO","DUERO","47092 Montealegre de Campos"]
["47093 Montemayor de Pililla",852,"Montemayor de Pililla","Valladolid","Castilla y León",14.305656332262771,"No",852,463,389,"DUERO","DUERO","47093 Montemayor de Pililla"]
["47096 Morales de Campos",141,"Morales de Campos","Valladolid","Castilla y León",8.8775401884985108,"Sí",141,73,68,"DUERO","DUERO","47096 Morales de Campos"]
["47100 Muriel",117,"Muriel","Valladolid","Castilla y León",5.196100615160578,"Sí",117,60,57,"DUERO","DUERO","47100 Muriel"]
["47102 Nueva Villa de las Torres",276,"Nueva Villa de las Torres","Valladolid","Castilla y León",7.7079838151330566,"Sí",276,161,115,"DUERO","DUERO","47102 Nueva Villa de las Torres"]
["47105 Olmos de Esgueva",185,"Olmos de Esgueva","Valladolid","Castilla y León",7.4462621374072846,"Sí",185,101,84,"DUERO","DUERO","47105 Olmos de Esgueva"]
["47111 Pedraja de Portillo La",1122,"Pedraja de Portillo La","Valladolid","Castilla y León",19.762844457395783,"No",1122,577,545,"DUERO","DUERO","47111 Pedraja de Portillo La"]
["47114 Peñafiel",5068,"Peñafiel","Valladolid","Castilla y León",66.622847377415539,"No",5068,2560,2508,"DUERO","DUERO","47114 Peñafiel"]
["47115 Peñaflor de Hornija",330,"Peñaflor de Hornija","Valladolid","Castilla y León",4.9841830726087029,"Sí",330,179,151,"DUERO","DUERO","47115 Peñaflor de Hornija"]
["47117 Piña de Esgueva",318,"Piña de Esgueva","Valladolid","Castilla y León",10.612622299208603,"Sí",318,165,153,"DUERO","DUERO","47117 Piña de Esgueva"]
["47121 Pollos",611,"Pollos","Valladolid","Castilla y León",12.092417019449574,"Sí",611,343,268,"DUERO","DUERO","47121 Pollos"]
["47125 Pozuelo de la Orden",45,"Pozuelo de la Orden","Valladolid","Castilla y León",2.1978133612986359,"Sí",45,27,18,"DUERO","DUERO","47125 Pozuelo de la Orden"]
["47129 Quintanilla de Onésimo",1031,"Quintanilla de Onésimo","Valladolid","Castilla y León",18.689042858887721,"No",1031,550,481,"DUERO","DUERO","47129 Quintanilla de Onésimo"]
["47131 Rábano",169,"Rábano","Valladolid","Castilla y León",6.1132203127914178,"Sí",169,89,80,"DUERO","DUERO","47131 Rábano"]
["47133 Renedo de Esgueva",3875,"Renedo de Esgueva","Valladolid","Castilla y León",134.24065000881657,"No",3875,1984,1891,"DUERO","DUERO","47133 Renedo de Esgueva"]
["47138 Rubí de Bracamonte",215,"Rubí de Bracamonte","Valladolid","Castilla y León",8.4012230305110549,"Sí",215,123,92,"DUERO","DUERO","47138 Rubí de Bracamonte"]
["47141 Salvador de Zapardiel",110,"Salvador de Zapardiel","Valladolid","Castilla y León",4.179512493303756,"Sí",110,64,46,"DUERO","DUERO","47141 Salvador de Zapardiel"]
["47142 San Cebrián de Mazote",122,"San Cebrián de Mazote","Valladolid","Castilla y León",3.4366137163366082,"Sí",122,71,51,"DUERO","DUERO","47142 San Cebrián de Mazote"]
["47145 San Miguel del Arroyo",658,"San Miguel del Arroyo","Valladolid","Castilla y León",11.853605592999498,"Sí",658,351,307,"DUERO","DUERO","47145 San Miguel del Arroyo"]
["47149 San Pelayo",48,"San Pelayo","Valladolid","Castilla y León",4.4926030694400128,"Sí",48,23,25,"DUERO","DUERO","47149 San Pelayo"]
["47151 San Salvador",24,"San Salvador","Valladolid","Castilla y León",2.2541688034308454,"Sí",24,14,10,"DUERO","DUERO","47151 San Salvador"]
["47153 Santervás de Campos",110,"Santervás de Campos","Valladolid","Castilla y León",2.0368434237538127,"Sí",110,62,48,"DUERO","DUERO","47153 Santervás de Campos"]
["47158 Seca La",1066,"Seca La","Valladolid","Castilla y León",16.176985079204858,"No",1066,556,510,"DUERO","DUERO","47158 Seca La"]
["47161 Simancas",5315,"Simancas","Valladolid","Castilla y León",125.4616617369951,"No",5315,2707,2608,"DUERO","DUERO","47161 Simancas"]
["47162 Tamariz de Campos",68,"Tamariz de Campos","Valladolid","Castilla y León",1.7999955105994323,"Sí",68,41,27,"DUERO","DUERO","47162 Tamariz de Campos"]
["47164 Tordehumos",406,"Tordehumos","Valladolid","Castilla y León",6.5993950987950578,"Sí",406,217,189,"DUERO","DUERO","47164 Tordehumos"]
["47170 Torre de Peñafiel",45,"Torre de Peñafiel","Valladolid","Castilla y León",1.4890800794176042,"Sí",45,28,17,"DUERO","DUERO","47170 Torre de Peñafiel"]
["47171 Torrelobatón",390,"Torrelobatón","Valladolid","Castilla y León",5.9009613513358854,"Sí",390,203,187,"DUERO","DUERO","47171 Torrelobatón"]
["47174 Trigueros del Valle",309,"Trigueros del Valle","Valladolid","Castilla y León",8.1738491478312572,"Sí",309,169,140,"DUERO","DUERO","47174 Trigueros del Valle"]
["47177 Urones de Castroponce",108,"Urones de Castroponce","Valladolid","Castilla y León",5.7754134233442205,"Sí",108,67,41,"DUERO","DUERO","47177 Urones de Castroponce"]
["47179 Valbuena de Duero",436,"Valbuena de Duero","Valladolid","Castilla y León",9.361854351447878,"Sí",436,244,192,"DUERO","DUERO","47179 Valbuena de Duero"]
["47183 Valdunquillo",138,"Valdunquillo","Valladolid","Castilla y León",4.4748847579361355,"Sí",138,65,73,"DUERO","DUERO","47183 Valdunquillo"]
["47186 Valladolid",297775,"Valladolid","Valladolid","Castilla y León",1508.6847855770191,"No",297775,139534,158241,"DUERO","DUERO","47186 Valladolid"]
["47187 Vega de Ruiponce",85,"Vega de Ruiponce","Valladolid","Castilla y León",2.7097041647005375,"Sí",85,51,34,"DUERO","DUERO","47187 Vega de Ruiponce"]
["47190 Velilla",115,"Velilla","Valladolid","Castilla y León",5.763329717136279,"Sí",115,58,57,"DUERO","DUERO","47190 Velilla"]
["47195 Villabáñez",492,"Villabáñez","Valladolid","Castilla y León",9.6415064501090253,"Sí",492,266,226,"DUERO","DUERO","47195 Villabáñez"]
["47197 Villabrágima",1044,"Villabrágima","Valladolid","Castilla y León",15.552382181021983,"No",1044,557,487,"DUERO","DUERO","47197 Villabrágima"]
["47203 Villafrades de Campos",61,"Villafrades de Campos","Valladolid","Castilla y León",2.9468442438228593,"Sí",61,31,30,"DUERO","DUERO","47203 Villafrades de Campos"]
["47206 Villafuerte",86,"Villafuerte","Valladolid","Castilla y León",3.2819266588612783,"Sí",86,51,35,"DUERO","DUERO","47206 Villafuerte"]
["47209 Villalán de Campos",35,"Villalán de Campos","Valladolid","Castilla y León",1.9071914850766081,"Sí",35,22,13,"DUERO","DUERO","47209 Villalán de Campos"]
["47210 Villalar de los Comuneros",473,"Villalar de los Comuneros","Valladolid","Castilla y León",11.066738869533793,"Sí",473,229,244,"DUERO","DUERO","47210 Villalar de los Comuneros"]
["47214 Villalón de Campos",1526,"Villalón de Campos","Valladolid","Castilla y León",21.793361119535525,"No",1526,751,775,"DUERO","DUERO","47214 Villalón de Campos"]
["47215 Villamuriel de Campos",49,"Villamuriel de Campos","Valladolid","Castilla y León",2.6838259176302057,"Sí",49,25,24,"DUERO","DUERO","47215 Villamuriel de Campos"]
["47219 Villanueva de la Condesa",58,"Villanueva de la Condesa","Valladolid","Castilla y León",5.0876983226472667,"Sí",58,28,30,"DUERO","DUERO","47219 Villanueva de la Condesa"]
["47222 Villanueva de San Mancio",89,"Villanueva de San Mancio","Valladolid","Castilla y León",5.8713727368414457,"Sí",89,52,37,"DUERO","DUERO","47222 Villanueva de San Mancio"]
["47226 Villavaquerín",162,"Villavaquerín","Valladolid","Castilla y León",3.5910214090711374,"Sí",162,90,72,"DUERO","DUERO","47226 Villavaquerín"]
["47227 Villavellid",51,"Villavellid","Valladolid","Castilla y León",2.3376096923348131,"Sí",51,31,20,"DUERO","DUERO","47227 Villavellid"]
["47230 Wamba",307,"Wamba","Valladolid","Castilla y León",8.0442491348501761,"Sí",307,166,141,"DUERO","DUERO","47230 Wamba"]
["47231 Zaratán",6249,"Zaratán","Valladolid","Castilla y León",309.98561436579189,"No",6249,3203,3046,"DUERO","DUERO","47231 Zaratán"]
["49003 Alcañices",1042,"Alcañices","Zamora","Castilla y León",18.952587610246038,"No",1042,553,489,"DUERO","DUERO","49003 Alcañices"]
["49006 Algodre",135,"Algodre","Zamora","Castilla y León",7.4254975083330592,"Sí",135,73,62,"DUERO","DUERO","49006 Algodre"]
["49010 Arcenillas",429,"Arcenillas","Zamora","Castilla y León",35.510719891689817,"No",429,223,206,"DUERO","DUERO","49010 Arcenillas"]
["49012 Argañín",72,"Argañín","Zamora","Castilla y León",5.6961781967070717,"Sí",72,36,36,"DUERO","DUERO","49012 Argañín"]
["49016 Aspariegos",234,"Aspariegos","Zamora","Castilla y León",5.5503239930472947,"Sí",234,104,130,"DUERO","DUERO","49016 Aspariegos"]
["49019 Barcial del Barco",241,"Barcial del Barco","Zamora","Castilla y León",12.678304438285091,"No",241,127,114,"DUERO","DUERO","49019 Barcial del Barco"]
["49022 Benegiles",302,"Benegiles","Zamora","Castilla y León",12.880332329634147,"No",302,163,139,"DUERO","DUERO","49022 Benegiles"]
["49023 Bermillo de Sayago",1008,"Bermillo de Sayago","Zamora","Castilla y León",5.3178098304779304,"Sí",1008,533,475,"DUERO","DUERO","49023 Bermillo de Sayago"]
["49027 Brime de Sog",128,"Brime de Sog","Zamora","Castilla y León",7.1382889565985348,"Sí",128,61,67,"DUERO","DUERO","49027 Brime de Sog"]
["49029 Burganes de Valverde",639,"Burganes de Valverde","Zamora","Castilla y León",19.344193104815343,"No",639,338,301,"DUERO","DUERO","49029 Burganes de Valverde"]
["49032 Calzadilla de Tera",289,"Calzadilla de Tera","Zamora","Castilla y León",10.61220371112803,"Sí",289,147,142,"DUERO","DUERO","49032 Calzadilla de Tera"]
["49035 Cañizo",220,"Cañizo","Zamora","Castilla y León",5.2565184592083529,"Sí",220,121,99,"DUERO","DUERO","49035 Cañizo"]
["49039 Casaseca de las Chanas",373,"Casaseca de las Chanas","Zamora","Castilla y León",29.703868359463318,"No",373,194,179,"DUERO","DUERO","49039 Casaseca de las Chanas"]
["49042 Castronuevo",220,"Castronuevo","Zamora","Castilla y León",4.5746100285308025,"Sí",220,109,111,"DUERO","DUERO","49042 Castronuevo"]
["49043 Castroverde de Campos",270,"Castroverde de Campos","Zamora","Castilla y León",4.1924363696463693,"Sí",270,147,123,"DUERO","DUERO","49043 Castroverde de Campos"]
["49044 Cazurra",73,"Cazurra","Zamora","Castilla y León",8.7009525516794852,"Sí",73,37,36,"DUERO","DUERO","49044 Cazurra"]
["49046 Cerecinos de Campos",247,"Cerecinos de Campos","Zamora","Castilla y León",8.6437355943572562,"Sí",247,137,110,"DUERO","DUERO","49046 Cerecinos de Campos"]
["49047 Cerecinos del Carrizal",112,"Cerecinos del Carrizal","Zamora","Castilla y León",6.4980699861863789,"Sí",112,65,47,"DUERO","DUERO","49047 Cerecinos del Carrizal"]
["49048 Cernadilla",113,"Cernadilla","Zamora","Castilla y León",3.1281250973213699,"Sí",113,57,56,"DUERO","DUERO","49048 Cernadilla"]
["49050 Cobreros",552,"Cobreros","Zamora","Castilla y León",7.1041809082757075,"Sí",552,304,248,"DUERO","DUERO","49050 Cobreros"]
["49052 Coomonte",198,"Coomonte","Zamora","Castilla y León",19.308483250378369,"No",198,111,87,"DUERO","DUERO","49052 Coomonte"]
["49053 Coreses",1059,"Coreses","Zamora","Castilla y León",24.597074829457956,"No",1059,547,512,"DUERO","DUERO","49053 Coreses"]
["49054 Corrales del Vino",934,"Corrales del Vino","Zamora","Castilla y León",12.352692488872592,"Sí",934,460,474,"DUERO","DUERO","49054 Corrales del Vino"]
["49055 Cotanes del Monte",96,"Cotanes del Monte","Zamora","Castilla y León",6.4748863775472527,"Sí",96,53,43,"DUERO","DUERO","49055 Cotanes del Monte"]
["49056 Cubillos",304,"Cubillos","Zamora","Castilla y León",12.309729642703619,"Sí",304,147,157,"DUERO","DUERO","49056 Cubillos"]
["49057 Cubo de Benavente",120,"Cubo de Benavente","Zamora","Castilla y León",3.8354958391582263,"Sí",120,63,57,"DUERO","DUERO","49057 Cubo de Benavente"]
["49058 Cubo de Tierra del Vino El",314,"Cubo de Tierra del Vino El","Zamora","Castilla y León",9.151971873950183,"Sí",314,166,148,"DUERO","DUERO","49058 Cubo de Tierra del Vino El"]
["49059 Cuelgamures",83,"Cuelgamures","Zamora","Castilla y León",5.6567003104029103,"Sí",83,52,31,"DUERO","DUERO","49059 Cuelgamures"]
["49061 Entrala",147,"Entrala","Zamora","Castilla y León",14.700179342187974,"No",147,80,67,"DUERO","DUERO","49061 Entrala"]
["49062 Espadañedo",109,"Espadañedo","Zamora","Castilla y León",1.4090986274021979,"Sí",109,57,52,"DUERO","DUERO","49062 Espadañedo"]
["49063 Faramontanos de Tábara",332,"Faramontanos de Tábara","Zamora","Castilla y León",6.1029411764705888,"Sí",332,169,163,"DUERO","DUERO","49063 Faramontanos de Tábara"]
["49064 Fariza",489,"Fariza","Zamora","Castilla y León",5.4205168224464817,"Sí",489,252,237,"DUERO","DUERO","49064 Fariza"]
["49065 Fermoselle",1136,"Fermoselle","Zamora","Castilla y León",16.727308066655969,"No",1136,576,560,"DUERO","DUERO","49065 Fermoselle"]
["49066 Ferreras de Abajo",494,"Ferreras de Abajo","Zamora","Castilla y León",5.604395797633436,"Sí",494,245,249,"DUERO","DUERO","49066 Ferreras de Abajo"]
["49067 Ferreras de Arriba",350,"Ferreras de Arriba","Zamora","Castilla y León",7.2926355236819695,"Sí",350,193,157,"DUERO","DUERO","49067 Ferreras de Arriba"]
["49068 Ferreruela",441,"Ferreruela","Zamora","Castilla y León",4.6778222083671936,"Sí",441,245,196,"DUERO","DUERO","49068 Ferreruela"]
["49069 Figueruela de Arriba",317,"Figueruela de Arriba","Zamora","Castilla y León",2.0739096926819123,"Sí",317,151,166,"DUERO","DUERO","49069 Figueruela de Arriba"]
["49071 Fonfría",744,"Fonfría","Zamora","Castilla y León",5.5984679461373199,"Sí",744,392,352,"DUERO","DUERO","49071 Fonfría"]
["49075 Fresno de la Polvorosa",124,"Fresno de la Polvorosa","Zamora","Castilla y León",30.451761708088434,"No",124,68,56,"DUERO","DUERO","49075 Fresno de la Polvorosa"]
["49076 Fresno de la Ribera",362,"Fresno de la Ribera","Zamora","Castilla y León",27.12687433962547,"No",362,187,175,"DUERO","DUERO","49076 Fresno de la Ribera"]
["49077 Fresno de Sayago",159,"Fresno de Sayago","Zamora","Castilla y León",2.4648008991965722,"Sí",159,80,79,"DUERO","DUERO","49077 Fresno de Sayago"]
["49078 Friera de Valverde",142,"Friera de Valverde","Zamora","Castilla y León",7.1248618491796201,"Sí",142,77,65,"DUERO","DUERO","49078 Friera de Valverde"]
["49079 Fuente Encalada",103,"Fuente Encalada","Zamora","Castilla y León",4.9050903122370961,"Sí",103,56,47,"DUERO","DUERO","49079 Fuente Encalada"]
["49080 Fuentelapeña",667,"Fuentelapeña","Zamora","Castilla y León",11.461574281766977,"Sí",667,356,311,"DUERO","DUERO","49080 Fuentelapeña"]
["49082 Fuentes de Ropel",372,"Fuentes de Ropel","Zamora","Castilla y León",7.634029391957152,"Sí",372,198,174,"DUERO","DUERO","49082 Fuentes de Ropel"]
["49081 Fuentesaúco",1608,"Fuentesaúco","Zamora","Castilla y León",23.698948368009059,"No",1608,816,792,"DUERO","DUERO","49081 Fuentesaúco"]
["49083 Fuentesecas",44,"Fuentesecas","Zamora","Castilla y León",3.0109030272987627,"Sí",44,23,21,"DUERO","DUERO","49083 Fuentesecas"]
["49084 Fuentespreadas",278,"Fuentespreadas","Zamora","Castilla y León",13.854356821451727,"No",278,150,128,"DUERO","DUERO","49084 Fuentespreadas"]
["49085 Galende",960,"Galende","Zamora","Castilla y León",10.636356831512618,"Sí",960,481,479,"DUERO","DUERO","49085 Galende"]
["49086 Gallegos del Pan",109,"Gallegos del Pan","Zamora","Castilla y León",7.0999596149086122,"Sí",109,63,46,"DUERO","DUERO","49086 Gallegos del Pan"]
["49087 Gallegos del Río",464,"Gallegos del Río","Zamora","Castilla y León",5.9647084143293174,"Sí",464,260,204,"DUERO","DUERO","49087 Gallegos del Río"]
["49088 Gamones",93,"Gamones","Zamora","Castilla y León",6.8961420978998582,"Sí",93,54,39,"DUERO","DUERO","49088 Gamones"]
["49090 Gema",204,"Gema","Zamora","Castilla y León",11.430941507816271,"Sí",204,104,100,"DUERO","DUERO","49090 Gema"]
["49091 Granja de Moreruela",265,"Granja de Moreruela","Zamora","Castilla y León",6.4211588670061452,"Sí",265,136,129,"DUERO","DUERO","49091 Granja de Moreruela"]
["49092 Granucillo",117,"Granucillo","Zamora","Castilla y León",3.6024462272550553,"Sí",117,59,58,"DUERO","DUERO","49092 Granucillo"]
["49093 Guarrate",321,"Guarrate","Zamora","Castilla y León",10.157470537956094,"Sí",321,166,155,"DUERO","DUERO","49093 Guarrate"]
["49094 Hermisende",214,"Hermisende","Zamora","Castilla y León",1.967088947350037,"Sí",214,110,104,"DUERO","DUERO","49094 Hermisende"]
["49095 Hiniesta La",304,"Hiniesta La","Zamora","Castilla y León",9.171239439611929,"Sí",304,161,143,"DUERO","DUERO","49095 Hiniesta La"]
["49096 Jambrina",149,"Jambrina","Zamora","Castilla y León",8.9560056359121631,"Sí",149,81,68,"DUERO","DUERO","49096 Jambrina"]
["49097 Justel",70,"Justel","Zamora","Castilla y León",1.3751540467208192,"Sí",70,47,23,"DUERO","DUERO","49097 Justel"]
["49098 Losacino",208,"Losacino","Zamora","Castilla y León",4.7029873556567265,"Sí",208,117,91,"DUERO","DUERO","49098 Losacino"]
["49099 Losacio",90,"Losacio","Zamora","Castilla y León",4.1526204280687242,"Sí",90,54,36,"DUERO","DUERO","49099 Losacio"]
["49100 Lubián",306,"Lubián","Zamora","Castilla y León",3.2393738480903047,"Sí",306,160,146,"DUERO","DUERO","49100 Lubián"]
["49101 Luelmo",145,"Luelmo","Zamora","Castilla y León",3.9904203492283794,"Sí",145,80,65,"DUERO","DUERO","49101 Luelmo"]
["49102 Maderal El",177,"Maderal El","Zamora","Castilla y León",5.9566860081719675,"Sí",177,93,84,"DUERO","DUERO","49102 Maderal El"]
["49103 Madridanos",455,"Madridanos","Zamora","Castilla y León",14.175842824735145,"No",455,239,216,"DUERO","DUERO","49103 Madridanos"]
["49104 Mahide",298,"Mahide","Zamora","Castilla y León",2.7373144626671002,"Sí",298,169,129,"DUERO","DUERO","49104 Mahide"]
["49105 Maire de Castroponce",140,"Maire de Castroponce","Zamora","Castilla y León",9.7025550084623617,"Sí",140,75,65,"DUERO","DUERO","49105 Maire de Castroponce"]
["49107 Malva",117,"Malva","Zamora","Castilla y León",4.2806966193472853,"Sí",117,53,64,"DUERO","DUERO","49107 Malva"]
["49108 Manganeses de la Lampreana",448,"Manganeses de la Lampreana","Zamora","Castilla y León",7.4641385629354016,"Sí",448,231,217,"DUERO","DUERO","49108 Manganeses de la Lampreana"]
["49109 Manganeses de la Polvorosa",627,"Manganeses de la Polvorosa","Zamora","Castilla y León",38.296086775145781,"No",627,303,324,"DUERO","DUERO","49109 Manganeses de la Polvorosa"]
["49110 Manzanal de Arriba",346,"Manzanal de Arriba","Zamora","Castilla y León",2.6568073008450339,"Sí",346,186,160,"DUERO","DUERO","49110 Manzanal de Arriba"]
["49112 Manzanal de los Infantes",125,"Manzanal de los Infantes","Zamora","Castilla y León",1.9368929593460578,"Sí",125,70,55,"DUERO","DUERO","49112 Manzanal de los Infantes"]
["49111 Manzanal del Barco",130,"Manzanal del Barco","Zamora","Castilla y León",4.9237332654615633,"Sí",130,68,62,"DUERO","DUERO","49111 Manzanal del Barco"]
["49113 Matilla de Arzón",164,"Matilla de Arzón","Zamora","Castilla y León",5.4215026580569683,"Sí",164,98,66,"DUERO","DUERO","49113 Matilla de Arzón"]
["49114 Matilla la Seca",39,"Matilla la Seca","Zamora","Castilla y León",3.2146368515418056,"Sí",39,22,17,"DUERO","DUERO","49114 Matilla la Seca"]
["49115 Mayalde",176,"Mayalde","Zamora","Castilla y León",4.0267235337647174,"Sí",176,99,77,"DUERO","DUERO","49115 Mayalde"]
["49116 Melgar de Tera",360,"Melgar de Tera","Zamora","Castilla y León",8.8003721384031586,"Sí",360,189,171,"DUERO","DUERO","49116 Melgar de Tera"]
["49117 Micereces de Tera",443,"Micereces de Tera","Zamora","Castilla y León",13.003939342347049,"No",443,227,216,"DUERO","DUERO","49117 Micereces de Tera"]
["49118 Milles de la Polvorosa",208,"Milles de la Polvorosa","Zamora","Castilla y León",11.480421300552905,"Sí",208,116,92,"DUERO","DUERO","49118 Milles de la Polvorosa"]
["49119 Molacillos",239,"Molacillos","Zamora","Castilla y León",10.092607059757523,"Sí",239,130,109,"DUERO","DUERO","49119 Molacillos"]
["49120 Molezuelas de la Carballeda",46,"Molezuelas de la Carballeda","Zamora","Castilla y León",1.3310260671617236,"Sí",46,25,21,"DUERO","DUERO","49120 Molezuelas de la Carballeda"]
["49121 Mombuey",407,"Mombuey","Zamora","Castilla y León",10.405948582239361,"Sí",407,218,189,"DUERO","DUERO","49121 Mombuey"]
["49122 Monfarracinos",971,"Monfarracinos","Zamora","Castilla y León",44.100978614795075,"No",971,510,461,"DUERO","DUERO","49122 Monfarracinos"]
["49123 Montamarta",559,"Montamarta","Zamora","Castilla y León",9.8391523881761405,"Sí",559,296,263,"DUERO","DUERO","49123 Montamarta"]
["49124 Moral de Sayago",259,"Moral de Sayago","Zamora","Castilla y León",3.8632093359480248,"Sí",259,149,110,"DUERO","DUERO","49124 Moral de Sayago"]
["49126 Moraleja de Sayago",283,"Moraleja de Sayago","Zamora","Castilla y León",8.3976899053001706,"Sí",283,143,140,"DUERO","DUERO","49126 Moraleja de Sayago"]
["49125 Moraleja del Vino",1740,"Moraleja del Vino","Zamora","Castilla y León",89.287684406008538,"No",1740,877,863,"DUERO","DUERO","49125 Moraleja del Vino"]
["49128 Morales de Rey",570,"Morales de Rey","Zamora","Castilla y León",28.307530026467539,"No",570,286,284,"DUERO","DUERO","49128 Morales de Rey"]
["49129 Morales de Toro",940,"Morales de Toro","Zamora","Castilla y León",17.586697272509056,"No",940,489,451,"DUERO","DUERO","49129 Morales de Toro"]
["49130 Morales de Valverde",155,"Morales de Valverde","Zamora","Castilla y León",8.6075972986138769,"Sí",155,79,76,"DUERO","DUERO","49130 Morales de Valverde"]
["49127 Morales del Vino",3030,"Morales del Vino","Zamora","Castilla y León",127.95400074787635,"No",3030,1582,1448,"DUERO","DUERO","49127 Morales del Vino"]
["49131 Moralina",232,"Moralina","Zamora","Castilla y León",11.10174906142368,"Sí",232,120,112,"DUERO","DUERO","49131 Moralina"]
["49132 Moreruela de los Infanzones",334,"Moreruela de los Infanzones","Zamora","Castilla y León",10.684850960724855,"Sí",334,175,159,"DUERO","DUERO","49132 Moreruela de los Infanzones"]
["49133 Moreruela de Tábara",310,"Moreruela de Tábara","Zamora","Castilla y León",4.5487728819416766,"Sí",310,164,146,"DUERO","DUERO","49133 Moreruela de Tábara"]
["49134 Muelas de los Caballeros",171,"Muelas de los Caballeros","Zamora","Castilla y León",2.3888923713320565,"Sí",171,99,72,"DUERO","DUERO","49134 Muelas de los Caballeros"]
["49135 Muelas del Pan",607,"Muelas del Pan","Zamora","Castilla y León",8.35992072756817,"Sí",607,322,285,"DUERO","DUERO","49135 Muelas del Pan"]
["49136 Muga de Sayago",350,"Muga de Sayago","Zamora","Castilla y León",9.609381391954587,"Sí",350,169,181,"DUERO","DUERO","49136 Muga de Sayago"]
["49137 Navianos de Valverde",176,"Navianos de Valverde","Zamora","Castilla y León",12.466601372841977,"Sí",176,103,73,"DUERO","DUERO","49137 Navianos de Valverde"]
["49138 Olmillos de Castro",208,"Olmillos de Castro","Zamora","Castilla y León",2.9135790432983062,"Sí",208,112,96,"DUERO","DUERO","49138 Olmillos de Castro"]
["49139 Otero de Bodas",151,"Otero de Bodas","Zamora","Castilla y León",3.0233305614130641,"Sí",151,80,71,"DUERO","DUERO","49139 Otero de Bodas"]
["49141 Pajares de la Lampreana",298,"Pajares de la Lampreana","Zamora","Castilla y León",10.645887418668813,"Sí",298,155,143,"DUERO","DUERO","49141 Pajares de la Lampreana"]
["49143 Palacios de Sanabria",225,"Palacios de Sanabria","Zamora","Castilla y León",6.0792421924697804,"Sí",225,115,110,"DUERO","DUERO","49143 Palacios de Sanabria"]
["49142 Palacios del Pan",246,"Palacios del Pan","Zamora","Castilla y León",7.7480502866101437,"Sí",246,130,116,"DUERO","DUERO","49142 Palacios del Pan"]
["49145 Pedralba de la Pradería",199,"Pedralba de la Pradería","Zamora","Castilla y León",1.8938078194278034,"Sí",199,111,88,"DUERO","DUERO","49145 Pedralba de la Pradería"]
["49146 Pego El",272,"Pego El","Zamora","Castilla y León",10.146058101625529,"Sí",272,137,135,"DUERO","DUERO","49146 Pego El"]
["49147 Peleagonzalo",274,"Peleagonzalo","Zamora","Castilla y León",20.623468528699931,"No",274,133,141,"DUERO","DUERO","49147 Peleagonzalo"]
["49148 Peleas de Abajo",273,"Peleas de Abajo","Zamora","Castilla y León",22.733291031092147,"No",273,125,148,"DUERO","DUERO","49148 Peleas de Abajo"]
["49149 Peñausende",381,"Peñausende","Zamora","Castilla y León",4.0096160907303924,"Sí",381,199,182,"DUERO","DUERO","49149 Peñausende"]
["49150 Peque",126,"Peque","Zamora","Castilla y León",3.2404291161402972,"Sí",126,54,72,"DUERO","DUERO","49150 Peque"]
["49151 Perdigón El",647,"Perdigón El","Zamora","Castilla y León",12.631964739676389,"No",647,341,306,"DUERO","DUERO","49151 Perdigón El"]
["49152 Pereruela",514,"Pereruela","Zamora","Castilla y León",3.1987322366199815,"Sí",514,280,234,"DUERO","DUERO","49152 Pereruela"]
["49153 Perilla de Castro",163,"Perilla de Castro","Zamora","Castilla y León",4.9355022211122561,"Sí",163,90,73,"DUERO","DUERO","49153 Perilla de Castro"]
["49154 Pías",108,"Pías","Zamora","Castilla y León",2.4725727577428156,"Sí",108,61,47,"DUERO","DUERO - MIÑO-SIL","49154 Pías"]
["49155 Piedrahita de Castro",97,"Piedrahita de Castro","Zamora","Castilla y León",4.6261282387547649,"Sí",97,54,43,"DUERO","DUERO","49155 Piedrahita de Castro"]
["49156 Pinilla de Toro",205,"Pinilla de Toro","Zamora","Castilla y León",8.4162757306589775,"Sí",205,107,98,"DUERO","DUERO","49156 Pinilla de Toro"]
["49157 Pino del Oro",183,"Pino del Oro","Zamora","Castilla y León",6.1880062372397733,"Sí",183,96,87,"DUERO","DUERO","49157 Pino del Oro"]
["49158 Piñero El",222,"Piñero El","Zamora","Castilla y León",11.265308831591094,"Sí",222,114,108,"DUERO","DUERO","49158 Piñero El"]
["49160 Pobladura de Valderaduey",39,"Pobladura de Valderaduey","Zamora","Castilla y León",3.1063113556229496,"Sí",39,23,16,"DUERO","DUERO","49160 Pobladura de Valderaduey"]
["49159 Pobladura del Valle",295,"Pobladura del Valle","Zamora","Castilla y León",20.842809746408715,"No",295,157,138,"DUERO","DUERO","49159 Pobladura del Valle"]
["49162 Porto",156,"Porto","Zamora","Castilla y León",0.77821166958329757,"Sí",156,87,69,"DUERO","DUERO - MIÑO-SIL","49162 Porto"]
["49163 Pozoantiguo",180,"Pozoantiguo","Zamora","Castilla y León",4.8236743363803232,"Sí",180,90,90,"DUERO","DUERO","49163 Pozoantiguo"]
["49164 Pozuelo de Tábara",155,"Pozuelo de Tábara","Zamora","Castilla y León",6.1038182297107806,"Sí",155,84,71,"DUERO","DUERO","49164 Pozuelo de Tábara"]
["49165 Prado",48,"Prado","Zamora","Castilla y León",4.4035323668802988,"Sí",48,28,20,"DUERO","DUERO","49165 Prado"]
["49166 Puebla de Sanabria",1366,"Puebla de Sanabria","Zamora","Castilla y León",16.773372823206689,"No",1366,660,706,"DUERO","DUERO","49166 Puebla de Sanabria"]
["49167 Pueblica de Valverde",186,"Pueblica de Valverde","Zamora","Castilla y León",7.2254893822016228,"Sí",186,98,88,"DUERO","DUERO","49167 Pueblica de Valverde"]
["49170 Quintanilla de Urz",98,"Quintanilla de Urz","Zamora","Castilla y León",9.6992490504880546,"Sí",98,47,51,"DUERO","DUERO","49170 Quintanilla de Urz"]
["49168 Quintanilla del Monte",104,"Quintanilla del Monte","Zamora","Castilla y León",4.7877035568125939,"Sí",104,62,42,"DUERO","DUERO","49168 Quintanilla del Monte"]
["49169 Quintanilla del Olmo",42,"Quintanilla del Olmo","Zamora","Castilla y León",3.3051633734386052,"Sí",42,23,19,"DUERO","DUERO","49169 Quintanilla del Olmo"]
["49171 Quiruelas de Vidriales",640,"Quiruelas de Vidriales","Zamora","Castilla y León",22.862156201395592,"No",640,341,299,"DUERO","DUERO","49171 Quiruelas de Vidriales"]
["49172 Rabanales",499,"Rabanales","Zamora","Castilla y León",6.2346335492927931,"Sí",499,263,236,"DUERO","DUERO","49172 Rabanales"]
["49173 Rábano de Aliste",343,"Rábano de Aliste","Zamora","Castilla y León",6.1077021150812163,"Sí",343,170,173,"DUERO","DUERO","49173 Rábano de Aliste"]
["49174 Requejo",141,"Requejo","Zamora","Castilla y León",3.0593912462354296,"Sí",141,73,68,"DUERO","DUERO","49174 Requejo"]
["49175 Revellinos",257,"Revellinos","Zamora","Castilla y León",9.2987434068924237,"Sí",257,135,122,"DUERO","DUERO","49175 Revellinos"]
["49176 Riofrío de Aliste",629,"Riofrío de Aliste","Zamora","Castilla y León",5.6313929907707729,"Sí",629,349,280,"DUERO","DUERO","49176 Riofrío de Aliste"]
["49177 Rionegro del Puente",250,"Rionegro del Puente","Zamora","Castilla y León",4.6778180860164671,"Sí",250,130,120,"DUERO","DUERO","49177 Rionegro del Puente"]
["49178 Roales",987,"Roales","Zamora","Castilla y León",91.523742343695858,"No",987,514,473,"DUERO","DUERO","49178 Roales"]
["49179 Robleda-Cervantes",392,"Robleda-Cervantes","Zamora","Castilla y León",12.071841127918926,"Sí",392,209,183,"DUERO","DUERO","49179 Robleda-Cervantes"]
["49180 Roelos de Sayago",143,"Roelos de Sayago","Zamora","Castilla y León",2.6003763453765312,"Sí",143,71,72,"DUERO","DUERO","49180 Roelos de Sayago"]
["49181 Rosinos de la Requejada",342,"Rosinos de la Requejada","Zamora","Castilla y León",2.2095736121193279,"Sí",342,182,160,"DUERO","DUERO","49181 Rosinos de la Requejada"]
["49183 Salce",89,"Salce","Zamora","Castilla y León",2.5527180007548589,"Sí",89,38,51,"DUERO","DUERO","49183 Salce"]
["49184 Samir de los Caños",169,"Samir de los Caños","Zamora","Castilla y León",4.6202396734294302,"Sí",169,93,76,"DUERO","DUERO","49184 Samir de los Caños"]
["49185 San Agustín del Pozo",183,"San Agustín del Pozo","Zamora","Castilla y León",12.648007607050872,"No",183,94,89,"DUERO","DUERO","49185 San Agustín del Pozo"]
["49186 San Cebrián de Castro",238,"San Cebrián de Castro","Zamora","Castilla y León",3.5979190603662485,"Sí",238,115,123,"DUERO","DUERO","49186 San Cebrián de Castro"]
["49187 San Cristóbal de Entreviñas",1362,"San Cristóbal de Entreviñas","Zamora","Castilla y León",32.027442203576435,"No",1362,720,642,"DUERO","DUERO","49187 San Cristóbal de Entreviñas"]
["49188 San Esteban del Molar",113,"San Esteban del Molar","Zamora","Castilla y León",4.5151326869634527,"Sí",113,67,46,"DUERO","DUERO","49188 San Esteban del Molar"]
["49189 San Justo",197,"San Justo","Zamora","Castilla y León",2.6224794760696017,"Sí",197,106,91,"DUERO","DUERO","49189 San Justo"]
["49190 San Martín de Valderaduey",50,"San Martín de Valderaduey","Zamora","Castilla y León",2.088646676424267,"Sí",50,27,23,"DUERO","DUERO","49190 San Martín de Valderaduey"]
["49191 San Miguel de la Ribera",285,"San Miguel de la Ribera","Zamora","Castilla y León",10.856563840404702,"Sí",285,144,141,"DUERO","DUERO","49191 San Miguel de la Ribera"]
["49192 San Miguel del Valle",128,"San Miguel del Valle","Zamora","Castilla y León",11.937411034812195,"Sí",128,67,61,"DUERO","DUERO","49192 San Miguel del Valle"]
["49193 San Pedro de Ceque",437,"San Pedro de Ceque","Zamora","Castilla y León",8.9177154437404198,"Sí",437,230,207,"DUERO","DUERO","49193 San Pedro de Ceque"]
["49194 San Pedro de la Nave-Almendra",342,"San Pedro de la Nave-Almendra","Zamora","Castilla y León",15.061521028657848,"No",342,174,168,"DUERO","DUERO","49194 San Pedro de la Nave-Almendra"]
["49208 San Vicente de la Cabeza",350,"San Vicente de la Cabeza","Zamora","Castilla y León",6.6007923930657961,"Sí",350,187,163,"DUERO","DUERO","49208 San Vicente de la Cabeza"]
["49209 San Vitero",473,"San Vitero","Zamora","Castilla y León",7.364310706901275,"Sí",473,270,203,"DUERO","DUERO","49209 San Vitero"]
["49197 Santa Clara de Avedillo",157,"Santa Clara de Avedillo","Zamora","Castilla y León",9.3380977854671361,"Sí",157,76,81,"DUERO","DUERO","49197 Santa Clara de Avedillo"]
["49199 Santa Colomba de las Monjas",246,"Santa Colomba de las Monjas","Zamora","Castilla y León",36.214506471355648,"No",246,121,125,"DUERO","DUERO","49199 Santa Colomba de las Monjas"]
["49200 Santa Cristina de la Polvorosa",1070,"Santa Cristina de la Polvorosa","Zamora","Castilla y León",27.481196312465212,"No",1070,551,519,"DUERO","DUERO","49200 Santa Cristina de la Polvorosa"]
["49201 Santa Croya de Tera",290,"Santa Croya de Tera","Zamora","Castilla y León",13.703219453279345,"No",290,149,141,"DUERO","DUERO","49201 Santa Croya de Tera"]
["49202 Santa Eufemia del Barco",177,"Santa Eufemia del Barco","Zamora","Castilla y León",3.4143719402670096,"Sí",177,102,75,"DUERO","DUERO","49202 Santa Eufemia del Barco"]
["49203 Santa María de la Vega",289,"Santa María de la Vega","Zamora","Castilla y León",16.161733656307032,"No",289,149,140,"DUERO","DUERO","49203 Santa María de la Vega"]
["49204 Santa María de Valverde",54,"Santa María de Valverde","Zamora","Castilla y León",5.5401326697622331,"Sí",54,27,27,"DUERO","DUERO","49204 Santa María de Valverde"]
["49205 Santibáñez de Tera",369,"Santibáñez de Tera","Zamora","Castilla y León",19.469932409259034,"No",369,186,183,"DUERO","DUERO","49205 Santibáñez de Tera"]
["49206 Santibáñez de Vidriales",918,"Santibáñez de Vidriales","Zamora","Castilla y León",12.097994546545619,"Sí",918,464,454,"DUERO","DUERO","49206 Santibáñez de Vidriales"]
["49207 Santovenia",235,"Santovenia","Zamora","Castilla y León",7.1510506384458008,"Sí",235,121,114,"DUERO","DUERO","49207 Santovenia"]
["49210 Sanzoles",471,"Sanzoles","Zamora","Castilla y León",18.358566422813453,"No",471,241,230,"DUERO","DUERO","49210 Sanzoles"]
["49214 Tábara",751,"Tábara","Zamora","Castilla y León",6.6646438452045151,"Sí",751,372,379,"DUERO","DUERO","49214 Tábara"]
["49216 Tapioles",139,"Tapioles","Zamora","Castilla y León",5.0287663524447437,"Sí",139,80,59,"DUERO","DUERO","49216 Tapioles"]
["49219 Toro",8532,"Toro","Zamora","Castilla y León",26.26376677578094,"No",8532,4198,4334,"DUERO","DUERO","49219 Toro"]
["49220 Torre del Valle La",138,"Torre del Valle La","Zamora","Castilla y León",8.376881482484638,"Sí",138,77,61,"DUERO","DUERO","49220 Torre del Valle La"]
["49221 Torregamones",237,"Torregamones","Zamora","Castilla y León",6.3388644606348485,"Sí",237,125,112,"DUERO","DUERO","49221 Torregamones"]
["49222 Torres del Carrizal",414,"Torres del Carrizal","Zamora","Castilla y León",13.641722820424217,"No",414,210,204,"DUERO","DUERO","49222 Torres del Carrizal"]
["49223 Trabazos",835,"Trabazos","Zamora","Castilla y León",8.9538282709353361,"Sí",835,446,389,"DUERO","DUERO","49223 Trabazos"]
["49224 Trefacio",186,"Trefacio","Zamora","Castilla y León",7.2984620923960968,"Sí",186,102,84,"DUERO","DUERO","49224 Trefacio"]
["49225 Uña de Quintana",135,"Uña de Quintana","Zamora","Castilla y León",4.5336287960787534,"Sí",135,72,63,"DUERO","DUERO","49225 Uña de Quintana"]
["49226 Vadillo de la Guareña",248,"Vadillo de la Guareña","Zamora","Castilla y León",5.6157879000241211,"Sí",248,134,114,"DUERO","DUERO","49226 Vadillo de la Guareña"]
["49227 Valcabado",397,"Valcabado","Zamora","Castilla y León",39.272161221223747,"No",397,204,193,"DUERO","DUERO","49227 Valcabado"]
["49228 Valdefinjas",57,"Valdefinjas","Zamora","Castilla y León",3.4967218539349352,"Sí",57,34,23,"DUERO","DUERO","49228 Valdefinjas"]
["49229 Valdescorriel",126,"Valdescorriel","Zamora","Castilla y León",4.5258833653276174,"Sí",126,63,63,"DUERO","DUERO","49229 Valdescorriel"]
["49230 Vallesa de la Guareña",78,"Vallesa de la Guareña","Zamora","Castilla y León",2.7844532267368485,"Sí",78,42,36,"DUERO","DUERO","49230 Vallesa de la Guareña"]
["49231 Vega de Tera",309,"Vega de Tera","Zamora","Castilla y León",6.9989513577637199,"Sí",309,152,157,"DUERO","DUERO","49231 Vega de Tera"]
["49232 Vega de Villalobos",92,"Vega de Villalobos","Zamora","Castilla y León",9.0395320352172313,"Sí",92,39,53,"DUERO","DUERO","49232 Vega de Villalobos"]
["49233 Vegalatrave",81,"Vegalatrave","Zamora","Castilla y León",4.3671952895970767,"Sí",81,43,38,"DUERO","DUERO","49233 Vegalatrave"]
["49234 Venialbo",416,"Venialbo","Zamora","Castilla y León",9.8926398878136581,"Sí",416,225,191,"DUERO","DUERO","49234 Venialbo"]
["49235 Vezdemarbán",448,"Vezdemarbán","Zamora","Castilla y León",9.3552526903869104,"Sí",448,233,215,"DUERO","DUERO","49235 Vezdemarbán"]
["49236 Vidayanes",83,"Vidayanes","Zamora","Castilla y León",6.6450449181018234,"Sí",83,43,40,"DUERO","DUERO","49236 Vidayanes"]
["49237 Videmala",141,"Videmala","Zamora","Castilla y León",5.4508871396137266,"Sí",141,73,68,"DUERO","DUERO","49237 Videmala"]
["49238 Villabrázaro",228,"Villabrázaro","Zamora","Castilla y León",9.7967164156530213,"Sí",228,123,105,"DUERO","DUERO","49238 Villabrázaro"]
["49239 Villabuena del Puente",623,"Villabuena del Puente","Zamora","Castilla y León",23.901214553837026,"No",623,327,296,"DUERO","DUERO","49239 Villabuena del Puente"]
["49240 Villadepera",189,"Villadepera","Zamora","Castilla y León",6.2777435159130333,"Sí",189,103,86,"DUERO","DUERO","49240 Villadepera"]
["49241 Villaescusa",244,"Villaescusa","Zamora","Castilla y León",5.6621907744765432,"Sí",244,133,111,"DUERO","DUERO","49241 Villaescusa"]
["49242 Villafáfila",475,"Villafáfila","Zamora","Castilla y León",6.4193404266909901,"Sí",475,246,229,"DUERO","DUERO","49242 Villafáfila"]
["49243 Villaferrueña",107,"Villaferrueña","Zamora","Castilla y León",5.2123791178647521,"Sí",107,54,53,"DUERO","DUERO","49243 Villaferrueña"]
["49244 Villageriz",48,"Villageriz","Zamora","Castilla y León",6.6882082708055526,"Sí",48,27,21,"DUERO","DUERO","49244 Villageriz"]
["49245 Villalazán",251,"Villalazán","Zamora","Castilla y León",16.81595572914922,"No",251,128,123,"DUERO","DUERO","49245 Villalazán"]
["49246 Villalba de la Lampreana",223,"Villalba de la Lampreana","Zamora","Castilla y León",7.9015902641352813,"Sí",223,126,97,"DUERO","DUERO","49246 Villalba de la Lampreana"]
["49247 Villalcampo",405,"Villalcampo","Zamora","Castilla y León",6.2529871523192462,"Sí",405,207,198,"DUERO","DUERO","49247 Villalcampo"]
["49248 Villalobos",227,"Villalobos","Zamora","Castilla y León",5.2567767552279161,"Sí",227,119,108,"DUERO","DUERO","49248 Villalobos"]
["49249 Villalonso",68,"Villalonso","Zamora","Castilla y León",4.5643499167576689,"Sí",68,35,33,"DUERO","DUERO","49249 Villalonso"]
["49250 Villalpando",1451,"Villalpando","Zamora","Castilla y León",11.43221208781439,"Sí",1451,715,736,"DUERO","DUERO","49250 Villalpando"]
["49251 Villalube",161,"Villalube","Zamora","Castilla y León",4.0160742749239819,"Sí",161,87,74,"DUERO","DUERO","49251 Villalube"]
["49252 Villamayor de Campos",328,"Villamayor de Campos","Zamora","Castilla y León",12.460442842619061,"Sí",328,167,161,"DUERO","DUERO","49252 Villamayor de Campos"]
["49255 Villamor de los Escuderos",384,"Villamor de los Escuderos","Zamora","Castilla y León",6.8848511866309963,"Sí",384,202,182,"DUERO","DUERO","49255 Villamor de los Escuderos"]
["49256 Villanázar",273,"Villanázar","Zamora","Castilla y León",14.925830105782037,"No",273,141,132,"DUERO","DUERO","49256 Villanázar"]
["49257 Villanueva de Azoague",360,"Villanueva de Azoague","Zamora","Castilla y León",18.76406718661897,"No",360,184,176,"DUERO","DUERO","49257 Villanueva de Azoague"]
["49258 Villanueva de Campeán",116,"Villanueva de Campeán","Zamora","Castilla y León",9.6347315460629464,"Sí",116,61,55,"DUERO","DUERO","49258 Villanueva de Campeán"]
["49259 Villanueva de las Peras",78,"Villanueva de las Peras","Zamora","Castilla y León",4.5959467520679995,"Sí",78,37,41,"DUERO","DUERO","49259 Villanueva de las Peras"]
["49260 Villanueva del Campo",810,"Villanueva del Campo","Zamora","Castilla y León",20.20450400299865,"No",810,399,411,"DUERO","DUERO","49260 Villanueva del Campo"]
["49263 Villar de Fallaves",44,"Villar de Fallaves","Zamora","Castilla y León",2.1031611037179152,"Sí",44,25,19,"DUERO","DUERO","49263 Villar de Fallaves"]
["49264 Villar del Buey",535,"Villar del Buey","Zamora","Castilla y León",3.9951460841967705,"Sí",535,279,256,"DUERO","DUERO","49264 Villar del Buey"]
["49261 Villaralbo",1804,"Villaralbo","Zamora","Castilla y León",81.845238095238102,"No",1804,909,895,"DUERO","DUERO","49261 Villaralbo"]
["49262 Villardeciervos",403,"Villardeciervos","Zamora","Castilla y León",4.7107567863507098,"Sí",403,201,202,"DUERO","DUERO","49262 Villardeciervos"]
["49265 Villardiegua de la Ribera",113,"Villardiegua de la Ribera","Zamora","Castilla y León",3.9485500435039365,"Sí",113,64,49,"DUERO","DUERO","49265 Villardiegua de la Ribera"]
["49266 Villárdiga",77,"Villárdiga","Zamora","Castilla y León",4.5505789163759616,"Sí",77,44,33,"DUERO","DUERO","49266 Villárdiga"]
["49267 Villardondiego",101,"Villardondiego","Zamora","Castilla y León",4.1485259363171698,"Sí",101,58,43,"DUERO","DUERO","49267 Villardondiego"]
["49268 Villarrín de Campos",387,"Villarrín de Campos","Zamora","Castilla y León",7.7254427936350982,"Sí",387,204,183,"DUERO","DUERO","49268 Villarrín de Campos"]
["49269 Villaseco del Pan",222,"Villaseco del Pan","Zamora","Castilla y León",6.4244571094995759,"Sí",222,103,119,"DUERO","DUERO","49269 Villaseco del Pan"]
["49270 Villavendimio",160,"Villavendimio","Zamora","Castilla y León",10.242322467104062,"Sí",160,97,63,"DUERO","DUERO","49270 Villavendimio"]
["49272 Villaveza de Valverde",70,"Villaveza de Valverde","Zamora","Castilla y León",5.6603035151778611,"Sí",70,37,33,"DUERO","DUERO","49272 Villaveza de Valverde"]
["49271 Villaveza del Agua",179,"Villaveza del Agua","Zamora","Castilla y León",6.8010524229680129,"Sí",179,97,82,"DUERO","DUERO","49271 Villaveza del Agua"]
["49273 Viñas",159,"Viñas","Zamora","Castilla y León",3.9733411300781922,"Sí",159,86,73,"DUERO","DUERO","49273 Viñas"]
["49275 Zamora",60297,"Zamora","Zamora","Castilla y León",403.90931322555315,"No",60297,27979,32318,"DUERO","DUERO","49275 Zamora"]
["50001 Abanto",89,"Abanto","Zaragoza","Aragón",1.394024022636444,"Sí",89,53,36,"EBRO","EBRO","50001 Abanto"]
["50002 Acered",140,"Acered","Zaragoza","Aragón",4.604643500113192,"Sí",140,82,58,"EBRO","EBRO","50002 Acered"]
["50003 Agón",135,"Agón","Zaragoza","Aragón",7.2893448191089689,"Sí",135,79,56,"EBRO","EBRO","50003 Agón"]
["50004 Aguarón",616,"Aguarón","Zaragoza","Aragón",16.820534508528009,"No",616,327,289,"EBRO","EBRO","50004 Aguarón"]
["50005 Aguilón",234,"Aguilón","Zaragoza","Aragón",3.9359439586170142,"Sí",234,134,100,"EBRO","EBRO","50005 Aguilón"]
["50006 Ainzón",1067,"Ainzón","Zaragoza","Aragón",26.373701558653629,"No",1067,548,519,"EBRO","EBRO","50006 Ainzón"]
["50007 Aladrén",58,"Aladrén","Zaragoza","Aragón",2.7545167544668883,"Sí",58,37,21,"EBRO","EBRO","50007 Aladrén"]
["50008 Alagón",7121,"Alagón","Zaragoza","Aragón",294.36445634964923,"No",7121,3568,3553,"EBRO","EBRO","50008 Alagón"]
["50009 Alarba",112,"Alarba","Zaragoza","Aragón",5.8950204236140626,"Sí",112,64,48,"EBRO","EBRO","50009 Alarba"]
["50010 Alberite de San Juan",77,"Alberite de San Juan","Zaragoza","Aragón",6.8536283063749863,"Sí",77,46,31,"EBRO","EBRO","50010 Alberite de San Juan"]
["50011 Albeta",140,"Albeta","Zaragoza","Aragón",51.784723506565562,"No",140,68,72,"EBRO","EBRO","50011 Albeta"]
["50012 Alborge",111,"Alborge","Zaragoza","Aragón",22.915991831997289,"No",111,57,54,"EBRO","EBRO","50012 Alborge"]
["50013 Alcalá de Ebro",245,"Alcalá de Ebro","Zaragoza","Aragón",24.814715105800829,"No",245,121,124,"EBRO","EBRO","50013 Alcalá de Ebro"]
["50014 Alcalá de Moncayo",153,"Alcalá de Moncayo","Zaragoza","Aragón",11.12166983222343,"Sí",153,88,65,"EBRO","EBRO","50014 Alcalá de Moncayo"]
["50015 Alconchel de Ariza",79,"Alconchel de Ariza","Zaragoza","Aragón",2.2667790644761774,"Sí",79,45,34,"EBRO","EBRO","50015 Alconchel de Ariza"]
["50016 Aldehuela de Liestos",52,"Aldehuela de Liestos","Zaragoza","Aragón",1.3670578800739011,"Sí",52,37,15,"EBRO","EBRO","50016 Aldehuela de Liestos"]
["50017 Alfajarín",2374,"Alfajarín","Zaragoza","Aragón",17.165780659790713,"No",2374,1216,1158,"EBRO","EBRO","50017 Alfajarín"]
["50018 Alfamén",1446,"Alfamén","Zaragoza","Aragón",14.184578048041185,"No",1446,756,690,"EBRO","EBRO","50018 Alfamén"]
["50019 Alforque",62,"Alforque","Zaragoza","Aragón",5.8389997529726383,"Sí",62,36,26,"EBRO","EBRO","50019 Alforque"]
["50020 Alhama de Aragón",1002,"Alhama de Aragón","Zaragoza","Aragón",32.179501240211465,"No",1002,524,478,"EBRO","EBRO","50020 Alhama de Aragón"]
["50021 Almochuel",24,"Almochuel","Zaragoza","Aragón",0.75002114122091812,"Sí",24,13,11,"EBRO","EBRO","50021 Almochuel"]
["50022 Almolda La",555,"Almolda La","Zaragoza","Aragón",4.2261159022870531,"Sí",555,276,279,"EBRO","EBRO","50022 Almolda La"]
["50023 Almonacid de la Cuba",234,"Almonacid de la Cuba","Zaragoza","Aragón",4.237894382254451,"Sí",234,115,119,"EBRO","EBRO","50023 Almonacid de la Cuba"]
["50024 Almonacid de la Sierra",771,"Almonacid de la Sierra","Zaragoza","Aragón",14.293500628469094,"No",771,428,343,"EBRO","EBRO","50024 Almonacid de la Sierra"]
["50025 Almunia de Doña Godina La",7983,"Almunia de Doña Godina La","Zaragoza","Aragón",140.75641364718328,"No",7983,4115,3868,"EBRO","EBRO","50025 Almunia de Doña Godina La"]
["50026 Alpartir",604,"Alpartir","Zaragoza","Aragón",18.706698174858072,"No",604,316,288,"EBRO","EBRO","50026 Alpartir"]
["50027 Ambel",252,"Ambel","Zaragoza","Aragón",4.1005389670312766,"Sí",252,124,128,"EBRO","EBRO","50027 Ambel"]
["50028 Anento",91,"Anento","Zaragoza","Aragón",4.2293837411427528,"Sí",91,61,30,"EBRO","EBRO","50028 Anento"]
["50029 Aniñón",671,"Aniñón","Zaragoza","Aragón",12.791730571305758,"No",671,354,317,"EBRO","EBRO","50029 Aniñón"]
["50030 Añón de Moncayo",205,"Añón de Moncayo","Zaragoza","Aragón",3.1858319061842439,"Sí",205,121,84,"DUERO","EBRO","50030 Añón de Moncayo"]
["50031 Aranda de Moncayo",140,"Aranda de Moncayo","Zaragoza","Aragón",1.5350074848609614,"Sí",140,88,52,"EBRO","EBRO","50031 Aranda de Moncayo"]
["50032 Arándiga",274,"Arándiga","Zaragoza","Aragón",5.4559830897976962,"Sí",274,143,131,"EBRO","EBRO","50032 Arándiga"]
["50033 Ardisa",76,"Ardisa","Zaragoza","Aragón",2.7857715982521483,"Sí",76,48,28,"EBRO","EBRO","50033 Ardisa"]
["50034 Ariza",1068,"Ariza","Zaragoza","Aragón",10.360548343468126,"Sí",1068,549,519,"EBRO","EBRO","50034 Ariza"]
["50035 Artieda",78,"Artieda","Zaragoza","Aragón",5.7464853979595851,"Sí",78,46,32,"EBRO","EBRO","50035 Artieda"]
["50036 Asín",97,"Asín","Zaragoza","Aragón",5.2522145935760545,"Sí",97,54,43,"EBRO","EBRO","50036 Asín"]
["50037 Atea",149,"Atea","Zaragoza","Aragón",4.2978545917528495,"Sí",149,90,59,"EBRO","EBRO","50037 Atea"]
["50038 Ateca",1729,"Ateca","Zaragoza","Aragón",20.410500133984488,"No",1729,893,836,"EBRO","EBRO","50038 Ateca"]
["50039 Azuara",544,"Azuara","Zaragoza","Aragón",3.2808287947680621,"Sí",544,311,233,"EBRO","EBRO","50039 Azuara"]
["50040 Badules",70,"Badules","Zaragoza","Aragón",3.4845155099767653,"Sí",70,37,33,"EBRO","EBRO","50040 Badules"]
["50041 Bagüés",16,"Bagüés","Zaragoza","Aragón",0.52085964759677961,"Sí",16,7,9,"EBRO","EBRO","50041 Bagüés"]
["50042 Balconchán",19,"Balconchán","Zaragoza","Aragón",0.979303553330784,"Sí",19,6,13,"EBRO","EBRO","50042 Balconchán"]
["50043 Bárboles",297,"Bárboles","Zaragoza","Aragón",19.091698004049753,"No",297,164,133,"EBRO","EBRO","50043 Bárboles"]
["50044 Bardallur",254,"Bardallur","Zaragoza","Aragón",9.2878011679227139,"Sí",254,125,129,"EBRO","EBRO","50044 Bardallur"]
["50045 Belchite",1540,"Belchite","Zaragoza","Aragón",5.5890921245699756,"Sí",1540,777,763,"EBRO","EBRO","50045 Belchite"]
["50046 Belmonte de Gracián",194,"Belmonte de Gracián","Zaragoza","Aragón",4.4414827436833813,"Sí",194,107,87,"EBRO","EBRO","50046 Belmonte de Gracián"]
["50047 Berdejo",40,"Berdejo","Zaragoza","Aragón",2.0632883792658294,"Sí",40,26,14,"EBRO","EBRO","50047 Berdejo"]
["50048 Berrueco",35,"Berrueco","Zaragoza","Aragón",1.7947589551549221,"Sí",35,21,14,"EBRO","EBRO","50048 Berrueco"]
["50901 Biel",171,"Biel","Zaragoza","Aragón",1.3080780436078796,"Sí",171,102,69,"EBRO","EBRO","50901 Biel"]
["50050 Bijuesca",90,"Bijuesca","Zaragoza","Aragón",1.5768630873906984,"Sí",90,62,28,"EBRO","EBRO","50050 Bijuesca"]
["50051 Biota",912,"Biota","Zaragoza","Aragón",7.0809346796509054,"Sí",912,465,447,"EBRO","EBRO","50051 Biota"]
["50052 Bisimbre",87,"Bisimbre","Zaragoza","Aragón",7.7532326078505847,"Sí",87,47,40,"EBRO","EBRO","50052 Bisimbre"]
["50053 Boquiñeni",778,"Boquiñeni","Zaragoza","Aragón",41.232305352250023,"No",778,391,387,"EBRO","EBRO","50053 Boquiñeni"]
["50054 Bordalba",51,"Bordalba","Zaragoza","Aragón",1.2265665955073655,"Sí",51,32,19,"EBRO","EBRO","50054 Bordalba"]
["50055 Borja",5037,"Borja","Zaragoza","Aragón",46.972042449223196,"No",5037,2577,2460,"EBRO","EBRO","50055 Borja"]
["50056 Botorrita",516,"Botorrita","Zaragoza","Aragón",26.04647650484149,"No",516,281,235,"EBRO","EBRO","50056 Botorrita"]
["50057 Brea de Aragón",1559,"Brea de Aragón","Zaragoza","Aragón",116.55589370969749,"No",1559,793,766,"EBRO","EBRO","50057 Brea de Aragón"]
["50058 Bubierca",64,"Bubierca","Zaragoza","Aragón",2.1663468709928928,"Sí",64,32,32,"EBRO","EBRO","50058 Bubierca"]
["50059 Bujaraloz",975,"Bujaraloz","Zaragoza","Aragón",8.0632745581540561,"Sí",975,496,479,"EBRO","EBRO","50059 Bujaraloz"]
["50060 Bulbuente",233,"Bulbuente","Zaragoza","Aragón",9.1577535456718984,"Sí",233,127,106,"EBRO","EBRO","50060 Bulbuente"]
["50061 Bureta",206,"Bureta","Zaragoza","Aragón",17.291218193181855,"No",206,107,99,"EBRO","EBRO","50061 Bureta"]
["50062 Burgo de Ebro El",2538,"Burgo de Ebro El","Zaragoza","Aragón",102.44693991232673,"No",2538,1274,1264,"EBRO","EBRO","50062 Burgo de Ebro El"]
["50063 Buste El",69,"Buste El","Zaragoza","Aragón",9.0654779766694009,"Sí",69,40,29,"EBRO","EBRO","50063 Buste El"]
["50064 Cabañas de Ebro",487,"Cabañas de Ebro","Zaragoza","Aragón",56.950405201548307,"No",487,255,232,"EBRO","EBRO","50064 Cabañas de Ebro"]
["50065 Cabolafuente",49,"Cabolafuente","Zaragoza","Aragón",1.2486028389049559,"Sí",49,29,20,"EBRO","EBRO","50065 Cabolafuente"]
["50066 Cadrete",4334,"Cadrete","Zaragoza","Aragón",364.29045733834295,"No",4334,2281,2053,"EBRO","EBRO","50066 Cadrete"]
["50067 Calatayud",19870,"Calatayud","Zaragoza","Aragón",128.12105666664732,"No",19870,9778,10092,"EBRO","EBRO","50067 Calatayud"]
["50068 Calatorao",2921,"Calatorao","Zaragoza","Aragón",60.320829994796014,"No",2921,1527,1394,"EBRO","EBRO","50068 Calatorao"]
["50069 Calcena",78,"Calcena","Zaragoza","Aragón",1.2047940050933128,"Sí",78,46,32,"EBRO","EBRO","50069 Calcena"]
["50070 Calmarza",64,"Calmarza","Zaragoza","Aragón",2.2728564122961532,"Sí",64,36,28,"EBRO","EBRO","50070 Calmarza"]
["50071 Campillo de Aragón",132,"Campillo de Aragón","Zaragoza","Aragón",3.5780114930066143,"Sí",132,78,54,"EBRO","EBRO","50071 Campillo de Aragón"]
["50072 Carenas",182,"Carenas","Zaragoza","Aragón",5.8290939752758657,"Sí",182,105,77,"EBRO","EBRO","50072 Carenas"]
["50073 Cariñena",3370,"Cariñena","Zaragoza","Aragón",40.843961812907601,"No",3370,1705,1665,"EBRO","EBRO","50073 Cariñena"]
["50074 Caspe",10183,"Caspe","Zaragoza","Aragón",20.238371164691529,"No",10183,5401,4782,"EBRO","EBRO","50074 Caspe"]
["50075 Castejón de Alarba",78,"Castejón de Alarba","Zaragoza","Aragón",4.4411784701233383,"Sí",78,49,29,"EBRO","EBRO","50075 Castejón de Alarba"]
["50076 Castejón de las Armas",82,"Castejón de las Armas","Zaragoza","Aragón",5.0655090784115471,"Sí",82,43,39,"EBRO","EBRO","50076 Castejón de las Armas"]
["50077 Castejón de Valdejasa",216,"Castejón de Valdejasa","Zaragoza","Aragón",1.9614448591265785,"Sí",216,104,112,"EBRO","EBRO","50077 Castejón de Valdejasa"]
["50078 Castiliscar",248,"Castiliscar","Zaragoza","Aragón",6.0960477552582342,"Sí",248,131,117,"EBRO","EBRO","50078 Castiliscar"]
["50079 Cervera de la Cañada",264,"Cervera de la Cañada","Zaragoza","Aragón",9.034271302863063,"Sí",264,149,115,"EBRO","EBRO","50079 Cervera de la Cañada"]
["50080 Cerveruela",37,"Cerveruela","Zaragoza","Aragón",1.5750412660811712,"Sí",37,24,13,"EBRO","EBRO","50080 Cerveruela"]
["50081 Cetina",578,"Cetina","Zaragoza","Aragón",7.3386502828040303,"Sí",578,296,282,"EBRO","EBRO","50081 Cetina"]
["50092 Chiprana",503,"Chiprana","Zaragoza","Aragón",12.904571463682419,"No",503,266,237,"EBRO","EBRO","50092 Chiprana"]
["50093 Chodes",100,"Chodes","Zaragoza","Aragón",6.2652715995238397,"Sí",100,55,45,"EBRO","EBRO","50093 Chodes"]
["50082 Cimballa",93,"Cimballa","Zaragoza","Aragón",2.9119920843914091,"Sí",93,45,48,"EBRO","EBRO","50082 Cimballa"]
["50083 Cinco Olivas",105,"Cinco Olivas","Zaragoza","Aragón",46.646308144623099,"No",105,51,54,"EBRO","EBRO","50083 Cinco Olivas"]
["50084 Clarés de Ribota",68,"Clarés de Ribota","Zaragoza","Aragón",3.6368012193980559,"Sí",68,38,30,"EBRO","EBRO","50084 Clarés de Ribota"]
["50085 Codo",206,"Codo","Zaragoza","Aragón",18.13934681444892,"No",206,109,97,"EBRO","EBRO","50085 Codo"]
["50086 Codos",237,"Codos","Zaragoza","Aragón",3.7805953652867874,"Sí",237,155,82,"EBRO","EBRO","50086 Codos"]
["50087 Contamina",33,"Contamina","Zaragoza","Aragón",2.3541713883854172,"Sí",33,18,15,"EBRO","EBRO","50087 Contamina"]
["50088 Cosuenda",335,"Cosuenda","Zaragoza","Aragón",10.574086071482402,"Sí",335,171,164,"EBRO","EBRO","50088 Cosuenda"]
["50089 Cuarte de Huerva",13773,"Cuarte de Huerva","Zaragoza","Aragón",1565.9143880393385,"No",13773,7006,6767,"EBRO","EBRO","50089 Cuarte de Huerva"]
["50090 Cubel",146,"Cubel","Zaragoza","Aragón",2.4906474907280955,"Sí",146,68,78,"EBRO","EBRO","50090 Cubel"]
["50091 Cuerlas Las",42,"Cuerlas Las","Zaragoza","Aragón",1.2893224546034936,"Sí",42,22,20,"EBRO","EBRO","50091 Cuerlas Las"]
["50094 Daroca",1914,"Daroca","Zaragoza","Aragón",36.775346975590857,"No",1914,930,984,"EBRO","EBRO","50094 Daroca"]
["50095 Ejea de los Caballeros",17036,"Ejea de los Caballeros","Zaragoza","Aragón",27.768151905287066,"No",17036,8758,8278,"EBRO","EBRO","50095 Ejea de los Caballeros"]
["50096 Embid de Ariza",32,"Embid de Ariza","Zaragoza","Aragón",0.77548210571405995,"Sí",32,18,14,"EBRO","EBRO","50096 Embid de Ariza"]
["50098 Encinacorba",186,"Encinacorba","Zaragoza","Aragón",5.0629271487518759,"Sí",186,100,86,"EBRO","EBRO","50098 Encinacorba"]
["50099 Épila",4368,"Épila","Zaragoza","Aragón",22.478236481895799,"No",4368,2258,2110,"EBRO","EBRO","50099 Épila"]
["50100 Erla",356,"Erla","Zaragoza","Aragón",18.7793357886084,"No",356,181,175,"EBRO","EBRO","50100 Erla"]
["50101 Escatrón",1120,"Escatrón","Zaragoza","Aragón",11.777373982098391,"Sí",1120,556,564,"EBRO","EBRO","50101 Escatrón"]
["50102 Fabara",1096,"Fabara","Zaragoza","Aragón",10.772345737256982,"Sí",1096,595,501,"EBRO","EBRO","50102 Fabara"]
["50104 Farlete",378,"Farlete","Zaragoza","Aragón",3.6304857071235315,"Sí",378,187,191,"EBRO","EBRO","50104 Farlete"]
["50105 Fayón",382,"Fayón","Zaragoza","Aragón",5.6851583137999038,"Sí",382,209,173,"EBRO","EBRO","50105 Fayón"]
["50106 Fayos Los",134,"Fayos Los","Zaragoza","Aragón",34.492247095250853,"No",134,73,61,"EBRO","EBRO","50106 Fayos Los"]
["50107 Figueruelas",1239,"Figueruelas","Zaragoza","Aragón",73.439194836139919,"No",1239,618,621,"EBRO","EBRO","50107 Figueruelas"]
["50108 Fombuena",59,"Fombuena","Zaragoza","Aragón",2.2371081335412506,"Sí",59,36,23,"EBRO","EBRO","50108 Fombuena"]
["50109 Frago El",115,"Frago El","Zaragoza","Aragón",3.406522821747858,"Sí",115,73,42,"EBRO","EBRO","50109 Frago El"]
["50110 Frasno El",394,"Frasno El","Zaragoza","Aragón",8.0998983072158204,"Sí",394,215,179,"EBRO","EBRO","50110 Frasno El"]
["50111 Fréscano",200,"Fréscano","Zaragoza","Aragón",10.864213411393431,"Sí",200,111,89,"EBRO","EBRO","50111 Fréscano"]
["50113 Fuendejalón",766,"Fuendejalón","Zaragoza","Aragón",10.101811622762009,"Sí",766,411,355,"EBRO","EBRO","50113 Fuendejalón"]
["50114 Fuendetodos",142,"Fuendetodos","Zaragoza","Aragón",2.2829874524276463,"Sí",142,82,60,"EBRO","EBRO","50114 Fuendetodos"]
["50115 Fuentes de Ebro",4600,"Fuentes de Ebro","Zaragoza","Aragón",32.584226684214926,"No",4600,2382,2218,"EBRO","EBRO","50115 Fuentes de Ebro"]
["50116 Fuentes de Jiloca",211,"Fuentes de Jiloca","Zaragoza","Aragón",7.7141249136913723,"Sí",211,117,94,"EBRO","EBRO","50116 Fuentes de Jiloca"]
["50117 Gallocanta",128,"Gallocanta","Zaragoza","Aragón",4.3089235618841375,"Sí",128,69,59,"EBRO","EBRO","50117 Gallocanta"]
["50118 Gallur",2555,"Gallur","Zaragoza","Aragón",61.238675039547481,"No",2555,1297,1258,"EBRO","EBRO","50118 Gallur"]
["50119 Gelsa",997,"Gelsa","Zaragoza","Aragón",13.840437716544891,"No",997,524,473,"EBRO","EBRO","50119 Gelsa"]
["50120 Godojos",49,"Godojos","Zaragoza","Aragón",2.9214683085080075,"Sí",49,27,22,"EBRO","EBRO","50120 Godojos"]
["50121 Gotor",311,"Gotor","Zaragoza","Aragón",20.040913105242826,"No",311,157,154,"EBRO","EBRO","50121 Gotor"]
["50122 Grisel",83,"Grisel","Zaragoza","Aragón",5.7213896910897626,"Sí",83,49,34,"EBRO","EBRO","50122 Grisel"]
["50123 Grisén",605,"Grisén","Zaragoza","Aragón",123.80796463798958,"No",605,318,287,"EBRO","EBRO","50123 Grisén"]
["50124 Herrera de los Navarros",496,"Herrera de los Navarros","Zaragoza","Aragón",4.7235190948640335,"Sí",496,274,222,"EBRO","EBRO","50124 Herrera de los Navarros"]
["50125 Ibdes",388,"Ibdes","Zaragoza","Aragón",6.8906677112066461,"Sí",388,198,190,"EBRO","EBRO","50125 Ibdes"]
["50126 Illueca",2778,"Illueca","Zaragoza","Aragón",111.74708440875153,"No",2778,1387,1391,"EBRO","EBRO","50126 Illueca"]
["50128 Isuerre",33,"Isuerre","Zaragoza","Aragón",1.6456421749564976,"Sí",33,17,16,"EBRO","EBRO","50128 Isuerre"]
["50129 Jaraba",282,"Jaraba","Zaragoza","Aragón",6.5879911014462325,"Sí",282,154,128,"EBRO","EBRO","50129 Jaraba"]
["50130 Jarque de Moncayo",413,"Jarque de Moncayo","Zaragoza","Aragón",9.6050409487547803,"Sí",413,216,197,"EBRO","EBRO","50130 Jarque de Moncayo"]
["50131 Jaulín",275,"Jaulín","Zaragoza","Aragón",5.9716201683024064,"Sí",275,146,129,"EBRO","EBRO","50131 Jaulín"]
["50132 Joyosa La",1132,"Joyosa La","Zaragoza","Aragón",173.61696906489163,"No",1132,579,553,"EBRO","EBRO","50132 Joyosa La"]
["50133 Lagata",114,"Lagata","Zaragoza","Aragón",4.8199933323425572,"Sí",114,61,53,"EBRO","EBRO","50133 Lagata"]
["50134 Langa del Castillo",116,"Langa del Castillo","Zaragoza","Aragón",2.3140630860277489,"Sí",116,60,56,"EBRO","EBRO","50134 Langa del Castillo"]
["50135 Layana",92,"Layana","Zaragoza","Aragón",24.9233741697401,"No",92,52,40,"EBRO","EBRO","50135 Layana"]
["50136 Lécera",642,"Lécera","Zaragoza","Aragón",5.8789898939339569,"Sí",642,339,303,"EBRO","EBRO","50136 Lécera"]
["50138 Lechón",47,"Lechón","Zaragoza","Aragón",2.6920285540604874,"Sí",47,28,19,"EBRO","EBRO","50138 Lechón"]
["50137 Leciñena",1132,"Leciñena","Zaragoza","Aragón",6.3366706241376516,"Sí",1132,579,553,"EBRO","EBRO","50137 Leciñena"]
["50139 Letux",343,"Letux","Zaragoza","Aragón",11.376751816623477,"Sí",343,184,159,"EBRO","EBRO","50139 Letux"]
["50140 Litago",190,"Litago","Zaragoza","Aragón",12.415342069465014,"Sí",190,112,78,"EBRO","EBRO","50140 Litago"]
["50141 Lituénigo",119,"Lituénigo","Zaragoza","Aragón",10.45655332846591,"Sí",119,63,56,"EBRO","EBRO","50141 Lituénigo"]
["50142 Lobera de Onsella",25,"Lobera de Onsella","Zaragoza","Aragón",0.77693002626334251,"Sí",25,13,12,"EBRO","EBRO","50142 Lobera de Onsella"]
["50143 Longares",876,"Longares","Zaragoza","Aragón",19.058801951960724,"No",876,532,344,"EBRO","EBRO","50143 Longares"]
["50144 Longás",36,"Longás","Zaragoza","Aragón",0.73128229639704323,"Sí",36,24,12,"EBRO","EBRO","50144 Longás"]
["50146 Lucena de Jalón",227,"Lucena de Jalón","Zaragoza","Aragón",22.019538994275504,"No",227,124,103,"EBRO","EBRO","50146 Lucena de Jalón"]
["50147 Luceni",987,"Luceni","Zaragoza","Aragón",36.40105330707442,"No",987,493,494,"EBRO","EBRO","50147 Luceni"]
["50148 Luesia",342,"Luesia","Zaragoza","Aragón",2.6964568486049938,"Sí",342,183,159,"EBRO","EBRO","50148 Luesia"]
["50149 Luesma",40,"Luesma","Zaragoza","Aragón",1.3606278453917218,"Sí",40,23,17,"EBRO","EBRO","50149 Luesma"]
["50150 Lumpiaque",836,"Lumpiaque","Zaragoza","Aragón",28.294096145775519,"No",836,436,400,"EBRO","EBRO","50150 Lumpiaque"]
["50151 Luna",709,"Luna","Zaragoza","Aragón",2.2951141260875492,"Sí",709,370,339,"EBRO","EBRO","50151 Luna"]
["50152 Maella",2062,"Maella","Zaragoza","Aragón",11.797897777108989,"Sí",2062,1118,944,"EBRO","EBRO","50152 Maella"]
["50153 Magallón",1133,"Magallón","Zaragoza","Aragón",14.413046491234152,"No",1133,578,555,"EBRO","EBRO","50153 Magallón"]
["50154 Mainar",162,"Mainar","Zaragoza","Aragón",4.7616297294997505,"Sí",162,88,74,"EBRO","EBRO","50154 Mainar"]
["50155 Malanquilla",95,"Malanquilla","Zaragoza","Aragón",2.5935508818373307,"Sí",95,60,35,"EBRO","EBRO","50155 Malanquilla"]
["50156 Maleján",260,"Maleján","Zaragoza","Aragón",3417.590073215295,"No",260,136,124,"EBRO","EBRO","50156 Maleján"]
["50160 Mallén",2977,"Mallén","Zaragoza","Aragón",79.733026935675241,"No",2977,1546,1431,"EBRO","EBRO","50160 Mallén"]
["50157 Malón",371,"Malón","Zaragoza","Aragón",65.560861685313526,"No",371,186,185,"EBRO","EBRO","50157 Malón"]
["50159 Maluenda",920,"Maluenda","Zaragoza","Aragón",22.946848215478486,"No",920,455,465,"EBRO","EBRO","50159 Maluenda"]
["50161 Manchones",104,"Manchones","Zaragoza","Aragón",3.8769354808225707,"Sí",104,56,48,"EBRO","EBRO","50161 Manchones"]
["50162 Mara",167,"Mara","Zaragoza","Aragón",7.9191728438190703,"Sí",167,86,81,"EBRO","EBRO","50162 Mara"]
["50163 María de Huerva",6021,"María de Huerva","Zaragoza","Aragón",55.700436926031557,"No",6021,3037,2984,"EBRO","EBRO","50163 María de Huerva"]
["50902 Marracos",92,"Marracos","Zaragoza","Aragón",5.4105552876415857,"Sí",92,49,43,"EBRO","EBRO","50902 Marracos"]
["50164 Mediana de Aragón",465,"Mediana de Aragón","Zaragoza","Aragón",5.1339405338648962,"Sí",465,230,235,"EBRO","EBRO","50164 Mediana de Aragón"]
["50165 Mequinenza",2292,"Mequinenza","Zaragoza","Aragón",7.4505983396088045,"Sí",2292,1162,1130,"EBRO","EBRO","50165 Mequinenza"]
["50166 Mesones de Isuela",265,"Mesones de Isuela","Zaragoza","Aragón",5.4585044900628032,"Sí",265,135,130,"EBRO","EBRO","50166 Mesones de Isuela"]
["50167 Mezalocha",238,"Mezalocha","Zaragoza","Aragón",3.9249487138660442,"Sí",238,136,102,"EBRO","EBRO","50167 Mezalocha"]
["50168 Mianos",28,"Mianos","Zaragoza","Aragón",1.889035873870694,"Sí",28,14,14,"EBRO","EBRO","50168 Mianos"]
["50169 Miedes de Aragón",429,"Miedes de Aragón","Zaragoza","Aragón",7.7460803795052158,"Sí",429,226,203,"EBRO","EBRO","50169 Miedes de Aragón"]
["50170 Monegrillo",389,"Monegrillo","Zaragoza","Aragón",2.1238168981780867,"Sí",389,214,175,"EBRO","EBRO","50170 Monegrillo"]
["50171 Moneva",121,"Moneva","Zaragoza","Aragón",1.9707450872500969,"Sí",121,73,48,"EBRO","EBRO","50171 Moneva"]
["50172 Monreal de Ariza",193,"Monreal de Ariza","Zaragoza","Aragón",3.1098871869892504,"Sí",193,111,82,"EBRO","EBRO","50172 Monreal de Ariza"]
["50173 Monterde",135,"Monterde","Zaragoza","Aragón",2.4133859470538521,"Sí",135,87,48,"EBRO","EBRO","50173 Monterde"]
["50174 Montón",89,"Montón","Zaragoza","Aragón",5.0594488077295185,"Sí",89,53,36,"EBRO","EBRO","50174 Montón"]
["50175 Morata de Jalón",1077,"Morata de Jalón","Zaragoza","Aragón",23.492048257945747,"No",1077,537,540,"EBRO","EBRO","50175 Morata de Jalón"]
["50176 Morata de Jiloca",260,"Morata de Jiloca","Zaragoza","Aragón",11.262115383057681,"Sí",260,149,111,"EBRO","EBRO","50176 Morata de Jiloca"]
["50177 Morés",338,"Morés","Zaragoza","Aragón",15.753222139820753,"No",338,181,157,"EBRO","EBRO","50177 Morés"]
["50178 Moros",304,"Moros","Zaragoza","Aragón",5.6826888958501822,"Sí",304,157,147,"EBRO","EBRO","50178 Moros"]
["50179 Moyuela",262,"Moyuela","Zaragoza","Aragón",6.1272800234557891,"Sí",262,145,117,"EBRO","EBRO","50179 Moyuela"]
["50180 Mozota",124,"Mozota","Zaragoza","Aragón",14.282696490165558,"No",124,62,62,"EBRO","EBRO","50180 Mozota"]
["50181 Muel",1436,"Muel","Zaragoza","Aragón",18.138806382161761,"No",1436,739,697,"EBRO","EBRO","50181 Muel"]
["50182 Muela La",6125,"Muela La","Zaragoza","Aragón",42.686937616584565,"No",6125,3184,2941,"EBRO","EBRO","50182 Muela La"]
["50183 Munébrega",360,"Munébrega","Zaragoza","Aragón",8.7821187085816383,"Sí",360,193,167,"EBRO","EBRO","50183 Munébrega"]
["50184 Murero",97,"Murero","Zaragoza","Aragón",5.3161666821036455,"Sí",97,54,43,"EBRO","EBRO","50184 Murero"]
["50185 Murillo de Gállego",187,"Murillo de Gállego","Zaragoza","Aragón",3.4178237645051435,"Sí",187,110,77,"EBRO","EBRO","50185 Murillo de Gállego"]
["50186 Navardún",34,"Navardún","Zaragoza","Aragón",1.3874922147403745,"Sí",34,21,13,"EBRO","EBRO","50186 Navardún"]
["50187 Nigüella",62,"Nigüella","Zaragoza","Aragón",2.0383685397936553,"Sí",62,38,24,"EBRO","EBRO","50187 Nigüella"]
["50188 Nombrevilla",35,"Nombrevilla","Zaragoza","Aragón",1.9926945540284111,"Sí",35,20,15,"EBRO","EBRO","50188 Nombrevilla"]
["50189 Nonaspe",998,"Nonaspe","Zaragoza","Aragón",8.9477194970628524,"Sí",998,541,457,"EBRO","EBRO","50189 Nonaspe"]
["50190 Novallas",833,"Novallas","Zaragoza","Aragón",73.070944606434452,"No",833,444,389,"EBRO","EBRO","50190 Novallas"]
["50191 Novillas",502,"Novillas","Zaragoza","Aragón",19.808934539757949,"No",502,249,253,"EBRO","EBRO","50191 Novillas"]
["50192 Nuévalos",297,"Nuévalos","Zaragoza","Aragón",7.0984391464435239,"Sí",297,164,133,"EBRO","EBRO","50192 Nuévalos"]
["50193 Nuez de Ebro",880,"Nuez de Ebro","Zaragoza","Aragón",111.94646923380274,"No",880,447,433,"EBRO","EBRO","50193 Nuez de Ebro"]
["50194 Olvés",105,"Olvés","Zaragoza","Aragón",5.2020836078877464,"Sí",105,59,46,"EBRO","EBRO","50194 Olvés"]
["50195 Orcajo",58,"Orcajo","Zaragoza","Aragón",2.0388274295687068,"Sí",58,36,22,"EBRO","EBRO","50195 Orcajo"]
["50196 Orera",116,"Orera","Zaragoza","Aragón",5.8515486325233512,"Sí",116,61,55,"EBRO","EBRO","50196 Orera"]
["50197 Orés",107,"Orés","Zaragoza","Aragón",2.100807338296736,"Sí",107,66,41,"EBRO","EBRO","50197 Orés"]
["50198 Oseja",45,"Oseja","Zaragoza","Aragón",3.6002739088389846,"Sí",45,29,16,"EBRO","EBRO","50198 Oseja"]
["50199 Osera de Ebro",395,"Osera de Ebro","Zaragoza","Aragón",16.059521873475362,"No",395,202,193,"EBRO","EBRO","50199 Osera de Ebro"]
["50200 Paniza",609,"Paniza","Zaragoza","Aragón",12.873536005208603,"No",609,325,284,"EBRO","EBRO","50200 Paniza"]
["50201 Paracuellos de Jiloca",567,"Paracuellos de Jiloca","Zaragoza","Aragón",17.907393195190586,"No",567,296,271,"EBRO","EBRO","50201 Paracuellos de Jiloca"]
["50202 Paracuellos de la Ribera",131,"Paracuellos de la Ribera","Zaragoza","Aragón",8.7595764403769394,"Sí",131,71,60,"EBRO","EBRO","50202 Paracuellos de la Ribera"]
["50203 Pastriz",1294,"Pastriz","Zaragoza","Aragón",78.34773704610383,"No",1294,628,666,"EBRO","EBRO","50203 Pastriz"]
["50204 Pedrola",3572,"Pedrola","Zaragoza","Aragón",31.411586759998592,"No",3572,1850,1722,"EBRO","EBRO","50204 Pedrola"]
["50205 Pedrosas Las",96,"Pedrosas Las","Zaragoza","Aragón",5.2587773101726558,"Sí",96,47,49,"EBRO","EBRO","50205 Pedrosas Las"]
["50206 Perdiguera",567,"Perdiguera","Zaragoza","Aragón",5.1654805420584227,"Sí",567,305,262,"EBRO","EBRO","50206 Perdiguera"]
["50207 Piedratajada",93,"Piedratajada","Zaragoza","Aragón",4.1041845029523651,"Sí",93,52,41,"EBRO","EBRO","50207 Piedratajada"]
["50208 Pina de Ebro",2390,"Pina de Ebro","Zaragoza","Aragón",7.7304636135956422,"Sí",2390,1224,1166,"EBRO","EBRO","50208 Pina de Ebro"]
["50209 Pinseque",4184,"Pinseque","Zaragoza","Aragón",259.67094279667589,"No",4184,2136,2048,"EBRO","EBRO","50209 Pinseque"]
["50210 Pintanos Los",38,"Pintanos Los","Zaragoza","Aragón",0.47716475333646158,"Sí",38,26,12,"EBRO","EBRO","50210 Pintanos Los"]
["50211 Plasencia de Jalón",309,"Plasencia de Jalón","Zaragoza","Aragón",8.8875647983289312,"Sí",309,173,136,"EBRO","EBRO","50211 Plasencia de Jalón"]
["50212 Pleitas",33,"Pleitas","Zaragoza","Aragón",15.396178668454489,"No",33,14,19,"EBRO","EBRO","50212 Pleitas"]
["50213 Plenas",100,"Plenas","Zaragoza","Aragón",2.6353179086770635,"Sí",100,54,46,"EBRO","EBRO","50213 Plenas"]
["50214 Pomer",25,"Pomer","Zaragoza","Aragón",0.75496903252922998,"Sí",25,18,7,"EBRO","EBRO","50214 Pomer"]
["50215 Pozuel de Ariza",17,"Pozuel de Ariza","Zaragoza","Aragón",0.7512415592486984,"Sí",17,10,7,"EBRO","EBRO","50215 Pozuel de Ariza"]
["50216 Pozuelo de Aragón",265,"Pozuelo de Aragón","Zaragoza","Aragón",8.2522361691587598,"Sí",265,140,125,"EBRO","EBRO","50216 Pozuelo de Aragón"]
["50217 Pradilla de Ebro",534,"Pradilla de Ebro","Zaragoza","Aragón",20.983170789728746,"No",534,289,245,"EBRO","EBRO","50217 Pradilla de Ebro"]
["50218 Puebla de Albortón",125,"Puebla de Albortón","Zaragoza","Aragón",1.6792160076303577,"Sí",125,74,51,"EBRO","EBRO","50218 Puebla de Albortón"]
["50219 Puebla de Alfindén La",6446,"Puebla de Alfindén La","Zaragoza","Aragón",378.51798289258437,"No",6446,3287,3159,"EBRO","EBRO","50219 Puebla de Alfindén La"]
["50220 Puendeluna",49,"Puendeluna","Zaragoza","Aragón",4.9602541917690957,"Sí",49,30,19,"EBRO","EBRO","50220 Puendeluna"]
["50221 Purujosa",26,"Purujosa","Zaragoza","Aragón",0.73064082820948029,"Sí",26,16,10,"EBRO","EBRO","50221 Purujosa"]
["50222 Quinto",1937,"Quinto","Zaragoza","Aragón",16.379128126917831,"No",1937,981,956,"EBRO","EBRO","50222 Quinto"]
["50223 Remolinos",1052,"Remolinos","Zaragoza","Aragón",56.843663714614543,"No",1052,536,516,"EBRO","EBRO","50223 Remolinos"]
["50224 Retascón",65,"Retascón","Zaragoza","Aragón",2.5836241632933148,"Sí",65,35,30,"EBRO","EBRO","50224 Retascón"]
["50225 Ricla",2922,"Ricla","Zaragoza","Aragón",32.148892722599733,"No",2922,1572,1350,"EBRO","EBRO","50225 Ricla"]
["50227 Romanos",132,"Romanos","Zaragoza","Aragón",6.7576997076885323,"Sí",132,67,65,"EBRO","EBRO","50227 Romanos"]
["50228 Rueda de Jalón",313,"Rueda de Jalón","Zaragoza","Aragón",2.9151381672110959,"Sí",313,170,143,"EBRO","EBRO","50228 Rueda de Jalón"]
["50229 Ruesca",76,"Ruesca","Zaragoza","Aragón",6.5323354904365747,"Sí",76,36,40,"EBRO","EBRO","50229 Ruesca"]
["50241 Sabiñán",686,"Sabiñán","Zaragoza","Aragón",44.189038387262428,"No",686,365,321,"EBRO","EBRO","50241 Sabiñán"]
["50230 Sádaba",1294,"Sádaba","Zaragoza","Aragón",9.9884729625622466,"Sí",1294,662,632,"EBRO","EBRO","50230 Sádaba"]
["50231 Salillas de Jalón",338,"Salillas de Jalón","Zaragoza","Aragón",134.52934431273218,"No",338,167,171,"EBRO","EBRO","50231 Salillas de Jalón"]
["50232 Salvatierra de Esca",210,"Salvatierra de Esca","Zaragoza","Aragón",2.5849139302439559,"Sí",210,106,104,"EBRO","EBRO","50232 Salvatierra de Esca"]
["50233 Samper del Salz",101,"Samper del Salz","Zaragoza","Aragón",8.7894231736535904,"Sí",101,54,47,"EBRO","EBRO","50233 Samper del Salz"]
["50234 San Martín de la Virgen de Moncayo",276,"San Martín de la Virgen de Moncayo","Zaragoza","Aragón",50.959017318126612,"No",276,157,119,"EBRO","EBRO","50234 San Martín de la Virgen de Moncayo"]
["50235 San Mateo de Gállego",3415,"San Mateo de Gállego","Zaragoza","Aragón",47.6814766776005,"No",3415,1750,1665,"EBRO","EBRO","50235 San Mateo de Gállego"]
["50236 Santa Cruz de Grío",102,"Santa Cruz de Grío","Zaragoza","Aragón",5.2271560596652193,"Sí",102,65,37,"EBRO","EBRO","50236 Santa Cruz de Grío"]
["50237 Santa Cruz de Moncayo",134,"Santa Cruz de Moncayo","Zaragoza","Aragón",33.736671182513128,"No",134,72,62,"EBRO","EBRO","50237 Santa Cruz de Moncayo"]
["50238 Santa Eulalia de Gállego",103,"Santa Eulalia de Gállego","Zaragoza","Aragón",3.4824759443747832,"Sí",103,61,42,"EBRO","EBRO","50238 Santa Eulalia de Gállego"]
["50239 Santed",64,"Santed","Zaragoza","Aragón",3.5942934526069661,"Sí",64,41,23,"EBRO","EBRO","50239 Santed"]
["50240 Sástago",1122,"Sástago","Zaragoza","Aragón",3.7278311166249636,"Sí",1122,568,554,"EBRO","EBRO","50240 Sástago"]
["50242 Sediles",108,"Sediles","Zaragoza","Aragón",9.2254074554959509,"Sí",108,62,46,"EBRO","EBRO","50242 Sediles"]
["50243 Sestrica",338,"Sestrica","Zaragoza","Aragón",8.26903931010769,"Sí",338,192,146,"EBRO","EBRO","50243 Sestrica"]
["50244 Sierra de Luna",285,"Sierra de Luna","Zaragoza","Aragón",6.5689816833741608,"Sí",285,144,141,"EBRO","EBRO","50244 Sierra de Luna"]
["50245 Sigüés",79,"Sigüés","Zaragoza","Aragón",0.77629551192119672,"Sí",79,40,39,"EBRO","EBRO","50245 Sigüés"]
["50246 Sisamón",33,"Sisamón","Zaragoza","Aragón",0.7941796355398949,"Sí",33,22,11,"EBRO","EBRO","50246 Sisamón"]
["50247 Sobradiel",1150,"Sobradiel","Zaragoza","Aragón",95.322081293820716,"No",1150,548,602,"EBRO","EBRO","50247 Sobradiel"]
["50248 Sos del Rey Católico",574,"Sos del Rey Católico","Zaragoza","Aragón",2.6497426954430017,"Sí",574,304,270,"EBRO","EBRO","50248 Sos del Rey Católico"]
["50249 Tabuenca",320,"Tabuenca","Zaragoza","Aragón",3.7329495487902218,"Sí",320,188,132,"EBRO","EBRO","50249 Tabuenca"]
["50250 Talamantes",64,"Talamantes","Zaragoza","Aragón",1.3633973527211845,"Sí",64,32,32,"EBRO","EBRO","50250 Talamantes"]
["50251 Tarazona",10494,"Tarazona","Zaragoza","Aragón",42.995579985545227,"No",10494,5225,5269,"DUERO","EBRO","50251 Tarazona"]
["50252 Tauste",6777,"Tauste","Zaragoza","Aragón",16.725804656323831,"No",6777,3398,3379,"EBRO","EBRO","50252 Tauste"]
["50253 Terrer",530,"Terrer","Zaragoza","Aragón",15.876486922867233,"No",530,290,240,"EBRO","EBRO","50253 Terrer"]
["50254 Tierga",190,"Tierga","Zaragoza","Aragón",2.8730781583260527,"Sí",190,103,87,"EBRO","EBRO","50254 Tierga"]
["50255 Tobed",225,"Tobed","Zaragoza","Aragón",6.9468320963649735,"Sí",225,121,104,"EBRO","EBRO","50255 Tobed"]
["50256 Torralba de los Frailes",74,"Torralba de los Frailes","Zaragoza","Aragón",1.2495706711579164,"Sí",74,39,35,"EBRO","EBRO","50256 Torralba de los Frailes"]
["50257 Torralba de Ribota",163,"Torralba de Ribota","Zaragoza","Aragón",5.011364421747575,"Sí",163,89,74,"EBRO","EBRO","50257 Torralba de Ribota"]
["50258 Torralbilla",59,"Torralbilla","Zaragoza","Aragón",2.2811955521635765,"Sí",59,36,23,"EBRO","EBRO","50258 Torralbilla"]
["50259 Torrehermosa",63,"Torrehermosa","Zaragoza","Aragón",2.981137632405098,"Sí",63,33,30,"EBRO","EBRO","50259 Torrehermosa"]
["50260 Torrelapaja",35,"Torrelapaja","Zaragoza","Aragón",2.2326215608219058,"Sí",35,24,11,"EBRO","EBRO","50260 Torrelapaja"]
["50261 Torrellas",241,"Torrellas","Zaragoza","Aragón",95.214540880224845,"No",241,123,118,"EBRO","EBRO","50261 Torrellas"]
["50262 Torres de Berrellén",1460,"Torres de Berrellén","Zaragoza","Aragón",27.138202224217316,"No",1460,751,709,"EBRO","EBRO","50262 Torres de Berrellén"]
["50263 Torrijo de la Cañada",204,"Torrijo de la Cañada","Zaragoza","Aragón",2.7355756015138515,"Sí",204,120,84,"EBRO","EBRO","50263 Torrijo de la Cañada"]
["50264 Tosos",176,"Tosos","Zaragoza","Aragón",2.5638562262265161,"Sí",176,103,73,"EBRO","EBRO","50264 Tosos"]
["50265 Trasmoz",82,"Trasmoz","Zaragoza","Aragón",4.4906184682379928,"Sí",82,42,40,"EBRO","EBRO","50265 Trasmoz"]
["50266 Trasobares",129,"Trasobares","Zaragoza","Aragón",1.7976887241493755,"Sí",129,77,52,"EBRO","EBRO","50266 Trasobares"]
["50267 Uncastillo",634,"Uncastillo","Zaragoza","Aragón",2.7461828740265233,"Sí",634,300,334,"EBRO","EBRO","50267 Uncastillo"]
["50268 Undués de Lerda",56,"Undués de Lerda","Zaragoza","Aragón",1.3025536191545348,"Sí",56,32,24,"EBRO","EBRO","50268 Undués de Lerda"]
["50269 Urrea de Jalón",447,"Urrea de Jalón","Zaragoza","Aragón",17.43371026678998,"No",447,259,188,"EBRO","EBRO","50269 Urrea de Jalón"]
["50270 Urriés",49,"Urriés","Zaragoza","Aragón",1.3147625890261971,"Sí",49,24,25,"EBRO","EBRO","50270 Urriés"]
["50271 Used",271,"Used","Zaragoza","Aragón",3.1775500530967449,"Sí",271,145,126,"EBRO","EBRO","50271 Used"]
["50272 Utebo",18856,"Utebo","Zaragoza","Aragón",1064.0307715712827,"No",18856,9390,9466,"EBRO","EBRO","50272 Utebo"]
["50274 Val de San Martín",59,"Val de San Martín","Zaragoza","Aragón",2.2995483687003873,"Sí",59,36,23,"EBRO","EBRO","50274 Val de San Martín"]
["50273 Valdehorna",29,"Valdehorna","Zaragoza","Aragón",3.6480662669979447,"Sí",29,16,13,"EBRO","EBRO","50273 Valdehorna"]
["50275 Valmadrid",98,"Valmadrid","Zaragoza","Aragón",1.9380040417272046,"Sí",98,63,35,"EBRO","EBRO","50275 Valmadrid"]
["50276 Valpalmas",135,"Valpalmas","Zaragoza","Aragón",3.3925332052982924,"Sí",135,65,70,"EBRO","EBRO","50276 Valpalmas"]
["50277 Valtorres",63,"Valtorres","Zaragoza","Aragón",19.140349192884891,"No",63,30,33,"EBRO","EBRO","50277 Valtorres"]
["50278 Velilla de Ebro",203,"Velilla de Ebro","Zaragoza","Aragón",3.3952182381891443,"Sí",203,109,94,"EBRO","EBRO","50278 Velilla de Ebro"]
["50279 Velilla de Jiloca",76,"Velilla de Jiloca","Zaragoza","Aragón",7.3045148437352836,"Sí",76,35,41,"EBRO","EBRO","50279 Velilla de Jiloca"]
["50280 Vera de Moncayo",314,"Vera de Moncayo","Zaragoza","Aragón",11.351075087795504,"Sí",314,167,147,"EBRO","EBRO","50280 Vera de Moncayo"]
["50281 Vierlas",83,"Vierlas","Zaragoza","Aragón",31.048662980978396,"No",83,45,38,"EBRO","EBRO","50281 Vierlas"]
["50283 Villadoz",90,"Villadoz","Zaragoza","Aragón",5.2373426956847275,"Sí",90,53,37,"EBRO","EBRO","50283 Villadoz"]
["50284 Villafeliche",147,"Villafeliche","Zaragoza","Aragón",6.5329070974391543,"Sí",147,85,62,"EBRO","EBRO","50284 Villafeliche"]
["50285 Villafranca de Ebro",848,"Villafranca de Ebro","Zaragoza","Aragón",13.27869442874211,"No",848,429,419,"EBRO","EBRO","50285 Villafranca de Ebro"]
["50286 Villalba de Perejil",100,"Villalba de Perejil","Zaragoza","Aragón",7.5705958058899228,"Sí",100,51,49,"EBRO","EBRO","50286 Villalba de Perejil"]
["50287 Villalengua",291,"Villalengua","Zaragoza","Aragón",7.2454274256906714,"Sí",291,161,130,"EBRO","EBRO","50287 Villalengua"]
["50903 Villamayor de Gállego",2768,"Villamayor de Gállego","Zaragoza","Aragón",30.974253054992367,"No",2768,1387,1381,"EBRO","EBRO","50903 Villamayor de Gállego"]
["50288 Villanueva de Gállego",4725,"Villanueva de Gállego","Zaragoza","Aragón",62.181121064155462,"No",4725,2366,2359,"EBRO","EBRO","50288 Villanueva de Gállego"]
["50290 Villanueva de Huerva",412,"Villanueva de Huerva","Zaragoza","Aragón",5.2565468536753812,"Sí",412,215,197,"EBRO","EBRO","50290 Villanueva de Huerva"]
["50289 Villanueva de Jiloca",57,"Villanueva de Jiloca","Zaragoza","Aragón",7.7602100539103152,"Sí",57,28,29,"EBRO","EBRO","50289 Villanueva de Jiloca"]
["50291 Villar de los Navarros",130,"Villar de los Navarros","Zaragoza","Aragón",2.6260504201680672,"Sí",130,74,56,"EBRO","EBRO","50291 Villar de los Navarros"]
["50292 Villarreal de Huerva",272,"Villarreal de Huerva","Zaragoza","Aragón",10.024274591710743,"Sí",272,155,117,"EBRO","EBRO","50292 Villarreal de Huerva"]
["50293 Villarroya de la Sierra",445,"Villarroya de la Sierra","Zaragoza","Aragón",4.8580343711717742,"Sí",445,236,209,"EBRO","EBRO","50293 Villarroya de la Sierra"]
["50294 Villarroya del Campo",89,"Villarroya del Campo","Zaragoza","Aragón",5.2509871560854169,"Sí",89,48,41,"EBRO","EBRO","50294 Villarroya del Campo"]
["50282 Vilueña La",71,"Vilueña La","Zaragoza","Aragón",8.2652324742148036,"Sí",71,36,35,"EBRO","EBRO","50282 Vilueña La"]
["50295 Vistabella",51,"Vistabella","Zaragoza","Aragón",2.3375364071295412,"Sí",51,29,22,"EBRO","EBRO","50295 Vistabella"]
["50296 Zaida La",432,"Zaida La","Zaragoza","Aragón",25.015429076568179,"No",432,221,211,"EBRO","EBRO","50296 Zaida La"]
["50297 Zaragoza",675301,"Zaragoza","Zaragoza","Aragón",693.32936617695282,"No",675301,323111,352190,"EBRO","EBRO","50297 Zaragoza"]
["50298 Zuera",8591,"Zuera","Zaragoza","Aragón",25.857067584126352,"No",8591,4427,4164,"EBRO","EBRO","50298 Zuera"]

{"sheet":"Hitos o Indicadores","index":11,"n_rows":24,"n_cols":12,"rows_kept":24,"cut":false,"hidden":false,"merged":[[4,1,4,2],[4,3,4,4],[23,0,23,6],[0,0,0,6],[4,5,5,5],[4,6,5,6],[22,0,22,6],[1,1,1,6],[2,1,2,6]]}
["Tercera convocatoria de subvenciones (2024) en concurrencia competitiva\nde proyectos de mejora de la eficiencia del ciclo urbano del agua \n(PERTE digitalización del ciclo del agua), en el marco del \nPlan de Recuperación, Transformación y Resiliencia"]
["TITULO:",{"$f":"+'Datos Previos'!E6","v":0}]
["SOLICITANTE:",{"$f":"+'Datos Previos'!E14","v":0}]
[]
[null,"Línea base",null,"Objetivo",null,"Mejora","Fuente oficial de verificación"]
["HITOS ","Año Origen Línea Base","Dato Línea Base","Año Objetivo","Dato Objetivo"]
["Población Beneficiada por el Proyecto de Digitalización",2023,0,2026,0,null,null,null,null,"siempre aparece",null,2020]
["ANEXO III\n2.1\nVolumen de agua total anual (m3) captada en cada ámbito territorial del proyecto.",2023,0,2026,0,null,null,null,null,"siempre aparece",null,{"$f":"+L7+1","v":2021}]
["ANEXO III\n2.2\nVolumen de agua total anual captada (m3) en cada ámbito territorial del proyecto con información registrada en los sistemas de información de las administraciones hidráulicas correspondientes.",2023,0,2026,0,null,null,null,null,"siempre aparece",null,2022]
["ANEXO III\n2.3.1\nPorcentaje de agua no registrada cada ámbito territorial establecido en el proyecto. (ANR en %)",2023,0,2026,0,null,null,null,null,"siempre aparece",null,2023]
["ANEXO III\n2.3.2\nPorcentaje de pérdidas cada ámbito territorial establecido en el proyecto.",2023,0,2026,0,null,null,null,null,"siempre aparece",null,2024]
["ANEXO III\n2.4\nPorcentaje de telelectura en contadores instalados cada ámbito territorial establecido en el proyecto.",2023,0,2026,0,null,null,null,null,"siempre aparece",null,2025]
["ANEXO III \n2.5.1\nNúmero de actividades formativas realizadas durante el proyecto",2023,0,2026,0,null,null,null,null,"siempre aparece",null,2026]
["ANEXO III \n2.5.2\nNúmero total de participantes en las actividades formativas",2023,0,2026,0,null,null,null,null,"siempre aparece"]
["ANEXO III\n2.6.1\nNúmero de actuaciones dentro del proyecto con consideración de I+D+i y presupuesto asociado.",2023,0,2026,0,null,null,null,null,"siempre aparece"]
["ANEXO III\n2.6.2\nPresupuesto asociado I+D+i.",2023,0,2026,0,null,null,null,null,"siempre aparece"]
["ANEXO III\n2.7.1\nNúmero de empleos directos generados por el proyecto.",2023,0,2026,0,null,null,null,null,"siempre aparece"]
["ANEXO III\n2.7.2\nNúmero de empleos indirectos generados por el proyecto.",2023,0,2026,0,null,null,null,null,"siempre aparece"]
["ANEXO III\n2.8\nNúmero de herramientas informáticas elaboradas o mejoradas incluidas en el proyecto.",2023,0,2026,0,null,null,null,null,"siempre aparece"]
["ANEXO III\n1.g)\nla reducción media del consumo de energía",2023,0,2026,0,null,null,null,null,"siempre aparece"]
["ANEXO III\n1.g)\nla reducción media del consumo de energía (en KWh)",2023,0,2026,0,null,null,null,null,"siempre aparece"]
[null,null,null,null,null,null,null,null,null,"siempre aparece"]
["Nota 1: En caso de no existir se indicará \"No Aplica\". Se rellenará para cada hito el año de la línea base (año de inicio de las actuaciones) y del objetivo, así como el hito cuando exista. "]
["Nota 2: En los hitos donde vienen dos formas de medida, por porcentaje y por valor, se rellenará uno de ellos o los dos, a criterio del solicitante."]

{"sheet":"Resumen","index":12,"n_rows":30,"n_cols":12,"rows_kept":30,"cut":false,"hidden":false,"merged":[[29,1,29,12],[0,1,0,12],[37,2,37,12],[38,2,38,12],[39,2,39,12],[30,2,30,12],[31,2,31,12],[32,2,32,12],[33,2,33,12],[7,11,7,13],[4,2,4,12],[3,2,3,12],[1,1,1,12],[16,2,28,12],[5,2,5,12],[8,2,8,12],[46,2,46,12],[47,2,47,12],[48,2,48,12],[7,2,7,3],[7,4,7,5],[7,6,7,7],[7,8,7,10],[40,2,40,12],[41,2,41,12],[42,2,42,12],[43,2,43,12],[44,2,44,12],[45,2,45,12],[34,2,34,12],[35,2,35,12],[36,2,36,12],[6,2,6,12],[15,2,15,12],[9,2,9,12],[10,2,10,12],[11,2,11,12],[12,2,12,12],[13,2,13,12],[14,2,14,12]]}
[null,"Tercera convocatoria de subvenciones (2024) en concurrencia competitiva\nde proyectos de mejora de la eficiencia del ciclo urbano del agua \n(PERTE digitalización del ciclo del agua), en el marco del \nPlan de Recuperación, Transformación y Resiliencia"]
[null,"RESUMEN DATOS PROYECTO INTRODUCIDO"]
[]
[null,"TÍTULO:",{"$f":"+'Datos Previos'!E6","v":0}]
[null,"TIPO DE SOLICITANTE:",{"$f":"+'Datos Previos'!J12","v":"Individual "}]
[null,"SOLICITANTE:",{"$f":"+'Datos Previos'!E14","v":0}]
[null,"NIF:",{"$f":"+'Datos Previos'!E15","v":0}]
[null,"REPRESENTANTE:",{"$f":"+'Datos Previos'!E16","v":0},null,{"$f":"+'Datos Previos'!E17","v":0},null,{"$f":"+'Datos Previos'!E18","v":0},null,{"$f":"+'Datos Previos'!E28","v":0},null,null,{"$f":"+'Datos Previos'!E27","v":0}]
[null,"COMUNIDAD AUTÓNOMA:",{"$f":"+'Datos Previos'!E24","v":0}]
[null,"Nº MUNICIPIOS:",{"$f":"+Localizaciones!C3","v":1}]
[null,"Nº ACTUACIONES:",{"$f":"+Actuaciones!C3","v":1}]
[null,"PRESUPUESTO TOTAL:",{"$f":"+Actuaciones!AB3","v":0}]
[null,"PRESUPUESTO SUBVENCIONABLE:",{"$f":"+'Comprobación de Presupuesto'!W7","v":0}]
[null,"AYUDA SOLICITADA:",{"$f":"+'Comprobación de Presupuesto'!V6","v":0}]
[null,"ANTICIPO PREVISTO",{"$f":"+'Comprobación de Presupuesto'!B16","v":0}]
[]
[null,"Observaciones y comentarios:"]
[]
[]
[]
[]
[]
[]
[]
[]
[]
[]
[]
[]
[null,{"$f":"+IF(ROUND(Actuaciones!AC3,2)=ROUND(C13,2),\"\",IF(Actuaciones!AC3-C13<2,\"NOTA: La pequeña diferencia entre Presupuesto Subvencionable indicado en la hoja de ACTUACIONES y el resultante del reparto de Presupuesto Subvencionable en la hoja PRESUPUESTO se debe a los redondeos generados en el reparto de presupuesto por población.\",\"\"))","v":""}]

{"sheet":"tabla de competencias","index":13,"n_rows":41,"n_cols":20,"rows_kept":41,"cut":false,"hidden":true,"merged":[[37,1,37,13],[38,1,38,13],[39,1,39,13],[40,1,40,13],[31,1,31,13],[32,1,32,13],[33,1,33,13],[34,1,34,13],[35,1,35,13],[36,1,36,13]]}
[]
[null,"Numero de Municipios:","LOCALIZACIONES!C3"]
[null,"municipios:","desde n = 1 a Numero de municipios"]
[null,"Competencias:","desde m=1 a 7","de la tabla de localizaciones de las columnas j a q"]
[null,null,null,"si la celda esta vacia suma 1 a m"]
[null,null,null,"si la celda esta rellena (con una entidad) , buscar el tipo de entidad: "," si es ayuntamiento o diputacion suma 1 a m"]
[null,null,null,null,"si no es asi, rellena fila con","Columna B: n1 de documento: el primero 1, el resto 1+ celda de arriba"]
[null,null,null,null,null,"Columna C: entidad ejecutora=contenido de la casilla"]
[null,null,null,null,null,"Columna D: buscar el NIF de la entidad ejecutora",null,null,null,null,null,null,null,null,null,null,null,null,1,"Captación"]
[null,null,null,null,null,"Columna L:en funcion de m valores en la tabla S9:T15 en esta misma hoja",null,null,null,null,null,null,null,null,null,null,null,null,{"$f":"+S9+1","v":2},"Tratamiento Agua Potable"]
[null,null,null,null,null,"Columna M: Municipio m",null,null,null,null,null,null,null,null,null,null,null,null,3,"Distribucion en Alta"]
[null,null,null,null,null,"suma 1 a m",null,null,null,null,null,null,null,null,null,null,null,null,4,"Distribucion en Baja"]
[null,null,null,null,null,null,null,null,null,null,null,null,null,null,null,null,null,null,5,"Saneamiento"]
[null,null,null,null,null,null,null,null,null,null,null,null,null,null,null,null,null,null,6,"Depuración Aguas Residuales"]
[null,null,null,null,null,null,null,null,null,null,null,null,null,null,null,null,null,null,7,"Reutilización"]
["Comentarios","Nº DOCUMENTO\n(0)","Entidad Ejecutora","NIF","Documento acreditativo de la competencia \n(1)","Entidades contratantes\n (2)","Fecha de firma de contrato\n(3)","Fecha inicio de los servicios\n(4)","Fecha fin de los servicios \n(5)","Duración\n(6)","Prórroga\n(7)","Servicio de abastecimiento / saneamiento /  depuración / otros\n(8)","Municipio\n(9)","Observaciones"]
["ok",1]
["No aparecen fechas indicadas",2]
["ok",3]
["No aparecen fechas indicadas",4]
["No aparecen fechas indicadas",5]
["ok",6]
["ok",7]
["No aparecen fechas indicadas",8]
["No aparecen fechas indicadas",9]
["No aparecen fechas indicadas",10]
["No aparecen fechas indicadas",11]
["ok",12]
["ok",13]
[null,"(Insertar tantas filas  como sea necesario)"]
[]
[null,"(0) Indicar el número de orden del documento que se aporta para acreditar la competencia. Este número de orden se deberá indicar en el nombre del pdf aportado para acreditar la competencia."]
[null,"(1) Indicar el documento que acredita a la empresa solicitante de la ayuda (con  el nombre de la entidad solicitante y el NIF indicado en el cabecero de esta hoja) la competencia en materia de abastecimiento / saneamiento / y depuración de aguas, u otros. \nEn el caso en el  que existan diferentes documentos que acrediten la competencia, cada uno de ellos se cumplimentará en una celda diferente y con los datos indicados en la tabla."]
[null,"(2) Indicar las entidades que firman el contrato, concesión, acuerdo, etc. En el caso de que la entidad solicitante de la ayuda haya cambiado de denominación social desde el inicio del contrato de gestión, ya sea por posibles fusiones, cambios denominativos, absorciones, etc., se solicita la documentación acreditativa de los cambios que se han realizado, donde se pueda verificar que la empresa solicitante de la ayuda, tras las oportunas transformaciones,  sigue teniendo en vigor la competencia sobre los municipios donde se van a realizar las actuaciones."]
[null,"(3) Indicar la fecha de firma de contrato."]
[null,"(4) Indicar la fecha en la que se inician los servicios del contrato."]
[null,"(5) Indicar la fecha en la que finalizan los servicios  del contrato, según el documento acreditativo de la competencia indicado en la columna (1). \n"]
[null,"(6) Indicar la duración, vigencia del contrato."]
[null,"(7) Indicar si existe la posibilidad de prórroga y en su caso la duración de la misma."]
[null,"(8) Indicar en qué servicios se acredita la competencia  según el documento acreditativo de la competencia indicado en la columna (1). En el caso de que la competencia sea para varios servicios, indicarlos todos."]
[null,"(9) Indicar el municipio o municipios en el que la entidad solicitante de la ayuda tiene competencia en virtud del documento acreditativo de la competencia indicado en la columna (1)."]

{"sheet":"TABLAS","index":14,"n_rows":17,"n_cols":33,"rows_kept":17,"cut":false,"hidden":true,"merged":[]}
["Booleano","Tipo Solicitante","Tipo de persona juridica","Tipo de entidad","Tipo de gestion","Funciones","Campo de competencias",null,null,null,"CC/AA - Provincias",null,null,null,null,null,null,null,null,null,null,null,null,null,null,null,null,null,null,"tipo de actuaciones","tipologia de actuaciones"]
[]
["Sí","Individual ","Persona juridica","Ayuntamiento","directa por la propia entidad local","Titular","Captación",null,null,null,"Andalucía","Aragón","Principado de Asturias","Illes Balears","Canarias","Cantabria","Castilla y León","Castilla La Mancha","Cataluña","Comunitat Valenciana","Extremadura","Galicia","Comunidad de Madrid","Región de Murcia","Comunidad Foral de Navarra","País Vasco","La Rioja","Ciudad Autónoma de Ceuta","Ciudad Autónoma de Melilla",null,"Tipo A","Tipo B","Tipo C"]
["No","Agrupación","Union Temporal de Empresas"," Mancomunidad ","directa por Organismo autonomo local","Operador","Depuracion agua potable",null,null,null,"Almería","Huesca","Asturias","Illes Balears","Las Palmas","Cantabria","Ávila","Albacete","Barcelona","Alicante/Alacant","Badajoz","A Coruña","Madrid","Murcia","Navarra","Araba/Álava","La Rioja","Ceuta","Melilla","Tipo A:  - Elaboración/actualización o mejora de estrategias, planes, redacción de proyectos constructivos o estudios que promuevan el cumplimiento de la normativa sectorial asociada y que promueva la mejora de la eficiencia del ciclo urbano del agua y la adaptación al cambio climático en cualquier ámbito territorial que de servicio a los términos municipales incluidos en la propuesta presentada","A.1 - Planes de emergencia ante situaciones de sequía según se dispone el artículo 27.3 de la Ley 10/2001, de 5 de julio, del Plan Hidrológico Nacional.","B.1 - Actuaciones de mejora de la eficiencia, digitalización y monitorización centradas en las infraestructuras de captación del agua o puntos de entrega para el uso público y en especial, sobre las captaciones directas al dominio público hidráulico, tanto superficiales como subterráneas.","C.1 - Desarrollo y mejoras de portales web de las administraciones responsables y operadores en general que permitan fomentar la comunicación digital con el usuario final y cumplir con los requisitos de transparencia explicitados tanto en el Texto Refundido de la Ley de Aguas y normativa derivada como los establecidos de forma adicional en el Real Decreto 3/2023, de 10 de enero, por el que se establecen los criterios técnico-sanitarios de la calidad del agua de consumo, su control y suministro. Se incluyen en esta tipología todas aquellas actuaciones dirigidas a la implantación o mejora de la ciberseguridad necesarias."]
[null,null,"dejar dos mas libres por si acaso"," Consorcio ","Directa por Sociedad Mercantil Local","Con competencias","Distribución",null,null,null,"Cádiz","Teruel",null,null,"Santa Cruz de Tenerife",null,"Burgos","Ciudad Real","Girona","Castellón/Castelló","Cáceres","Lugo",null,null,null,"Bizkaia",null,null,null,"Tipo B:  - Intervenciones específicas de mejora de la eficiencia y digitalización del ciclo urbano del agua","A.2 - Protocolos de vigilancia, planes sanitarios y de gestión del control de la calidad de las aguas de consumo humano conforme a lo establecido en el Real Decreto 3/2023, de 10 de enero, por el que se establecen los criterios técnico- sanitarios de la calidad del agua de consumo, su control y suministro.","B.2 - Actuaciones de mejora de la eficiencia y digitalización sobre cualquier elemento del sistema de abastecimiento, incluyendo redes de distribución,acometidas de interés público que afecten a una pluralidad de personas usuarias,que en conjunto fomenten a su vez la telegestión y la telelectura del sistema.","C.2 - Mejora o desarrollo de sistemas de información y herramientas digitalespara el fomento de la gestión de la información generada, telegestión y telemando de las instalaciones e infraestructuras y mejora en la gestión digital del ciclo urbano del agua. Se incluyen en esta tipología todas aquellas actuaciones dirigidas a la implantación o mejora de la ciberseguridad necesarias, así como la implantación de tecnologías basadas en inteligencia artificial aplicadas a la mejora en la gestión digital del ciclo urbano del agua."]
[null,"dejar dos mas libres por si acaso",null," Diputación ","Indirecta por concesion","Diputacion"," Saneamiento",null,null,null,"Córdoba","Zaragoza",null,null,null,null,"León","Cuenca","Lleida","Valencia/València",null,"Ourense",null,null,null,"Gipuzkoa",null,null,null,"Tipo C: - Elaboración/actualización o mejora de plataformas, portales web o sistemas de información y herramientas digitales","A.3 - Planes integrales de gestión de los sistemas de saneamiento.","B.3 - Actuaciones de mejora de la eficiencia, digitalización y monitorización sobre el sistema de saneamiento y depuración, derivados, en su caso, de la implantación de los planes integrales de gestión de los sistemas de saneamiento, tanto en la red de colectores como otras infraestructuras existentes en los sistemas de saneamiento, así como en el conjunto de los procesos de las estaciones de depuración de aguas residuales y resto de infraestructuras del sistema de saneamiento."]
[null,null,null," Comunidad Autónoma uniprovincial ","Indirecta por Arrendamiento",null," Depuración aguas residuales",null,null,null,"Granada",null,null,null,null,null,"Palencia","Guadalajara","Tarragona",null,null,"Pontevedra",null,null,null,null,null,null,null,null,"A.4 - Planes para el fomento del uso de agua regenerada de acuerdo a lo establecido en el Real Decreto-Ley 4/2023 por el que se adoptan medidas urgentes en materia agraria y de aguas en respuesta a la sequía y al agravamiento de las condiciones del sector primario derivado del conflicto bélico en Ucrania y de las condiciones climatológicas, así como de promoción del uso del transporte público colectivo terrestre por parte de los jóvenes y prevención de riesgos laborales en episodios de elevadas temperaturas.","B.4 - Actuaciones de mejora de la eficiencia, digitalización y monitorización en los puntos de vertido de aguas residuales asignados al beneficiario, y en especial los que viertan directamente al dominio público, tanto si el vertido se efectúa en tiempo seco como si se efectúan exclusivamente durante episodios de precipitación."]
[null,null,null," Cabildo ","Indirecta por concierto.","dejar dos mas libres por si acaso","dejar 5 mas libres por si acaso",null,null,null,"Huelva",null,null,null,null,null,"Salamanca","Toledo",null,null,null,null,null,null,null,null,null,null,null,null,"A.5 - Planes municipales de protección civil frente a situaciones de inundaciones, previsiones meteorológicas y sistemas de ayuda a la decisión.","B.5 - Actuaciones complementarias de mejora de la eficiencia asociadas a reparaciones y mejoras técnicas en los sistemas de abastecimiento, saneamiento y tratamiento de aguas, que permitan, entre otros objetivos, el incremento de volúmenes tratados, la disminución de pérdidas, el fomento de la reutilización y regeneración del agua y la correcta sensorización abordada en las actuaciones de los tipos B.1, B.2, B.3, o B.4. Quedarán fuera de esta tipología la renovación completa de redes, así como obra nueva."]
[null,null,null," Consejo insular ","dejar dos mas libres por si acaso",null,null,null,null,null,"Jaén",null,null,null,null,null,"Segovia",null,null,null,null,null,null,null,null,null,null,null,null,null,"A.6 - Estudios para el diagnóstico el control y gestión de las fugas estructurales conforme al artículo 47 del Real Decreto 3/2023, de 10 de enero, por el que se establecen los criterios técnico-sanitarios de la calidad del agua de consumo, su control y suministro.","B.6 - Instalación y mejora de herramientas de comunicaciones necesarias para el desarrollo de las mismas, y en especial, aquellas destinadas a la implantación de tecnologías de la información Internet of Things (IoT)."]
[null,null,null," Entidad Pública Empresarial ",null,null,null,null,null,null,"Málaga",null,null,null,null,null,"Soria",null,null,null,null,null,null,null,null,null,null,null,null,null,"A.7 - Desarrollo de estudios hidrogeológicos para la mejora del conocimiento de las aguas subterráneas y establecimiento de perímetros de protección de las captaciones prioritarias. Se incluirán en esta tipología la elaboración de planes directores de abastecimiento en alta y baja.","B.7 - Realización de estudios, instalación de equipos y tecnologías y mejoras de la gestión de los sistemas energéticos existentes del sistema de abastecimiento y saneamiento que permita la mejora de la eficiencia energética, el empleo de energías renovables y la disminución de las emisiones de gases de efecto invernadero. Queda incluido en esta tipología la instalación de placas solares y otros sistemas de generación de energía renovables."]
[null,null,null," Empresa mixta pública ",null,null,null,null,null,null,"Sevilla",null,null,null,null,null,"Valladolid",null,null,null,null,null,null,null,null,null,null,null,null,null,"A.8 - Modelización cartográfica y numérica de las redes y sistemas de abastecimiento y saneamiento de todo el ciclo urbano (cartografía, topografía, modelación BIM, gemelos digitales, modelización hidráulica 3D, etc.). Se incluyen en esta tipología la elaboración de proyectos constructivos para la mejora de la red de abastecimiento y saneamiento."]
[null,null,null," Empresa mixta privada",null,null,null,null,null,null,null,null,null,null,null,null,"Zamora"]
[null,null,null," Empresa privada  "]
[null,null,null,"UTE"]
[null,null,null," Otros."]
[]
[null,null,null,"dejar cinco mas libres por si acaso"]

{"sheet":"importes maximos","index":15,"n_rows":35,"n_cols":5,"rows_kept":35,"cut":false,"hidden":true,"merged":[[15,3,15,5],[1,0,1,1],[3,0,3,1],[9,0,9,1],[13,2,13,5],[14,2,14,5],[27,4,27,5],[16,3,16,5],[17,3,17,5],[18,3,18,5],[19,3,19,5],[20,4,20,5],[21,4,21,5],[22,4,22,5],[23,4,23,5],[24,4,24,5],[25,3,25,5],[26,4,26,5],[39,3,39,5],[28,4,28,5],[29,4,29,5],[30,4,30,5],[31,4,31,5],[32,4,32,5],[33,4,33,5],[34,4,34,5],[35,3,35,5],[36,3,36,5],[37,3,37,5],[38,3,38,5],[46,3,46,5],[47,3,47,5],[48,3,48,5],[49,3,49,5],[40,3,40,5],[41,3,41,5],[42,3,42,5],[43,3,43,5],[44,3,44,5],[45,3,45,5]]}
[]
["Artículo 3. Financiación y aplicación presupuestaria"]
[null,"La financiación y pago de las ayudas se hará con cargo al Fondo de Restauración Ecológica y Resiliencia, FCPJ regulado por el Real Decreto 690/2021, de 3 de agosto, a partir de la financiación prevista en la Inversión 3 del Componente 5 del PRTR. En todo caso, será el MITECO, a través de la Secretaría de Estado de Medio Ambiente, el órgano responsable en la gestión, el seguimiento de los hitos y objetivos, la rendición de cuentas en relación con su cumplimiento y la información a proporcionar al sistema de gestión, así como el cumplimiento de todos los requerimientos establecidos que derivan de la normativa aplicable asumiendo y siguiendo el régimen jurídico que les resulta de aplicación con carácter general a los mismos, conforme a lo establecido en el artículo 13.6 del Real Decreto 690/2021, de 3 de agosto."]
["Artículo 4. Cuantía de la subvención."]
["1. Cuantia total","La cuantía total máxima de las ayudas a conceder en el marco de la presente convocatoria será de 200.000.000 de euros."]
["2. Reserva","Conforme a lo establecido en las bases, de la cuantía total máxima a que se refiere el párrafo anterior, se reservan 60.000.000 de euros para la subvención de proyectos presentados por agrupaciones de solicitantes o por solicitantes individuales, siempre que, en ambos casos, dichos proyectos abarquen más de cinco (5) términos municipales, en los que, al menos uno de los municipios incluidos en su ámbito territorial no reúna individualmente el requisito exigido en el artículo 6.2 de las bases.\nEl crédito reservado que no se agote se acumulará a la línea de crédito general.\nSi el crédito reservado no fuera suficiente para financiar dichos proyectos, podrá completarse la financiación con cargo a la línea general del crédito disponible, en competencia con el resto de los proyectos presentados individualmente por los solicitantes, en función de su valoración."]
["3. Importes y limites","El importe máximo de la ayuda a conceder por cada solicitud de ayuda será de hasta 10.000.000 euros y el importe mínimo de la ayuda a conceder por cada solicitud de ayuda será de, al menos, 500.000 de euros, con el condicionante que se establece a continuación.\nEl órgano concedente se reserva el derecho de otorgar una subvención inferior a la cantidad pedida por el solicitante. En caso de reformulación de proyectos para ajustar los compromisos y condiciones a la subvención otorgable, podrá concederse una ayuda inferior a 500.000 euros conforme a la reformulación realizada.\nLa intensidad máxima de la ayuda respecto de los costes elegibles subvencionables por tipo de actuación se definen el anexo I de esta convocatoria."]
["4. Cálculo del número de habitantes","A efectos de lo dispuesto en el apartado anterior, así como en relación con la aplicación de los artículos 6 y 10 de las bases reguladoras de estas ayudas, el número de habitantes de cada municipio será el establecido mediante el censo oficial  roporcionado por el INE correspondiente al año 2021 que será verificado por el MITECO. En este sentido, el solicitante individual o la agrupación de solicitantes, incluidas las entidades supramunicipales con personalidad jurídica, deberá cumplir el requisito descrito en el apartado 2 del artículo 6 de la Orden TED/934/2022, de 23 de septiembre, así como las modificaciones aprobadas en esta orden, al menos, de acuerdo con la información proporcionada por alguna de las dos referencias descritas.\nNo obstante lo anterior, de manera excepcional el solicitante o la agrupación de solicitantes, podrá incluir la población estacional de los términos municipales incluidos en el ámbito de actuación del proyecto para llegar al umbral mínimo de 20.000 habitantes exigido en el artículo 6.2 de la Orden TED/934/2022, de 23 de septiembre, así como las modificaciones aprobadas en esta orden. A los anteriores efectos, entre la documentación a incluir en la solicitud de la ayuda se incluirá un estudio técnico justificativo del cálculo de la población estacional, en el que se acreditará que la cifra de población estacional que se quiera adicionar a la cifra de población de derecho permanente de los términos municipales incluidos en el ámbito de la actuación se mantiene durante, al menos, sesenta días en cada año natural."]
["5. Presupuesto para siguientes convocatorias","Asimismo, se podrá reservar una cuantía determinada del presupuesto total para subvencionar actuaciones propuestas por solicitantes que, cumpliendo los requisitos para ser consideradas entidades beneficiarias descritos en las bases reguladoras y en la convocatoria, no hubieran percibido la ayuda solicitada en la convocatoria inmediatamente anterior por haberse agotado el crédito disponible."]
["Artículo 6. Forma de pago. Anticipos."]
["1. ","Los beneficiarios recibirán el pago anticipado de hasta el 80 % de la ayuda concedida en cada una de las anualidades previstas en la resolución de concesión de la subvención. En el caso de las agrupaciones de solicitantes, el pago anticipado será entregado de manera individualizada a cada una de las personas beneficiarias que integren la agrupación por la parte proporcional de la anualidad que le corresponda a cada uno de ellos, de acuerdo con el reparto que se establezca en la resolución definitiva regulada en el artículo 12.5. \nPara que el pago del anticipo correspondiente a una anualidad se haga efectivo, el beneficiario deberá certificar que, al menos, el 60 % del importe del coste subvencionable de las actuaciones correspondientes a la  anualidad anterior ha sido ya ejecutado o comprometido, es decir, pagado o formalizado el contrato, y los servicios prestados o bienes entregados. El modelo de certificación será publicado en la web del MITECO, y será presentado en los primeros 3 meses de cada año natural. El requisito anterior no será aplicable al pago del anticipo correspondiente a la primera anualidad. En caso, de no acreditar adecuadamente la ejecución de al menos el 60 % de los costes subvencionables del proyecto, no se abonará el anticipo de esa anualidad."]
["2. ","El retraso en el cumplimiento de las obligaciones formales por parte del beneficiario se penalizará aplicando una reducción del 5 % en el importe del pago anticipado correspondiente por cada mes de retraso o fracción con respecto a la fecha de pago prevista, siendo la subvención concedida reducida en una cuantía equivalente al importe detraído de este pago anticipado."]
["3. ","El importe correspondiente al pago de la ayuda concedida que no se haya satisfecho como anticipo conforme a lo dispuesto en el apartado 1 del presente artículo, será abonado individualmente a cada beneficiario una vez se verifique la ejecución de las actuaciones y se certifiquen los costes incurridos, en aplicación de lo previsto en el capítulo VIII del título I."]
[null,"A los anteriores efectos, se estará a lo dispuesto en el artículo 88 del Real Decreto 887/2006, de 21 de julio, por el que se aprueba el Reglamento de la Ley 38/2003, de 17 de noviembre, General de Subvenciones.\n","Artículo 88. Pago de la subvención.\n1. El pago de la subvención se realizará previa justificación, por el beneficiario, y en la parte proporcional a la cuantía de la subvención justificada, de la realización de la actividad, proyecto, objetivo o adopción del comportamiento para el que se concedió, en los términos establecidos en la normativa reguladora de la subvención, salvo que en atención a la naturaleza de aquélla, dicha normativa prevea la posibilidad de realizar pagos anticipados, de acuerdo con lo previsto en el artículo 34.4 de la Ley General de Subvenciones. Cuando la subvención se conceda en atención a la concurrencia de una determinada situación en el perceptor no se requerirá otra justificación que la acreditación conforme a los medios que establezca la normativa reguladora.\n2. Con carácter general, salvo que las bases reguladoras establezcan lo contrario y en función de las disponibilidades presupuestarias, se realizarán pagos anticipados en los términos y condiciones previstos en el artículo 34.4 de la Ley General de Subvenciones en los supuestos de subvenciones destinadas a financiar proyectos o programas de acción social y cooperación internacional que se concedan a entidades sin fines lucrativos, o a federaciones, confederaciones o agrupaciones de las mismas, así como subvenciones a otras entidades beneficiarias siempre que no dispongan de recursos suficientes para financiar transitoriamente la ejecución de la actividad subvencionada.\n3. A estos efectos, deberá incorporarse al expediente que se tramite para el pago total o parcial de la subvención, certificación expedida por el órgano encargado del seguimiento de aquella, en la que quede de manifiesto:\na) la justificación parcial o total de la misma, según se contemple o no la posibilidad de efectuar pagos fraccionados, cuando se trate de subvenciones de pago posterior;\nb) que no ha sido dictada resolución declarativa de la procedencia del reintegro de la subvención o de la pérdida del derecho al cobro de la misma por alguna de las causas previstas en el artículo 37 de la Ley General de Subvenciones;\nc) que no ha sido acordada por el órgano concedente de la subvención, como medida cautelar, la retención de los libramientos de pago o de las cantidades pendientes de abonar al beneficiario o entidad colaboradora, referidos a la misma subvención.\n4. A los efectos previstos en el artículo 34.5 de la Ley General de Subvenciones, la valoración del cumplimiento por el beneficiario de sus obligaciones tributarias y frente a la Seguridad Social y de que no es deudor por resolución de procedencia de reintegro, así como su forma de acreditación, se efectuará en los mismos términos previstos en la Sección\n3.ª del Capítulo III del Título Preliminar de este Reglamento sobre requisitos para obtener la condición de beneficiario o entidad colaboradora. No será necesario aportar nueva certificación si la aportada en la solicitud de concesión no ha rebasado el plazo de seis meses de validez."]
[null,"RECOGIDO EN EL ARTICULO 15 DE LAS BASES DE LA PRIMERA LICITACION","Artículo 15.Gastos subvencionables.\n"]
[null,null,"1.","1.Como regla general, el Mecanismo para la Recuperación y Resiliencia solo financiará gastos no recurrentes que supongan un cambio estructural y tengan un impacto duradero sobre la resiliencia económica y social, la sostenibilidad, la competitividad a largo plazo y el empleo.\n"]
[null,null,"2.","2.Se considerarán gastos subvencionables aquellos que, de manera indubitada, estén relacionados con la actividad objeto de la ayuda, sean necesarios para su ejecución, hayan sido contraídos durante el periodo de ejecución aprobado para cada proyecto beneficiario y se encuentren efectivamente pagados con anterioridad a la finalización del período de justificación. Los gastos deberán estar sujetos a precios de mercado.\n"]
[null,null,"3.","3.Los gastos deberán estar a nombre del beneficiario, en el caso de agrupaciones los gastos deberán estar a nombre de la entidad que sea parte de la agrupación que ejecute el gasto.\n"]
[null,null,"4.","4.No serán admisibles los gastos contraídos antes del inicio del cronograma de la actuación subvencionada, a excepción de los gastos de la correspondiente amortización de material inventariable previamente adquirido y que a fecha de inicio del proyecto no esté completamente amortizado o haya sido financiado con otras ayudas.\n"]
[null,null,null,"5.La financiación podrá aplicarse a los siguientes costes de personal contratado o vinculado al beneficiario:"]
[null,null,null,"a)","Los gastos de personal aprobados por la Secretaría de Estado de Medio Ambiente para el proyecto."]
[null,null,null,"b)","El 100 % del coste laboral del personal contratado exclusiva y específicamente para la realización de la actividad objeto de la ayuda y así quede patente en su contrato laboral."]
[null,null,null,"c)","El coste del resto de los trabajadores de la entidad será financiable en función del porcentaje de dedicación al proyecto, que nunca podrá ser superior al 85% del coste laboral."]
[null,null,null,"d)","En general, estos gastos se justificarán mediante la presentación de las nóminas, seguros sociales y sus respectivos justificantes de pago, así como la confección de partes horarios a efectos de evitar la doble financiación. En el caso de trabajadores imputados al 100% al proyecto, se debe presentar también su contrato laboral."]
[null,null,null,"e)","Dentro de esta partida de gasto se podrán imputar igualmente trabajadores autónomos económicamente dependientes (TRADE). Igual que en el resto del personal, será financiable el 100% de su coste si su dedicación es exclusiva al proyecto y así queda reflejado de forma explícita en su contrato. En el resto de los casos, será  financiable en función del porcentaje de dedicación, que no será superior al 85%. Este tipo de gastos se justificarán mediante la aportación de contrato, factura junto a su correspondiente justificante de pago, modelo 130 para los que se encuentren en estimación directa, y el recibo de pago de la cuota de autónomos.\n"]
[null,null,null,"6.La financiación podrá aplicarse a los siguientes costes de viajes y manutención:\n"]
[null,null,null,null,"Los gastos de desplazamiento, alojamiento y manutención del personal involucrado en las actividades objeto de ayuda, así como de los voluntarios o personal colaborador implicados, siempre que éstos estén directamente vinculados al proyecto, sean necesarios para su ejecución, y se identifique la actividad por que ha generado el gasto y la persona que ha incurrido en el mismo."]
[null,null,null,null,"El importe máximo financiable aplicado a los gastos de desplazamiento será el exceptuado de gravamen según el Reglamento del IRPF (Orden EHA/3771/2005, de 2 de diciembre, por la que se revisa la cuantía de los gastos de locomoción y de las dietas en el Impuesto Sobre la Renta de las Personas Físicas o normativa que le sustituya)."]
[null,null,null,null,"Salvo excepciones justificadas, la elegibilidad del resto de gastos de manutención tendrá como límite máximo las cuantías establecidas para el grupo 2 por el Real Decreto 462/2002, de 24 de mayo, sobre indemnizaciones por razón de servicio."]
[null,null,null,null,"El importe máximo financiable aplicado a los gastos de desplazamiento será el exceptuado de gravamen según el Reglamento del IRPF (Orden EHA/3771/2005, de 2 de diciembre, por la que se revisa la cuantía de los gastos de locomoción y de las dietas en el Impuesto Sobre la Renta de las Personas Físicas o normativa que le sustituya)."]
[null,null,null,null,"El importe máximo financiable aplicado a los gastos de desplazamiento será el exceptuado de gravamen según el Reglamento del IRPF (Orden EHA/3771/2005, de 2 de diciembre, por la que se revisa la cuantía de los gastos de locomoción y de las dietas en el Impuesto Sobre la Renta de las Personas Físicas o normativa que le sustituya)."]
[null,null,null,null,"El importe máximo financiable aplicado a los gastos de desplazamiento será el exceptuado de gravamen según el Reglamento del IRPF (Orden EHA/3771/2005, de 2 de diciembre, por la que se revisa la cuantía de los gastos de locomoción y de las dietas en el Impuesto Sobre la Renta de las Personas Físicas o normativa que le sustituya)."]
[null,"6.La financiación podrá aplicarse a los siguientes costes de viajes y manutención:\na)Los gastos de desplazamiento, alojamiento y manutención del personal involucrado en las actividades objeto de ayuda, así como de los voluntarios o personal colaborador implicados, siempre que éstos estén directamente vinculados al proyecto, sean necesarios para su ejecución, y se identifique la actividad por que ha generado el gasto y la persona que ha incurrido en el mismo.\nb)\nc)\nd)En todo caso, los desplazamientos deberán realizarse en clase turista y el alojamiento en categoría máxima de cuatro estrellas.\ne)Estos gastos serán financiables mediante la presentación del documento acreditativo del gasto, su correspondiente documento de pago y la vinculación de los mismos al proyecto.\nf)En los casos en los que se imputen gastos de viajes o manutención del voluntariado será necesario que la entidad garantice el cumplimiento de los requisitos establecidos en la Ley 45/2015, de 14 de octubre, de Voluntariado.\n7.La financiación podrá aplicarse a los siguientes costes de asistencias y contratos externos:\na)Los servicios y contratos externos que siendo necesarios para la ejecución del proyecto la entidad beneficiaria no pueda realizar por sí misma, tales como de servicios de gestión, ingeniería, implementación, seguimiento y obra civil. Así como el gasto de comunicaciones necesarias para el correcto desarrollo de las actuaciones descritas en el epígrafe b) del artículo 33.2.\nb)Aquellos servicios externos contratados cuyo objeto coincide con el objeto de la ayuda o que, pudiendo ser realizados por el beneficiario, se externalicen, se considerarán subcontratación y estarán sujetos a los límites establecidos en el artículo 8 de estas las bases reguladoras.\nc)En estas contrataciones de servicios externos se aplicarán, en la medida de lo  posible, criterios de sostenibilidad, concurrencia y aquellos necesarios para favorecer la igualdad entre hombres y mujeres.\nd)Serán financiables mediante la presentación de la correspondiente factura o documento acreditativo del gasto y su respectivo justificante de pago.\n8.La financiación podrá aplicarse a los siguientes costes de material inventariable:\na)El coste de compra, leasing, renting y adquisición de cualquier activo material e inmaterial, incluida la adquisición de equipos, sensores, software, aplicaciones informáticas, equipamientos tecnológicos, gestión y mantenimiento de servidores o almacenamiento de información on line, destinado exclusivamente a la actuación y que posibilite la utilización adecuada del equipamiento adquirido, mediante la correspondiente factura o documento acreditativo y su respectivo justificante de pago, siempre que tengan relación directa con la ejecución de las actividades y no exista otra financiación para las mismas.\nb)Los arrendamientos de instalaciones y de material inventariable serán financiables mediante la presentación del correspondiente contrato y factura o documento similar y su respectivo justificante de pago. Además, se deberá presentar un cuadro de amortización en el que se detalle el cálculo realizado para obtener la imputación al proyecto objeto de ayuda.\nc)Los softwares o aplicaciones informáticas desarrolladas en el marco del proyecto no podrán generar ingresos económicos para la entidad salvo que estos se destinen al mantenimiento y mejora de la propia aplicación sin llegar a generar en ningún caso un beneficio económico para la entidad.\n9.La financiación podrá aplicarse a los siguientes costes de material fungible:\na)Aquellos gastos de material fungible adquirido siempre que este esté directamente vinculado a la actividad objeto de la ayuda.\nb)Asimismo, tendrán consideración de fungible aquellos materiales adquiridos cuyo periodo de vida útil no supere el cronograma de ejecución aprobado para el proyecto y así quede justificado por la entidad.\nc)Serán financiables mediante la presentación de la correspondiente factura o documento acreditativo del gasto y su respectivo justificante de pago.\n10.También serán financiables otros costes no contemplados en los anteriores apartados que se deriven de la actuación y que sean necesarios para su ejecución, incluyendo, en su caso, los gastos de operación o mantenimiento de las actuaciones durante el tiempo de ejecución del proyecto.\n11.Serán considerados como costes indirectos aquellos que, no estando directamente vinculados con el objeto de la ayuda, sean necesarios para el correcto funcionamiento de la entidad beneficiaria. Estos se justificarán mediante tanto alzado sobre los gastos directos, hasta un máximo de 4 %. La justificación de estos gastos consistirá en una certificación firmada por el representante legal o persona que cuente con los poderes de representación para ello.\n12.Serán considerados como costes indirectos los gastos relativos al suministro de agua, electricidad, seguridad, gestoría, calefacción y limpieza, correo, telefonía e internet, material y suministros de oficina y gastos de alquiler de locales o sede social de la entidad, así como otras contrataciones o servicios que, no estando directamente vinculados con el objeto de la ayuda, sean necesarios para el correcto funcionamiento de la entidad beneficiaria.\n13.También podrá ser financiable el gasto derivado de la revisión de cuenta justificativa por el auditor, en caso de que lo haya, hasta un límite de un 5 % de la ayuda concedida.\n14.No serán financiables gastos en los términos establecidos en los apartados 7 y 8 del artículo 31 de la Ley 38/2003, de 17 de noviembre, a excepción de los gastos derivados de la garantía bancaria siempre que para la obtención del anticipo sea obligatoria la constitución de garantía bancaria.\n15.Las entidades beneficiarias que por su naturaleza se encuentren dentro del ámbito subjetivo de la Ley 9/2017, de 8 de noviembre, deberán respetar las normas que establece esta normativa. En toda la documentación generada en aplicación de los  procedimientos de contratación, deberá señalar la cofinanciación recibida por esta convocatoria.\n16.En ningún caso podrá fraccionarse un contrato con el objeto de disminuir la cuantía del mismo y eludir el cumplimiento de los requisitos de contratación y subcontratación establecidos en estas bases.\n17.Los gastos financiables deberán estar debidamente justificados mediante documentos de gasto originales o documentos contables de valor probatorio equivalentes, así como sus correspondientes justificantes de pago tal y como se ha indicado en el presente artículo en cada una de las tipologías de gasto. La acreditación de los gastos también podrá efectuarse de forma electrónica, siempre que se cumplan los requisitos exigidos para su aceptación en el ámbito de la Administración Tributaria.\n18.Los justificantes de gasto originales presentados deberán especificar la subvención para cuya justificación han sido presentados y si el importe del justificante se imputa total o parcialmente a la subvención, indicando en el segundo caso el porcentaje correspondiente imputado. Esto se podrá hacer mediante estampillado de documentos originales o bien mediante la inclusión en el concepto del gasto la información relativa a la subvención.\n19.No serán subvencionables, a efectos de la presente convocatoria de este programa de ayudas, los englobados en los siguientes conceptos:\na)El Impuesto sobre el Valor Añadido o, en su caso, el Impuesto General Indirecto Canario (IGIC) o el Impuesto sobre la Producción, los Servicios y la Importación (IPSI) y demás impuestos indirectos, cuando sean susceptibles de recuperación, compensación o exención.\nb)Los impuestos personales sobre la renta.\nc)Autorizaciones administrativas, licencias, permisos, coste de avales y/o fianzas, multas, tasas, impuestos o tributos.\nd)Cualesquiera gastos asociados a gestiones, contrataciones, consultas o trámites administrativos, aun siendo necesarios para la obtención de permisos o licencias.\ne)Coste de adquisición o arrendamiento de terrenos utilizados para la actuación.\nf)Seguros suscritos por el solicitante.\ng)La vigilancia y seguridad durante la ejecución de las obras asociadas a las actuaciones o instalaciones hasta la fecha de puesta en marcha.\nh)Cualesquiera costes financieros.\ni)Costes asociados a sanciones penales, así como gastos de procedimientos judiciales.",null,null,"El importe máximo financiable aplicado a los gastos de desplazamiento será el exceptuado de gravamen según el Reglamento del IRPF (Orden EHA/3771/2005, de 2 de diciembre, por la que se revisa la cuantía de los gastos de locomoción y de las dietas en el Impuesto Sobre la Renta de las Personas Físicas o normativa que le sustituya)."]
[null,null,null,null,"El importe máximo financiable aplicado a los gastos de desplazamiento será el exceptuado de gravamen según el Reglamento del IRPF (Orden EHA/3771/2005, de 2 de diciembre, por la que se revisa la cuantía de los gastos de locomoción y de las dietas en el Impuesto Sobre la Renta de las Personas Físicas o normativa que le sustituya)."]
[null,null,null,null,"El importe máximo financiable aplicado a los gastos de desplazamiento será el exceptuado de gravamen según el Reglamento del IRPF (Orden EHA/3771/2005, de 2 de diciembre, por la que se revisa la cuantía de los gastos de locomoción y de las dietas en el Impuesto Sobre la Renta de las Personas Físicas o normativa que le sustituya)."]

{"sheet":"indicadores","index":16,"n_rows":44,"n_cols":4,"rows_kept":44,"cut":false,"hidden":true,"merged":[]}
["ANEXO III INDICADORES DE SEGUIMIENTO"]
["2 Tipos de indicadores"]
[]
["CID #76","C5.I1","Infraestructuras de tratamiento de aguas y aguas residuales mejoradas"]
[null,null,"Número de EDAR mejoradas con el proyecto","Materialización de actuaciones de depuración, saneamiento y reutilización"]
[null,null,"Mejora en la eficiencia en el uso del agua, ","Actuaciones para la mejora de la eficiencia y reducción de pérdidas en el uso del agua"]
[null,null,"Mejora de la seguridad de presas y embalses","Inversiones para la mejora de la seguridad de presas y embalses"]
[null,null,"Habitantes asociados a partir de las acciones incluidas en el proyecto"]
[null,"INDICADOR AÑADIDO NOSOTROS PARA UE","Numero de habitantes beneficiados por la mejora de las edar","Numero de habitantes beneficiados por la mejora de las edar"]
[null,"INDICADOR NUMERICO:","Puesta en funcionamiento de infraestructuras de tratamiento de aguas y aguas residuales que presten servicio al equivalente de un mínimo de 175 000 habitantes, con el fin de garantizar el cumplimiento de la Directiva 91/271/CEE y cumplir los criterios de eficiencia energética, o de mejorar la eficiencia y reducir las pérdidas de agua en los sistemas de distribución de agua."]
[null,"JUSTIFICACION:","Para cada una de las Infraestructuras de tratamiento de aguas y aguas residuales mejoradas"]
[null,"a)","     * Nombre, la ubicación y una breve descripción de conformidad con el anexo de la Decisión de Ejecución del Consejo"]
[null,"b)","     * Extracto de las partes pertinentes de las especificaciones técnicas del proyecto que demuestre la conformidad con la descripción del objetivo y la inversión que figura en la Decisión de Ejecución del Consejo"]
[null,"c)","     * Tipo de actuación sobre las infraestructuras de recogida o tratamiento de aguas y aguas residuales"]
[null,"d)","     * Número de habitantes/ habitantes equivalentes a los que se presta el servicio, incluida la metodología para calcularlos"]
[null,"e)","     *Pruebas documentales de las especificaciones técnicas para garantizar el cumplimiento de la Directiva 91/271/CEE"]
[null,"f)","     * Copia del certificado de finalización y puesta en servicio;"]
[null,"g)","     * Reducción media del consumo de energía"]
[null,"h)","     * Reducción media de las pérdidas de agua en los sistemas de distribución de agua."]
[]
["CID #79","C5.I3","Actuaciones de digitalización de los usos del agua (PERTE) - Transferencias\n(En el PERTE: Transición digital en el sector del agua (vigilancia y control del entorno digital)","Puesta en funcionamiento de herramientas para mejorar el conocimiento y el uso de los recursos hídricos, y para registrar las precipitaciones y otros datos meteorológicos. (En el PERTE: Transición digital en el sector del agua (vigilancia y control del entorno digital)"]
[null,null,"Puesta en funcionamiento de infraestructuras renovadas para mejorar el conocimiento y el uso de los recursos hídricos","Mejora del conocimiento y el uso de los recursos hídricos"]
[null,null,"Herramientas mejoradas","Actuaciones de seguimiento de las precipitaciones en cuencas hidrográficas y en el litoral"]
[null,null,"Puesta en funcionamiento de proyectos de digitalización del ciclo urbano del agua","Mejora de la observación y vigilancia meteorológica y la prevención de riesgos climáticos"]
[]
[null,"INDICADOR NUMERICO:","al menos 5.000.000 de habitantes beneficiados por la puesta en funcionamiento de proyectos de digitalización del ciclo urbano del agua, dentro del PERTE de digitalización de los usos del agua\n(Puesta en funcionamiento de 26 herramientas o infraestructuras renovadas para mejorar el conocimiento y el uso de los recursos hídricos, y para registrar las precipitaciones y otros datos meteorológicos para prevenir los riesgos climáticos. Las actuaciones estarán relacionadas principalmente con el diseño y la implantación del registro electrónico de aguas (gestión de datos hidrológicos y calidad del agua, digitalización del tratamiento de archivos y modernización de la red de vigilancia meteorológica aeronáutica)."]
[null,"JUSTIFICACION:","Para cada una de las herramientas o de las Infraestructuras renovadas"]
[null,"a)","     * Nombre, la ubicación y una breve descripción de conformidad con el anexo de la Decisión de Ejecución del Consejo"]
[null,"b)","     *Extracto de las partes pertinentes de las especificaciones técnicas del proyecto que demuestre la conformidad con la descripción del objetivo y la inversión que figura en la Decisión de Ejecución del Consejo."]
[null,"c)","     * El tipo de actuación llevada a cabo."]
[null,"d)","     * Copia del certificado de finalización y puesta en servicio;"]
[]
["INDICADORES ADICIONALES:",null,"En relación con seguimiento de la implantación del PERTE"]
[null,"2.1","Volumen de agua total anual (m3) captada en cada ámbito territorial del proyecto."]
[null,"2.2","Volumen de agua total anual captada (m3) en cada ámbito territorial del proyecto con información registrada en los sistemas de información de las administraciones hidráulicas correspondientes."]
[null,"2.3","Porcentaje de agua no registrada y pérdidas cada ámbito territorial establecido en el proyecto."]
[null,"2.4","Porcentaje de telelectura en contadores instalados cada ámbito territorial establecido en el proyecto."]
[null,"2.5","Número de actividades formativas realizadas durante el proyecto y número total de participantes."]
[null,"2.6","Número de actuaciones dentro del proyecto con consideración de I+D+i y presupuesto asociado."]
[null,"2.7","Número de empleos directos e indirectos generados por el proyecto."]
[null,"2.8","Número de herramientas informáticas elaboradas o mejoradas incluidas en el proyecto."]
[null,"2.9","Población total beneficiada por el proyecto.","EN LA PRIMERA NO ESTABA"]
[]
[null,"BUSCAR","REDUCCION ENERGETICA"]

{"sheet":"intensidades maximas","index":17,"n_rows":16,"n_cols":5,"rows_kept":16,"cut":false,"hidden":true,"merged":[[5,1,5,3],[0,0,0,4],[1,0,1,3],[2,1,2,3],[3,1,3,3],[4,1,4,3],[12,1,12,3],[13,1,13,3],[14,1,14,3],[15,1,15,3],[6,1,6,3],[7,1,7,3],[8,1,8,3],[9,1,9,3],[10,1,10,3],[11,1,11,3]]}
["ANEXO I: Intensidades máximas de las ayudas en cada proyecto"]
["A continuación, se recoge la intensidad máxima de la ayuda según los diferentes tipos de actuaciones en cada proyecto:",null,null,null,"INTENSIDAD MÁXIMA"]
[]
["a)","Actuaciones financiables que den servicio a términos municipales con una población permanente inferior a 20.000 habitantes:",null,null,0.9]
["b)","Actuaciones financiables implementadas en las tipologías A, C, B.3 y B.4 del artículo 5, excepto aquellas recogidas en el punto anterior:",null,null,0.8]
["c)","Actuaciones financiables implementadas para el resto de las tipologías:",null,null,0.6]
["d)","En los proyectos que incorporen actuaciones B.1, B.2, B.3 y B.4 y que, por lo tanto, mejoren de forma integral la gestión del ciclo del agua en todo el ámbito territorial del proyecto, se añade adicionalmente hasta:",null,null,0.1]
["e)","La cuantía de la ayuda en relación a actuaciones tipo B.2, B.5, B.6 y B.7 no podrán representar, en total, más del 40 % del presupuesto de la ayuda solicitada en el proyecto.",null,null,0.4]
["f)","En el caso de actuaciones que den servicio a varios municipios y no puedan asociarse a un único municipio, a la hora de establecer el importe de ayuda por término municipal, el coste de dicha actuación deberá ser subdivido en cada uno de los municipios a los que de servicio de manera proporcional a su población incluyendo población estacional si aplica. Dicho coste será sujeto a la intensidad de ayuda que le aplique a ese municipio de manera individual."]
["g)","La cuantía máxima de la ayuda para cada municipio del ámbito territorial del proyecto será determinada en función de la población residente de forma permanente, de acuerdo a los siguientes umbrales, no pudiendo superarse la cuantía máxima de 10.000.000,00 de euros por proyecto en ningún caso."]
[null,"Población residente de forma permanente en el municipio asociado(*)\n(Esta categorización se hará en base a la población establecida en el INE para el año 2021.)",null,null,"Cuantía máxima ayuda"]
[null,"> 500.000 habitantes.",null,null,8000000]
[null,"> 100.000 - 500.000 habitantes.",null,null,6000000]
[null,"> 50.000 - 100.000 habitantes.",null,null,4000000]
[null,"> 5.000 - 50.000 habitantes.",null,null,1500000]
[null,"< 5.000 habitantes.",null,null,1500000]